{"text_format":"1","workbook":"xlsx","n_sheets":70,"sheets":["Инструкция","Лог обновления","Титульный","modSheetTitle","Список территорий","Список объектов","TECHSHEET","TECH_HORISONTAL","TECH_VERTICAL","REESTR_ORG","REESTR_SOURCE","ТС.БПр","ТС.БТр","ТС.РО","ТС.Т","ХВС.БПр","ХВС.БТр","ХВС.РО","ХВС.Р","ВО.БПр","ВО.БТр","ВО.РО","ВО.Р","Комментарии","Проверка","REESTR_MO","REESTR_LOCATION","AUTHORISATION","DICTIONARIES","FILE_STORE_DATA","PLAN1X_LIST_ORG","PLAN1X_LIST_MO","PLAN1X_LIST_SUBSIDIARY","PLAN1X_LIST_DPR","PLAN1X_LIST_SRC","PLAN1X_LIST_TMX","modGetGeoBase","modInfo","modUIButtons","modVLDCommon","modVLDIntegrity","modVLDData","modGeneralAPI","modBalPr","modBalTr","modCalc","modFuel","modReagent","modListMO","modListObjects","modRequestSpecificData","modRequestGenericData","modfrmRegion","modServiceAPI","modVLDGeneral","modPLAN1XUpdate","modVLDUniqueness","modfrmReestr","modfrmOrg","modUpdTemplMain","modfrmCheckUpdates","modfrmDateChoose","modIHLCommandBar","modfrmHEATAdditionalOrgData","modfrmHEATFUELSelector","modfrmPLAN1XCheckIn","modfrmPLAN1XUpdate","modfrmReportMode","modPOSTData","modfrmDPRConstructor"],"not_rendered":{"charts":0,"images":32,"macros":1,"external_links":1,"defined_names":600,"comments":13,"pivot_tables":0},"unopened":[],"bounds":{"document_bytes":16777216,"sheet_cells":100000,"rows_first":2000,"rows_last":500,"rows_between":2000,"halvings":0,"cell_chars":16384,"cell_head_chars":4096},"cells_cut":0,"cells_raw":0,"read":"whole","date_system":"1900"}

{"sheet":"Инструкция","index":0,"n_rows":105,"n_cols":27,"rows_kept":105,"cut":false,"hidden":false,"merged":[[59,4,59,9],[59,10,59,23],[20,5,20,12],[20,15,20,23],[21,15,21,23],[40,4,40,16],[40,17,40,24],[45,4,56,23],[58,4,58,9],[58,10,58,23],[1,1,1,6],[2,1,2,2],[4,1,4,24],[6,4,18,23],[21,5,21,12],[34,4,38,23],[102,4,102,16],[102,17,102,24],[103,4,103,16],[103,17,103,24],[78,4,78,9],[77,4,77,9],[77,10,77,23],[92,4,92,23],[94,5,94,18],[72,4,72,9],[72,10,72,23],[104,4,104,16],[104,17,104,24],[96,5,96,23],[75,4,75,6],[75,7,75,23],[76,4,76,9],[76,10,76,23],[78,10,78,23]]}
[null,null,null,null,null,null,null,null,null,null,null,null,null,null,null,null,null,null,null,null,null,null,null,null,null,null," (требуется обновление)"]
[null,{"$f":"\"Код отчёта: \" & GetCode()","v":{"$error":"#VALUE!"}}]
[null,{"$f":"\"Версия \" & GetVersion()","v":{"$error":"#VALUE!"}}]
[]
[null,"Показатели организаций коммунального комплекса за 2018 год (факт)"]
[]
[null,null,null,null,"• На рабочем месте должен быть установлен MS Office 2003 SP3, 2007 SP3, 2010, 2013, 2016 с полной версией MS Excel\n\n• Макросы во время работы должны быть включены (!)\n\n• Для корректной работы отчёта требуется выбрать низкий уровень безопасности\n(В меню MS Excel 2003: Сервис | Макрос | Безопасность | выбрать пункт «Низкая безопасность» | OK)\n(В меню MS Excel 2007/2010/2013/2016: Параметры Excel | Центр управления безопасностью | Параметры центра управления безопасностью | Параметры макросов | Включить все макросы | ОК)\n\n• Если Вы работаете в табличном процессоре MS Excel 2007 и выше, то можете использовать для работы формат XLSB (Двоичная книга Excel). При работе в формате XLSB заметно быстрее происходит сохранение файла, а также уменьшается размер по сравнению с форматами XLS и XLSM\n\n• Не рекомендуется снимать защиту с листов и каким-либо образом модифицировать защищаемые формулы и расчётные поля, в противном случае, отчёт будет отклонён системой\n\n• При сохранении не следует выбирать формат XLSX (Книга Excel), так как в указанном формате макросы, необходимые для работы отчёта, безвозвратно удаляются"]
[]
[]
[]
[]
[]
[]
[]
[]
[]
[]
[]
[]
[]
[null,null,null,null,"A"," - предназначенные для заполнения",null,null,null,null,null,null,null,null,"A"," - ссылки и автозаполняемые поля"]
[null,null,null,null,"A"," - с формулами и константами",null,null,null,null,null,null,null,null,"A"," - обязательные для заполнения"]
[]
[]
[]
[]
[]
[]
[]
[]
[]
[]
[]
[]
[null,null,null,null,"Если в предложенном Вам списке необходимая организация, МР/МО отсутствуют, обновите реестры с помощью кнопок на листе \"Список организаций\"\n\nВ результате синхронизации с базой данных список организаций (МР/МО) будет заменён актуальным (механизм синхронизации требует подключения к сети Интернет и основан на использовании протокола HTTPS (TCP порт 443))\n\nЕсли после обновления Вам не удалось найти необходимую организацию в списке, обратитесь к ответственному за поддержание реестра Вашего региона."]
[]
[]
[]
[]
[]
[null,null,null,null,"Адрес сервера ЕИАС для запроса данных:",null,null,null,null,null,null,null,null,null,null,null,null,"https://eias.ru"]
[]
[]
[]
[]
[null,null,null,null,"• При сохранении шаблона осуществляется проверка корректности данных, в том числе на наличие значений в ячейках, обязательных для заполнения\n\n• Если какая-то ячейка не удовлетворяет условию проверки, на лист «Проверка» добавляется гиперссылка на данную ячейку и указывается причина ошибки\n\n• В колонке «Статус» для каждого сообщения возможны 2 значения: ошибка и предупреждение\n\n• При наличии сообщений со статусом «Ошибка» шаблон будет отклонён системой и не будет загружен в хранилище данных, сообщения со статусом «Предупреждение» носят информационный характер, и такой шаблон будет принят системой"]
[]
[]
[]
[]
[]
[]
[]
[]
[]
[]
[]
[]
[null,null,null,null,"Консультации:",null,null,null,null,null,"Обратиться за помощью"]
[null,null,null,null,"Дистрибутивы:",null,null,null,null,null,"Перейти"]
[]
[]
[]
[]
[]
[]
[]
[]
[]
[]
[]
[]
[null,null,null,null,"Руководство по заполнению:",null,null,null,null,null,"Перейти к руководству по заполнению"]
[]
[]
[]
[null,null,null,null,"Сопровождение:",null,null,null,null,null,"Обратиться за помощью"]
[null,null,null,null,"Отчётные формы:",null,null,null,null,null,"Перейти к разделу"]
[null,null,null,null,"Хранилище документов:",null,null,null,null,null,"Руководство по загрузке документов"]
[]
[]
[]
[]
[]
[]
[]
[]
[]
[]
[]
[]
[]
[null,null,null,null,"При наличии подключения к Интернет, можно автоматически проверять наличие доступных обновлений. Выберите способ оповещения о наличии обновлений для отчёта:"]
[]
[null,null,null,null,null,"проверять доступные обновления (рекомендуется)",null,null,null,null,null,null,null,null,null,null,null,null,null,null,null,null,null,null,null,null,"y"]
[]
[null,null,null,null,null,"никогда не проверять наличие обновлений (не рекомендуется)"]
[]
[]
[]
[]
[]
[null,null,null,null,"Использовать прокси-сервер для запроса обновлений",null,null,null,null,null,null,null,null,null,null,null,null,"нет"]
[null,null,null,null,"Адрес прокси-сервера"]
[null,null,null,null,"Порт"]

{"sheet":"Лог обновления","index":1,"n_rows":2,"n_cols":4,"rows_kept":2,"cut":false,"hidden":true,"merged":[]}
[]
["3/17/2012  12:12:41 AM","Дата/Время","Сообщение","Статус"]

{"sheet":"Титульный","index":2,"n_rows":49,"n_cols":17,"rows_kept":49,"cut":false,"hidden":true,"merged":[[24,4,24,5],[25,4,25,5],[29,4,29,5],[30,4,30,5],[48,4,48,5],[37,4,37,7],[39,4,42,4],[44,4,44,7],[45,4,45,7],[46,4,46,7],[17,4,17,5],[18,4,18,5],[19,4,19,5],[20,4,20,5],[22,4,22,5],[23,4,23,5],[26,4,26,5],[32,4,34,4],[4,4,4,7],[6,4,6,5],[8,4,9,5],[11,4,11,5],[13,4,13,5],[14,4,14,5],[15,4,15,5],[16,4,16,5]]}
[]
[]
[]
[null,null,null,null,"- обновление индикаторов проверки отчёта"]
[null,null,null,null,"Технико-экономические показатели регулируемой организации (факт)"]
[]
[null,null,null,null,"Субъект РФ",null,null,null,null,null,null,null,null,null,null,null,"MANDATORY"]
[]
[null,null,null,null,"Отчётный период",null,null,"2018",null,null,null,null,null,null,null,null,"MANDATORY"]
[null,null,null,null,null,null,null,"Год",null,null,null,null,null,null,null,null,"MANDATORY"]
[]
[null,null,null,null,"RST_ORG_ID",null,null,null,null,null,null,null,null,null,null,null,"MANDATORY"]
[]
[null,null,null,null,"Наименование юридического лица",null,null,null,null,null,null,null,null,null,null,null,"MANDATORY"]
[null,null,null,null,"Наименование (описание) обособленного подразделения",null,null,null,null,null,null,null,null,null,null,null,"OPTIONAL"]
[null,null,null,null,"ИНН",null,null,null,null,null,null,null,null,null,null,null,"MANDATORY"]
[null,null,null,null,"КПП",null,null,null,null,null,null,null,null,null,null,null,"MANDATORY"]
[null,null,null,null,"Организационно-правовая форма",null,null,null,null,"Где найти?",null,null,null,null,null,null,"MANDATORY"]
[null,null,null,null,"Вид(-ы) деятельности организации",null,null,null,null,null,null,null,null,null,null,null,"MANDATORY"]
[null,null,null,null,{"$f":"\"Наличие статуса \" & SPHERE_SPECIFIC_STATUS & \" *\"","v":"Наличие статуса  *"},null,null,null,null,{"$f":"IF(SPHERE_SPECIFIC_STATUS_DESCRIPTION=\"\",\"\",SPHERE_SPECIFIC_STATUS_DESCRIPTION)","v":""},null,null,null,null,null,null,"OPTIONAL"]
[null,null,null,null,{"$f":"\"URL-ссылка на документ, подтверждающий статус \" & SPHERE_SPECIFIC_STATUS","v":"URL-ссылка на документ, подтверждающий статус "},null,null,null,null,null,null,null,null,null,null,null,"OPTIONAL"]
[]
[null,null,null,null,{"$f":"\"Наличие нерегулируемых (других регулируемых, кроме \" & TEMPLATE_SPHERE & \") видов деятельности\"","v":"Наличие нерегулируемых (других регулируемых, кроме ) видов деятельности"},null,null,null,null,null,null,null,null,null,null,null,"MANDATORY"]
[null,null,null,null,{"$f":"\"Наличие раздельного учёта затрат по регулируемым видам деятельности в сфере \" & TEMPLATE_SPHERE","v":"Наличие раздельного учёта затрат по регулируемым видам деятельности в сфере "},null,null,null,null,null,null,null,null,null,null,null,"MANDATORY"]
[null,null,null,null,"Плательщик НДС",null,null,null,null,null,null,null,null,null,null,null,"MANDATORY"]
[null,null,null,null,"Является ли организация подведомственной Министерства Обороны РФ",null,null,null,null,null,null,null,null,null,null,null,"MANDATORY"]
[null,null,null,null,{"$f":"\"Является ли деятельность в сфере \" & TEMPLATE_SPHERE & \" профильным видом деятельности\"","v":"Является ли деятельность в сфере  профильным видом деятельности"},null,null,null,null,null,null,null,null,null,null,null,"MANDATORY"]
[]
[]
[null,null,null,null,"ОГРН",null,null,null,null,"Где найти?",null,null,null,null,null,null,"MANDATORY"]
[null,null,null,null,"Код по ОКПО",null,null,null,null,"Где найти?",null,null,null,null,null,null,"MANDATORY"]
[]
[null,null,null,null,{"$f":"\"Государственное и (или) муниципальное участие \" & IF(H17=\"отсутствует\",\"в индивидуальном предпринимателе\",\"в юридическом лице\")","v":"Государственное и (или) муниципальное участие в юридическом лице"},"Наличие",null,null,null,null,null,null,null,null,null,null,"MANDATORY"]
[null,null,null,null,null,"Сведения о доле",null,null,null,null,null,null,null,null,null,null,"MANDATORY"]
[null,null,null,null,null,{"$f":"\"Преобладающий тип собственности \" & IF(H17=\"отсутствует\",\"в индивидуальном предпринимателе\",\"в юридическом лице\")","v":"Преобладающий тип собственности в юридическом лице"},null,null,null,null,null,null,null,null,null,null,"MANDATORY"]
[]
[]
[null,null,null,null,"Контактные данные"]
[]
[null,null,null,null,"Ответственный за предоставление информации","ФИО",null,null,null,null,null,null,null,null,null,null,"MANDATORY"]
[null,null,null,null,null,"Должность",null,null,null,null,null,null,null,null,null,null,"MANDATORY"]
[null,null,null,null,null,"Контактный телефон",null,null,null,null,null,null,null,null,null,null,"MANDATORY"]
[null,null,null,null,null,"e-mail",null,null,null,null,null,null,null,null,null,null,"MANDATORY"]
[]
[null,null,null,null,"Дата последнего обновления реестра организаций: (обновление не выполнялось)"]
[null,null,null,null,"Дата последнего обновления данных мониторинга принятых тарифных решений на 2018 год: (обновление не выполнялось)"]
[null,null,null,null,"Дата последнего обновления обновления параметров проверки отчёта: (обновление не выполнялось)"]
[]
[null,null,null,null,"Показывать настройки проверки при сохранении",null,null,"a"]

{"sheet":"modSheetTitle","index":3,"n_rows":0,"n_cols":0,"rows_kept":0,"cut":false,"hidden":true,"merged":[]}

{"sheet":"Список территорий","index":4,"n_rows":18,"n_cols":99,"rows_kept":18,"cut":false,"hidden":true,"merged":[[4,8,4,9],[11,11,13,11],[11,10,13,10],[11,42,13,42],[12,94,13,94],[12,88,13,88],[12,89,13,89],[11,73,13,73],[11,15,13,15],[11,5,13,5],[11,9,13,9],[11,7,13,7],[11,6,13,6],[11,35,13,35],[11,28,13,28],[12,96,13,96],[12,97,13,97],[12,98,13,98],[11,8,13,8],[11,12,13,12],[11,13,13,13],[11,16,13,16],[3,6,3,13],[17,5,17,10],[12,86,13,86],[11,86,11,98],[12,87,13,87],[12,90,13,90],[12,91,13,91],[12,92,13,92],[12,93,13,93],[12,95,13,95]]}
[]
[]
[]
[null,null,null,null,null,null,{"$f":"\"Перечень муниципальных образований, на территории которых организация оказывает услуги \" & TEMPLATE_SPHERE","v":"Перечень муниципальных образований, на территории которых организация оказывает услуги "}]
[]
[]
[]
[]
[]
[]
[]
[null,null,null,null,null,"№ п/п","Муниципальный район","Муниципальное образование","ОКТМО","Тип муниципального образования",null,null,"Плательщик НДС","Дополнительные признаки дифференциации тарифов",null,"Проверить наличие наименования в справочнике","SRC",null,null,null,null,null,null,null,null,null,null,null,"Вид(-ы) теплоносителя(-ей)",null,null,null,null,null,null,"Вид воды",null,null,null,null,null,null,"Вид сточных вод",null,null,null,null,null,null,null,null,null,null,null,null,null,null,null,null,null,null,null,null,null,null,null,null,null,null,null,null,null,null,{"$f":"IF(TEMPLATE_SPHERE_CODE=\"HEAT\",\"Размерность тарифа на транспортировку \" & RESOURCE_IDENTIFIER,\"\")","v":""},null,null,null,null,null,null,null,null,null,null,null,null,{"$f":"\"Оказание услуг в течение \" & god & \" года (все потребители, включая собственные нужды)\"","v":"Оказание услуг в течение 2018 года (все потребители, включая собственные нужды)"}]
[null,null,null,null,null,null,null,null,null,null,null,null,null,null,null,null,null,null,null,null,null,null,null,null,null,null,null,null,null,null,null,null,null,null,null,null,null,null,null,null,null,null,null,null,null,null,null,null,null,null,null,null,null,null,null,null,null,null,null,null,null,null,null,null,null,null,null,null,null,null,null,null,null,null,null,null,null,null,null,null,null,null,null,null,null,null,null,"Январь","Февраль","Март","Апрель","Май","Июнь","Июль","Август","Сентябрь","Октябрь","Ноябрь","Декабрь"]
[]
[null,null,null,null,null,0]
[null,null," ",null,null,null,"Добавить территорию"]
[null,null,null,null,"   "]
[null,null,null,null,null,"Дата последнего обновления реестра МР/МО/ОКТМО: (обновление не выполнялось)"]

{"sheet":"Список объектов","index":5,"n_rows":22,"n_cols":82,"rows_kept":22,"cut":false,"hidden":true,"merged":[[18,6,18,16],[19,6,19,16],[11,69,13,69],[11,70,13,70],[11,33,11,39],[11,30,11,32],[12,30,13,30],[12,31,13,31],[12,32,13,32],[11,41,13,41],[12,36,13,36],[12,48,13,48],[4,8,4,9],[12,33,13,33],[12,34,13,34],[11,9,13,9],[11,10,13,10],[11,11,13,11],[11,12,13,12],[11,16,13,16],[11,28,13,28],[11,17,13,17],[11,29,13,29],[11,13,13,13],[11,14,13,14],[11,15,13,15],[11,26,13,26],[11,27,13,27],[12,50,13,50],[11,46,11,53],[12,53,13,53],[12,37,13,37],[11,42,13,42],[11,56,13,56],[11,44,13,44],[11,67,13,67],[11,73,13,73],[11,74,13,74],[11,43,13,43],[11,66,13,66],[11,65,13,65],[11,54,13,54],[11,55,13,55],[11,45,13,45],[12,49,13,49],[11,57,13,57],[11,68,13,68],[11,58,13,58],[12,39,13,39],[11,78,13,78],[11,59,11,60],[12,61,13,61],[12,62,13,62],[12,63,13,63],[11,61,11,62],[12,59,13,59],[12,60,13,60],[11,81,13,81],[11,77,13,77],[11,80,13,80],[11,71,13,71],[11,72,13,72],[11,75,13,75],[12,64,13,64],[11,63,11,64],[11,8,13,8],[11,79,13,79],[11,76,13,76],[12,52,13,52],[12,46,13,46],[12,47,13,47],[11,22,12,23],[11,40,13,40],[12,35,13,35],[12,38,13,38],[3,6,3,13],[21,5,21,10],[12,51,13,51],[11,24,13,24],[11,25,13,25],[11,18,12,19],[11,20,12,21],[11,5,13,5],[11,6,13,6],[11,7,13,7]]}
[]
[]
[]
[null,null,null,null,null,null,{"$f":"\"Перечень объектов организаций, оказывающих услуги \" & TEMPLATE_SPHERE","v":"Перечень объектов организаций, оказывающих услуги "}]
[]
[]
[]
[]
[]
[]
[]
[null,null,null,null,null,"№ п/п","Муниципальный район","Муниципальное образование","ОКТМО",null,null,null,null,null,null,null,"Количество объектов","NUMBER",{"$f":"IF(TEMPLATE_SPHERE_CODE=\"HEAT\",\"Производство\",IF(TEMPLATE_SPHERE_CODE=\"COLDVSNA\",\"Производство (подъём / добыча)\",IF(TEMPLATE_SPHERE_CODE=\"VOTV\",\"Приём сточных вод\",\"\")))","v":""},null,{"$f":"IF(TEMPLATE_SPHERE_CODE=\"HEAT\",\"Передача\",IF(TEMPLATE_SPHERE_CODE=\"COLDVSNA\",\"Очистка воды\",IF(TEMPLATE_SPHERE_CODE=\"VOTV\",\"Очистка сточных вод\",\"\")))","v":""},null,{"$f":"IF(TEMPLATE_SPHERE_CODE=\"HEAT\",\"Сбыт\",IF(TEMPLATE_SPHERE_CODE=\"COLDVSNA\",\"Транспортировка воды\",IF(TEMPLATE_SPHERE_CODE=\"VOTV\",\"Транспортировка сточных вод\",\"\")))","v":""},null,null,null,null,"№ п/п","Наименование объекта","Тип объекта","Виды деятельности",null,null,"Адрес объекта",null,null,null,null,null,null,null,null,null,null,null,null,"Территория оказания услуг",null,null,null,null,null,null,null,null,null,null,null,null,{"$f":"IF(TEMPLATE_SPHERE_CODE=\"HEAT\",\"Производство\",IF(TEMPLATE_SPHERE_CODE=\"COLDVSNA\",\"Производство (подъём / добыча)\",IF(TEMPLATE_SPHERE_CODE=\"VOTV\",\"Приём сточных вод\",\"\")))","v":""},null,{"$f":"IF(TEMPLATE_SPHERE_CODE=\"HEAT\",\"Передача\",IF(TEMPLATE_SPHERE_CODE=\"COLDVSNA\",\"Очистка воды\",IF(TEMPLATE_SPHERE_CODE=\"VOTV\",\"Очистка сточных вод\",\"\")))","v":""},null,{"$f":"IF(TEMPLATE_SPHERE_CODE=\"HEAT\",\"Сбыт\",IF(TEMPLATE_SPHERE_CODE=\"COLDVSNA\",\"Транспортировка воды\",IF(TEMPLATE_SPHERE_CODE=\"VOTV\",\"Транспортировка сточных вод\",\"\")))","v":""},null,null,null,null,null,null,null,null,null,null,null,null,null,null,null,null,null,"Комментарии"]
[null,null,null,null,null,null,null,null,null,null,null,null,null,null,null,null,null,null,null,null,null,null,null,null,null,null,null,null,null,null,{"$f":"IF(TEMPLATE_SPHERE_CODE=\"HEAT\",\"Производство\",IF(TEMPLATE_SPHERE_CODE=\"COLDVSNA\",\"Производство (подъём / добыча)\",IF(TEMPLATE_SPHERE_CODE=\"VOTV\",\"Приём сточных вод\",\"\")))","v":""},{"$f":"IF(TEMPLATE_SPHERE_CODE=\"HEAT\",\"Передача\",IF(TEMPLATE_SPHERE_CODE=\"COLDVSNA\",\"Очистка воды\",IF(TEMPLATE_SPHERE_CODE=\"VOTV\",\"Очистка сточных вод\",\"\")))","v":""},{"$f":"IF(TEMPLATE_SPHERE_CODE=\"HEAT\",\"Сбыт\",IF(TEMPLATE_SPHERE_CODE=\"COLDVSNA\",\"Транспортировка воды\",IF(TEMPLATE_SPHERE_CODE=\"VOTV\",\"Транспортировка сточных вод\",\"\")))","v":""},"Муниципальный район","Муниципальное образование","ОКТМО","Населённый пункт","ОКТМО","улица, проезд, проспект, переулок и т.п.","дом, корпус, строение",null,null,null,null,null,null,"Муниципальный район","Муниципальное образование","ОКТМО","Населённый пункт","ОКТМО",null,null,null,null,null,null,null,null,{"$f":"\"Установленная мощность, \" & IF(TEMPLATE_SPHERE_CODE=\"HEAT\",\"Гкал/час\",IF(TEMPLATE_SPHERE_CODE=\"COLDVSNA\",\"куб.м/час\",IF(TEMPLATE_SPHERE_CODE=\"VOTV\",\"куб.м/час\",\"\")))","v":"Установленная мощность, "},{"$f":"\"Подключенная нагрузка, \" & IF(TEMPLATE_SPHERE_CODE=\"HEAT\",\"Гкал/час\",IF(TEMPLATE_SPHERE_CODE=\"COLDVSNA\",\"куб.м/час\",IF(TEMPLATE_SPHERE_CODE=\"VOTV\",\"куб.м/час\",\"\")))","v":"Подключенная нагрузка, "},{"$f":"\"Установленная мощность, \" & IF(TEMPLATE_SPHERE_CODE=\"HEAT\",\"Гкал/час\",IF(TEMPLATE_SPHERE_CODE=\"COLDVSNA\",\"куб.м/час\",IF(TEMPLATE_SPHERE_CODE=\"VOTV\",\"куб.м/час\",\"\")))","v":"Установленная мощность, "},{"$f":"\"Подключенная нагрузка, \" & IF(TEMPLATE_SPHERE_CODE=\"HEAT\",\"Гкал/час\",IF(TEMPLATE_SPHERE_CODE=\"COLDVSNA\",\"куб.м/час\",IF(TEMPLATE_SPHERE_CODE=\"VOTV\",\"куб.м/час\",\"\")))","v":"Подключенная нагрузка, "},{"$f":"\"Установленная мощность, \" & IF(TEMPLATE_SPHERE_CODE=\"HEAT\",\"Гкал/час\",IF(TEMPLATE_SPHERE_CODE=\"COLDVSNA\",\"куб.м/час\",IF(TEMPLATE_SPHERE_CODE=\"VOTV\",\"куб.м/час\",\"\")))","v":"Установленная мощность, "},{"$f":"\"Подключенная нагрузка, \" & IF(TEMPLATE_SPHERE_CODE=\"HEAT\",\"Гкал/час\",IF(TEMPLATE_SPHERE_CODE=\"COLDVSNA\",\"куб.м/час\",IF(TEMPLATE_SPHERE_CODE=\"VOTV\",\"куб.м/час\",\"\")))","v":"Подключенная нагрузка, "}]
[null,null,null,null,null,null,null,null,null,null,null,null,null,null,null,null,null,null,"IC","CL","IC","CL","IC","CL"]
[null,null,null,null,null,0]
[null,null," ",null," ",null,"Добавить территорию"]
[null,null,null,null,"   "]
[null,null,null,null,null,null,"Примечания:"]
[null,null,null,null,null,null,"1. Необходимо перечислить все объекты регулируемой инфраструктуры, для которых предоставляются технико-экономические показатели на расчётных листах блока по территории"]
[null,null,null,null,null,null,"2. Выбор объектов доступен только в рамках территорий (ОКТМО), для которых информация по соответствующим видам деятельности представлена в мониторингах реестра объектов инфраструктуры"]
[]
[null,null,null,null,null,"Дата последнего обновления данных мониторинга \"Реестр объектов инфраструктуры\": (обновление не выполнялось)"]

{"sheet":"TECHSHEET","index":6,"n_rows":149,"n_cols":33,"rows_kept":149,"cut":false,"hidden":true,"merged":[]}
["Алтайский край","RU22","Алтайский край",null,"HEAT_PRODUCTION_TYPE_LIST",null,"TEMPLATE_SPHERE",null,"HEAT_TRANSMISSION_TARIFF_UNIT",null,"YES_NO",null,"SAX_PARSER_FEATURE",null,"VALIDATION_SETTINGS",null,"DNS",null,null,null,null,null,null,null,"LOGIN",null,"YEAR_LIST","MONTH_LIST"]
["Амурская область","RU28","Амурская область",null,"некомбинированное",null,null,null,"руб/Гкал",null,"да",null,"YES",null,"YES",null,{"$f":"USE_DNS_SERVICE","v":"https://eias.ru"},null,null,null,null,null,null,null,"PASSWORD",null,2011,"Январь"]
["Архангельская область","RU29","Архангельская область",null,"комбинированное, более 25 МВт",null,"теплоснабжения",null,"руб/Гкал/час в мес",null,"нет",null,null,null,"NO",null,null,null,null,null,null,null,null,"MD5","ATH_SCHEME",null,2012,"Февраль"]
["Астраханская область","RU30","Астраханская область",null,"комбинированное, менее 25 МВт",null,"холодного водоснабжения",null,null,null,null,null,null,null,"NO",null,"NDS",null,null,null,null,null,null,"NO","RETAIN_PASSWORD",null,2013,"Март"]
["Белгородская область","RU31","Белгородская область",null,null,null,"водоотведения",null,"COLDVSNA_TRANSMISSION_TARIFF_UNIT",null,null,null,"PROTECT_MARKER",null,"NO",null,1.18,null,null,null,null,null,null,null,"SESSION_ID",null,2014,"Апрель"]
["Брянская область","RU32","Брянская область",null,"HEAT_VD_COMPONENTS",null,null,null,"руб/куб.м",null,null,null,"FEDERAL.2018",null,null,null,null,null,null,null,null,null,null,"50:115:100:126:56:107:107:107:62:126:114:110","OBFUSCATED_PASSWORD",null,2015,"Май"]
["Владимирская область","RU33","Владимирская область",null,"Производство",null,"TEMPLATE_SPHERE_OKK_SOURCE",null,null,null,null,null,null,null,null,null,"PERIOD",null,null,null,null,null,null,null,null,null,2016,"Июнь"]
["Волгоградская область","RU34","Волгоградская область",null,"Передача",null,null,null,"VOTV_TRANSMISSION_TARIFF_UNIT",null,null,null,null,null,null,null,{"$f":"god","v":"2018"},null,null,null,null,null,null,null,null,null,2017,"Июль"]
["Вологодская область","RU35","Вологодская область",null,"Сбыт",null,"Теплоисточник",null,"руб/куб.м",null,null,null,null,null,null,null,null,null,null,null,null,null,null,"XML_ORG_LIST_TAG_NAMES",null,null,2018,"Август"]
["Воронежская область","RU36","Воронежская область",null,null,null,"Насосная станция",null,null,null,null,null,null,null,null,null,"Организация",null,null,null,null,null,null,"REGION_NAME",null,null,2019,"Сентябрь"]
["г. Москва","RU77","Москва",null,"COLDVSNA_VD_COMPONENTS",null,"Канализационно-насосная станция",null,"COLDVSNA_VTOV",null,null,null,null,null,null,null,{"$f":"\"01.01.\" & PERIOD","v":"01.01.2018"},null,null,null,null,null,null,"MR_NAME",null,null,2020,"Октябрь"]
["г. Байконур","RU00",null,null,"Производство (подъём / добыча) воды",null,null,null,"питьевая вода",null,null,null,null,null,null,null,{"$f":"\"31.12.\" & PERIOD","v":"31.12.2018"},null,null,null,null,null,null,"OKTMR_NAME",null,null,2021,"Ноябрь"]
["г. Санкт-Петербург","RU78","Cанкт-Петербург",null,"Очистка воды",null,"CALC_IDENTIFIER",null,"техническая вода",null,null,null,null,null,null,null,null,null,null,null,null,null,null,"MO_NAME",null,null,2022,"Декабрь"]
["г. Севастополь","RU92","Севастополь",null,"Транспортировка воды",null,null,null,null,null,null,null,null,null,null,null,"Виды деятельности",null,null,null,null,null,null,"OKTMO_NAME"]
["Еврейская автономная область","RU79","Еврейская автономная область",null,"Сбыт (распределение) воды",null,null,null,"VOTV_VTOV",null,null,null,null,null,null,null,{"$f":"\"01.01.\" & PERIOD","v":"01.01.2018"},null,null,null,null,null,null,"RST_ORG_ID"]
["Забайкальский край","RU75","Забайкальский край",null,"Подвоз воды",null,"Вид воды",null,"Без дифференциации",null,null,null,null,null,null,null,{"$f":"\"31.12.\" & PERIOD","v":"31.12.2018"},null,null,null,null,null,null,"ORG_NAME"]
["Ивановская область","RU37","Ивановская область",null,null,null,"Вид стоков",null,"ЖБО","жидкие бытовые отходы",null,null,null,null,null,null,null,null,null,null,null,null,null,"INN_NAME"]
["Иркутская область","RU38","Иркутская область",null,"VOTV_VD_COMPONENTS",null,null,null,"ПСВ","поверхностные сточные воды",null,null,null,null,null,null,"Территории",null,null,null,null,null,null,"KPP_NAME"]
["Кабардино-Балкарская республика","RU07","Республика Кабардино-Балкария",null,"Приём сточных вод",null,"RESOURCE_IDENTIFIER",null,"ХБСВ","хозяйственно-бытовые сточные воды, отводимые товариществами собственников жилья, жилищно-строительными, жилищными и иными специализированными потребительскими кооперативами, управляющими организациями и другими лицами, осуществляющими деятельность по управлению многоквартирными домами, жителями индивидуальных жилых домов и другими абонентами, отводящими преимущественно сточные воды, связанные с хозяйственно-бытовой деятельностью, в отношении которых не устанавливаются нормативы водоотведения (сброса) по составу сточных вод, нормативы допустимых сбросов абонентов",null,null,null,null,"VOTV_FACILITY_3_INDEX_GROUP",null,{"$f":"\"01.01.\" & PERIOD","v":"01.01.2018"},null,null,null,null,null,null,"VDET_NAME"]
["Калининградская область","RU39","Калининградская область",null,"Очистка сточных вод",null,null,null,"СВ (нормативы)","сточные воды, отводимые абонентами, для объектов которых устанавливаются нормативы водоотведения (сброса) по составу сточных вод, нормативы допустимых сбросов абонентов",null,null,"COLDVSNA_FACILITY_INDEX_GROUP",null,"VOTV_FACILITY_INDEX_GROUP",null,{"$f":"\"31.12.\" & PERIOD","v":"31.12.2018"},null,null,null,null,null,null,"VDET_NAME_LIST"]
["Калужская область","RU40","Калужская область",null,"Транспортировка сточных вод",null,"ТЭ",null,"СВ (иные)","сточные воды, отводимые иными абонентами",null,null,"0",null,"0",null,null,null,null,null,null,null,null,"VDET_FULL_NAME_LIST",null,null,null,null,null,null,null,null,"DPR_AREA_TYPE_LIST"]
["Камчатский край","RU41","Камчатский край",null,null,null,"холодной воды",null,null,null,null,null,"1",null,"1",null,null,null,null,null,null,null,null,"ORG_START_DATE",null,null,null,null,null,null,null,null,"городское поселение"]
["Карачаево-Черкесская республика","RU09","Республика Карачаево-Черкессия",null,"STATE_SHARE",null,"стоков",null,null,null,null,null,"2",null,"2",null,null,null,null,null,null,null,null,"ORG_END_DATE",null,null,null,null,null,null,null,null,"сельское поселение"]
["Кемеровская область","RU42","Кемеровская область",null,"VALUABLE_STATE_SHARE",null,null,null,null,null,null,null,"3",null,"3",null,null,null,null,null,null,null,null,"VDET_START_DATE",null,null,null,null,null,null,null,null,"населённый пункт"]
["Кировская область","RU43","Кировская область",null,"0 %",null,"TEMPLATE_CLAIM",null,null,null,null,null,null,null,null,null,null,null,null,null,null,null,null,"VDET_END_DATE"]
["Костромская область","RU44","Костромская область",null,"менее 50 %",null,"F"]
["Краснодарский край","RU23","Краснодарский край",null,"50 % и более"]
["Красноярский край","RU24","Красноярский край",null,"100 %",null,null,null,null,null,null,null,null,null,null,null,null,null,null,null,null,null,null,"XML_MR_MO_OKTMO_LIST_TAG_NAMES"]
["Курганская область","RU45","Курганская область",null,null,null,"TEMPLATE_PERIOD_COUNT",null,null,null,null,null,null,null,null,null,null,null,null,null,null,null,null,"NSRF"]
["Курская область","RU46","Курская область",null,"OWNERSHIP_TYPE",null,"2",null,null,null,null,null,null,null,null,null,null,null,null,null,null,null,null,"MR_NAME"]
["Ленинградская область","RU47","Ленинградская область",null,"NONPRIVATE_OWNERSHIP_TYPE",null,null,null,null,null,null,null,null,null,null,null,null,null,null,null,null,null,null,"OKTMO_MR_NAME"]
["Липецкая область","RU48","Липецкая область",null,"федеральная",null,"TEMPLATE_SPHERE_CODE",null,null,null,null,null,null,null,null,null,null,null,null,null,null,null,null,"MO_NAME"]
["Магаданская область","RU49","Магаданская область",null,"субъект РФ",null,null,null,null,null,null,null,null,null,null,null,null,null,null,null,null,null,null,"OKTMO_NAME"]
["Московская область","RU50","Московская область",null,"муниципальная",null,"HEAT",null,null,null,null,null,null,null,null,null,null,null,null,null,null,null,null,"TYPE"]
["Мурманская область","RU51","Мурманская область",null,"частная",null,"COLDVSNA",null,null,null,null,null,null,null,null,null,null,null,null,null,null,null,null,"TOTAL_PPL_COUNT"]
["Ненецкий автономный округ","RU83","Ненецкий автономный округ",null,null,null,"VOTV"]
["Нижегородская область","RU52","Нижегородская область"]
["Новгородская область","RU53","Новгородская область",null,null,null,"SPHERE_SPECIFIC_STATUS",null,null,null,null,null,null,null,null,null,null,null,null,null,null,null,null,"XML_AUTHORISATION_TAG_NAMES"]
["Новосибирская область","RU54","Новосибирская область",null,null,null,null,null,null,null,null,null,null,null,null,null,null,null,null,null,null,null,null,"L1"]
["Омская область","RU55","Омская область",null,null,null,"ЕТО",null,null,null,null,null,null,null,null,null,null,null,null,null,null,null,null,"L2"]
["Оренбургская область","RU56","Оренбургская область",null,null,null,"ГО"]
["Орловская область","RU57","Орловская область",null,null,null,"ГО"]
["Пензенская область","RU58","Пензенская область",null,null,null,null,null,null,null,null,null,null,null,null,null,null,null,null,null,null,null,null,"XML_LOCATION_LIST_TAG_NAMES"]
["Пермский край","RU59","Пермский край",null,null,null,"SPHERE_SPECIFIC_STATUS_DESCRIPTION",null,null,null,null,null,null,null,null,null,null,null,null,null,null,null,null,"OKTMO_LOCATION_NAME"]
["Приморский край","RU25","Приморский край",null,null,null,null,null,null,null,null,null,null,null,null,null,null,null,null,null,null,null,null,"LOCATION_NAME"]
["Псковская область","RU60","Псковская область",null,null,null,"* ЕТО - единая теплоснабжающая организация"]
["Республика Адыгея","RU01","Республика Адыгея",null,null,null,"* ГО - гарантирующая организация"]
["Республика Алтай","RU04","Республика Алтай",null,null,null,"* ГО - гарантирующая организация",null,null,null,null,null,null,null,null,null,null,null,null,null,null,null,null,"XML_DICTIONARIES_TAG_NAMES"]
["Республика Башкортостан","RU02","Республика Башкортостан",null,null,null,null,null,null,null,null,null,null,null,null,null,null,null,null,null,null,null,null,"DIC_NAME"]
["Республика Бурятия","RU03","Республика Бурятия",null,null,null,null,null,null,null,null,null,null,null,null,null,null,null,null,null,null,null,null,"DIC_VALUE"]
["Республика Дагестан","RU05","Республика Дагестан"]
["Республика Ингушетия","RU06","Республика Ингушетия"]
["Республика Калмыкия","RU08","Республика Калмыкия",null,null,null,null,null,null,null,null,null,null,null,null,null,null,null,null,null,null,null,null,"XML_SUBSIDIARY_LIST_TAG_NAMES"]
["Республика Карелия","RU10","Республика Карелия",null,null,null,null,null,null,null,null,null,null,null,null,null,null,null,null,null,null,null,null,"DIC_NAME"]
["Республика Коми","RU11","Республика Коми",null,null,null,null,null,null,null,null,null,null,null,null,null,null,null,null,null,null,null,null,"DIC_VALUE"]
["Республика Крым","RU82","Крым"]
["Республика Марий Эл","RU12","Республика Марий Эл"]
["Республика Мордовия","RU13","Республика Мордовия",null,null,null,null,null,null,null,null,null,null,null,null,null,null,null,null,null,null,null,null,"XML_DPR_LIST_TAG_NAMES"]
["Республика Саха (Якутия)","RU14","Республика Саха (Якутия)",null,null,null,null,null,null,null,"XML_PLAN1X_HEAT_LIST_SRC_TAG_NAMES",null,"XML_PLAN1X_COLDVSNA_LIST_SRC_TAG_NAMES",null,"XML_PLAN1X_VOTV_LIST_SRC_TAG_NAMES",null,null,null,null,null,null,null,null,"DIC_NAME"]
["Республика Северная Осетия-Алания","RU15","Республика Северная Осетия (Алания)",null,null,null,null,null,null,null,"LGL_ID",null,"LGL_ID",null,"LGL_ID",null,null,null,null,null,null,null,null,"DIC_VALUE"]
["Республика Татарстан","RU16","Республика Татарстан",null,null,null,null,null,null,null,"NOMER_NAME",null,"NOMER_NAME",null,"NOMER_NAME"]
["Республика Тыва","RU17","Республика Тыва (Тува)",null,null,null,null,null,null,null,"L_SERVICE_PRODUCTION",null,"L_SERVICE_PRODUCTION",null,"L_SERVICE_PRODUCTION"]
["Республика Хакасия","RU19","Республика Хакасия",null,null,null,null,null,null,null,"L_SERVICE_TRANSMISSION",null,"L_SERVICE_CLEANING",null,"L_SERVICE_CLEANING",null,null,null,null,null,null,null,null,"XML_FILE_STORE_DATA_TAG_NAMES"]
["Ростовская область","RU61","Ростовская область",null,null,null,null,null,null,null,"L_SERVICE_SALE",null,"L_SERVICE_TRANSMISSION",null,"L_SERVICE_TRANSMISSION",null,null,null,null,null,null,null,null,"GUID"]
["Рязанская область","RU62","Рязанская область",null,null,null,null,null,null,null,"ORG_NAME",null,"ORG_NAME",null,"ORG_NAME",null,null,null,null,null,null,null,null,"MIME"]
["Самарская область","RU63","Самарская область",null,null,null,null,null,null,null,"INN_NAME",null,"INN_NAME",null,"INN_NAME",null,null,null,null,null,null,null,null,"EXTENSION"]
["Саратовская область","RU64","Саратовская область",null,null,null,null,null,null,null,"KPP_NAME",null,"KPP_NAME",null,"KPP_NAME",null,null,null,null,null,null,null,null,"CREATE_DATE"]
["Сахалинская область","RU65","Сахалинская область",null,null,null,null,null,null,null,"FIL_NAME",null,"FIL_NAME",null,"FIL_NAME",null,null,null,null,null,null,null,null,"FORCE_ALLOWED"]
["Свердловская область","RU66","Свердловская область",null,null,null,null,null,null,null,"NOMER2_NAME",null,"NOMER2_NAME",null,"NOMER2_NAME"]
["Смоленская область","RU67","Смоленская область",null,null,null,null,null,null,null,"NMOB_NAME",null,"NMOB_NAME",null,"NMOB_NAME"]
["Ставропольский край","RU26","Ставропольский край",null,null,null,null,null,null,null,"DET_NAME",null,"DET_NAME",null,"DET_NAME",null,null,null,null,null,null,null,null,"XML_PARSE_STATUS_TAG_NAMES"]
["Тамбовская область","RU68","Тамбовская область",null,null,null,null,null,null,null,"L_ADDRESS_MR",null,"L_ADDRESS_MR",null,"L_ADDRESS_MR",null,null,null,null,null,null,null,null,"STATUS"]
["Тверская область","RU69","Тверская область",null,null,null,null,null,null,null,"L_ADDRESS_MO",null,"L_ADDRESS_MO",null,"L_ADDRESS_MO",null,null,null,null,null,null,null,null,"GUID"]
["Томская область","RU70","Томская область",null,null,null,null,null,null,null,"L_ADDRESS_OKTMO",null,"L_ADDRESS_OKTMO",null,"L_ADDRESS_OKTMO"]
["Тульская область","RU71","Тульская область",null,null,null,null,null,null,null,"L_ADDRESS_LOCATION",null,"L_ADDRESS_LOCATION",null,"L_ADDRESS_LOCATION"]
["Тюменская область","RU72","Тюменская область",null,null,null,null,null,null,null,"L_ADDRESS_LOC_OKTMO",null,"L_ADDRESS_LOC_OKTMO",null,"L_ADDRESS_LOC_OKTMO"]
["Удмуртская республика","RU18","Республика Удмуртия",null,null,null,null,null,null,null,"L_ADDRESS_STREET",null,"L_ADDRESS_STREET",null,"L_ADDRESS_STREET"]
["Ульяновская область","RU73","Ульяновская область",null,null,null,null,null,null,null,"L_ADDRESS_BUILDING",null,"L_ADDRESS_BUILDING",null,"L_ADDRESS_BUILDING"]
["Хабаровский край","RU27","Хабаровский край",null,null,null,null,null,null,null,"DET2_NAME",null,"DET2_NAME",null,"DET2_NAME"]
["Ханты-Мансийский автономный округ","RU86","Ханты-Мансийский автономный округ",null,null,null,null,null,null,null,"MR_NAME",null,"MR_NAME",null,"MR_NAME"]
["Челябинская область","RU74","Челябинская область",null,null,null,null,null,null,null,"MO_NAME",null,"MO_NAME",null,"MO_NAME"]
["Чеченская республика","RU20","Республика Чечня",null,null,null,null,null,null,null,"OKTMO_NAME",null,"OKTMO_NAME",null,"OKTMO_NAME"]
["Чувашская республика","RU21","Республика Чувашия",null,null,null,null,null,null,null,"LOCATION_NAME",null,"LOCATION_NAME",null,"LOCATION_NAME"]
["Чукотский автономный округ","RU87","Чукотский автономный округ",null,null,null,null,null,null,null,"LOCATION_OKTMO_NAME",null,"LOCATION_OKTMO_NAME",null,"LOCATION_OKTMO_NAME"]
["Ямало-Ненецкий автономный округ","RU89","Ямало-Ненецкий автономный округ",null,null,null,null,null,null,null,"L_PR_IC",null,"L_PR_IC",null,"L_PR_IC"]
["Ярославская область","RU76","Ярославская область",null,null,null,null,null,null,null,"L_PR_CL",null,"L_PR_CL",null,"L_PR_CL"]
[null,null,null,null,null,null,null,null,null,null,"L_TR_IC",null,"L_CLN_IC",null,"L_CLN_IC"]
[null,null,null,null,null,null,null,null,null,null,"L_TR_CL",null,"L_CLN_CL",null,"L_CLN_CL"]
[null,null,null,null,null,null,null,null,null,null,"L_SL_IC",null,"L_TR_IC",null,"L_TR_IC"]
[null,null,null,null,null,null,null,null,null,null,"L_SL_CL",null,"L_TR_CL",null,"L_TR_CL"]
[]
[null,null,null,null,null,null,null,null,null,null,"XML_PLAN1X_HEAT_LIST_ORG_TAG_NAMES",null,"XML_PLAN1X_COLDVSNA_LIST_ORG_TAG_NAMES",null,"XML_PLAN1X_VOTV_LIST_ORG_TAG_NAMES"]
[null,null,null,null,null,null,null,null,null,null,"LGL_ID",null,"LGL_ID",null,"LGL_ID"]
[null,null,null,null,null,null,null,null,null,null,"NMBR",null,"NMBR",null,"NMBR"]
[null,null,null,null,null,null,null,null,null,null,"RST_ORG_ID",null,"RST_ORG_ID",null,"RST_ORG_ID"]
[null,null,null,null,null,null,null,null,null,null,"ORG",null,"ORG",null,"ORG"]
[null,null,null,null,null,null,null,null,null,null,"INN",null,"INN",null,"INN"]
[null,null,null,null,null,null,null,null,null,null,"KPP",null,"KPP",null,"KPP"]
[null,null,null,null,null,null,null,null,null,null,"FIL",null,"FIL",null,"FIL"]
[null,null,null,null,null,null,null,null,null,null,"VDET",null,"VDET",null,"VDET"]
[null,null,null,null,null,null,null,null,null,null,"INN_ID",null,"INN_ID",null,"INN_ID"]
[null,null,null,null,null,null,null,null,null,null,"KPP_ID",null,"KPP_ID",null,"KPP_ID"]
[null,null,null,null,null,null,null,null,null,null,"FIL_ID",null,"FIL_ID",null,"FIL_ID"]
[null,null,null,null,null,null,null,null,null,null,"VDET_ID",null,"VDET_ID",null,"VDET_ID"]
[null,null,null,null,null,null,null,null,null,null,"OKOPF",null,"OKOPF",null,"OKOPF"]
[null,null,null,null,null,null,null,null,null,null,"SPECIFIC_STATUS",null,"SPECIFIC_STATUS",null,"SPECIFIC_STATUS"]
[null,null,null,null,null,null,null,null,null,null,"SPECIFIC_STATUS_URL",null,"SPECIFIC_STATUS_URL",null,"SPECIFIC_STATUS_URL"]
[null,null,null,null,null,null,null,null,null,null,"UNREG",null,"UNREG",null,"UNREG"]
[null,null,null,null,null,null,null,null,null,null,"SCC",null,"SCC",null,"SCC"]
[null,null,null,null,null,null,null,null,null,null,"TAX",null,"TAX",null,"TAX"]
[null,null,null,null,null,null,null,null,null,null,"MILITARY",null,"MILITARY",null,"MILITARY"]
[null,null,null,null,null,null,null,null,null,null,"IS_PROFILE_ACTIVITY",null,"IS_PROFILE_ACTIVITY",null,"IS_PROFILE_ACTIVITY"]
[null,null,null,null,null,null,null,null,null,null,"OGRN",null,"OGRN",null,"OGRN"]
[null,null,null,null,null,null,null,null,null,null,"OKPO",null,"OKPO",null,"OKPO"]
[null,null,null,null,null,null,null,null,null,null,"STATE_SHARE_EXISTENCE",null,"STATE_SHARE_EXISTENCE",null,"STATE_SHARE_EXISTENCE"]
[null,null,null,null,null,null,null,null,null,null,"STATE_SHARE_VALUE",null,"STATE_SHARE_VALUE",null,"STATE_SHARE_VALUE"]
[null,null,null,null,null,null,null,null,null,null,"PREVAILING_SHARE_VALUE",null,"PREVAILING_SHARE_VALUE",null,"PREVAILING_SHARE_VALUE"]
[]
[null,null,null,null,null,null,null,null,null,null,"XML_PLAN1X_HEAT_LIST_TMX_TAG_NAMES",null,"XML_PLAN1X_COLDVSNA_LIST_TMX_TAG_NAMES",null,"XML_PLAN1X_VOTV_LIST_TMX_TAG_NAMES"]
[null,null,null,null,null,null,null,null,null,null,"NOMER",null,"NOMER",null,"NOMER"]
[null,null,null,null,null,null,null,null,null,null,"ORG",null,"ORG",null,"ORG"]
[null,null,null,null,null,null,null,null,null,null,"INN",null,"INN",null,"INN"]
[null,null,null,null,null,null,null,null,null,null,"KPP",null,"KPP",null,"KPP"]
[null,null,null,null,null,null,null,null,null,null,"FIL",null,"FIL",null,"FIL"]
[null,null,null,null,null,null,null,null,null,null,"VDET",null,"VDET",null,"VDET"]
[null,null,null,null,null,null,null,null,null,null,"DPR",null,"DPR",null,"DPR"]
[null,null,null,null,null,null,null,null,null,null,"MR",null,"MR",null,"MR"]
[null,null,null,null,null,null,null,null,null,null,"MO",null,"MO",null,"MO"]
[null,null,null,null,null,null,null,null,null,null,"OKTMO",null,"OKTMO",null,"OKTMO"]
[null,null,null,null,null,null,null,null,null,null,"DET",null,"DET",null,"DET"]
[null,null,null,null,null,null,null,null,null,null,"TF_I_RSL",null,"TF_I_RSL",null,"TF_I_RSL"]
[null,null,null,null,null,null,null,null,null,null,"TF_II_RSL",null,"TF_II_RSL",null,"TF_II_RSL"]
[null,null,null,null,null,null,null,null,null,null,"TF_I_BDG",null,"TF_I_BDG",null,"TF_I_BDG"]
[null,null,null,null,null,null,null,null,null,null,"TF_II_BDG",null,"TF_II_BDG",null,"TF_II_BDG"]
[null,null,null,null,null,null,null,null,null,null,"TF_I_PPL",null,"TF_I_PPL",null,"TF_I_PPL"]
[null,null,null,null,null,null,null,null,null,null,"TF_II_PPL",null,"TF_II_PPL",null,"TF_II_PPL"]
[null,null,null,null,null,null,null,null,null,null,"TF_I_OTH",null,"TF_I_OTH",null,"TF_I_OTH"]
[null,null,null,null,null,null,null,null,null,null,"TF_II_OTH",null,"TF_II_OTH",null,"TF_II_OTH"]
[]
[null,null,null,null,null,null,null,null,null,null,"XML_PLAN1X_HEAT_LIST_MO_TAG_NAMES",null,"XML_PLAN1X_COLDVSNA_LIST_MO_TAG_NAMES",null,"XML_PLAN1X_VOTV_LIST_MO_TAG_NAMES"]
[null,null,null,null,null,null,null,null,null,null,"POSITION",null,"POSITION",null,"POSITION"]
[null,null,null,null,null,null,null,null,null,null,"MR",null,"MR",null,"MR"]
[null,null,null,null,null,null,null,null,null,null,"MO",null,"MO",null,"MO"]
[null,null,null,null,null,null,null,null,null,null,"OKTMO",null,"OKTMO",null,"OKTMO"]
[null,null,null,null,null,null,null,null,null,null,"TAX",null,"TAX",null,"TAX"]
[null,null,null,null,null,null,null,null,null,null,"DPR",null,"DPR",null,"DPR"]
[null,null,null,null,null,null,null,null,null,null,"VTOV",null,"VTOV",null,"VTOV"]
[null,null,null,null,null,null,null,null,null,null,"TR_TARIFF",null,"TR_TARIFF",null,"TR_TARIFF"]
[null,null,null,null,null,null,null,null,null,null,"LGL_ID",null,"LGL_ID",null,"LGL_ID"]

{"sheet":"TECH_HORISONTAL","index":7,"n_rows":19,"n_cols":99,"rows_kept":19,"cut":false,"hidden":true,"merged":[[13,16,14,16],[2,0,2,1],[13,10,14,10],[13,11,14,11],[13,12,14,12],[13,14,14,14],[5,0,5,1],[8,0,8,1],[17,0,17,1],[13,15,14,15],[13,9,14,9],[13,13,14,13],[12,0,12,1],[13,5,14,5],[13,6,14,6],[13,7,14,7],[13,8,14,8]]}
[]
[]
["LIST_MO_HEAT_ADD_RANGE"]
[null,null,null,null,"О",null,null,null,null,{"$f":"IF(LEN(I4)=0,\"\",VLOOKUP(I4,OKTMO_VS_TYPE_LIST,2,FALSE))","v":""},null,null,{"$f":"IF(TAX=\"\",\"\",TAX)","v":""},null,null,null,null,null,null,null,null,null,null,null,null,null,null,null,null,null,null,null,null,null,null,null,null,null,null,null,null,null,null,null,null,null,null,null,null,null,null,null,null,null,null,null,null,null,null,null,null,null,null,null,null,null,null,null,null,null,null,null,null,null,null,null,null,null,null,null,null,null,null,null,null,null,null,"a","a","a","a","a","a","a","a","a","a","a","a"]
[]
["LIST_MO_COLDVSNA_ADD_RANGE"]
[null,null,null,null,"О",null,null,null,null,{"$f":"IF(LEN(I7)=0,\"\",VLOOKUP(I7,OKTMO_VS_TYPE_LIST,2,FALSE))","v":""},null,null,{"$f":"IF(TAX=\"\",\"\",TAX)","v":""},null,null,null,null,null,null,null,null,null,null,null,null,null,null,null,null,null,null,null,null,null,null,null,null,null,null,null,null,null,null,null,null,null,null,null,null,null,null,null,null,null,null,null,null,null,null,null,null,null,null,null,null,null,null,null,null,null,null,null,null,null,null,null,null,null,null,null,null,null,null,null,null,null,null,"a","a","a","a","a","a","a","a","a","a","a","a"]
[]
["LIST_MO_VOTV_ADD_RANGE"]
[null,null,null,null,"О",null,null,null,null,{"$f":"IF(LEN(I10)=0,\"\",VLOOKUP(I10,OKTMO_VS_TYPE_LIST,2,FALSE))","v":""},null,null,{"$f":"IF(TAX=\"\",\"\",TAX)","v":""},null,null,null,null,null,null,null,null,null,null,null,null,null,null,null,null,null,null,null,null,null,null,null,null,null,null,null,null,null,null,null,null,null,null,null,null,null,null,null,null,null,null,null,null,null,null,null,null,null,null,null,null,null,null,null,null,null,null,null,null,null,null,null,null,null,null,null,null,null,null,null,null,null,null,"a","a","a","a","a","a","a","a","a","a","a","a"]
[]
[]
["LIST_SRC_ADD_RANGE"]
[null,null,null,null,"О",null,null,null,null,null,null,null,null,null,null,null,{"$f":"ROW(P15)-ROW(P14)-1","v":0},{"$f":"F14 & \".0\"","v":".0"},{"$f":"SUM(BH14:BH15)","v":0},0,0,0,0,0,null,null,null,"0"]
[null,null,null,null,null,null,null,null,null,null,null,null,null,null,null,null,null,null,null,null,null,null,null,null,null,null,null,null,"Добавить объект"]
[]
[]
["LIST_SRC_ADD_OBJECT_RANGE"]
[null,null,null,null,null,null,null,null,null,null,null,null,null,null,null,null,null,null,null,null,null,null,null,null,null,"Изменить","О"]

{"sheet":"TECH_VERTICAL","index":8,"n_rows":3166,"n_cols":77,"rows_kept":3166,"cut":false,"hidden":true,"merged":[[2270,61,2270,75],[2267,12,2268,12],[2267,13,2268,13],[2267,14,2268,14],[2267,28,2267,30],[2268,28,2268,30],[2268,46,2268,60],[21,34,21,48],[931,46,931,60],[930,46,930,60],[1974,34,1974,48],[932,46,932,60],[2884,61,2884,75],[2882,46,2882,60],[2883,46,2883,60],[2884,46,2884,60],[2269,46,2269,60],[1,28,1,30],[18,28,18,30],[17,28,17,30],[20,28,20,30],[13,28,13,30],[20,34,20,48],[932,28,932,30],[931,28,931,30],[1972,28,1972,30],[924,28,924,30],[912,28,912,30],[18,12,19,12],[18,13,19,13],[18,14,19,14],[21,28,21,30],[19,28,19,30],[1971,12,1972,12],[929,12,930,12],[929,13,930,13],[1971,14,1972,14],[1971,13,1972,13],[928,28,928,30],[929,28,929,30],[929,14,930,14],[930,28,930,30],[1970,28,1970,30],[1971,28,1971,30],[2577,28,2577,30],[2565,28,2565,30],[2262,28,2262,30],[1954,28,1954,30],[1966,28,1966,30],[2250,28,2250,30],[2266,28,2266,30],[2269,28,2269,30],[2270,28,2270,30],[2581,28,2581,30],[1973,28,1973,30],[2584,34,2584,48],[2582,13,2583,13],[2582,14,2583,14],[1974,28,1974,30],[1973,34,1973,48],[2270,46,2270,60],[2583,28,2583,30],[2584,28,2584,30],[2882,28,2882,30],[2883,28,2883,30],[2884,28,2884,30],[2880,28,2880,30],[2881,12,2882,12],[2881,13,2882,13],[2881,14,2882,14],[2881,28,2881,30],[2585,34,2585,48],[2585,28,2585,30],[2864,28,2864,30],[2876,28,2876,30],[2582,12,2583,12],[2582,28,2582,30],[2883,76,2883,90],[2884,76,2884,90],[2267,76,2267,90],[2268,76,2268,90],[2269,76,2269,90],[2270,76,2270,90],[2881,76,2881,90],[2882,76,2882,90]]}
[]
[null,null,null,null,null,null,null,null,null,null,null,null,null,null,null,null,null,null,null,null,null,null,null,null,null,null,null,null,"HEAT_CALC_ADD_RANGE"]
[]
[]
[]
[null,null,null,null,null,null,null,null,null,null,null,null,null,null,null,null,null,null,null,null,null,null,null,null,null,null,null,null,12,6,6]
[]
[]
[null,null,null,null,null,null,null,null,null,null,null,null,null,null,null,null,null,null,null,null,null,null,null,null,null,null,null,null,"Y","I","II"]
[]
[]
[]
[null,null,null,null,null,null,null,null,null,null,null,null,null,null,null,null,null,null,null,null,null,null,null,null,null,null,null,null,"Год","I полугодие","II полугодие"]
[]
[null,null,null,null,null,null,null,null,null,null,null,null,null,null,null,null,null,null,null,null,null,null,null,null,null,null,null,null,{"$f":"AC17 & \"_\" & AC9","v":"0_Y"},{"$f":"AD17 & \"_\" & AD9","v":"0_I"},{"$f":"AE17 & \"_\" & AE9","v":"0_II"}]
[]
[null,null,null,null,null,null,null,null,null,null,null,null,null,null,null,null,null,null,null,null,null,null,null,null,null,null,null,null,{"$f":"AC19","v":0},{"$f":"AC19","v":0},{"$f":"AC19","v":0}]
[null,null,null,null,null,null,null,null,null,null,null,null,null,null,null,null,null,null,null,null,null,null,null,null,null,null,null,null,"Удалить"]
[null,null,null,null,null,null,null,null,null,null,null,null,"№ п/п","Наименование показателя","Единица измерения"]
[]
[null,null,null,null,null,null,null,null,null,null,null,null,null,"Является ли организация плательщиком НДС",null,null,null,null,null,null,null,null,null,null,null,null,null,null,null,null,null,null,null,null,"HEAT_CALC_EMPTY_BASE_RANGE"]
[null,null,null,null,null,null,null,null,null,null,null,null,null,null,null,null,null,null,null,null,null,null,null,null,null,null,null,null,null,null,null,null,null,null,"HEAT_CALC_SINGLE_BASE_RANGE"]
[]
[]
[]
[]
[]
[]
[]
[]
[]
[]
[]
[]
[]
[null,null,null,null,null,null,null,null,null,null,null,null,"4","Стоимость натурального топлива с учётом транспортировки (перевозки) (топливо на технологические цели)","тыс.руб.",null,null,null,null,null,null,null,null,null,null,null,null,null,null,null,null,{"$f":"ТС.Т!AF36","v":0},{"$f":"ТС.Т!AG36","v":0},{"$f":"ТС.Т!AH36","v":0}]
[null,null,null,null,null,null,null,null,null,null,null,null,"4.NG","Газ природный","тыс.руб.",null,null,null,null,null,null,null,null,null,null,null,null,null,null,null,null,{"$f":"ТС.Т!AF37","v":"NG"},{"$f":"ТС.Т!AG37","v":0},{"$f":"ТС.Т!AH37","v":0}]
[null,null,null,null,null,null,null,null,null,null,null,null,"4.NGL","Газ лимитный","тыс.руб.",null,null,null,null,null,null,null,null,null,null,null,null,null,null,null,null,{"$f":"ТС.Т!AF38","v":"NGL"},{"$f":"ТС.Т!AG38","v":0},{"$f":"ТС.Т!AH38","v":0}]
[null,null,null,null,null,null,null,null,null,null,null,null,"4.NGU","Газ сверхлимитный","тыс.руб.",null,null,null,null,null,null,null,null,null,null,null,null,null,null,null,null,{"$f":"ТС.Т!AF39","v":"NGU"},{"$f":"ТС.Т!AG39","v":0},{"$f":"ТС.Т!AH39","v":0}]
[null,null,null,null,null,null,null,null,null,null,null,null,"4.NGC","Газ коммерческий","тыс.руб.",null,null,null,null,null,null,null,null,null,null,null,null,null,null,null,null,{"$f":"ТС.Т!AF40","v":"NGC"},{"$f":"ТС.Т!AG40","v":0},{"$f":"ТС.Т!AH40","v":0}]
[null,null,null,null,null,null,null,null,null,null,null,null,"4.GBL","Газ доменный","тыс.руб.",null,null,null,null,null,null,null,null,null,null,null,null,null,null,null,null,{"$f":"ТС.Т!AF41","v":"GBL"},{"$f":"ТС.Т!AG41","v":0},{"$f":"ТС.Т!AH41","v":0}]
[null,null,null,null,null,null,null,null,null,null,null,null,"4.GCK","Газ коксовый","тыс.руб.",null,null,null,null,null,null,null,null,null,null,null,null,null,null,null,null,{"$f":"ТС.Т!AF42","v":"GCK"},{"$f":"ТС.Т!AG42","v":0},{"$f":"ТС.Т!AH42","v":0}]
[null,null,null,null,null,null,null,null,null,null,null,null,"4.GOA","Газ нефтяной (попутный)","тыс.руб.",null,null,null,null,null,null,null,null,null,null,null,null,null,null,null,null,{"$f":"ТС.Т!AF43","v":"GOA"},{"$f":"ТС.Т!AG43","v":0},{"$f":"ТС.Т!AH43","v":0}]
[null,null,null,null,null,null,null,null,null,null,null,null,"4.DSG","Газ сухой отбензиненный","тыс.руб.",null,null,null,null,null,null,null,null,null,null,null,null,null,null,null,null,{"$f":"ТС.Т!AF44","v":"DSG"},{"$f":"ТС.Т!AG44","v":0},{"$f":"ТС.Т!AH44","v":0}]
[null,null,null,null,null,null,null,null,null,null,null,null,"4.GCN","Газовый конденсат","тыс.руб.",null,null,null,null,null,null,null,null,null,null,null,null,null,null,null,null,{"$f":"ТС.Т!AF45","v":"GCN"},{"$f":"ТС.Т!AG45","v":0},{"$f":"ТС.Т!AH45","v":0}]
[null,null,null,null,null,null,null,null,null,null,null,null,"4.LNG","Газ сжиженный","тыс.руб.",null,null,null,null,null,null,null,null,null,null,null,null,null,null,null,null,{"$f":"ТС.Т!AF46","v":"LNG"},{"$f":"ТС.Т!AG46","v":0},{"$f":"ТС.Т!AH46","v":0}]
[null,null,null,null,null,null,null,null,null,null,null,null,"4.DSL","Дизельное топливо","тыс.руб.",null,null,null,null,null,null,null,null,null,null,null,null,null,null,null,null,{"$f":"ТС.Т!AF47","v":"DSL"},{"$f":"ТС.Т!AG47","v":0},{"$f":"ТС.Т!AH47","v":0}]
[null,null,null,null,null,null,null,null,null,null,null,null,"4.DSLA","А (арктическое)","тыс.руб.",null,null,null,null,null,null,null,null,null,null,null,null,null,null,null,null,{"$f":"ТС.Т!AF48","v":"DSLA"},{"$f":"ТС.Т!AG48","v":0},{"$f":"ТС.Т!AH48","v":0}]
[null,null,null,null,null,null,null,null,null,null,null,null,"4.DSLW","З (зимнее)","тыс.руб.",null,null,null,null,null,null,null,null,null,null,null,null,null,null,null,null,{"$f":"ТС.Т!AF49","v":"DSLW"},{"$f":"ТС.Т!AG49","v":0},{"$f":"ТС.Т!AH49","v":0}]
[null,null,null,null,null,null,null,null,null,null,null,null,"4.DSLS","Л (летнее)","тыс.руб.",null,null,null,null,null,null,null,null,null,null,null,null,null,null,null,null,{"$f":"ТС.Т!AF50","v":"DSLS"},{"$f":"ТС.Т!AG50","v":0},{"$f":"ТС.Т!AH50","v":0}]
[null,null,null,null,null,null,null,null,null,null,null,null,"4.DSLO","Е (межсезонное)","тыс.руб.",null,null,null,null,null,null,null,null,null,null,null,null,null,null,null,null,{"$f":"ТС.Т!AF51","v":"DSLO"},{"$f":"ТС.Т!AG51","v":0},{"$f":"ТС.Т!AH51","v":0}]
[null,null,null,null,null,null,null,null,null,null,null,null,"4.MST","Мазут","тыс.руб.",null,null,null,null,null,null,null,null,null,null,null,null,null,null,null,null,{"$f":"ТС.Т!AF52","v":"MST"},{"$f":"ТС.Т!AG52","v":0},{"$f":"ТС.Т!AH52","v":0}]
[null,null,null,null,null,null,null,null,null,null,null,null,"4.MSTM40","М-40","тыс.руб.",null,null,null,null,null,null,null,null,null,null,null,null,null,null,null,null,{"$f":"ТС.Т!AF53","v":"MSTM40"},{"$f":"ТС.Т!AG53","v":0},{"$f":"ТС.Т!AH53","v":0}]
[null,null,null,null,null,null,null,null,null,null,null,null,"4.MSTM100","М-100","тыс.руб.",null,null,null,null,null,null,null,null,null,null,null,null,null,null,null,null,{"$f":"ТС.Т!AF54","v":"MSTM100"},{"$f":"ТС.Т!AG54","v":0},{"$f":"ТС.Т!AH54","v":0}]
[null,null,null,null,null,null,null,null,null,null,null,null,"4.MSTM200","М-200","тыс.руб.",null,null,null,null,null,null,null,null,null,null,null,null,null,null,null,null,{"$f":"ТС.Т!AF55","v":"MSTM200"},{"$f":"ТС.Т!AG55","v":0},{"$f":"ТС.Т!AH55","v":0}]
[null,null,null,null,null,null,null,null,null,null,null,null,"4.MSTT","мазут марки \"Т\"","тыс.руб.",null,null,null,null,null,null,null,null,null,null,null,null,null,null,null,null,{"$f":"ТС.Т!AF56","v":"MSTT"},{"$f":"ТС.Т!AG56","v":0},{"$f":"ТС.Т!AH56","v":0}]
[null,null,null,null,null,null,null,null,null,null,null,null,"4.MSTF5","Ф-5","тыс.руб.",null,null,null,null,null,null,null,null,null,null,null,null,null,null,null,null,{"$f":"ТС.Т!AF57","v":"MSTF5"},{"$f":"ТС.Т!AG57","v":0},{"$f":"ТС.Т!AH57","v":0}]
[null,null,null,null,null,null,null,null,null,null,null,null,"4.MSTF12","Ф-12","тыс.руб.",null,null,null,null,null,null,null,null,null,null,null,null,null,null,null,null,{"$f":"ТС.Т!AF58","v":"MSTF12"},{"$f":"ТС.Т!AG58","v":0},{"$f":"ТС.Т!AH58","v":0}]
[null,null,null,null,null,null,null,null,null,null,null,null,"4.OIL","Нефть","тыс.руб.",null,null,null,null,null,null,null,null,null,null,null,null,null,null,null,null,{"$f":"ТС.Т!AF59","v":"OIL"},{"$f":"ТС.Т!AG59","v":0},{"$f":"ТС.Т!AH59","v":0}]
[null,null,null,null,null,null,null,null,null,null,null,null,"4.COA","Уголь","тыс.руб.",null,null,null,null,null,null,null,null,null,null,null,null,null,null,null,null,{"$f":"ТС.Т!AF60","v":"COA"},{"$f":"ТС.Т!AG60","v":0},{"$f":"ТС.Т!AH60","v":0}]
[null,null,null,null,null,null,null,null,null,null,null,null,"4.COAA","Уголь антрацит","тыс.руб.",null,null,null,null,null,null,null,null,null,null,null,null,null,null,null,null,{"$f":"ТС.Т!AF61","v":"COAA"},{"$f":"ТС.Т!AG61","v":0},{"$f":"ТС.Т!AH61","v":0}]
[null,null,null,null,null,null,null,null,null,null,null,null,"4.COAB","Уголь бурый","тыс.руб.",null,null,null,null,null,null,null,null,null,null,null,null,null,null,null,null,{"$f":"ТС.Т!AF62","v":"COAB"},{"$f":"ТС.Т!AG62","v":0},{"$f":"ТС.Т!AH62","v":0}]
[null,null,null,null,null,null,null,null,null,null,null,null,"4.COAG","Уголь газовый","тыс.руб.",null,null,null,null,null,null,null,null,null,null,null,null,null,null,null,null,{"$f":"ТС.Т!AF63","v":"COAG"},{"$f":"ТС.Т!AG63","v":0},{"$f":"ТС.Т!AH63","v":0}]
[null,null,null,null,null,null,null,null,null,null,null,null,"4.COALF","Уголь длиннопламенный","тыс.руб.",null,null,null,null,null,null,null,null,null,null,null,null,null,null,null,null,{"$f":"ТС.Т!AF64","v":"COALF"},{"$f":"ТС.Т!AG64","v":0},{"$f":"ТС.Т!AH64","v":0}]
[null,null,null,null,null,null,null,null,null,null,null,null,"4.COAF","Уголь жирный","тыс.руб.",null,null,null,null,null,null,null,null,null,null,null,null,null,null,null,null,{"$f":"ТС.Т!AF65","v":"COAF"},{"$f":"ТС.Т!AG65","v":0},{"$f":"ТС.Т!AH65","v":0}]
[null,null,null,null,null,null,null,null,null,null,null,null,"4.COAC","Уголь коксовый","тыс.руб.",null,null,null,null,null,null,null,null,null,null,null,null,null,null,null,null,{"$f":"ТС.Т!AF66","v":"COAC"},{"$f":"ТС.Т!AG66","v":0},{"$f":"ТС.Т!AH66","v":0}]
[null,null,null,null,null,null,null,null,null,null,null,null,"4.COASC","Уголь отощённо-спекающийся","тыс.руб.",null,null,null,null,null,null,null,null,null,null,null,null,null,null,null,null,{"$f":"ТС.Т!AF67","v":"COASC"},{"$f":"ТС.Т!AG67","v":0},{"$f":"ТС.Т!AH67","v":0}]
[null,null,null,null,null,null,null,null,null,null,null,null,"4.COAWC","Уголь слабоспекающийся","тыс.руб.",null,null,null,null,null,null,null,null,null,null,null,null,null,null,null,null,{"$f":"ТС.Т!AF68","v":"COAWC"},{"$f":"ТС.Т!AG68","v":0},{"$f":"ТС.Т!AH68","v":0}]
[null,null,null,null,null,null,null,null,null,null,null,null,"4.COAS","Уголь тощий","тыс.руб.",null,null,null,null,null,null,null,null,null,null,null,null,null,null,null,null,{"$f":"ТС.Т!AF69","v":"COAS"},{"$f":"ТС.Т!AG69","v":0},{"$f":"ТС.Т!AH69","v":0}]
[null,null,null,null,null,null,null,null,null,null,null,null,"4.ENR","Энергия","тыс.руб.",null,null,null,null,null,null,null,null,null,null,null,null,null,null,null,null,{"$f":"ТС.Т!AF70","v":"ENR"},{"$f":"ТС.Т!AG70","v":0},{"$f":"ТС.Т!AH70","v":0}]
[null,null,null,null,null,null,null,null,null,null,null,null,"4.PWR","Заявленная мощность","тыс.руб.",null,null,null,null,null,null,null,null,null,null,null,null,null,null,null,null,{"$f":"ТС.Т!AF71","v":"PWR"},{"$f":"ТС.Т!AG71","v":0},{"$f":"ТС.Т!AH71","v":0}]
[null,null,null,null,null,null,null,null,null,null,null,null,"4.CWD","Уголь древесный","тыс.руб.",null,null,null,null,null,null,null,null,null,null,null,null,null,null,null,null,{"$f":"ТС.Т!AF72","v":"CWD"},{"$f":"ТС.Т!AG72","v":0},{"$f":"ТС.Т!AH72","v":0}]
[null,null,null,null,null,null,null,null,null,null,null,null,"4.WDS","Дрова","тыс.руб.",null,null,null,null,null,null,null,null,null,null,null,null,null,null,null,null,{"$f":"ТС.Т!AF73","v":"WDS"},{"$f":"ТС.Т!AG73","v":0},{"$f":"ТС.Т!AH73","v":0}]
[null,null,null,null,null,null,null,null,null,null,null,null,"4.PLT","Пеллеты","тыс.руб.",null,null,null,null,null,null,null,null,null,null,null,null,null,null,null,null,{"$f":"ТС.Т!AF74","v":"PLT"},{"$f":"ТС.Т!AG74","v":0},{"$f":"ТС.Т!AH74","v":0}]
[null,null,null,null,null,null,null,null,null,null,null,null,"4.SAW","Опилки","тыс.руб.",null,null,null,null,null,null,null,null,null,null,null,null,null,null,null,null,{"$f":"ТС.Т!AF75","v":"SAW"},{"$f":"ТС.Т!AG75","v":0},{"$f":"ТС.Т!AH75","v":0}]
[null,null,null,null,null,null,null,null,null,null,null,null,"4.PEA","Торф","тыс.руб.",null,null,null,null,null,null,null,null,null,null,null,null,null,null,null,null,{"$f":"ТС.Т!AF76","v":"PEA"},{"$f":"ТС.Т!AG76","v":0},{"$f":"ТС.Т!AH76","v":0}]
[null,null,null,null,null,null,null,null,null,null,null,null,"4.SHL","Сланцы","тыс.руб.",null,null,null,null,null,null,null,null,null,null,null,null,null,null,null,null,{"$f":"ТС.Т!AF77","v":"SHL"},{"$f":"ТС.Т!AG77","v":0},{"$f":"ТС.Т!AH77","v":0}]
[null,null,null,null,null,null,null,null,null,null,null,null,"4.STF","Печное бытовое топливо","тыс.руб.",null,null,null,null,null,null,null,null,null,null,null,null,null,null,null,null,{"$f":"ТС.Т!AF78","v":"STF"},{"$f":"ТС.Т!AG78","v":0},{"$f":"ТС.Т!AH78","v":0}]
[null,null,null,null,null,null,null,null,null,null,null,null,"4.OTH","Прочие виды топлива","тыс.руб.",null,null,null,null,null,null,null,null,null,null,null,null,null,null,null,null,{"$f":"ТС.Т!AF79","v":"OTH"},{"$f":"ТС.Т!AG79","v":0},{"$f":"ТС.Т!AH79","v":0}]
[]
[]
[]
[]
[]
[]
[]
[]
[]
[]
[null,null,null,null,null,null,null,null,null,null,null,null,"5","Энергия, в том числе ","тыс.руб.",null,null,null,null,null,null,null,null,null,null,null,null,null,null,null,null,{"$f":"SUM(AF91,AF154)","v":0},{"$f":"SUM(AG91,AG154)","v":0},{"$f":"SUM(AH91,AH154)","v":0}]
[null,null,null,null,null,null,null,null,null,null,null,null,"5.1","энергия (покупная энергия) на технологические цели ","тыс.руб.",null,null,null,null,null,null,null,null,null,null,null,null,null,null,null,null,{"$f":"SUM(AF92,AF126,AF127)","v":0},{"$f":"SUM(AG92,AG126,AG127)","v":0},{"$f":"SUM(AH92,AH126,AH127)","v":0}]
[null,null,null,null,null,null,null,null,null,null,null,null,"5.1.1","затраты на покупную тепловую энергию ","тыс.руб.",null,null,null,null,null,null,null,null,null,null,null,null,null,null,null,null,{"$f":"SUM(AF93,AF109)","v":0},{"$f":"SUM(AG93,AG109)","v":0},{"$f":"SUM(AH93,AH109)","v":0}]
[null,null,null,null,null,null,null,null,null,null,null,null,{"$f":"M92 & \".1\"","v":"5.1.1.1"},"С коллекторов, всего","тыс.руб.",null,null,null,null,null,null,null,null,null,null,null,null,null,null,null,null,{"$f":"SUM(AF94,AF98,AF102)","v":0},{"$f":"SUM(AG94,AG98,AG102)","v":0},{"$f":"SUM(AH94,AH98,AH102)","v":0}]
[null,null,null,null,null,null,null,null,null,null,null,null,{"$f":"M92 & \".1.1\"","v":"5.1.1.1.1"},"от станций с мощностью производства >= 25 МВт","тыс.руб.",null,null,null,null,null,null,null,null,null,null,null,null,null,null,null,null,{"$f":"AG94+AH94","v":0}]
[null,null,null,null,null,null,null,null,null,null,null,null,{"$f":"M92 & \".1.1.0.1\"","v":"5.1.1.1.1.0.1"},"объём ТЭ","тыс. Гкал",null,null,null,null,null,null,null,null,null,null,null,null,null,null,null,null,{"$f":"AG95+AH95","v":0}]
[null,null,null,null,null,null,null,null,null,null,null,null,{"$f":"M92 & \".1.1.0.2\"","v":"5.1.1.1.1.0.2"},"цена ТЭ","руб./Гкал",null,null,null,null,null,null,null,null,null,null,null,null,null,null,null,null,{"$f":"IF(AF95=0,0,AF94/AF95)","v":0},{"$f":"IF(AG95=0,0,AG94/AG95)","v":0},{"$f":"IF(AH95=0,0,AH94/AH95)","v":0}]
[]
[null,null,null,null,null,null,null,null,null,null,null,null,{"$f":"M92 & \".1.2\"","v":"5.1.1.1.2"},"от станций с мощностью производства < 25 МВт","тыс.руб.",null,null,null,null,null,null,null,null,null,null,null,null,null,null,null,null,{"$f":"AG98+AH98","v":0}]
[null,null,null,null,null,null,null,null,null,null,null,null,{"$f":"M92 & \".1.2.0.1\"","v":"5.1.1.1.2.0.1"},"объём ТЭ","тыс. Гкал",null,null,null,null,null,null,null,null,null,null,null,null,null,null,null,null,{"$f":"AG99+AH99","v":0}]
[null,null,null,null,null,null,null,null,null,null,null,null,{"$f":"M92 & \".1.2.0.2\"","v":"5.1.1.1.2.0.2"},"цена ТЭ","руб./Гкал",null,null,null,null,null,null,null,null,null,null,null,null,null,null,null,null,{"$f":"IF(AF99=0,0,AF98/AF99)","v":0},{"$f":"IF(AG99=0,0,AG98/AG99)","v":0},{"$f":"IF(AH99=0,0,AH98/AH99)","v":0}]
[]
[null,null,null,null,null,null,null,null,null,null,null,null,{"$f":"M92 & \".1.3\"","v":"5.1.1.1.3"},"от котельных","тыс.руб.",null,null,null,null,null,null,null,null,null,null,null,null,null,null,null,null,{"$f":"AG102+AH102","v":0}]
[null,null,null,null,null,null,null,null,null,null,null,null,{"$f":"M92 & \".1.3.0.1\"","v":"5.1.1.1.3.0.1"},"объём ТЭ","тыс. Гкал",null,null,null,null,null,null,null,null,null,null,null,null,null,null,null,null,{"$f":"AG103+AH103","v":0}]
[null,null,null,null,null,null,null,null,null,null,null,null,{"$f":"M92 & \".1.3.0.2\"","v":"5.1.1.1.3.0.2"},"цена ТЭ","руб./Гкал",null,null,null,null,null,null,null,null,null,null,null,null,null,null,null,null,{"$f":"IF(AF103=0,0,AF102/AF103)","v":0},{"$f":"IF(AG103=0,0,AG102/AG103)","v":0},{"$f":"IF(AH103=0,0,AH102/AH103)","v":0}]
[null,null,null,null,null,null,null,null,null,null,null,null,{"$f":"M92 & \".2\"","v":"5.1.1.2"},"в том числе покупка потерь с коллекторов","тыс.руб.",null,null,null,null,null,null,null,null,null,null,null,null,null,null,null,null,{"$f":"SUM(AF106:AF108)","v":0},{"$f":"SUM(AG106:AG108)","v":0},{"$f":"SUM(AH106:AH108)","v":0}]
[null,null,null,null,null,null,null,null,null,null,null,null,{"$f":"M92 & \".2.1\"","v":"5.1.1.2.1"},"от станций с мощностью производства >= 25 МВт","тыс.руб.",null,null,null,null,null,null,null,null,null,null,null,null,null,null,null,null,{"$f":"AG106+AH106","v":0}]
[null,null,null,null,null,null,null,null,null,null,null,null,{"$f":"M92 & \".2.2\"","v":"5.1.1.2.2"},"от станций с мощностью производства < 25 МВт","тыс.руб.",null,null,null,null,null,null,null,null,null,null,null,null,null,null,null,null,{"$f":"AG107+AH107","v":0}]
[null,null,null,null,null,null,null,null,null,null,null,null,{"$f":"M92 & \".2.3\"","v":"5.1.1.2.3"},"от котельных","тыс.руб."]
[null,null,null,null,null,null,null,null,null,null,null,null,{"$f":"M92 & \".3\"","v":"5.1.1.3"},"Из тепловой сети, всего","тыс.руб.",null,null,null,null,null,null,null,null,null,null,null,null,null,null,null,null,{"$f":"SUM(AF110,AF114,AF118)","v":0},{"$f":"SUM(AG110,AG114,AG118)","v":0},{"$f":"SUM(AH110,AH114,AH118)","v":0}]
[null,null,null,null,null,null,null,null,null,null,null,null,{"$f":"M92 & \".3.1\"","v":"5.1.1.3.1"},"от станций с мощностью производства >= 25 МВт","тыс.руб.",null,null,null,null,null,null,null,null,null,null,null,null,null,null,null,null,{"$f":"AG110+AH110","v":0}]
[null,null,null,null,null,null,null,null,null,null,null,null,{"$f":"M92 & \".3.1.0.1\"","v":"5.1.1.3.1.0.1"},"объём ТЭ","тыс. Гкал",null,null,null,null,null,null,null,null,null,null,null,null,null,null,null,null,{"$f":"AG111+AH111","v":0}]
[null,null,null,null,null,null,null,null,null,null,null,null,{"$f":"M92 & \".3.1.0.2\"","v":"5.1.1.3.1.0.2"},"цена ТЭ","руб./Гкал",null,null,null,null,null,null,null,null,null,null,null,null,null,null,null,null,{"$f":"IF(AF111=0,0,AF110/AF111)","v":0},{"$f":"IF(AG111=0,0,AG110/AG111)","v":0},{"$f":"IF(AH111=0,0,AH110/AH111)","v":0}]
[]
[null,null,null,null,null,null,null,null,null,null,null,null,{"$f":"M92 & \".3.2\"","v":"5.1.1.3.2"},"от станций с мощностью производства < 25 МВт","тыс.руб.",null,null,null,null,null,null,null,null,null,null,null,null,null,null,null,null,{"$f":"AG114+AH114","v":0}]
[null,null,null,null,null,null,null,null,null,null,null,null,{"$f":"M92 & \".3.2.0.1\"","v":"5.1.1.3.2.0.1"},"объём ТЭ","тыс. Гкал",null,null,null,null,null,null,null,null,null,null,null,null,null,null,null,null,{"$f":"AG115+AH115","v":0}]
[null,null,null,null,null,null,null,null,null,null,null,null,{"$f":"M92 & \".3.2.0.2\"","v":"5.1.1.3.2.0.2"},"цена ТЭ","руб./Гкал",null,null,null,null,null,null,null,null,null,null,null,null,null,null,null,null,{"$f":"IF(AF115=0,0,AF114/AF115)","v":0},{"$f":"IF(AG115=0,0,AG114/AG115)","v":0},{"$f":"IF(AH115=0,0,AH114/AH115)","v":0}]
[]
[null,null,null,null,null,null,null,null,null,null,null,null,{"$f":"M92 & \".3.3\"","v":"5.1.1.3.3"},"от котельных (некомбинированная выработка)","тыс.руб.",null,null,null,null,null,null,null,null,null,null,null,null,null,null,null,null,{"$f":"AG118+AH118","v":0}]
[null,null,null,null,null,null,null,null,null,null,null,null,{"$f":"M92 & \".3.3.0.1\"","v":"5.1.1.3.3.0.1"},"объём ТЭ","тыс. Гкал",null,null,null,null,null,null,null,null,null,null,null,null,null,null,null,null,{"$f":"AG119+AH119","v":0}]
[null,null,null,null,null,null,null,null,null,null,null,null,{"$f":"M92 & \".3.3.0.2\"","v":"5.1.1.3.3.0.2"},"цена ТЭ","руб./Гкал",null,null,null,null,null,null,null,null,null,null,null,null,null,null,null,null,{"$f":"IF(AF119=0,0,AF118/AF119)","v":0},{"$f":"IF(AG119=0,0,AG118/AG119)","v":0},{"$f":"IF(AH119=0,0,AH118/AH119)","v":0}]
[]
[null,null,null,null,null,null,null,null,null,null,null,null,{"$f":"M92 & \".4\"","v":"5.1.1.4"},"в том числе покупка потерь из тепловой сети","тыс.руб.",null,null,null,null,null,null,null,null,null,null,null,null,null,null,null,null,{"$f":"SUM(AF123:AF125)","v":0},{"$f":"SUM(AG123:AG125)","v":0},{"$f":"SUM(AH123:AH125)","v":0}]
[null,null,null,null,null,null,null,null,null,null,null,null,{"$f":"M92 & \".4.1\"","v":"5.1.1.4.1"},"от станций с мощностью производства >= 25 МВт","тыс.руб.",null,null,null,null,null,null,null,null,null,null,null,null,null,null,null,null,{"$f":"AG123+AH123","v":0}]
[null,null,null,null,null,null,null,null,null,null,null,null,{"$f":"M92 & \".4.2\"","v":"5.1.1.4.2"},"от станций с мощностью производства < 25 МВт","тыс.руб.",null,null,null,null,null,null,null,null,null,null,null,null,null,null,null,null,0]
[null,null,null,null,null,null,null,null,null,null,null,null,{"$f":"M92 & \".4.3\"","v":"5.1.1.4.3"},"от котельных (некомбинированная выработка)","тыс.руб.",null,null,null,null,null,null,null,null,null,null,null,null,null,null,null,null,0]
[null,null,null,null,null,null,null,null,null,null,null,null,"5.1.2","затраты на оплату услуг по передаче тепловой энергии","тыс.руб.",null,null,null,null,null,null,null,null,null,null,null,null,null,null,null,null,0]
[null,null,null,null,null,null,null,null,null,null,null,null,"5.1.3","затраты на покупную электрическую энергию, по уровням напряжения:","тыс.руб.",null,null,null,null,null,null,null,null,null,null,null,null,null,null,null,null,0,{"$f":"SUM(AG130,AG133,AG136,AG139,AG142,AG145,AG148,AG151)","v":0},{"$f":"SUM(AH130,AH133,AH136,AH139,AH142,AH145,AH148,AH151)","v":0}]
[null,null,null,null,null,null,null,null,null,null,null,null,"5.1.3.0.1","объём энергии","тыс.кВт*ч",null,null,null,null,null,null,null,null,null,null,null,null,null,null,null,null,0,{"$f":"AG132+AG138+AG144+AG150","v":0},{"$f":"AH132+AH138+AH144+AH150","v":0}]
[null,null,null,null,null,null,null,null,null,null,null,null,"5.1.3.0.2","объём заявленной мощности","МВт",null,null,null,null,null,null,null,null,null,null,null,null,null,null,null,null,0,{"$f":"AG135+AG141+AG147+AG153","v":0},{"$f":"AH135+AH141+AH147+AH153","v":0}]
[null,null,null,null,null,null,null,null,null,null,null,null,"5.1.3.1.1","энергия НН (0,4 кВ и ниже)","тыс.руб.",null,null,null,null,null,null,null,null,null,null,null,null,null,null,null,null,0,{"$f":"AG131*AG132","v":0},{"$f":"AH131*AH132","v":0}]
[null,null,null,null,null,null,null,null,null,null,null,null,"5.1.3.1.1.1","тариф на энергию","руб./кВт*ч",null,null,null,null,null,null,null,null,null,null,null,null,null,null,null,null,{"$f":"IF(AF132=0,0,AF130/AF132)","v":0}]
[null,null,null,null,null,null,null,null,null,null,null,null,"5.1.3.1.1.2","объём энергии","тыс.кВт*ч",null,null,null,null,null,null,null,null,null,null,null,null,null,null,null,null,{"$f":"AG132+AH132","v":0}]
[null,null,null,null,null,null,null,null,null,null,null,null,"5.1.3.1.2","заявленная мощность по НН (0,4 кВ и ниже)","тыс.руб.",null,null,null,null,null,null,null,null,null,null,null,null,null,null,null,null,{"$f":"AG133+AH133","v":0},{"$f":"AG134*AG135","v":0},{"$f":"AH134*AH135","v":0}]
[null,null,null,null,null,null,null,null,null,null,null,null,"5.1.3.1.2.1","тариф на заявленную мощность","руб./кВт*мес",null,null,null,null,null,null,null,null,null,null,null,null,null,null,null,null,{"$f":"IF(AF135=0,0,AF133/AF135)","v":0}]
[null,null,null,null,null,null,null,null,null,null,null,null,"5.1.3.1.2.2","годовой объём мощности","МВт",null,null,null,null,null,null,null,null,null,null,null,null,null,null,null,null,{"$f":"AG135+AH135","v":0}]
[null,null,null,null,null,null,null,null,null,null,null,null,"5.1.3.2.1","энергия СН 2 (1-20 кВ)","тыс.руб.",null,null,null,null,null,null,null,null,null,null,null,null,null,null,null,null,{"$f":"AG136+AH136","v":0},{"$f":"AG137*AG138","v":0},{"$f":"AH137*AH138","v":0}]
[null,null,null,null,null,null,null,null,null,null,null,null,"5.1.3.2.1.1","тариф на энергию","руб./кВт*ч",null,null,null,null,null,null,null,null,null,null,null,null,null,null,null,null,{"$f":"IF(AF138=0,0,AF136/AF138)","v":0}]
[null,null,null,null,null,null,null,null,null,null,null,null,"5.1.3.2.1.2","объём энергии","тыс.кВт*ч",null,null,null,null,null,null,null,null,null,null,null,null,null,null,null,null,{"$f":"AG138+AH138","v":0}]
[null,null,null,null,null,null,null,null,null,null,null,null,"5.1.3.2.2","заявленная мощность по СН 2 (1-20 кВ)","тыс.руб.",null,null,null,null,null,null,null,null,null,null,null,null,null,null,null,null,{"$f":"AG139+AH139","v":0},{"$f":"AG140*AG141","v":0},{"$f":"AH140*AH141","v":0}]
[null,null,null,null,null,null,null,null,null,null,null,null,"5.1.3.2.2.1","тариф на заявленную мощность","руб./кВт*мес",null,null,null,null,null,null,null,null,null,null,null,null,null,null,null,null,{"$f":"IF(AF141=0,0,AF139/AF141)","v":0}]
[null,null,null,null,null,null,null,null,null,null,null,null,"5.1.3.2.2.2","годовой объём мощности","МВт",null,null,null,null,null,null,null,null,null,null,null,null,null,null,null,null,{"$f":"AG141+AH141","v":0}]
[null,null,null,null,null,null,null,null,null,null,null,null,"5.1.3.3.1","энергия СН 1 (35 кВ)","тыс.руб.",null,null,null,null,null,null,null,null,null,null,null,null,null,null,null,null,{"$f":"AG142+AH142","v":0},{"$f":"AG143*AG144","v":0},{"$f":"AH143*AH144","v":0}]
[null,null,null,null,null,null,null,null,null,null,null,null,"5.1.3.3.1.1","тариф на энергию","руб./кВт*ч",null,null,null,null,null,null,null,null,null,null,null,null,null,null,null,null,{"$f":"IF(AF144=0,0,AF142/AF144)","v":0}]
[null,null,null,null,null,null,null,null,null,null,null,null,"5.1.3.3.1.2","объём энергии","тыс.кВт*ч",null,null,null,null,null,null,null,null,null,null,null,null,null,null,null,null,{"$f":"AG144+AH144","v":0}]
[null,null,null,null,null,null,null,null,null,null,null,null,"5.1.3.3.2","заявленная мощность по СН 1 (35 кВ)","тыс.руб.",null,null,null,null,null,null,null,null,null,null,null,null,null,null,null,null,{"$f":"AG145+AH145","v":0},{"$f":"AG146*AG147","v":0},{"$f":"AH146*AH147","v":0}]
[null,null,null,null,null,null,null,null,null,null,null,null,"5.1.3.3.2.1","тариф на заявленную мощность","руб./кВт*мес",null,null,null,null,null,null,null,null,null,null,null,null,null,null,null,null,{"$f":"IF(AF147=0,0,AF145/AF147)","v":0}]
[null,null,null,null,null,null,null,null,null,null,null,null,"5.1.3.3.2.2","годовой объём мощности","МВт",null,null,null,null,null,null,null,null,null,null,null,null,null,null,null,null,{"$f":"AG147+AH147","v":0}]
[null,null,null,null,null,null,null,null,null,null,null,null,"5.1.3.4.1","энергия ВН (110 кВ и выше)","тыс.руб.",null,null,null,null,null,null,null,null,null,null,null,null,null,null,null,null,{"$f":"AG148+AH148","v":0},{"$f":"AG149*AG150","v":0},{"$f":"AH149*AH150","v":0}]
[null,null,null,null,null,null,null,null,null,null,null,null,"5.1.3.4.1.1","тариф на энергию","руб./кВт*ч",null,null,null,null,null,null,null,null,null,null,null,null,null,null,null,null,{"$f":"IF(AF150=0,0,AF148/AF150)","v":0}]
[null,null,null,null,null,null,null,null,null,null,null,null,"5.1.3.4.1.2","объём энергии","тыс.кВт*ч",null,null,null,null,null,null,null,null,null,null,null,null,null,null,null,null,{"$f":"AG150+AH150","v":0}]
[null,null,null,null,null,null,null,null,null,null,null,null,"5.1.3.4.2","заявленная мощность по ВН (110 кВ и выше)","тыс.руб.",null,null,null,null,null,null,null,null,null,null,null,null,null,null,null,null,{"$f":"AG151+AH151","v":0},{"$f":"AG152*AG153","v":0},{"$f":"AH152*AH153","v":0}]
[null,null,null,null,null,null,null,null,null,null,null,null,"5.1.3.4.2.1","тариф на заявленную мощность","руб./кВт*мес",null,null,null,null,null,null,null,null,null,null,null,null,null,null,null,null,{"$f":"IF(AF153=0,0,AF151/AF153)","v":0}]
[null,null,null,null,null,null,null,null,null,null,null,null,"5.1.3.4.2.2","годовой объём мощности","МВт",null,null,null,null,null,null,null,null,null,null,null,null,null,null,null,null,{"$f":"AG153+AH153","v":0}]
[null,null,null,null,null,null,null,null,null,null,null,null,"5.2","энергия на хозяйственные нужды ","тыс.руб.",null,null,null,null,null,null,null,null,null,null,null,null,null,null,null,null,{"$f":"SUM(AF155,AF189)","v":0},{"$f":"SUM(AG155,AG189)","v":0},{"$f":"SUM(AH155,AH189)","v":0}]
[null,null,null,null,null,null,null,null,null,null,null,null,"5.2.1","тепловая энергия ","тыс.руб.",null,null,null,null,null,null,null,null,null,null,null,null,null,null,null,null,{"$f":"SUM(AF156,AF172)","v":0},{"$f":"SUM(AG156,AG172)","v":0},{"$f":"SUM(AH156,AH172)","v":0}]
[null,null,null,null,null,null,null,null,null,null,null,null,{"$f":"M155 & \".1\"","v":"5.2.1.1"},"С коллекторов, всего","тыс.руб.",null,null,null,null,null,null,null,null,null,null,null,null,null,null,null,null,{"$f":"SUM(AF157,AF161,AF165)","v":0},{"$f":"SUM(AG157,AG161,AG165)","v":0},{"$f":"SUM(AH157,AH161,AH165)","v":0}]
[null,null,null,null,null,null,null,null,null,null,null,null,{"$f":"M155 & \".1.1\"","v":"5.2.1.1.1"},"от станций с мощностью производства >= 25 МВт","тыс.руб.",null,null,null,null,null,null,null,null,null,null,null,null,null,null,null,null,{"$f":"AG157+AH157","v":0}]
[null,null,null,null,null,null,null,null,null,null,null,null,{"$f":"M155 & \".1.1.0.1\"","v":"5.2.1.1.1.0.1"},"объём ТЭ","тыс. Гкал",null,null,null,null,null,null,null,null,null,null,null,null,null,null,null,null,{"$f":"AG158+AH158","v":0}]
[null,null,null,null,null,null,null,null,null,null,null,null,{"$f":"M155 & \".1.1.0.2\"","v":"5.2.1.1.1.0.2"},"цена ТЭ","руб./Гкал",null,null,null,null,null,null,null,null,null,null,null,null,null,null,null,null,{"$f":"IF(AF158=0,0,AF157/AF158)","v":0},{"$f":"IF(AG158=0,0,AG157/AG158)","v":0},{"$f":"IF(AH158=0,0,AH157/AH158)","v":0}]
[]
[null,null,null,null,null,null,null,null,null,null,null,null,{"$f":"M155 & \".1.2\"","v":"5.2.1.1.2"},"от станций с мощностью производства < 25 МВт","тыс.руб.",null,null,null,null,null,null,null,null,null,null,null,null,null,null,null,null,{"$f":"AG161+AH161","v":0}]
[null,null,null,null,null,null,null,null,null,null,null,null,{"$f":"M155 & \".1.2.0.1\"","v":"5.2.1.1.2.0.1"},"объём ТЭ","тыс. Гкал",null,null,null,null,null,null,null,null,null,null,null,null,null,null,null,null,{"$f":"AG162+AH162","v":0}]
[null,null,null,null,null,null,null,null,null,null,null,null,{"$f":"M155 & \".1.2.0.2\"","v":"5.2.1.1.2.0.2"},"цена ТЭ","руб./Гкал",null,null,null,null,null,null,null,null,null,null,null,null,null,null,null,null,{"$f":"IF(AF162=0,0,AF161/AF162)","v":0},{"$f":"IF(AG162=0,0,AG161/AG162)","v":0},{"$f":"IF(AH162=0,0,AH161/AH162)","v":0}]
[]
[null,null,null,null,null,null,null,null,null,null,null,null,{"$f":"M155 & \".1.3\"","v":"5.2.1.1.3"},"от котельных","тыс.руб.",null,null,null,null,null,null,null,null,null,null,null,null,null,null,null,null,{"$f":"AG165+AH165","v":0}]
[null,null,null,null,null,null,null,null,null,null,null,null,{"$f":"M155 & \".1.3.0.1\"","v":"5.2.1.1.3.0.1"},"объём ТЭ","тыс. Гкал",null,null,null,null,null,null,null,null,null,null,null,null,null,null,null,null,{"$f":"AG166+AH166","v":0}]
[null,null,null,null,null,null,null,null,null,null,null,null,{"$f":"M155 & \".1.3.0.2\"","v":"5.2.1.1.3.0.2"},"цена ТЭ","руб./Гкал",null,null,null,null,null,null,null,null,null,null,null,null,null,null,null,null,{"$f":"IF(AF166=0,0,AF165/AF166)","v":0},{"$f":"IF(AG166=0,0,AG165/AG166)","v":0},{"$f":"IF(AH166=0,0,AH165/AH166)","v":0}]
[null,null,null,null,null,null,null,null,null,null,null,null,{"$f":"M155 & \".2\"","v":"5.2.1.2"},"в том числе покупка потерь с коллекторов","тыс.руб.",null,null,null,null,null,null,null,null,null,null,null,null,null,null,null,null,{"$f":"SUM(AF169:AF171)","v":0},{"$f":"SUM(AG169:AG171)","v":0},{"$f":"SUM(AH169:AH171)","v":0}]
[null,null,null,null,null,null,null,null,null,null,null,null,{"$f":"M155 & \".2.1\"","v":"5.2.1.2.1"},"от станций с мощностью производства >= 25 МВт","тыс.руб.",null,null,null,null,null,null,null,null,null,null,null,null,null,null,null,null,{"$f":"AG169+AH169","v":0}]
[null,null,null,null,null,null,null,null,null,null,null,null,{"$f":"M155 & \".2.2\"","v":"5.2.1.2.2"},"от станций с мощностью производства < 25 МВт","тыс.руб.",null,null,null,null,null,null,null,null,null,null,null,null,null,null,null,null,{"$f":"AG170+AH170","v":0}]
[null,null,null,null,null,null,null,null,null,null,null,null,{"$f":"M155 & \".2.3\"","v":"5.2.1.2.3"},"от котельных","тыс.руб."]
[null,null,null,null,null,null,null,null,null,null,null,null,{"$f":"M155 & \".3\"","v":"5.2.1.3"},"Из тепловой сети, всего","тыс.руб.",null,null,null,null,null,null,null,null,null,null,null,null,null,null,null,null,{"$f":"SUM(AF173,AF177,AF181)","v":0},{"$f":"SUM(AG173,AG177,AG181)","v":0},{"$f":"SUM(AH173,AH177,AH181)","v":0}]
[null,null,null,null,null,null,null,null,null,null,null,null,{"$f":"M155 & \".3.1\"","v":"5.2.1.3.1"},"от станций с мощностью производства >= 25 МВт","тыс.руб.",null,null,null,null,null,null,null,null,null,null,null,null,null,null,null,null,{"$f":"AG173+AH173","v":0}]
[null,null,null,null,null,null,null,null,null,null,null,null,{"$f":"M155 & \".3.1.0.1\"","v":"5.2.1.3.1.0.1"},"объём ТЭ","тыс. Гкал",null,null,null,null,null,null,null,null,null,null,null,null,null,null,null,null,{"$f":"AG174+AH174","v":0}]
[null,null,null,null,null,null,null,null,null,null,null,null,{"$f":"M155 & \".3.1.0.2\"","v":"5.2.1.3.1.0.2"},"цена ТЭ","руб./Гкал",null,null,null,null,null,null,null,null,null,null,null,null,null,null,null,null,{"$f":"IF(AF174=0,0,AF173/AF174)","v":0},{"$f":"IF(AG174=0,0,AG173/AG174)","v":0},{"$f":"IF(AH174=0,0,AH173/AH174)","v":0}]
[]
[null,null,null,null,null,null,null,null,null,null,null,null,{"$f":"M155 & \".3.2\"","v":"5.2.1.3.2"},"от станций с мощностью производства < 25 МВт","тыс.руб.",null,null,null,null,null,null,null,null,null,null,null,null,null,null,null,null,{"$f":"AG177+AH177","v":0}]
[null,null,null,null,null,null,null,null,null,null,null,null,{"$f":"M155 & \".3.2.0.1\"","v":"5.2.1.3.2.0.1"},"объём ТЭ","тыс. Гкал",null,null,null,null,null,null,null,null,null,null,null,null,null,null,null,null,{"$f":"AG178+AH178","v":0}]
[null,null,null,null,null,null,null,null,null,null,null,null,{"$f":"M155 & \".3.2.0.2\"","v":"5.2.1.3.2.0.2"},"цена ТЭ","руб./Гкал",null,null,null,null,null,null,null,null,null,null,null,null,null,null,null,null,{"$f":"IF(AF178=0,0,AF177/AF178)","v":0},{"$f":"IF(AG178=0,0,AG177/AG178)","v":0},{"$f":"IF(AH178=0,0,AH177/AH178)","v":0}]
[]
[null,null,null,null,null,null,null,null,null,null,null,null,{"$f":"M155 & \".3.3\"","v":"5.2.1.3.3"},"от котельных (некомбинированная выработка)","тыс.руб.",null,null,null,null,null,null,null,null,null,null,null,null,null,null,null,null,{"$f":"AG181+AH181","v":0}]
[null,null,null,null,null,null,null,null,null,null,null,null,{"$f":"M155 & \".3.3.0.1\"","v":"5.2.1.3.3.0.1"},"объём ТЭ","тыс. Гкал",null,null,null,null,null,null,null,null,null,null,null,null,null,null,null,null,{"$f":"AG182+AH182","v":0}]
[null,null,null,null,null,null,null,null,null,null,null,null,{"$f":"M155 & \".3.3.0.2\"","v":"5.2.1.3.3.0.2"},"цена ТЭ","руб./Гкал",null,null,null,null,null,null,null,null,null,null,null,null,null,null,null,null,{"$f":"IF(AF182=0,0,AF181/AF182)","v":0},{"$f":"IF(AG182=0,0,AG181/AG182)","v":0},{"$f":"IF(AH182=0,0,AH181/AH182)","v":0}]
[]
[null,null,null,null,null,null,null,null,null,null,null,null,{"$f":"M155 & \".4\"","v":"5.2.1.4"},"в том числе покупка потерь из тепловой сети","тыс.руб.",null,null,null,null,null,null,null,null,null,null,null,null,null,null,null,null,{"$f":"SUM(AF186:AF188)","v":0},{"$f":"SUM(AG186:AG188)","v":0},{"$f":"SUM(AH186:AH188)","v":0}]
[null,null,null,null,null,null,null,null,null,null,null,null,{"$f":"M155 & \".4.1\"","v":"5.2.1.4.1"},"от станций с мощностью производства >= 25 МВт","тыс.руб.",null,null,null,null,null,null,null,null,null,null,null,null,null,null,null,null,{"$f":"AG186+AH186","v":0}]
[null,null,null,null,null,null,null,null,null,null,null,null,{"$f":"M155 & \".4.2\"","v":"5.2.1.4.2"},"от станций с мощностью производства < 25 МВт","тыс.руб.",null,null,null,null,null,null,null,null,null,null,null,null,null,null,null,null,0]
[null,null,null,null,null,null,null,null,null,null,null,null,{"$f":"M155 & \".4.3\"","v":"5.2.1.4.3"},"от котельных (некомбинированная выработка)","тыс.руб.",null,null,null,null,null,null,null,null,null,null,null,null,null,null,null,null,0]
[null,null,null,null,null,null,null,null,null,null,null,null,"5.2.2","электрическая энергия ","тыс.руб.",null,null,null,null,null,null,null,null,null,null,null,null,null,null,null,null,0,{"$f":"SUM(AG192,AG195,AG198,AG201,AG204,AG207,AG210,AG213)","v":0},{"$f":"SUM(AH192,AH195,AH198,AH201,AH204,AH207,AH210,AH213)","v":0}]
[null,null,null,null,null,null,null,null,null,null,null,null,"5.2.2.0.1","объём энергии","тыс.кВт*ч",null,null,null,null,null,null,null,null,null,null,null,null,null,null,null,null,0,{"$f":"AG194+AG200+AG206+AG212","v":0},{"$f":"AH194+AH200+AH206+AH212","v":0}]
[null,null,null,null,null,null,null,null,null,null,null,null,"5.2.2.0.2","объём заявленной мощности","МВт",null,null,null,null,null,null,null,null,null,null,null,null,null,null,null,null,0,{"$f":"AG197+AG203+AG209+AG215","v":0},{"$f":"AH197+AH203+AH209+AH215","v":0}]
[null,null,null,null,null,null,null,null,null,null,null,null,"5.2.2.1.1","энергия НН (0,4 кВ и ниже)","тыс.руб.",null,null,null,null,null,null,null,null,null,null,null,null,null,null,null,null,0,{"$f":"AG193*AG194","v":0},{"$f":"AH193*AH194","v":0}]
[null,null,null,null,null,null,null,null,null,null,null,null,"5.2.2.1.1.1","тариф на энергию","руб./кВт*ч",null,null,null,null,null,null,null,null,null,null,null,null,null,null,null,null,{"$f":"IF(AF194=0,0,AF192/AF194)","v":0}]
[null,null,null,null,null,null,null,null,null,null,null,null,"5.2.2.1.1.2","объём энергии","тыс.кВт*ч",null,null,null,null,null,null,null,null,null,null,null,null,null,null,null,null,{"$f":"AG194+AH194","v":0}]
[null,null,null,null,null,null,null,null,null,null,null,null,"5.2.2.1.2","заявленная мощность по НН (0,4 кВ и ниже)","тыс.руб.",null,null,null,null,null,null,null,null,null,null,null,null,null,null,null,null,{"$f":"AG195+AH195","v":0},{"$f":"AG196*AG197","v":0},{"$f":"AH196*AH197","v":0}]
[null,null,null,null,null,null,null,null,null,null,null,null,"5.2.2.1.2.1","тариф на заявленную мощность","руб./кВт*мес",null,null,null,null,null,null,null,null,null,null,null,null,null,null,null,null,{"$f":"IF(AF197=0,0,AF195/AF197)","v":0}]
[null,null,null,null,null,null,null,null,null,null,null,null,"5.2.2.1.2.2","годовой объём мощности","МВт",null,null,null,null,null,null,null,null,null,null,null,null,null,null,null,null,{"$f":"AG197+AH197","v":0}]
[null,null,null,null,null,null,null,null,null,null,null,null,"5.2.2.2.1","энергия СН 2 (1-20 кВ)","тыс.руб.",null,null,null,null,null,null,null,null,null,null,null,null,null,null,null,null,{"$f":"AG198+AH198","v":0},{"$f":"AG199*AG200","v":0},{"$f":"AH199*AH200","v":0}]
[null,null,null,null,null,null,null,null,null,null,null,null,"5.2.2.2.1.1","тариф на энергию","руб./кВт*ч",null,null,null,null,null,null,null,null,null,null,null,null,null,null,null,null,{"$f":"IF(AF200=0,0,AF198/AF200)","v":0}]
[null,null,null,null,null,null,null,null,null,null,null,null,"5.2.2.2.1.2","объём энергии","тыс.кВт*ч",null,null,null,null,null,null,null,null,null,null,null,null,null,null,null,null,{"$f":"AG200+AH200","v":0}]
[null,null,null,null,null,null,null,null,null,null,null,null,"5.2.2.2.2","заявленная мощность по СН 2 (1-20 кВ)","тыс.руб.",null,null,null,null,null,null,null,null,null,null,null,null,null,null,null,null,{"$f":"AG201+AH201","v":0},{"$f":"AG202*AG203","v":0},{"$f":"AH202*AH203","v":0}]
[null,null,null,null,null,null,null,null,null,null,null,null,"5.2.2.2.2.1","тариф на заявленную мощность","руб./кВт*мес",null,null,null,null,null,null,null,null,null,null,null,null,null,null,null,null,{"$f":"IF(AF203=0,0,AF201/AF203)","v":0}]
[null,null,null,null,null,null,null,null,null,null,null,null,"5.2.2.2.2.2","годовой объём мощности","МВт",null,null,null,null,null,null,null,null,null,null,null,null,null,null,null,null,{"$f":"AG203+AH203","v":0}]
[null,null,null,null,null,null,null,null,null,null,null,null,"5.2.2.3.1","энергия СН 1 (35 кВ)","тыс.руб.",null,null,null,null,null,null,null,null,null,null,null,null,null,null,null,null,{"$f":"AG204+AH204","v":0},{"$f":"AG205*AG206","v":0},{"$f":"AH205*AH206","v":0}]
[null,null,null,null,null,null,null,null,null,null,null,null,"5.2.2.3.1.1","тариф на энергию","руб./кВт*ч",null,null,null,null,null,null,null,null,null,null,null,null,null,null,null,null,{"$f":"IF(AF206=0,0,AF204/AF206)","v":0}]
[null,null,null,null,null,null,null,null,null,null,null,null,"5.2.2.3.1.2","объём энергии","тыс.кВт*ч",null,null,null,null,null,null,null,null,null,null,null,null,null,null,null,null,{"$f":"AG206+AH206","v":0}]
[null,null,null,null,null,null,null,null,null,null,null,null,"5.2.2.3.2","заявленная мощность по СН 1 (35 кВ)","тыс.руб.",null,null,null,null,null,null,null,null,null,null,null,null,null,null,null,null,{"$f":"AG207+AH207","v":0},{"$f":"AG208*AG209","v":0},{"$f":"AH208*AH209","v":0}]
[null,null,null,null,null,null,null,null,null,null,null,null,"5.2.2.3.2.1","тариф на заявленную мощность","руб./кВт*мес",null,null,null,null,null,null,null,null,null,null,null,null,null,null,null,null,{"$f":"IF(AF209=0,0,AF207/AF209)","v":0}]
[null,null,null,null,null,null,null,null,null,null,null,null,"5.2.2.3.2.2","годовой объём мощности","МВт",null,null,null,null,null,null,null,null,null,null,null,null,null,null,null,null,{"$f":"AG209+AH209","v":0}]
[null,null,null,null,null,null,null,null,null,null,null,null,"5.2.2.4.1","энергия ВН (110 кВ и выше)","тыс.руб.",null,null,null,null,null,null,null,null,null,null,null,null,null,null,null,null,{"$f":"AG210+AH210","v":0},{"$f":"AG211*AG212","v":0},{"$f":"AH211*AH212","v":0}]
[null,null,null,null,null,null,null,null,null,null,null,null,"5.2.2.4.1.1","тариф на энергию","руб./кВт*ч",null,null,null,null,null,null,null,null,null,null,null,null,null,null,null,null,{"$f":"IF(AF212=0,0,AF210/AF212)","v":0}]
[null,null,null,null,null,null,null,null,null,null,null,null,"5.2.2.4.1.2","объём энергии","тыс.кВт*ч",null,null,null,null,null,null,null,null,null,null,null,null,null,null,null,null,{"$f":"AG212+AH212","v":0}]
[null,null,null,null,null,null,null,null,null,null,null,null,"5.2.2.4.2","заявленная мощность по ВН (110 кВ и выше)","тыс.руб.",null,null,null,null,null,null,null,null,null,null,null,null,null,null,null,null,{"$f":"AG213+AH213","v":0},{"$f":"AG214*AG215","v":0},{"$f":"AH214*AH215","v":0}]
[null,null,null,null,null,null,null,null,null,null,null,null,"5.2.2.4.2.1","тариф на заявленную мощность","руб./кВт*мес",null,null,null,null,null,null,null,null,null,null,null,null,null,null,null,null,{"$f":"IF(AF215=0,0,AF213/AF215)","v":0}]
[null,null,null,null,null,null,null,null,null,null,null,null,"5.2.2.4.2.2","годовой объём мощности","МВт",null,null,null,null,null,null,null,null,null,null,null,null,null,null,null,null,{"$f":"AG215+AH215","v":0}]
[null,null,null,null,null,null,null,null,null,null,null,null,"6","Затраты на оплату труда ","тыс.руб.",null,null,null,null,null,null,null,null,null,null,null,null,null,null,null,null,{"$f":"AG216+AH216","v":0},{"$f":"SUM(AG222,AG229,AG236,AG240,AG244)","v":0},{"$f":"SUM(AH222,AH229,AH236,AH240,AH244)","v":0}]
[null,null,null,null,null,null,null,null,null,null,null,null,"6.0.1","Справочно: среднемесячная оплата труда в целом по организации","руб./мес.",null,null,null,null,null,null,null,null,null,null,null,null,null,null,null,null,null,{"$f":"IF(AG218=0,0,(1000*AG216/AG218)/AG$6)","v":0},{"$f":"IF(AH218=0,0,(1000*AH216/AH218)/AH$6)","v":0}]
[null,null,null,null,null,null,null,null,null,null,null,null,"6.0.2","Справочно: численность персонала в целом по организации","ед.",null,null,null,null,null,null,null,null,null,null,null,null,null,null,null,null,null,{"$f":"SUM(AG224,AG231,AG238,AG242,AG246)","v":0},{"$f":"SUM(AH224,AH231,AH238,AH242,AH246)","v":0}]
[null,null,null,null,null,null,null,null,null,null,null,null,{"$f":"M218 & \".1\"","v":"6.0.2.1"},"Справочно: нормативная численность персонала в целом по организации","ед.",null,null,null,null,null,null,null,null,null,null,null,null,null,null,null,null,null,{"$f":"SUM(AG225,AG232,AG239,AG243,AG247)","v":0},{"$f":"SUM(AH225,AH232,AH239,AH243,AH247)","v":0}]
[null,null,null,null,null,null,null,null,null,null,null,null,{"$f":"M218 & \".2\"","v":"6.0.2.2"},"Отношение фактической численности персонала к нормативной","%",null,null,null,null,null,null,null,null,null,null,null,null,null,null,null,null,null,{"$f":"IF(AG219=0,0,AG218/AG219*100)","v":0},{"$f":"IF(AH219=0,0,AH218/AH219*100)","v":0}]
[null,null,null,null,null,null,null,null,null,null,null,null,"6.0.3","Справочно: минимальный размер оплаты труда в целом по организации","руб./мес."]
[null,null,null,null,null,null,null,null,null,null,null,null,"6.1","оплата труда основных производственных рабочих","тыс.руб.",null,null,null,null,null,null,null,null,null,null,null,null,null,null,null,null,{"$f":"AG222+AH222","v":0}]
[null,null,null,null,null,null,null,null,null,null,null,null,"6.1.1","среднемесячная оплата труда основных производственных рабочих","руб./мес.",null,null,null,null,null,null,null,null,null,null,null,null,null,null,null,null,null,{"$f":"IF(AG224=0,0,(1000*AG222/AG224)/AG$6)","v":0},{"$f":"IF(AH224=0,0,(1000*AH222/AH224)/AH$6)","v":0}]
[null,null,null,null,null,null,null,null,null,null,null,null,"6.1.2","численность основного производственного персонала, относимого на регулируемый вид деятельности","ед."]
[null,null,null,null,null,null,null,null,null,null,null,null,{"$f":"M224 & \".0\"","v":"6.1.2.0"},{"$f":"\"справочно: нормативная \" & N224","v":"справочно: нормативная численность основного производственного персонала, относимого на регулируемый вид деятельности"},"ед."]
[null,null,null,null,null,null,null,null,null,null,null,null,"6.1.3","Тарифная ставка рабочего 1-го разряда","руб./мес."]
[null,null,null,null,null,null,null,null,null,null,null,null,"6.1.4","Базовая тарифная ставка рабочего 1-го разряда","руб./мес."]
[null,null,null,null,null,null,null,null,null,null,null,null,"6.1.5","Минимальная тарифная ставка рабочего 1-го разряда","руб./мес."]
[null,null,null,null,null,null,null,null,null,null,null,null,"6.2","оплата труда ремонтного персонала","тыс.руб.",null,null,null,null,null,null,null,null,null,null,null,null,null,null,null,null,{"$f":"AG229+AH229","v":0}]
[null,null,null,null,null,null,null,null,null,null,null,null,"6.2.1","среднемесячная оплата труда ремонтного персонала","руб./мес.",null,null,null,null,null,null,null,null,null,null,null,null,null,null,null,null,null,{"$f":"IF(AG231=0,0,(1000*AG229/AG231)/AG$6)","v":0},{"$f":"IF(AH231=0,0,(1000*AH229/AH231)/AH$6)","v":0}]
[null,null,null,null,null,null,null,null,null,null,null,null,"6.2.2","численность ремонтного персонала, относимого на регулируемый вид деятельности","ед."]
[null,null,null,null,null,null,null,null,null,null,null,null,{"$f":"M231 & \".0\"","v":"6.2.2.0"},{"$f":"\"справочно: нормативная \" & N231","v":"справочно: нормативная численность ремонтного персонала, относимого на регулируемый вид деятельности"},"ед."]
[null,null,null,null,null,null,null,null,null,null,null,null,"6.2.3","Тарифная ставка рабочего 1-го разряда","руб./мес."]
[null,null,null,null,null,null,null,null,null,null,null,null,"6.2.4","Базовая тарифная ставка рабочего 1-го разряда","руб./мес."]
[null,null,null,null,null,null,null,null,null,null,null,null,"6.2.5","Минимальная тарифная ставка рабочего 1-го разряда","руб./мес."]
[null,null,null,null,null,null,null,null,null,null,null,null,"6.3","оплата труда цехового персонала","тыс.руб.",null,null,null,null,null,null,null,null,null,null,null,null,null,null,null,null,{"$f":"AG236+AH236","v":0}]
[null,null,null,null,null,null,null,null,null,null,null,null,"6.3.1","среднемесячная оплата труда цехового персонала","руб./мес.",null,null,null,null,null,null,null,null,null,null,null,null,null,null,null,null,null,{"$f":"IF(AG238=0,0,(1000*AG236/AG238)/AG$6)","v":0},{"$f":"IF(AH238=0,0,(1000*AH236/AH238)/AH$6)","v":0}]
[null,null,null,null,null,null,null,null,null,null,null,null,"6.3.2","численность цехового персонала, относимого на регулируемый вид деятельности","ед."]
[null,null,null,null,null,null,null,null,null,null,null,null,{"$f":"M238 & \".0\"","v":"6.3.2.0"},{"$f":"\"справочно: нормативная \" & N238","v":"справочно: нормативная численность цехового персонала, относимого на регулируемый вид деятельности"},"ед."]
[null,null,null,null,null,null,null,null,null,null,null,null,"6.4","оплата труда АУП","тыс.руб.",null,null,null,null,null,null,null,null,null,null,null,null,null,null,null,null,{"$f":"AG240+AH240","v":0}]
[null,null,null,null,null,null,null,null,null,null,null,null,"6.4.1","среднемесячная оплата труда АУП","руб./мес.",null,null,null,null,null,null,null,null,null,null,null,null,null,null,null,null,null,{"$f":"IF(AG242=0,0,(1000*AG240/AG242)/AG$6)","v":0},{"$f":"IF(AH242=0,0,(1000*AH240/AH242)/AH$6)","v":0}]
[null,null,null,null,null,null,null,null,null,null,null,null,"6.4.2","численность АУП, относимого на регулируемый вид деятельности","ед."]
[null,null,null,null,null,null,null,null,null,null,null,null,{"$f":"M242 & \".0\"","v":"6.4.2.0"},{"$f":"\"справочно: нормативная \" & N242","v":"справочно: нормативная численность АУП, относимого на регулируемый вид деятельности"},"ед."]
[null,null,null,null,null,null,null,null,null,null,null,null,"6.5","оплата труда прочего персонала, относимого на регулируемый вид деятельности","тыс.руб.",null,null,null,null,null,null,null,null,null,null,null,null,null,null,null,null,{"$f":"AG244+AH244","v":0}]
[null,null,null,null,null,null,null,null,null,null,null,null,"6.5.1","среднемесячная оплата труда прочего персонала, относимого на регулируемый вид деятельности","руб./мес.",null,null,null,null,null,null,null,null,null,null,null,null,null,null,null,null,null,{"$f":"IF(AG246=0,0,(1000*AG244/AG246)/AG$6)","v":0},{"$f":"IF(AH246=0,0,(1000*AH244/AH246)/AH$6)","v":0}]
[null,null,null,null,null,null,null,null,null,null,null,null,"6.5.2","численность прочего персонала, относимого на регулируемый вид деятельности","ед."]
[null,null,null,null,null,null,null,null,null,null,null,null,{"$f":"M246 & \".0\"","v":"6.5.2.0"},{"$f":"\"справочно: нормативная \" & N246","v":"справочно: нормативная численность прочего персонала, относимого на регулируемый вид деятельности"},"ед."]
[null,null,null,null,null,null,null,null,null,null,null,null,"7","Отчисления на социальные нужды, в том числе ","тыс.руб.",null,null,null,null,null,null,null,null,null,null,null,null,null,null,null,null,{"$f":"AG248+AH248","v":0},{"$f":"SUM(AG250:AG254)","v":0},{"$f":"SUM(AH250:AH254)","v":0}]
[null,null,null,null,null,null,null,null,null,null,null,null,"7.0","процент отчислений на социальные нужды","%"]
[null,null,null,null,null,null,null,null,null,null,null,null,"7.1","отчисления на соц. нужды от заработной платы основных производственных рабочих","тыс.руб.",null,null,null,null,null,null,null,null,null,null,null,null,null,null,null,null,{"$f":"AG250+AH250","v":0},{"$f":"AG222*AG249/100","v":0},{"$f":"AH222*AH249/100","v":0}]
[null,null,null,null,null,null,null,null,null,null,null,null,"7.2","отчисления на соц. нужды от заработной платы ремонтного персонала","тыс.руб.",null,null,null,null,null,null,null,null,null,null,null,null,null,null,null,null,{"$f":"AG251+AH251","v":0},{"$f":"AG229*AG249/100","v":0},{"$f":"AH229*AH249/100","v":0}]
[null,null,null,null,null,null,null,null,null,null,null,null,"7.3","отчисления на соц. нужды от заработной платы цехового персонала","тыс.руб.",null,null,null,null,null,null,null,null,null,null,null,null,null,null,null,null,{"$f":"AG252+AH252","v":0},{"$f":"AG236*AG249/100","v":0},{"$f":"AH236*AH249/100","v":0}]
[null,null,null,null,null,null,null,null,null,null,null,null,"7.4","отчисления на соц. нужды от заработной платы АУП","тыс.руб.",null,null,null,null,null,null,null,null,null,null,null,null,null,null,null,null,{"$f":"AG253+AH253","v":0},{"$f":"AG240*AG249/100","v":0},{"$f":"AH240*AH249/100","v":0}]
[null,null,null,null,null,null,null,null,null,null,null,null,"7.5","отчисления на соц. нужды от заработной платы прочего персонала","тыс.руб.",null,null,null,null,null,null,null,null,null,null,null,null,null,null,null,null,{"$f":"AG254+AH254","v":0},{"$f":"AG244*AG249/100","v":0},{"$f":"AH244*AH249/100","v":0}]
[]
[null,null,null,null,null,null,null,null,null,null,null,null,"8","Холодная вода","тыс.руб.",null,null,null,null,null,null,null,null,null,null,null,null,null,null,null,null,{"$f":"AG256+AH256","v":0},{"$f":"AG257*AG258","v":0},{"$f":"AH257*AH258","v":0}]
[null,null,null,null,null,null,null,null,null,null,null,null,"8.1","Цена","руб./куб.м",null,null,null,null,null,null,null,null,null,null,null,null,null,null,null,null,{"$f":"IF(AF258=0,0,AF256/AF258)","v":0}]
[null,null,null,null,null,null,null,null,null,null,null,null,"8.2","Объём","тыс.куб.м",null,null,null,null,null,null,null,null,null,null,null,null,null,null,null,null,0]
[null,null,null,null,null,null,null,null,null,null,null,null,"9","Водоотведение","тыс.руб.",null,null,null,null,null,null,null,null,null,null,null,null,null,null,null,null,0,{"$f":"AG260*AG261","v":0},{"$f":"AH260*AH261","v":0}]
[null,null,null,null,null,null,null,null,null,null,null,null,"9.1","Цена","руб./куб.м",null,null,null,null,null,null,null,null,null,null,null,null,null,null,null,null,{"$f":"IF(AF261=0,0,AF259/AF261)","v":0}]
[null,null,null,null,null,null,null,null,null,null,null,null,"9.2","Объём","тыс.куб.м",null,null,null,null,null,null,null,null,null,null,null,null,null,null,null,null,0]
[null,null,null,null,null,null,null,null,null,null,null,null,"10","Теплоноситель","тыс.руб.",null,null,null,null,null,null,null,null,null,null,null,null,null,null,null,null,0]
[null,null,null,null,null,null,null,null,null,null,null,null,"11","Расходы, связанные с созданием нормативных запасов топлива","тыс.руб.",null,null,null,null,null,null,null,null,null,null,null,null,null,null,null,null,0]
[]
[null,null,null,null,null,null,null,null,null,null,null,null,"12","Расходы на приобретение сырья и материалов","тыс.руб.",null,null,null,null,null,null,null,null,null,null,null,null,null,null,null,null,{"$f":"AG265+AH265","v":0},{"$f":"SUM(AG266:AG272)","v":0},{"$f":"SUM(AH266:AH272)","v":0}]
[null,null,null,null,null,null,null,null,null,null,null,null,{"$f":"M265 & \".1\"","v":"12.1"},"Реагенты, фильтрующие и ионообменные материалы для водоподготовки","тыс.руб.",null,null,null,null,null,null,null,null,null,null,null,null,null,null,null,null,0]
[null,null,null,null,null,null,null,null,null,null,null,null,{"$f":"M265 & \".2\"","v":"12.2"},"ГСМ","тыс.руб.",null,null,null,null,null,null,null,null,null,null,null,null,null,null,null,null,0]
[null,null,null,null,null,null,null,null,null,null,null,null,{"$f":"M265 & \".3\"","v":"12.3"},"На текущий и капитальный ремонт","тыс.руб.",null,null,null,null,null,null,null,null,null,null,null,null,null,null,null,null,0]
[null,null,null,null,null,null,null,null,null,null,null,null,{"$f":"M265 & \".4\"","v":"12.4"},"На текущее содержание и техническое обслуживание","тыс.руб.",null,null,null,null,null,null,null,null,null,null,null,null,null,null,null,null,0]
[null,null,null,null,null,null,null,null,null,null,null,null,{"$f":"M265 & \".5\"","v":"12.5"},"Специальная одежда","тыс.руб.",null,null,null,null,null,null,null,null,null,null,null,null,null,null,null,null,0]
[null,null,null,null,null,null,null,null,null,null,null,null,{"$f":"M265 & \".6\"","v":"12.6"},"Хозяйственный инвентарь и другие вспомогательные материалы","тыс.руб.",null,null,null,null,null,null,null,null,null,null,null,null,null,null,null,null,0]
[null,null,null,null,null,null,null,null,null,null,null,null,{"$f":"M265 & \".7\"","v":"12.7"},"Прочие расходы","тыс.руб.",null,null,null,null,null,null,null,null,null,null,null,null,null,null,null,null,0]
[null,null,null,null,null,null,null,null,null,null,null,null,"13","Ремонт основных средств, выполняемый подрядным способом","тыс.руб.",null,null,null,null,null,null,null,null,null,null,null,null,null,null,null,null,0]
[null,null,null,null,null,null,null,null,null,null,null,null,"14","Расходы на оплату работ и услуг производственного характера, выполняемых по договорам со сторонними организациями","тыс.руб.",null,null,null,null,null,null,null,null,null,null,null,null,null,null,null,null,0,{"$f":"SUM(AG275,AG276,AG277,AG278)","v":0},{"$f":"SUM(AH275,AH276,AH277,AH278)","v":0}]
[null,null,null,null,null,null,null,null,null,null,null,null,{"$f":"M274 & \".1\"","v":"14.1"},"транспортные услуги","тыс.руб.",null,null,null,null,null,null,null,null,null,null,null,null,null,null,null,null,0]
[null,null,null,null,null,null,null,null,null,null,null,null,{"$f":"M274 & \".2\"","v":"14.2"},"работы по техническому регламенту","тыс.руб.",null,null,null,null,null,null,null,null,null,null,null,null,null,null,null,null,0]
[null,null,null,null,null,null,null,null,null,null,null,null,{"$f":"M274 & \".3\"","v":"14.3"},"прочие услуги вспомогательных производств","тыс.руб.",null,null,null,null,null,null,null,null,null,null,null,null,null,null,null,null,0]
[null,null,null,null,null,null,null,null,null,null,null,null,{"$f":"M274 & \".4\"","v":"14.4"},"иные работы и услуги производственного характера","тыс.руб.",null,null,null,null,null,null,null,null,null,null,null,null,null,null,null,null,0]
[null,null,null,null,null,null,null,null,null,null,null,null,"15","Расходы на оплату иных работ и услуг, выполняемых по договорам с организациями, включая:","тыс.руб.",null,null,null,null,null,null,null,null,null,null,null,null,null,null,null,null,0,{"$f":"SUM(AG280:AG291)","v":0},{"$f":"SUM(AH280:AH291)","v":0}]
[null,null,null,null,null,null,null,null,null,null,null,null,{"$f":"M279 & \".1\"","v":"15.1"},"услуги связи","тыс.руб.",null,null,null,null,null,null,null,null,null,null,null,null,null,null,null,null,0]
[null,null,null,null,null,null,null,null,null,null,null,null,{"$f":"M279 & \".2\"","v":"15.2"},"услуги вневедомственной охраны ","тыс.руб.",null,null,null,null,null,null,null,null,null,null,null,null,null,null,null,null,0]
[null,null,null,null,null,null,null,null,null,null,null,null,{"$f":"M279 & \".3\"","v":"15.3"},"коммунальные услуги ","тыс.руб.",null,null,null,null,null,null,null,null,null,null,null,null,null,null,null,null,0]
[null,null,null,null,null,null,null,null,null,null,null,null,{"$f":"M279 & \".4\"","v":"15.4"},"расходы на консультационные услуги","тыс.руб.",null,null,null,null,null,null,null,null,null,null,null,null,null,null,null,null,0]
[null,null,null,null,null,null,null,null,null,null,null,null,{"$f":"M279 & \".5\"","v":"15.5"},"расходы на юридические услуги","тыс.руб.",null,null,null,null,null,null,null,null,null,null,null,null,null,null,null,null,0]
[null,null,null,null,null,null,null,null,null,null,null,null,{"$f":"M279 & \".6\"","v":"15.6"},"расходы на информационные услуги","тыс.руб.",null,null,null,null,null,null,null,null,null,null,null,null,null,null,null,null,0]
[null,null,null,null,null,null,null,null,null,null,null,null,{"$f":"M279 & \".7\"","v":"15.7"},"расходы на аудиторские услуги","тыс.руб.",null,null,null,null,null,null,null,null,null,null,null,null,null,null,null,null,0]
[null,null,null,null,null,null,null,null,null,null,null,null,{"$f":"M279 & \".8\"","v":"15.8"},"услуги по стратегическому управлению организацией","тыс.руб.",null,null,null,null,null,null,null,null,null,null,null,null,null,null,null,null,0]
[null,null,null,null,null,null,null,null,null,null,null,null,{"$f":"M279 & \".9\"","v":"15.9"},"расходы по подготовке и освоению производства (пуско-наладочные работы)","тыс.руб.",null,null,null,null,null,null,null,null,null,null,null,null,null,null,null,null,0]
[null,null,null,null,null,null,null,null,null,null,null,null,{"$f":"M279 & \".10\"","v":"15.10"},"целевые средства на НИОКР","тыс.руб.",null,null,null,null,null,null,null,null,null,null,null,null,null,null,null,null,0]
[null,null,null,null,null,null,null,null,null,null,null,null,{"$f":"M279 & \".11\"","v":"15.11"},"средства на необязательное (дополнительное) страхование","тыс.руб.",null,null,null,null,null,null,null,null,null,null,null,null,null,null,null,null,0]
[null,null,null,null,null,null,null,null,null,null,null,null,{"$f":"M279 & \".12\"","v":"15.12"},"иные работы и услуги","тыс.руб.",null,null,null,null,null,null,null,null,null,null,null,null,null,null,null,null,0]
[]
[null,null,null,null,null,null,null,null,null,null,null,null,"RENT","Аренда имущества","тыс.руб.",null,null,null,null,null,null,null,null,null,null,null,null,null,null,null,null,{"$f":"AG293+AH293","v":0},{"$f":"SUM(AG294:AG296)","v":0},{"$f":"SUM(AH294:AH296)","v":0}]
[null,null,null,null,null,null,null,null,null,null,null,null,"RENT.1","Аренда объектов в государственной собственности","тыс.руб.",null,null,null,null,null,null,null,null,null,null,null,null,null,null,null,null,0]
[null,null,null,null,null,null,null,null,null,null,null,null,"RENT.2","Аренда объектов в муниципальной собственности","тыс.руб.",null,null,null,null,null,null,null,null,null,null,null,null,null,null,null,null,0]
[null,null,null,null,null,null,null,null,null,null,null,null,"RENT.3","Прочее","тыс.руб.",null,null,null,null,null,null,null,null,null,null,null,null,null,null,null,null,0]
[null,null,null,null,null,null,null,null,null,null,null,null,"16","Расходы на служебные командировки","тыс.руб.",null,null,null,null,null,null,null,null,null,null,null,null,null,null,null,null,0]
[null,null,null,null,null,null,null,null,null,null,null,null,"17","Расходы на обучение персонала","тыс.руб.",null,null,null,null,null,null,null,null,null,null,null,null,null,null,null,null,0]
[null,null,null,null,null,null,null,null,null,null,null,null,"18","Расходы на вывод из эксплуатации (в том числе на консервацию) и вывод из консервации","тыс.руб.",null,null,null,null,null,null,null,null,null,null,null,null,null,null,null,null,0]
[null,null,null,null,null,null,null,null,null,null,null,null,"19","Услуги банков","тыс.руб.",null,null,null,null,null,null,null,null,null,null,null,null,null,null,null,null,0]
[null,null,null,null,null,null,null,null,null,null,null,null,"20","Прочие операционные расходы","тыс.руб.",null,null,null,null,null,null,null,null,null,null,null,null,null,null,null,null,0,{"$f":"SUM(AG302,AG303)","v":0},{"$f":"SUM(AH302,AH303)","v":0}]
[null,null,null,null,null,null,null,null,null,null,null,null,{"$f":"M301 & \".1\"","v":"20.1"},"Общехозяйственные расходы","тыс.руб.",null,null,null,null,null,null,null,null,null,null,null,null,null,null,null,null,0]
[null,null,null,null,null,null,null,null,null,null,null,null,{"$f":"M301 & \".2\"","v":"20.2"},"Иные расходы","тыс.руб.",null,null,null,null,null,null,null,null,null,null,null,null,null,null,null,null,0]
[null,null,null,null,null,null,null,null,null,null,null,null,"21","Расходы на оплату услуг, оказываемых организациями, осуществляющими регулируемые виды деятельности","тыс.руб.",null,null,null,null,null,null,null,null,null,null,null,null,null,null,null,null,0]
[null,null,null,null,null,null,null,null,null,null,null,null,"22","Арендная плата","тыс.руб.",null,null,null,null,null,null,null,null,null,null,null,null,null,null,null,null,0,{"$f":"SUM(AG306,AG307)","v":0},{"$f":"SUM(AH306,AH307)","v":0}]
[null,null,null,null,null,null,null,null,null,null,null,null,{"$f":"M305 & \".1\"","v":"22.1"},"аренда производственных объектов","тыс.руб.",null,null,null,null,null,null,null,null,null,null,null,null,null,null,null,null,0]
[null,null,null,null,null,null,null,null,null,null,null,null,{"$f":"M305 & \".2\"","v":"22.2"},"аренда непроизводственных объектов","тыс.руб.",null,null,null,null,null,null,null,null,null,null,null,null,null,null,null,null,0]
[null,null,null,null,null,null,null,null,null,null,null,null,"23","Концессионная плата","тыс.руб.",null,null,null,null,null,null,null,null,null,null,null,null,null,null,null,null,0]
[null,null,null,null,null,null,null,null,null,null,null,null,"24","Лизинговый платеж","тыс.руб.",null,null,null,null,null,null,null,null,null,null,null,null,null,null,null,null,0,{"$f":"SUM(AG310,AG311,AG312)","v":0},{"$f":"SUM(AH310,AH311,AH312)","v":0}]
[null,null,null,null,null,null,null,null,null,null,null,null,{"$f":"M309 & \".1\"","v":"24.1"},"лизинг производственных объектов","тыс.руб.",null,null,null,null,null,null,null,null,null,null,null,null,null,null,null,null,0]
[null,null,null,null,null,null,null,null,null,null,null,null,{"$f":"M309 & \".2\"","v":"24.2"},"лизинг непроизводственных объектов (без перехода права собственности на предмет лизинга к лизингополучателю)","тыс.руб.",null,null,null,null,null,null,null,null,null,null,null,null,null,null,null,null,0]
[null,null,null,null,null,null,null,null,null,null,null,null,{"$f":"M309 & \".3\"","v":"24.3"},"лизинг непроизводственных объектов  (с переходом права собственности на предмет лизинга к лизингополучателю)","тыс.руб.",null,null,null,null,null,null,null,null,null,null,null,null,null,null,null,null,0]
[null,null,null,null,null,null,null,null,null,null,null,null,"25","Расходы на уплату налогов, сборов и других обязательных платежей, в том числе:","тыс.руб.",null,null,null,null,null,null,null,null,null,null,null,null,null,null,null,null,0,{"$f":"SUM(AG314:AG317)","v":0},{"$f":"SUM(AH314:AH317)","v":0}]
[null,null,null,null,null,null,null,null,null,null,null,null,{"$f":"M313 & \".1\"","v":"25.1"},"плата за выбросы и сбросы загрязняющих веществ в окружающую среду, размещение отходов и другие виды негативного воздействия на окружающую среду в пределах установленных нормативов и (или) лимитов","тыс.руб.",null,null,null,null,null,null,null,null,null,null,null,null,null,null,null,null,0]
[null,null,null,null,null,null,null,null,null,null,null,null,{"$f":"M313 & \".2\"","v":"25.2"},"расходы на обязательное страхование","тыс.руб.",null,null,null,null,null,null,null,null,null,null,null,null,null,null,null,null,0]
[null,null,null,null,null,null,null,null,null,null,null,null,{"$f":"M313 & \".3\"","v":"25.3"},"иные расходы","тыс.руб.",null,null,null,null,null,null,null,null,null,null,null,null,null,null,null,null,0]
[null,null,null,null,null,null,null,null,null,null,null,null,{"$f":"M313 & \".4\"","v":"25.4"},"уплата налогов, всего","тыс.руб.",null,null,null,null,null,null,null,null,null,null,null,null,null,null,null,null,0,{"$f":"SUM(AG318:AG322)","v":0},{"$f":"SUM(AH318:AH322)","v":0}]
[null,null,null,null,null,null,null,null,null,null,null,null,{"$f":"M317 & \".1\"","v":"25.4.1"},"налог на имущество организаций","тыс.руб.",null,null,null,null,null,null,null,null,null,null,null,null,null,null,null,null,0]
[null,null,null,null,null,null,null,null,null,null,null,null,{"$f":"M317 & \".2\"","v":"25.4.2"},"земельный налог","тыс.руб.",null,null,null,null,null,null,null,null,null,null,null,null,null,null,null,null,0]
[null,null,null,null,null,null,null,null,null,null,null,null,{"$f":"M317 & \".3\"","v":"25.4.3"},"транспортный налог","тыс.руб.",null,null,null,null,null,null,null,null,null,null,null,null,null,null,null,null,0]
[null,null,null,null,null,null,null,null,null,null,null,null,{"$f":"M317 & \".4\"","v":"25.4.4"},"водный налог","тыс.руб.",null,null,null,null,null,null,null,null,null,null,null,null,null,null,null,null,0]
[null,null,null,null,null,null,null,null,null,null,null,null,{"$f":"M317 & \".5\"","v":"25.4.5"},"прочие налоги","тыс.руб.",null,null,null,null,null,null,null,null,null,null,null,null,null,null,null,null,0]
[null,null,null,null,null,null,null,null,null,null,null,null,"26","Расходы по сомнительным долгам","тыс.руб.",null,null,null,null,null,null,null,null,null,null,null,null,null,null,null,null,0]
[null,null,null,null,null,null,null,null,null,null,null,null,"27","Амортизация основных средств и нематериальных активов","тыс.руб.",null,null,null,null,null,null,null,null,null,null,null,null,null,null,null,null,0,{"$f":"SUM(AG325:AG326)","v":0},{"$f":"SUM(AH325:AH326)","v":0}]
[null,null,null,null,null,null,null,null,null,null,null,null,{"$f":"M324 & \".1\"","v":"27.1"},"Амортизация производственного оборудования","тыс.руб.",null,null,null,null,null,null,null,null,null,null,null,null,null,null,null,null,0]
[null,null,null,null,null,null,null,null,null,null,null,null,{"$f":"M324 & \".2\"","v":"27.2"},"Амортизация иных основных средств и нематериальных активов","тыс.руб.",null,null,null,null,null,null,null,null,null,null,null,null,null,null,null,null,0]
[null,null,null,null,null,null,null,null,null,null,null,null,"28","Расходы на выплаты по договорам займа и кредитным договорам, включая проценты по ним","тыс.руб.",null,null,null,null,null,null,null,null,null,null,null,null,null,null,null,null,0]
[null,null,null,null,null,null,null,null,null,null,null,null,"29","Прочие неподконтрольные расходы","тыс.руб.",null,null,null,null,null,null,null,null,null,null,null,null,null,null,null,null,0]
[null,null,null,null,null,null,null,null,null,null,null,null,"30","Налог на прибыль","тыс.руб.",null,null,null,null,null,null,null,null,null,null,null,null,null,null,null,null,0]
[]
[null,null,null,null,null,null,null,null,null,null,null,null,"РО","Итого расходы","тыс.руб.",null,null,null,null,null,null,null,null,null,null,null,null,null,null,null,null,{"$f":"AG331+AH331","v":0},{"$f":"SUM(AG36,AG90,AG216,AG248,AG256,AG259,AG262,AG263,AG265,AG273,AG274,AG279,AG297,AG298,AG299,AG300,AG301,AG304,AG305,AG308,AG309,AG313,AG323,AG324,AG327,AG328,AG329)","v":0},{"$f":"SUM(AH36,AH90,AH216,AH248,AH256,AH259,AH262,AH263,AH265,AH273,AH274,AH279,AH297,AH298,AH299,AH300,AH301,AH304,AH305,AH308,AH309,AH313,AH323,AH324,AH327,AH328,AH329)","v":0}]
[]
[null,null,null,null,null,null,null,null,null,null,null,null,"РР","Итого расходы на реализацию","тыс.руб.",null,null,null,null,null,null,null,null,null,null,null,null,null,null,null,null,{"$f":"AG333+AH333","v":0},{"$f":"AG331*AG$372","v":0},{"$f":"AH331*AH$372","v":0}]
[]
[null,null,null,null,null,null,null,null,null,null,null,null,"У","Убыток","тыс.руб.",null,null,null,null,null,null,null,null,null,null,null,null,null,null,null,null,{"$f":"AG335+AH335","v":0}]
[null,null,null,null,null,null,null,null,null,null,null,null,"П","Прибыль","тыс.руб.",null,null,null,null,null,null,null,null,null,null,null,null,null,null,null,null,{"$f":"AG336+AH336","v":0},{"$f":"SUM(AG338:AG341)","v":0},{"$f":"SUM(AH338:AH341)","v":0}]
[]
[null,null,null,null,null,null,null,null,null,null,null,null,"П.1","Прибыль на развитие производства (капитальные вложения)","тыс.руб.",null,null,null,null,null,null,null,null,null,null,null,null,null,null,null,null,{"$f":"AG338+AH338","v":0}]
[null,null,null,null,null,null,null,null,null,null,null,null,"П.2","Прибыль на социальное развитие","тыс.руб.",null,null,null,null,null,null,null,null,null,null,null,null,null,null,null,null,{"$f":"AG339+AH339","v":0}]
[null,null,null,null,null,null,null,null,null,null,null,null,"П.3","Прибыль на поощрение","тыс.руб.",null,null,null,null,null,null,null,null,null,null,null,null,null,null,null,null,{"$f":"AG340+AH340","v":0}]
[null,null,null,null,null,null,null,null,null,null,null,null,"П.4","Прибыль на прочие цели","тыс.руб.",null,null,null,null,null,null,null,null,null,null,null,null,null,null,null,null,{"$f":"AG341+AH341","v":0}]
[]
[]
[]
[]
[]
[]
[]
[]
[null,null,null,null,null,null,null,null,null,null,null,null,"РП","Итого расходы с учётом расходов из прибыли","тыс.руб.",null,null,null,null,null,null,null,null,null,null,null,null,null,null,null,null,{"$f":"AG350+AH350","v":0},{"$f":"AG331+AG336","v":0},{"$f":"AH331+AH336","v":0}]
[]
[]
[]
[]
[]
[]
[]
[]
[]
[]
[]
[]
[]
[]
[]
[]
[]
[]
[]
[null,null,null,null,null,null,null,null,null,null,null,null,"UI.TOTAL","Полезный отпуск продукции всего:\n[БТр!п.3] - транспортировка\n[БПр!п.3 - БПр!п.3.6 + БПр!п.5.2] - производство","Гкал",null,null,null,null,null,null,null,null,null,null,null,null,null,null,null,null,{"$f":"AG370+AH370","v":0},{"$f":"SUMIF(ТС.БПр!$BA$131:$BA$132,AG$17 & \".0-\" & AG$9,ТС.БПр!$M$131:$M$132)-SUMIF(ТС.БПр!$BA$131:$BA$132,AG$17 & \".0-\" & AG$9,ТС.БПр!$Q$131:$Q$132)-SUMIF(ТС.БПр!$BA$131:$BA$132,AG$17 & \".0-\" & AG$9,ТС.БПр!$V$131:$V$132)+SUMIF(ТС.БПр!$BA$131:$BA$132,AG$17 & \".0-\" & AG$9,ТС.БПр!$AO$131:$AO$132)+SUMIF(ТС.БТр!$BA$131:$BA$132,AG$17 & \".0-\" & AG$9,ТС.БТр!$M$131:$M$132)","v":0},{"$f":"SUMIF(ТС.БПр!$BA$131:$BA$132,AH$17 & \".0-\" & AH$9,ТС.БПр!$M$131:$M$132)-SUMIF(ТС.БПр!$BA$131:$BA$132,AH$17 & \".0-\" & AH$9,ТС.БПр!$Q$131:$Q$132)-SUMIF(ТС.БПр!$BA$131:$BA$132,AH$17 & \".0-\" & AH$9,ТС.БПр!$V$131:$V$132)+SUMIF(ТС.БПр!$BA$131:$BA$132,AH$17 & \".0-\" & AH$9,ТС.БПр!$AO$131:$AO$132)+SUMIF(ТС.БТр!$BA$131:$BA$132,AH$17 & \".0-\" & AH$9,ТС.БТр!$M$131:$M$132)","v":0}]
[null,null,null,null,null,null,null,null,null,null,null,null,"UI.EC","Полезный отпуск продукции на реализацию потребителям:\n[БТр!п.3.2:3.5] - транспортировка\n[БПр!п.3.2:3.5 + БПр!п.5.2.2 + БПр!п.5.2.3] - производство","Гкал",null,null,null,null,null,null,null,null,null,null,null,null,null,null,null,null,{"$f":"AG371+AH371","v":0},{"$f":"SUMIF(ТС.БПр!$BA$131:$BA$132,AG$17 & \".0-\" & AG$9,ТС.БПр!$R$131:$R$132)+SUMIF(ТС.БПр!$BA$131:$BA$132,AG$17 & \".0-\" & AG$9,ТС.БПр!$S$131:$S$132)+SUMIF(ТС.БПр!$BA$131:$BA$132,AG$17 & \".0-\" & AG$9,ТС.БПр!$T$131:$T$132)+SUMIF(ТС.БПр!$BA$131:$BA$132,AG$17 & \".0-\" & AG$9,ТС.БПр!$U$131:$U$132)+SUMIF(ТС.БПр!$BA$131:$BA$132,AG$17 & \".0-\" & AG$9,ТС.БПр!$AT$131:$AT$132)+SUMIF(ТС.БПр!$BA$131:$BA$132,AG$17 & \".0-\" & AG$9,ТС.БПр!$AU$131:$AU$132)+SUMIF(ТС.БТр!$BA$131:$BA$132,AG$17 & \".0-\" & AG$9,ТС.БТр!$Q$131:$Q$132)+SUMIF(ТС.БТр!$BA$131:$BA$132,AG$17 & \".0-\" & AG$9,ТС.БТр!$R$131:$R$132)+SUMIF(ТС.БТр!$BA$131:$BA$132,AG$17 & \".0-\" & AG$9,ТС.БТр!$S$131:$S$132)+SUMIF(ТС.БТр!$BA$131:$BA$132,AG$17 & \".0-\" & AG$9,ТС.БТр!$T$131:$T$132)","v":0},{"$f":"SUMIF(ТС.БПр!$BA$131:$BA$132,AH$17 & \".0-\" & AH$9,ТС.БПр!$R$131:$R$132)+SUMIF(ТС.БПр!$BA$131:$BA$132,AH$17 & \".0-\" & AH$9,ТС.БПр!$S$131:$S$132)+SUMIF(ТС.БПр!$BA$131:$BA$132,AH$17 & \".0-\" & AH$9,ТС.БПр!$T$131:$T$132)+SUMIF(ТС.БПр!$BA$131:$BA$132,AH$17 & \".0-\" & AH$9,ТС.БПр!$U$131:$U$132)+SUMIF(ТС.БПр!$BA$131:$BA$132,AH$17 & \".0-\" & AH$9,ТС.БПр!$AT$131:$AT$132)+SUMIF(ТС.БПр!$BA$131:$BA$132,AH$17 & \".0-\" & AH$9,ТС.БПр!$AU$131:$AU$132)+SUMIF(ТС.БТр!$BA$131:$BA$132,AH$17 & \".0-\" & AH$9,ТС.БТр!$Q$131:$Q$132)+SUMIF(ТС.БТр!$BA$131:$BA$132,AH$17 & \".0-\" & AH$9,ТС.БТр!$R$131:$R$132)+SUMIF(ТС.БТр!$BA$131:$BA$132,AH$17 & \".0-\" & AH$9,ТС.БТр!$S$131:$S$132)+SUMIF(ТС.БТр!$BA$131:$BA$132,AH$17 & \".0-\" & AH$9,ТС.БТр!$T$131:$T$132)","v":0}]
[null,null,null,null,null,null,null,null,null,null,null,null,"UI.COEF","Коэффициент (доля) на реализацию потребителям",null,null,null,null,null,null,null,null,null,null,null,null,null,null,null,null,null,{"$f":"IF(AF370=0,0,AF371/AF370)","v":0},{"$f":"IF(AG370=0,0,AG371/AG370)","v":0},{"$f":"IF(AH370=0,0,AH371/AH370)","v":0}]
[null,null,null,null,null,null,null,null,null,null,null,null,"UI.PURE.EC","Полезный отпуск продукции на реализацию потребителям без учёта перепродажи:\n[БТр!п.3.3:3.5] - транспортировка\n[БПр!п.3.2:3.4 + БПр!п.5.2.3] - производство","Гкал",null,null,null,null,null,null,null,null,null,null,null,null,null,null,null,null,{"$f":"AG373+AH373","v":0},{"$f":"SUMIF(ТС.БПр!$BA$131:$BA$132,AG$17 & \".0-\" & AG$9,ТС.БПр!$R$131:$R$132)+SUMIF(ТС.БПр!$BA$131:$BA$132,AG$17 & \".0-\" & AG$9,ТС.БПр!$S$131:$S$132)+SUMIF(ТС.БПр!$BA$131:$BA$132,AG$17 & \".0-\" & AG$9,ТС.БПр!$T$131:$T$132)+SUMIF(ТС.БПр!$BA$131:$BA$132,AG$17 & \".0-\" & AG$9,ТС.БПр!$AU$131:$AU$132)+SUMIF(ТС.БТр!$BA$131:$BA$132,AG$17 & \".0-\" & AG$9,ТС.БТр!$R$131:$R$132)+SUMIF(ТС.БТр!$BA$131:$BA$132,AG$17 & \".0-\" & AG$9,ТС.БТр!$S$131:$S$132)+SUMIF(ТС.БТр!$BA$131:$BA$132,AG$17 & \".0-\" & AG$9,ТС.БТр!$T$131:$T$132)","v":0},{"$f":"SUMIF(ТС.БПр!$BA$131:$BA$132,AH$17 & \".0-\" & AH$9,ТС.БПр!$R$131:$R$132)+SUMIF(ТС.БПр!$BA$131:$BA$132,AH$17 & \".0-\" & AH$9,ТС.БПр!$S$131:$S$132)+SUMIF(ТС.БПр!$BA$131:$BA$132,AH$17 & \".0-\" & AH$9,ТС.БПр!$T$131:$T$132)+SUMIF(ТС.БПр!$BA$131:$BA$132,AH$17 & \".0-\" & AH$9,ТС.БПр!$AU$131:$AU$132)+SUMIF(ТС.БТр!$BA$131:$BA$132,AH$17 & \".0-\" & AH$9,ТС.БТр!$R$131:$R$132)+SUMIF(ТС.БТр!$BA$131:$BA$132,AH$17 & \".0-\" & AH$9,ТС.БТр!$S$131:$S$132)+SUMIF(ТС.БТр!$BA$131:$BA$132,AH$17 & \".0-\" & AH$9,ТС.БТр!$T$131:$T$132)","v":0}]
[]
[null,null,null,null,null,null,null,null,null,null,null,null,"PROFITABILITY","Рентабельность","%",null,null,null,null,null,null,null,null,null,null,null,null,null,null,null,null,{"$f":"IF(AF331=0,0,(AF336-AF335)/AF331*100)","v":0},{"$f":"IF(AG331=0,0,(AG336-AG335)/AG331*100)","v":0},{"$f":"IF(AH331=0,0,(AH336-AH335)/AH331*100)","v":0}]
[]
[null,null,null,null,null,null,null,null,null,null,null,null,"D","Справочно: результат деятельности в периоде регулирования","тыс.руб.",null,null,null,null,null,null,null,null,null,null,null,null,null,null,null,null,{"$f":"AG377+AH377","v":0},{"$f":"AG378-(AG333+AG336-AG335)","v":0},{"$f":"AH378-(AH333+AH336-AH335)","v":0}]
[null,null,null,null,null,null,null,null,null,null,null,null,{"$f":"M377 & \".0.1\"","v":"D.0.1"},"Общий доход от реализации потребителям без учёта НДС, исходя из утверждённых тарифов","тыс.руб.",null,null,null,null,null,null,null,null,null,null,null,null,null,null,null,null,{"$f":"AG378+AH378","v":0},{"$f":"AG380+AG383+AG386+AG389+AG392+AG393","v":0},{"$f":"AH380+AH383+AH386+AH389+AH392+AH393","v":0}]
[null,null,null,null,null,null,null,null,null,null,null,null,{"$f":"M377 & \".0.2\"","v":"D.0.2"},"Полезный отпуск продукции на реализацию потребителям","Гкал",null,null,null,null,null,null,null,null,null,null,null,null,null,null,null,null,{"$f":"AG379+AH379","v":0},{"$f":"AG382+AG385+AG388+AG391","v":0},{"$f":"AH382+AH385+AH388+AH391","v":0}]
[null,null,null,null,null,null,null,null,null,null,null,null,{"$f":"M377 & \".1\"","v":"D.1"},"Организации-перепродавцы / энергоснабжающие организации","тыс.руб.",null,null,null,null,null,null,null,null,null,null,null,null,null,null,null,null,{"$f":"AG380+AH380","v":0},{"$f":"AG381*AG382/1000","v":0},{"$f":"AH381*AH382/1000","v":0}]
[null,null,null,null,null,null,null,null,null,null,null,null,{"$f":"M380 & \".1\"","v":"D.1.1"},"средневзвешенный тариф","руб./Гкал",null,null,null,null,null,null,null,null,null,null,null,null,null,null,null,null,{"$f":"IF(AF382=0,0,AF380*1000/AF382)","v":0}]
[null,null,null,null,null,null,null,null,null,null,null,null,{"$f":"M380 & \".2\"","v":"D.1.2"},"объём","Гкал",null,null,null,null,null,null,null,null,null,null,null,null,null,null,null,null,{"$f":"AG382+AH382","v":0},{"$f":"SUMIF(ТС.БПр!$BA$131:$BA$132,AG$17 & \".0-\" & AG$9,ТС.БПр!$U$131:$U$132)+SUMIF(ТС.БПр!$BA$131:$BA$132,AG$17 & \".0-\" & AG$9,ТС.БПр!$AT$131:$AT$132)+IF(AG$16&\"::\"&VDET=\"TRANSPORT::руб/Гкал/час в мес::Передача\",SUMIF(ТС.БТр!$BB$131:$BB$132,AG$17 & \".0.YEAR\",ТС.БТр!$I$131:$I$132)*AG$6,SUMIF(ТС.БТр!$BA$131:$BA$132,AG$17 & \".0-\" & AG$9,ТС.БТр!$Q$131:$Q$132))","v":0},{"$f":"SUMIF(ТС.БПр!$BA$131:$BA$132,AH$17 & \".0-\" & AH$9,ТС.БПр!$U$131:$U$132)+SUMIF(ТС.БПр!$BA$131:$BA$132,AH$17 & \".0-\" & AH$9,ТС.БПр!$AT$131:$AT$132)+IF(AH$16&\"::\"&VDET=\"TRANSPORT::руб/Гкал/час в мес::Передача\",SUMIF(ТС.БТр!$BB$131:$BB$132,AH$17 & \".0.YEAR\",ТС.БТр!$I$131:$I$132)*AH$6,SUMIF(ТС.БТр!$BA$131:$BA$132,AH$17 & \".0-\" & AH$9,ТС.БТр!$Q$131:$Q$132))","v":0}]
[null,null,null,null,null,null,null,null,null,null,null,null,{"$f":"M377 & \".2\"","v":"D.2"},"Бюджетные потребители","тыс.руб.",null,null,null,null,null,null,null,null,null,null,null,null,null,null,null,null,{"$f":"AG383+AH383","v":0},{"$f":"AG384*AG385/1000","v":0},{"$f":"AH384*AH385/1000","v":0}]
[null,null,null,null,null,null,null,null,null,null,null,null,{"$f":"M383 & \".1\"","v":"D.2.1"},"средневзвешенный тариф","руб./Гкал",null,null,null,null,null,null,null,null,null,null,null,null,null,null,null,null,{"$f":"IF(AF385=0,0,AF383*1000/AF385)","v":0}]
[null,null,null,null,null,null,null,null,null,null,null,null,{"$f":"M383 & \".2\"","v":"D.2.2"},"объём","Гкал",null,null,null,null,null,null,null,null,null,null,null,null,null,null,null,null,{"$f":"AG385+AH385","v":0},{"$f":"SUMIF(ТС.БПр!$BA$131:$BA$132,AG$17 & \".0-\" & AG$9,ТС.БПр!$R$131:$R$132)+SUMIF(ТС.БПр!$BA$131:$BA$132,AG$17 & \".0-\" & AG$9,ТС.БПр!$AV$131:$AV$132)+IF(AG$16&\"::\"&VDET=\"TRANSPORT::руб/Гкал/час в мес::Передача\",SUMIF(ТС.БТр!$BB$131:$BB$132,AG$17 & \".0.YEAR\",ТС.БТр!$I$131:$I$132)*AG$6,SUMIF(ТС.БТр!$BA$131:$BA$132,AG$17 & \".0-\" & AG$9,ТС.БТр!$R$131:$R$132))","v":0},{"$f":"SUMIF(ТС.БПр!$BA$131:$BA$132,AH$17 & \".0-\" & AH$9,ТС.БПр!$R$131:$R$132)+SUMIF(ТС.БПр!$BA$131:$BA$132,AH$17 & \".0-\" & AH$9,ТС.БПр!$AV$131:$AV$132)+IF(AH$16&\"::\"&VDET=\"TRANSPORT::руб/Гкал/час в мес::Передача\",SUMIF(ТС.БТр!$BB$131:$BB$132,AH$17 & \".0.YEAR\",ТС.БТр!$I$131:$I$132)*AH$6,SUMIF(ТС.БТр!$BA$131:$BA$132,AH$17 & \".0-\" & AH$9,ТС.БТр!$R$131:$R$132))","v":0}]
[null,null,null,null,null,null,null,null,null,null,null,null,{"$f":"M377 & \".3\"","v":"D.3"},"Население","тыс.руб.",null,null,null,null,null,null,null,null,null,null,null,null,null,null,null,null,{"$f":"AG386+AH386","v":0},{"$f":"AG387*AG388/1000","v":0},{"$f":"AH387*AH388/1000","v":0}]
[null,null,null,null,null,null,null,null,null,null,null,null,{"$f":"M386 & \".1\"","v":"D.3.1"},"средневзвешенный тариф","руб./Гкал",null,null,null,null,null,null,null,null,null,null,null,null,null,null,null,null,{"$f":"IF(AF388=0,0,AF386*1000/AF388)","v":0}]
[null,null,null,null,null,null,null,null,null,null,null,null,{"$f":"M386 & \".2\"","v":"D.3.2"},"объём","Гкал",null,null,null,null,null,null,null,null,null,null,null,null,null,null,null,null,{"$f":"AG388+AH388","v":0},{"$f":"SUMIF(ТС.БПр!$BA$131:$BA$132,AG$17 & \".0-\" & AG$9,ТС.БПр!$S$131:$S$132)+SUMIF(ТС.БПр!$BA$131:$BA$132,AG$17 & \".0-\" & AG$9,ТС.БПр!$AW$131:$AW$132)+IF(AG$16&\"::\"&VDET=\"TRANSPORT::руб/Гкал/час в мес::Передача\",SUMIF(ТС.БТр!$BB$131:$BB$132,AG$17 & \".0.YEAR\",ТС.БТр!$I$131:$I$132)*AG$6,SUMIF(ТС.БТр!$BA$131:$BA$132,AG$17 & \".0-\" & AG$9,ТС.БТр!$S$131:$S$132))","v":0},{"$f":"SUMIF(ТС.БПр!$BA$131:$BA$132,AH$17 & \".0-\" & AH$9,ТС.БПр!$S$131:$S$132)+SUMIF(ТС.БПр!$BA$131:$BA$132,AH$17 & \".0-\" & AH$9,ТС.БПр!$AW$131:$AW$132)+IF(AH$16&\"::\"&VDET=\"TRANSPORT::руб/Гкал/час в мес::Передача\",SUMIF(ТС.БТр!$BB$131:$BB$132,AH$17 & \".0.YEAR\",ТС.БТр!$I$131:$I$132)*AH$6,SUMIF(ТС.БТр!$BA$131:$BA$132,AH$17 & \".0-\" & AH$9,ТС.БТр!$S$131:$S$132))","v":0}]
[null,null,null,null,null,null,null,null,null,null,null,null,{"$f":"M377 & \".4\"","v":"D.4"},"Прочие","тыс.руб.",null,null,null,null,null,null,null,null,null,null,null,null,null,null,null,null,{"$f":"AG389+AH389","v":0},{"$f":"AG390*AG391/1000","v":0},{"$f":"AH390*AH391/1000","v":0}]
[null,null,null,null,null,null,null,null,null,null,null,null,{"$f":"M389 & \".1\"","v":"D.4.1"},"средневзвешенный тариф","руб./Гкал",null,null,null,null,null,null,null,null,null,null,null,null,null,null,null,null,{"$f":"IF(AF391=0,0,AF389*1000/AF391)","v":0}]
[null,null,null,null,null,null,null,null,null,null,null,null,{"$f":"M389 & \".2\"","v":"D.4.2"},"объём","Гкал",null,null,null,null,null,null,null,null,null,null,null,null,null,null,null,null,{"$f":"AG391+AH391","v":0},{"$f":"SUMIF(ТС.БПр!$BA$131:$BA$132,AG$17 & \".0-\" & AG$9,ТС.БПр!$T$131:$T$132)+SUMIF(ТС.БПр!$BA$131:$BA$132,AG$17 & \".0-\" & AG$9,ТС.БПр!$AX$131:$AX$132)+IF(AG$16&\"::\"&VDET=\"TRANSPORT::руб/Гкал/час в мес::Передача\",SUMIF(ТС.БТр!$BB$131:$BB$132,AG$17 & \".0.YEAR\",ТС.БТр!$I$131:$I$132)*AG$6,SUMIF(ТС.БТр!$BA$131:$BA$132,AG$17 & \".0-\" & AG$9,ТС.БТр!$T$131:$T$132))","v":0},{"$f":"SUMIF(ТС.БПр!$BA$131:$BA$132,AH$17 & \".0-\" & AH$9,ТС.БПр!$T$131:$T$132)+SUMIF(ТС.БПр!$BA$131:$BA$132,AH$17 & \".0-\" & AH$9,ТС.БПр!$AX$131:$AX$132)+IF(AH$16&\"::\"&VDET=\"TRANSPORT::руб/Гкал/час в мес::Передача\",SUMIF(ТС.БТр!$BB$131:$BB$132,AH$17 & \".0.YEAR\",ТС.БТр!$I$131:$I$132)*AH$6,SUMIF(ТС.БТр!$BA$131:$BA$132,AH$17 & \".0-\" & AH$9,ТС.БТр!$T$131:$T$132))","v":0}]
[null,null,null,null,null,null,null,null,null,null,null,null,{"$f":"M377 & \".5\"","v":"D.5"},"Объём дотаций из всех уровней бюджета","тыс.руб.",null,null,null,null,null,null,null,null,null,null,null,null,null,null,null,null,{"$f":"AG392+AH392","v":0}]
[null,null,null,null,null,null,null,null,null,null,null,null,{"$f":"M377 & \".6\"","v":"D.6"},"Доходы, полученные сверх реализации по утверждённым тарифам","тыс.руб.",null,null,null,null,null,null,null,null,null,null,null,null,null,null,null,null,{"$f":"AG393+AH393","v":0}]
[]
[]
[]
[]
[]
[]
[null,null,null,null,null,null,null,null,null,null,null,null,null,"Дополнительные показатели"]
[null,null,null,null,null,null,null,null,null,null,null,null,null,"Производство"]
[null,null,null,null,null,null,null,null,null,null,null,null,null,{"$f":"\"Стоимость основных средств, относимых на источники производства \" & RESOURCE_IDENTIFIER","v":"Стоимость основных средств, относимых на источники производства "},"тыс.руб."]
[null,null,null,null,null,null,null,null,null,null,null,null,null,"Износ основных средств","%"]
[null,null,null,null,null,null,null,null,null,null,null,null,null,"Передача"]
[null,null,null,null,null,null,null,null,null,null,null,null,null,{"$f":"\"Стоимость основных средств, относимых на передачу \" & RESOURCE_IDENTIFIER","v":"Стоимость основных средств, относимых на передачу "},"тыс.руб."]
[null,null,null,null,null,null,null,null,null,null,null,null,null,"Протяженность сетей (в двухтрубном исчислении)","км"]
[null,null,null,null,null,null,null,null,null,null,null,null,null,"Протяженность сетей, подлежащих замене (износ 100%)","км"]
[null,null,null,null,null,null,null,null,null,null,null,null,null,"Сбыт"]
[null,null,null,null,null,null,null,null,null,null,null,null,null,"Полезный отпуск наиболее крупному единичному потребителю","Гкал"]
[null,null,null,null,null,null,null,null,null,null,null,null,null,"Численность обслуживаемого населения","чел."]
[null,null,null,null,null,null,null,null,null,null,null,null,null,"Количество абонентов","тыс.ед."]
[]
[]
[]
[]
[]
[]
[]
[]
[]
[]
[]
[]
[]
[]
[]
[]
[]
[]
[]
[]
[]
[]
[]
[]
[]
[]
[]
[]
[]
[]
[]
[]
[]
[]
[]
[]
[]
[]
[]
[]
[]
[]
[]
[]
[]
[]
[]
[]
[]
[]
[]
[]
[]
[]
[]
[]
[]
[]
[]
[]
[]
[]
[]
[]
[]
[]
[]
[]
[]
[]
[]
[]
[]
[]
[]
[]
[]
[]
[]
[]
[]
[]
[]
[]
[]
[]
[]
[]
[]
[]
[]
[]
[]
[]
[]
[]
[]
[]
[]
[]
[]
[]
[]
[]
[]
[]
[]
[]
[]
[]
[]
[]
[]
[]
[]
[]
[]
[]
[]
[]
[]
[]
[]
[]
[]
[]
[]
[]
[]
[]
[]
[]
[]
[]
[]
[]
[]
[]
[]
[]
[]
[]
[]
[]
[]
[]
[]
[]
[]
[]
[]
[]
[]
[]
[]
[]
[]
[]
[]
[]
[]
[]
[]
[]
[]
[]
[]
[]
[]
[]
[]
[]
[]
[]
[]
[]
[]
[]
[]
[]
[]
[]
[]
[]
[]
[]
[]
[]
[]
[]
[]
[]
[]
[]
[]
[]
[]
[]
[]
[]
[]
[]
[]
[]
[]
[]
[]
[]
[]
[]
[]
[]
[]
[]
[]
[]
[]
[]
[]
[]
[]
[]
[]
[]
[]
[]
[]
[]
[]
[]
[]
[]
[]
[]
[]
[]
[]
[]
[]
[]
[]
[]
[]
[]
[]
[]
[]
[]
[]
[]
[]
[]
[]
[]
[]
[]
[]
[]
[]
[]
[]
[]
[]
[]
[]
[]
[]
[]
[]
[]
[]
[]
[]
[]
[]
[]
[]
[]
[]
[]
[]
[]
[]
[]
[]
[]
[]
[]
[]
[]
[]
[]
[]
[]
[]
[]
[]
[]
[]
[]
[]
[]
[]
[]
[]
[]
[]
[]
[]
[]
[]
[]
[]
[]
[]
[]
[]
[]
[]
[]
[]
[]
[]
[]
[]
[]
[]
[]
[]
[]
[]
[]
[]
[]
[]
[]
[]
[]
[]
[]
[]
[]
[]
[]
[]
[]
[]
[]
[]
[]
[]
[]
[]
[]
[]
[]
[]
[]
[]
[]
[]
[]
[]
[]
[]
[]
[]
[]
[]
[]
[]
[]
[]
[]
[]
[]
[]
[]
[]
[]
[]
[]
[]
[]
[]
[]
[]
[]
[]
[]
[]
[]
[]
[]
[]
[]
[]
[]
[]
[]
[]
[]
[]
[]
[]
[]
[]
[]
[]
[]
[]
[]
[]
[]
[]
[]
[]
[]
[]
[]
[]
[]
[]
[]
[]
[]
[]
[]
[]
[]
[]
[]
[]
[]
[]
[]
[]
[]
[]
[]
[]
[]
[]
[]
[]
[]
[]
[]
[]
[]
[]
[]
[]
[]
[]
[]
[]
[]
[]
[]
[]
[]
[]
[]
[]
[]
[]
[]
[]
[]
[]
[]
[]
[]
[]
[]
[]
[]
[]
[]
[]
[]
[]
[]
[]
[]
[]
[]
[]
[]
[]
[]
[]
[]
[]
[]
[]
[]
[]
[]
[]
[null,null,null,null,null,null,null,null,null,null,null,null,null,null,null,null,null,null,null,null,null,null,null,null,null,null,null,null,"HEAT_FUEL_ADD_RANGE"]
[]
[]
[]
[null,null,null,null,null,null,null,null,null,null,null,null,null,null,null,null,null,null,null,null,null,null,null,null,null,null,null,null,12,6,6]
[]
[]
[null,null,null,null,null,null,null,null,null,null,null,null,null,null,null,null,null,null,null,null,null,null,null,null,null,null,null,null,"Y","I","II"]
[]
[null,null,null,null,null,null,null,null,null,null,null,null,null,null,null,null,null,null,null,null,null,null,null,null,null,null,null,null,"Y","I","II"]
[]
[null,null,null,null,null,null,null,null,null,null,null,null,null,null,null,null,null,null,null,null,null,null,null,null,null,null,null,null,"Год","I полугодие","II полугодие"]
[]
[null,null,null,null,null,null,null,null,null,null,null,null,null,null,null,null,null,null,null,null,null,null,null,null,null,null,null,null,{"$f":"AC928 & \"_\" & AC920","v":"0_Y"},{"$f":"AD928 & \"_\" & AD920","v":"0_I"},{"$f":"AE928 & \"_\" & AE920","v":"0_II"}]
[]
[null,null,null,null,null,null,null,null,null,null,null,null,null,null,null,null,null,null,null,null,null,null,null,null,null,null,null,null,{"$f":"AC930","v":0},{"$f":"AC930","v":0},{"$f":"AC930","v":0}]
[null,null,null,null,null,null,null,null,null,null,null,null,null,null,null,null,null,null,null,null,null,null,null,null,null,null,null,null,"Удалить"]
[null,null,null,null,null,null,null,null,null,null,null,null,"№ п/п","Наименование показателя","Единица измерения"]
[null,null,null,null,null,null,null,null,null,null,null,null,null,null,null,null,null,null,null,null,null,null,null,null,null,null,null,null,null,null,null,null,null,null,null,null,null,null,null,null,null,null,null,null,null,null,"HEAT_FUEL_EMPTY_BASE_RANGE"]
[null,null,null,null,null,null,null,null,null,null,null,null,null,"Является ли организация плательщиком НДС",null,null,null,null,null,null,null,null,null,null,null,null,null,null,null,null,null,null,null,null,null,null,null,null,null,null,null,null,null,null,null,null,"HEAT_FUEL_SINGLE_BASE_RANGE"]
[null,null,null,null,null,null,null,null,null,null,null,null,null,{"$f":"IF(CALC_IDENTIFIER=\"\",\"\",CALC_IDENTIFIER)","v":""},null,null,null,null,null,null,null,null,null,null,null,null,null,null,null,null,null,null,null,null,null,null,null,null,null,null,null,null,null,null,null,null,"HEAT_FUEL_TEMPLATE_RANGE"]
[]
[]
[]
[]
[]
[]
[]
[]
[]
[]
[]
[]
[]
[null,null,null,null,null,null,null,null,null,null,null,null,"4","Стоимость натурального топлива с учётом транспортировки (перевозки) (топливо на технологические цели)","тыс.руб.",null,null,null,null,null,null,null,null,null,null,null,null,null,null,null,null,{"$f":"SUM(AF948,AF952:AF957,AF958,AF963,AF970,AF971,AF981:AF990)","v":0},{"$f":"SUM(AG948,AG952:AG957,AG958,AG963,AG970,AG971,AG981:AG990)","v":0},{"$f":"SUM(AH948,AH952:AH957,AH958,AH963,AH970,AH971,AH981:AH990)","v":0},null,null,null,{"$f":"SUM(AL948,AL952:AL957,AL958,AL963,AL970,AL971,AL981:AL990)","v":0},{"$f":"SUM(AM948,AM952:AM957,AM958,AM963,AM970,AM971,AM981:AM990)","v":0},{"$f":"SUM(AN948,AN952:AN957,AN958,AN963,AN970,AN971,AN981:AN990)","v":0}]
[null,null,null,null,null,null,null,null,null,null,null,null,"4.NG","Газ природный","тыс.руб.",null,null,null,null,null,null,null,null,null,null,null,null,null,null,null,null,null,null,null,null,null,null,{"$f":"SUM(AL949:AL951)","v":0},{"$f":"SUM(AM949:AM951)","v":0},{"$f":"SUM(AN949:AN951)","v":0},null,null,null,"NG"]
[null,null,null,null,null,null,null,null,null,null,null,null,"4.NGL","Газ лимитный","тыс.руб.",null,null,null,null,null,null,null,null,null,null,null,null,null,null,null,null,null,null,null,null,null,null,{"$f":"AL1321+AL1382+AL1390+AL1398","v":0},{"$f":"AM1321+AM1382+AM1390+AM1398","v":0},{"$f":"AN1321+AN1382+AN1390+AN1398","v":0},null,null,null,"NGL"]
[null,null,null,null,null,null,null,null,null,null,null,null,"4.NGU","Газ сверхлимитный","тыс.руб.",null,null,null,null,null,null,null,null,null,null,null,null,null,null,null,null,null,null,null,null,null,null,{"$f":"AL1322+AL1417+AL1425+AL1433","v":0},{"$f":"AM1322+AM1417+AM1425+AM1433","v":0},{"$f":"AN1322+AN1417+AN1425+AN1433","v":0},null,null,null,"NGU"]
[null,null,null,null,null,null,null,null,null,null,null,null,"4.NGC","Газ коммерческий","тыс.руб.",null,null,null,null,null,null,null,null,null,null,null,null,null,null,null,null,null,null,null,null,null,null,{"$f":"AL1323","v":0},{"$f":"AM1323","v":0},{"$f":"AN1323","v":0},null,null,null,"NGC"]
[null,null,null,null,null,null,null,null,null,null,null,null,"4.GBL","Газ доменный","тыс.руб.",null,null,null,null,null,null,null,null,null,null,null,null,null,null,null,null,null,null,null,null,null,null,{"$f":"AL1324+AL1529+AL1661+AL1793","v":0},0,0,null,null,null,"GBL"]
[null,null,null,null,null,null,null,null,null,null,null,null,"4.GCK","Газ коксовый","тыс.руб.",null,null,null,null,null,null,null,null,null,null,null,null,null,null,null,null,null,null,null,null,null,null,0,0,0,null,null,null,"GCK"]
[null,null,null,null,null,null,null,null,null,null,null,null,"4.GOA","Газ нефтяной (попутный)","тыс.руб.",null,null,null,null,null,null,null,null,null,null,null,null,null,null,null,null,null,null,null,null,null,null,0,0,0,null,null,null,"GOA"]
[null,null,null,null,null,null,null,null,null,null,null,null,"4.DSG","Газ сухой отбензиненный","тыс.руб.",null,null,null,null,null,null,null,null,null,null,null,null,null,null,null,null,null,null,null,null,null,null,0,0,0,null,null,null,"DSG"]
[null,null,null,null,null,null,null,null,null,null,null,null,"4.GCN","Газовый конденсат","тыс.руб.",null,null,null,null,null,null,null,null,null,null,null,null,null,null,null,null,null,null,null,null,null,null,0,0,0,null,null,null,"GCN"]
[null,null,null,null,null,null,null,null,null,null,null,null,"4.LNG","Газ сжиженный","тыс.руб.",null,null,null,null,null,null,null,null,null,null,null,null,null,null,null,null,null,null,null,null,null,null,0,0,0,null,null,null,"LNG"]
[null,null,null,null,null,null,null,null,null,null,null,null,"4.DSL","Дизельное топливо","тыс.руб.",null,null,null,null,null,null,null,null,null,null,null,null,null,null,null,null,null,null,null,null,null,null,0,0,0,null,null,null,"DSL"]
[null,null,null,null,null,null,null,null,null,null,null,null,"4.DSLA","А (арктическое)","тыс.руб.",null,null,null,null,null,null,null,null,null,null,null,null,null,null,null,null,null,null,null,null,null,null,0,0,0,null,null,null,"DSLA"]
[null,null,null,null,null,null,null,null,null,null,null,null,"4.DSLW","З (зимнее)","тыс.руб.",null,null,null,null,null,null,null,null,null,null,null,null,null,null,null,null,null,null,null,null,null,null,0,0,0,null,null,null,"DSLW"]
[null,null,null,null,null,null,null,null,null,null,null,null,"4.DSLS","Л (летнее)","тыс.руб.",null,null,null,null,null,null,null,null,null,null,null,null,null,null,null,null,null,null,null,null,null,null,0,0,0,null,null,null,"DSLS"]
[null,null,null,null,null,null,null,null,null,null,null,null,"4.DSLO","Е (межсезонное)","тыс.руб.",null,null,null,null,null,null,null,null,null,null,null,null,null,null,null,null,null,null,null,null,null,null,0,0,0,null,null,null,"DSLO"]
[null,null,null,null,null,null,null,null,null,null,null,null,"4.MST","Мазут","тыс.руб.",null,null,null,null,null,null,null,null,null,null,null,null,null,null,null,null,null,null,null,null,null,null,0,0,0,null,null,null,"MST"]
[null,null,null,null,null,null,null,null,null,null,null,null,"4.MSTM40","М-40","тыс.руб.",null,null,null,null,null,null,null,null,null,null,null,null,null,null,null,null,null,null,null,null,null,null,0,0,0,null,null,null,"MSTM40"]
[null,null,null,null,null,null,null,null,null,null,null,null,"4.MSTM100","М-100","тыс.руб.",null,null,null,null,null,null,null,null,null,null,null,null,null,null,null,null,null,null,null,null,null,null,0,0,0,null,null,null,"MSTM100"]
[null,null,null,null,null,null,null,null,null,null,null,null,"4.MSTM200","М-200","тыс.руб.",null,null,null,null,null,null,null,null,null,null,null,null,null,null,null,null,null,null,null,null,null,null,0,0,0,null,null,null,"MSTM200"]
[null,null,null,null,null,null,null,null,null,null,null,null,"4.MSTT","мазут марки \"Т\"","тыс.руб.",null,null,null,null,null,null,null,null,null,null,null,null,null,null,null,null,null,null,null,null,null,null,0,0,0,null,null,null,"MSTT"]
[null,null,null,null,null,null,null,null,null,null,null,null,"4.MSTF5","Ф-5","тыс.руб.",null,null,null,null,null,null,null,null,null,null,null,null,null,null,null,null,null,null,null,null,null,null,{"$f":"AL1340+AL1545+AL1677+AL1809","v":0},0,0,null,null,null,"MSTF5"]
[null,null,null,null,null,null,null,null,null,null,null,null,"4.MSTF12","Ф-12","тыс.руб.",null,null,null,null,null,null,null,null,null,null,null,null,null,null,null,null,null,null,null,null,null,null,0,0,0,null,null,null,"MSTF12"]
[null,null,null,null,null,null,null,null,null,null,null,null,"4.OIL","Нефть","тыс.руб.",null,null,null,null,null,null,null,null,null,null,null,null,null,null,null,null,null,null,null,null,null,null,0,0,0,null,null,null,"OIL"]
[null,null,null,null,null,null,null,null,null,null,null,null,"4.COA","Уголь","тыс.руб.",null,null,null,null,null,null,null,null,null,null,null,null,null,null,null,null,null,null,null,null,null,null,0,0,0,null,null,null,"COA"]
[null,null,null,null,null,null,null,null,null,null,null,null,"4.COAA","Уголь антрацит","тыс.руб.",null,null,null,null,null,null,null,null,null,null,null,null,null,null,null,null,null,null,null,null,null,null,0,0,0,null,null,null,"COAA"]
[null,null,null,null,null,null,null,null,null,null,null,null,"4.COAB","Уголь бурый","тыс.руб.",null,null,null,null,null,null,null,null,null,null,null,null,null,null,null,null,null,null,null,null,null,null,0,0,0,null,null,null,"COAB"]
[null,null,null,null,null,null,null,null,null,null,null,null,"4.COAG","Уголь газовый","тыс.руб.",null,null,null,null,null,null,null,null,null,null,null,null,null,null,null,null,null,null,null,null,null,null,0,0,0,null,null,null,"COAG"]
[null,null,null,null,null,null,null,null,null,null,null,null,"4.COALF","Уголь длиннопламенный","тыс.руб.",null,null,null,null,null,null,null,null,null,null,null,null,null,null,null,null,null,null,null,null,null,null,0,0,0,null,null,null,"COALF"]
[null,null,null,null,null,null,null,null,null,null,null,null,"4.COAF","Уголь жирный","тыс.руб.",null,null,null,null,null,null,null,null,null,null,null,null,null,null,null,null,null,null,null,null,null,null,0,0,0,null,null,null,"COAF"]
[null,null,null,null,null,null,null,null,null,null,null,null,"4.COAC","Уголь коксовый","тыс.руб.",null,null,null,null,null,null,null,null,null,null,null,null,null,null,null,null,null,null,null,null,null,null,0,0,0,null,null,null,"COAC"]
[null,null,null,null,null,null,null,null,null,null,null,null,"4.COASC","Уголь отощённо-спекающийся","тыс.руб.",null,null,null,null,null,null,null,null,null,null,null,null,null,null,null,null,null,null,null,null,null,null,0,0,0,null,null,null,"COASC"]
[null,null,null,null,null,null,null,null,null,null,null,null,"4.COAWC","Уголь слабоспекающийся","тыс.руб.",null,null,null,null,null,null,null,null,null,null,null,null,null,null,null,null,null,null,null,null,null,null,0,0,0,null,null,null,"COAWC"]
[null,null,null,null,null,null,null,null,null,null,null,null,"4.COAS","Уголь тощий","тыс.руб.",null,null,null,null,null,null,null,null,null,null,null,null,null,null,null,null,null,null,null,null,null,null,0,0,0,null,null,null,"COAS"]
[null,null,null,null,null,null,null,null,null,null,null,null,"4.ENR","Энергия","тыс.руб.",null,null,null,null,null,null,null,null,null,null,null,null,null,null,null,null,null,null,null,null,null,null,{"$f":"SUM(AL1837,AL1843,AL1849,AL1855)","v":0},{"$f":"SUM(AM1837,AM1843,AM1849,AM1855)","v":0},{"$f":"SUM(AN1837,AN1843,AN1849,AN1855)","v":0},null,null,null,"ENR"]
[null,null,null,null,null,null,null,null,null,null,null,null,"4.PWR","Заявленная мощность","тыс.руб.",null,null,null,null,null,null,null,null,null,null,null,null,null,null,null,null,null,null,null,null,null,null,{"$f":"SUM(AL1840,AL1846,AL1852,AL1858)","v":0},{"$f":"SUM(AM1840,AM1846,AM1852,AM1858)","v":0},{"$f":"SUM(AN1840,AN1846,AN1852,AN1858)","v":0},null,null,null,"PWR"]
[null,null,null,null,null,null,null,null,null,null,null,null,"4.CWD","Уголь древесный","тыс.руб.",null,null,null,null,null,null,null,null,null,null,null,null,null,null,null,null,null,null,null,null,null,null,{"$f":"AL1355+AL1560+AL1692+AL1824","v":0},0,0,null,null,null,"CWD"]
[null,null,null,null,null,null,null,null,null,null,null,null,"4.WDS","Дрова","тыс.руб.",null,null,null,null,null,null,null,null,null,null,null,null,null,null,null,null,null,null,null,null,null,null,0,0,0,null,null,null,"WDS"]
[null,null,null,null,null,null,null,null,null,null,null,null,"4.PLT","Пеллеты","тыс.руб.",null,null,null,null,null,null,null,null,null,null,null,null,null,null,null,null,null,null,null,null,null,null,0,0,0,null,null,null,"PLT"]
[null,null,null,null,null,null,null,null,null,null,null,null,"4.SAW","Опилки","тыс.руб.",null,null,null,null,null,null,null,null,null,null,null,null,null,null,null,null,null,null,null,null,null,null,0,0,0,null,null,null,"SAW"]
[null,null,null,null,null,null,null,null,null,null,null,null,"4.PEA","Торф","тыс.руб.",null,null,null,null,null,null,null,null,null,null,null,null,null,null,null,null,null,null,null,null,null,null,0,0,0,null,null,null,"PEA"]
[null,null,null,null,null,null,null,null,null,null,null,null,"4.SHL","Сланцы","тыс.руб.",null,null,null,null,null,null,null,null,null,null,null,null,null,null,null,null,null,null,null,null,null,null,0,0,0,null,null,null,"SHL"]
[null,null,null,null,null,null,null,null,null,null,null,null,"4.STF","Печное бытовое топливо","тыс.руб.",null,null,null,null,null,null,null,null,null,null,null,null,null,null,null,null,null,null,null,null,null,null,0,0,0,null,null,null,"STF"]
[null,null,null,null,null,null,null,null,null,null,null,null,"4.OTH","Прочие виды топлива","тыс.руб.",null,null,null,null,null,null,null,null,null,null,null,null,null,null,null,null,null,null,null,null,null,null,{"$f":"AL1862","v":0},{"$f":"AM1862","v":0},{"$f":"AN1862","v":0},null,null,null,"OTH"]
[null,null,null,null,null,null,null,null,null,null,null,null,"4.CFPTR","Цена условного топлива с учётом транспортировки (перевозки)","тыс.руб./тут",null,null,null,null,null,null,null,null,null,null,null,null,null,null,null,null,{"$f":"IF(AF1079=0,0,AF947/AF1079)","v":0},{"$f":"IF(AG1079=0,0,AG947/AG1079)","v":0},{"$f":"IF(AH1079=0,0,AH947/AH1079)","v":0},null,null,null,{"$f":"IF(AL1079=0,0,AL947/AL1079)","v":0},0,0]
[null,null,null,null,null,null,null,null,null,null,null,null,"4.CFPTR.NG","Газ природный","тыс.руб./тут",null,null,null,null,null,null,null,null,null,null,null,null,null,null,null,null,null,null,null,null,null,null,0,0,0,null,null,null,"NG"]
[null,null,null,null,null,null,null,null,null,null,null,null,"4.CFPTR.NGL","Газ лимитный","тыс.руб./тут",null,null,null,null,null,null,null,null,null,null,null,null,null,null,null,null,null,null,null,null,null,null,0,0,0,null,null,null,"NGL"]
[null,null,null,null,null,null,null,null,null,null,null,null,"4.CFPTR.NGU","Газ сверхлимитный","тыс.руб./тут",null,null,null,null,null,null,null,null,null,null,null,null,null,null,null,null,null,null,null,null,null,null,0,0,0,null,null,null,"NGU"]
[null,null,null,null,null,null,null,null,null,null,null,null,"4.CFPTR.NGC","Газ коммерческий","тыс.руб./тут",null,null,null,null,null,null,null,null,null,null,null,null,null,null,null,null,null,null,null,null,null,null,0,0,0,null,null,null,"NGC"]
[null,null,null,null,null,null,null,null,null,null,null,null,"4.CFPTR.GBL","Газ доменный","тыс.руб./тут",null,null,null,null,null,null,null,null,null,null,null,null,null,null,null,null,null,null,null,null,null,null,0,0,0,null,null,null,"GBL"]
[null,null,null,null,null,null,null,null,null,null,null,null,"4.CFPTR.GCK","Газ коксовый","тыс.руб./тут",null,null,null,null,null,null,null,null,null,null,null,null,null,null,null,null,null,null,null,null,null,null,0,0,0,null,null,null,"GCK"]
[null,null,null,null,null,null,null,null,null,null,null,null,"4.CFPTR.GOA","Газ нефтяной (попутный)","тыс.руб./тут",null,null,null,null,null,null,null,null,null,null,null,null,null,null,null,null,null,null,null,null,null,null,0,0,0,null,null,null,"GOA"]
[null,null,null,null,null,null,null,null,null,null,null,null,"4.CFPTR.DSG","Газ сухой отбензиненный","тыс.руб./тут",null,null,null,null,null,null,null,null,null,null,null,null,null,null,null,null,null,null,null,null,null,null,0,0,0,null,null,null,"DSG"]
[null,null,null,null,null,null,null,null,null,null,null,null,"4.CFPTR.GCN","Газовый конденсат","тыс.руб./тут",null,null,null,null,null,null,null,null,null,null,null,null,null,null,null,null,null,null,null,null,null,null,0,0,0,null,null,null,"GCN"]
[null,null,null,null,null,null,null,null,null,null,null,null,"4.CFPTR.LNG","Газ сжиженный","тыс.руб./тут",null,null,null,null,null,null,null,null,null,null,null,null,null,null,null,null,null,null,null,null,null,null,0,0,0,null,null,null,"LNG"]
[null,null,null,null,null,null,null,null,null,null,null,null,"4.CFPTR.DSL","Дизельное топливо","тыс.руб./тут",null,null,null,null,null,null,null,null,null,null,null,null,null,null,null,null,null,null,null,null,null,null,0,0,0,null,null,null,"DSL"]
[null,null,null,null,null,null,null,null,null,null,null,null,"4.CFPTR.DSLA","А (арктическое)","тыс.руб./тут",null,null,null,null,null,null,null,null,null,null,null,null,null,null,null,null,null,null,null,null,null,null,0,0,0,null,null,null,"DSLA"]
[null,null,null,null,null,null,null,null,null,null,null,null,"4.CFPTR.DSLW","З (зимнее)","тыс.руб./тут",null,null,null,null,null,null,null,null,null,null,null,null,null,null,null,null,null,null,null,null,null,null,0,0,0,null,null,null,"DSLW"]
[null,null,null,null,null,null,null,null,null,null,null,null,"4.CFPTR.DSLS","Л (летнее)","тыс.руб./тут",null,null,null,null,null,null,null,null,null,null,null,null,null,null,null,null,null,null,null,null,null,null,0,0,0,null,null,null,"DSLS"]
[null,null,null,null,null,null,null,null,null,null,null,null,"4.CFPTR.DSLO","Е (межсезонное)","тыс.руб./тут",null,null,null,null,null,null,null,null,null,null,null,null,null,null,null,null,null,null,null,null,null,null,0,0,0,null,null,null,"DSLO"]
[null,null,null,null,null,null,null,null,null,null,null,null,"4.CFPTR.MST","Мазут","тыс.руб./тут",null,null,null,null,null,null,null,null,null,null,null,null,null,null,null,null,null,null,null,null,null,null,{"$f":"IF(AL1095=0,0,AL963/AL1095)","v":0},0,0,null,null,null,"MST"]
[null,null,null,null,null,null,null,null,null,null,null,null,"4.CFPTR.MSTM40","М-40","тыс.руб./тут",null,null,null,null,null,null,null,null,null,null,null,null,null,null,null,null,null,null,null,null,null,null,0,0,0,null,null,null,"MSTM40"]
[null,null,null,null,null,null,null,null,null,null,null,null,"4.CFPTR.MSTM100","М-100","тыс.руб./тут",null,null,null,null,null,null,null,null,null,null,null,null,null,null,null,null,null,null,null,null,null,null,0,0,0,null,null,null,"MSTM100"]
[null,null,null,null,null,null,null,null,null,null,null,null,"4.CFPTR.MSTM200","М-200","тыс.руб./тут",null,null,null,null,null,null,null,null,null,null,null,null,null,null,null,null,null,null,null,null,null,null,0,0,0,null,null,null,"MSTM200"]
[null,null,null,null,null,null,null,null,null,null,null,null,"4.CFPTR.MSTT","мазут марки \"Т\"","тыс.руб./тут",null,null,null,null,null,null,null,null,null,null,null,null,null,null,null,null,null,null,null,null,null,null,0,0,0,null,null,null,"MSTT"]
[null,null,null,null,null,null,null,null,null,null,null,null,"4.CFPTR.MSTF5","Ф-5","тыс.руб./тут",null,null,null,null,null,null,null,null,null,null,null,null,null,null,null,null,null,null,null,null,null,null,0,0,0,null,null,null,"MSTF5"]
[null,null,null,null,null,null,null,null,null,null,null,null,"4.CFPTR.MSTF12","Ф-12","тыс.руб./тут",null,null,null,null,null,null,null,null,null,null,null,null,null,null,null,null,null,null,null,null,null,null,0,0,0,null,null,null,"MSTF12"]
[null,null,null,null,null,null,null,null,null,null,null,null,"4.CFPTR.OIL","Нефть","тыс.руб./тут",null,null,null,null,null,null,null,null,null,null,null,null,null,null,null,null,null,null,null,null,null,null,0,0,0,null,null,null,"OIL"]
[null,null,null,null,null,null,null,null,null,null,null,null,"4.CFPTR.COA","Уголь","тыс.руб./тут",null,null,null,null,null,null,null,null,null,null,null,null,null,null,null,null,null,null,null,null,null,null,0,0,0,null,null,null,"COA"]
[null,null,null,null,null,null,null,null,null,null,null,null,"4.CFPTR.COAA","Уголь антрацит","тыс.руб./тут",null,null,null,null,null,null,null,null,null,null,null,null,null,null,null,null,null,null,null,null,null,null,0,0,0,null,null,null,"COAA"]
[null,null,null,null,null,null,null,null,null,null,null,null,"4.CFPTR.COAB","Уголь бурый","тыс.руб./тут",null,null,null,null,null,null,null,null,null,null,null,null,null,null,null,null,null,null,null,null,null,null,0,0,0,null,null,null,"COAB"]
[null,null,null,null,null,null,null,null,null,null,null,null,"4.CFPTR.COAG","Уголь газовый","тыс.руб./тут",null,null,null,null,null,null,null,null,null,null,null,null,null,null,null,null,null,null,null,null,null,null,0,0,0,null,null,null,"COAG"]
[null,null,null,null,null,null,null,null,null,null,null,null,"4.CFPTR.COALF","Уголь длиннопламенный","тыс.руб./тут",null,null,null,null,null,null,null,null,null,null,null,null,null,null,null,null,null,null,null,null,null,null,0,0,0,null,null,null,"COALF"]
[null,null,null,null,null,null,null,null,null,null,null,null,"4.CFPTR.COAF","Уголь жирный","тыс.руб./тут",null,null,null,null,null,null,null,null,null,null,null,null,null,null,null,null,null,null,null,null,null,null,0,0,0,null,null,null,"COAF"]
[null,null,null,null,null,null,null,null,null,null,null,null,"4.CFPTR.COAC","Уголь коксовый","тыс.руб./тут",null,null,null,null,null,null,null,null,null,null,null,null,null,null,null,null,null,null,null,null,null,null,0,0,0,null,null,null,"COAC"]
[null,null,null,null,null,null,null,null,null,null,null,null,"4.CFPTR.COASC","Уголь отощённо-спекающийся","тыс.руб./тут",null,null,null,null,null,null,null,null,null,null,null,null,null,null,null,null,null,null,null,null,null,null,0,0,0,null,null,null,"COASC"]
[null,null,null,null,null,null,null,null,null,null,null,null,"4.CFPTR.COAWC","Уголь слабоспекающийся","тыс.руб./тут",null,null,null,null,null,null,null,null,null,null,null,null,null,null,null,null,null,null,null,null,null,null,{"$f":"IF(AL1111=0,0,AL979/AL1111)","v":0},0,0,null,null,null,"COAWC"]
[null,null,null,null,null,null,null,null,null,null,null,null,"4.CFPTR.COAS","Уголь тощий","тыс.руб./тут",null,null,null,null,null,null,null,null,null,null,null,null,null,null,null,null,null,null,null,null,null,null,0,0,0,null,null,null,"COAS"]
[]
[]
[null,null,null,null,null,null,null,null,null,null,null,null,"4.CFPTR.CWD","Уголь древесный","тыс.руб./тут",null,null,null,null,null,null,null,null,null,null,null,null,null,null,null,null,null,null,null,null,null,null,{"$f":"IF(AL1115=0,0,AL983/AL1115)","v":0},0,0,null,null,null,"CWD"]
[null,null,null,null,null,null,null,null,null,null,null,null,"4.CFPTR.WDS","Дрова","тыс.руб./тут",null,null,null,null,null,null,null,null,null,null,null,null,null,null,null,null,null,null,null,null,null,null,0,0,0,null,null,null,"WDS"]
[null,null,null,null,null,null,null,null,null,null,null,null,"4.CFPTR.PLT","Пеллеты","тыс.руб./тут",null,null,null,null,null,null,null,null,null,null,null,null,null,null,null,null,null,null,null,null,null,null,0,0,0,null,null,null,"PLT"]
[null,null,null,null,null,null,null,null,null,null,null,null,"4.CFPTR.SAW","Опилки","тыс.руб./тут",null,null,null,null,null,null,null,null,null,null,null,null,null,null,null,null,null,null,null,null,null,null,0,0,0,null,null,null,"SAW"]
[null,null,null,null,null,null,null,null,null,null,null,null,"4.CFPTR.PEA","Торф","тыс.руб./тут",null,null,null,null,null,null,null,null,null,null,null,null,null,null,null,null,null,null,null,null,null,null,0,0,0,null,null,null,"PEA"]
[null,null,null,null,null,null,null,null,null,null,null,null,"4.CFPTR.SHL","Сланцы","тыс.руб./тут",null,null,null,null,null,null,null,null,null,null,null,null,null,null,null,null,null,null,null,null,null,null,0,0,0,null,null,null,"SHL"]
[null,null,null,null,null,null,null,null,null,null,null,null,"4.CFPTR.STF","Печное бытовое топливо","тыс.руб./тут",null,null,null,null,null,null,null,null,null,null,null,null,null,null,null,null,null,null,null,null,null,null,0,0,0,null,null,null,"STF"]
[]
[null,null,null,null,null,null,null,null,null,null,null,null,"4.NFPTR","Цена натурального топлива с учётом транспортировки (перевозки)"]
[null,null,null,null,null,null,null,null,null,null,null,null,"4.NFPTR.NG","Газ природный","руб./тыс.м3",null,null,null,null,null,null,null,null,null,null,null,null,null,null,null,null,null,null,null,null,null,null,{"$f":"IF(AL1212=0,0,AL948/AL1212*1000)","v":0},0,0,null,null,null,"NG"]
[null,null,null,null,null,null,null,null,null,null,null,null,"4.NFPTR.NGL","Газ лимитный","руб./тыс.м3",null,null,null,null,null,null,null,null,null,null,null,null,null,null,null,null,null,null,null,null,null,null,0,0,0,null,null,null,"NGL"]
[null,null,null,null,null,null,null,null,null,null,null,null,"4.NFPTR.NGU","Газ сверхлимитный","руб./тыс.м3",null,null,null,null,null,null,null,null,null,null,null,null,null,null,null,null,null,null,null,null,null,null,0,0,0,null,null,null,"NGU"]
[null,null,null,null,null,null,null,null,null,null,null,null,"4.NFPTR.NGC","Газ коммерческий","руб./тыс.м3",null,null,null,null,null,null,null,null,null,null,null,null,null,null,null,null,null,null,null,null,null,null,0,0,0,null,null,null,"NGC"]
[null,null,null,null,null,null,null,null,null,null,null,null,"4.NFPTR.GBL","Газ доменный","руб./тнт",null,null,null,null,null,null,null,null,null,null,null,null,null,null,null,null,null,null,null,null,null,null,0,0,0,null,null,null,"GBL"]
[null,null,null,null,null,null,null,null,null,null,null,null,"4.NFPTR.GCK","Газ коксовый","руб./тнт",null,null,null,null,null,null,null,null,null,null,null,null,null,null,null,null,null,null,null,null,null,null,0,0,0,null,null,null,"GCK"]
[null,null,null,null,null,null,null,null,null,null,null,null,"4.NFPTR.GOA","Газ нефтяной (попутный)","руб./тнт",null,null,null,null,null,null,null,null,null,null,null,null,null,null,null,null,null,null,null,null,null,null,0,0,0,null,null,null,"GOA"]
[null,null,null,null,null,null,null,null,null,null,null,null,"4.NFPTR.DSG","Газ сухой отбензиненный","руб./тнт",null,null,null,null,null,null,null,null,null,null,null,null,null,null,null,null,null,null,null,null,null,null,0,0,0,null,null,null,"DSG"]
[null,null,null,null,null,null,null,null,null,null,null,null,"4.NFPTR.GCN","Газовый конденсат","руб./тнт",null,null,null,null,null,null,null,null,null,null,null,null,null,null,null,null,null,null,null,null,null,null,0,0,0,null,null,null,"GCN"]
[null,null,null,null,null,null,null,null,null,null,null,null,"4.NFPTR.LNG","Газ сжиженный","руб./тнт",null,null,null,null,null,null,null,null,null,null,null,null,null,null,null,null,null,null,null,null,null,null,0,0,0,null,null,null,"LNG"]
[null,null,null,null,null,null,null,null,null,null,null,null,"4.NFPTR.DSL","Дизельное топливо","руб./тнт",null,null,null,null,null,null,null,null,null,null,null,null,null,null,null,null,null,null,null,null,null,null,0,0,0,null,null,null,"DSL"]
[null,null,null,null,null,null,null,null,null,null,null,null,"4.NFPTR.DSLA","А (арктическое)","руб./тнт",null,null,null,null,null,null,null,null,null,null,null,null,null,null,null,null,null,null,null,null,null,null,0,0,0,null,null,null,"DSLA"]
[null,null,null,null,null,null,null,null,null,null,null,null,"4.NFPTR.DSLW","З (зимнее)","руб./тнт",null,null,null,null,null,null,null,null,null,null,null,null,null,null,null,null,null,null,null,null,null,null,0,0,0,null,null,null,"DSLW"]
[null,null,null,null,null,null,null,null,null,null,null,null,"4.NFPTR.DSLS","Л (летнее)","руб./тнт",null,null,null,null,null,null,null,null,null,null,null,null,null,null,null,null,null,null,null,null,null,null,0,0,0,null,null,null,"DSLS"]
[null,null,null,null,null,null,null,null,null,null,null,null,"4.NFPTR.DSLO","Е (межсезонное)","руб./тнт",null,null,null,null,null,null,null,null,null,null,null,null,null,null,null,null,null,null,null,null,null,null,0,0,0,null,null,null,"DSLO"]
[null,null,null,null,null,null,null,null,null,null,null,null,"4.NFPTR.MST","Мазут","руб./тнт",null,null,null,null,null,null,null,null,null,null,null,null,null,null,null,null,null,null,null,null,null,null,0,0,0,null,null,null,"MST"]
[null,null,null,null,null,null,null,null,null,null,null,null,"4.NFPTR.MSTM40","М-40","руб./тнт",null,null,null,null,null,null,null,null,null,null,null,null,null,null,null,null,null,null,null,null,null,null,{"$f":"IF(AL1228=0,0,AL964/AL1228*1000)","v":0},0,0,null,null,null,"MSTM40"]
[null,null,null,null,null,null,null,null,null,null,null,null,"4.NFPTR.MSTM100","М-100","руб./тнт",null,null,null,null,null,null,null,null,null,null,null,null,null,null,null,null,null,null,null,null,null,null,0,0,0,null,null,null,"MSTM100"]
[null,null,null,null,null,null,null,null,null,null,null,null,"4.NFPTR.MSTM200","М-200","руб./тнт",null,null,null,null,null,null,null,null,null,null,null,null,null,null,null,null,null,null,null,null,null,null,0,0,0,null,null,null,"MSTM200"]
[null,null,null,null,null,null,null,null,null,null,null,null,"4.NFPTR.MSTT","мазут марки \"Т\"","руб./тнт",null,null,null,null,null,null,null,null,null,null,null,null,null,null,null,null,null,null,null,null,null,null,0,0,0,null,null,null,"MSTT"]
[null,null,null,null,null,null,null,null,null,null,null,null,"4.NFPTR.MSTF5","Ф-5","руб./тнт",null,null,null,null,null,null,null,null,null,null,null,null,null,null,null,null,null,null,null,null,null,null,0,0,0,null,null,null,"MSTF5"]
[null,null,null,null,null,null,null,null,null,null,null,null,"4.NFPTR.MSTF12","Ф-12","руб./тнт",null,null,null,null,null,null,null,null,null,null,null,null,null,null,null,null,null,null,null,null,null,null,0,0,0,null,null,null,"MSTF12"]
[null,null,null,null,null,null,null,null,null,null,null,null,"4.NFPTR.OIL","Нефть","руб./тнт",null,null,null,null,null,null,null,null,null,null,null,null,null,null,null,null,null,null,null,null,null,null,0,0,0,null,null,null,"OIL"]
[null,null,null,null,null,null,null,null,null,null,null,null,"4.NFPTR.COA","Уголь","руб./тнт",null,null,null,null,null,null,null,null,null,null,null,null,null,null,null,null,null,null,null,null,null,null,0,0,0,null,null,null,"COA"]
[null,null,null,null,null,null,null,null,null,null,null,null,"4.NFPTR.COAA","Уголь антрацит","руб./тнт",null,null,null,null,null,null,null,null,null,null,null,null,null,null,null,null,null,null,null,null,null,null,0,0,0,null,null,null,"COAA"]
[null,null,null,null,null,null,null,null,null,null,null,null,"4.NFPTR.COAB","Уголь бурый","руб./тнт",null,null,null,null,null,null,null,null,null,null,null,null,null,null,null,null,null,null,null,null,null,null,0,0,0,null,null,null,"COAB"]
[null,null,null,null,null,null,null,null,null,null,null,null,"4.NFPTR.COAG","Уголь газовый","руб./тнт",null,null,null,null,null,null,null,null,null,null,null,null,null,null,null,null,null,null,null,null,null,null,0,0,0,null,null,null,"COAG"]
[null,null,null,null,null,null,null,null,null,null,null,null,"4.NFPTR.COALF","Уголь длиннопламенный","руб./тнт",null,null,null,null,null,null,null,null,null,null,null,null,null,null,null,null,null,null,null,null,null,null,0,0,0,null,null,null,"COALF"]
[null,null,null,null,null,null,null,null,null,null,null,null,"4.NFPTR.COAF","Уголь жирный","руб./тнт",null,null,null,null,null,null,null,null,null,null,null,null,null,null,null,null,null,null,null,null,null,null,0,0,0,null,null,null,"COAF"]
[null,null,null,null,null,null,null,null,null,null,null,null,"4.NFPTR.COAC","Уголь коксовый","руб./тнт",null,null,null,null,null,null,null,null,null,null,null,null,null,null,null,null,null,null,null,null,null,null,0,0,0,null,null,null,"COAC"]
[null,null,null,null,null,null,null,null,null,null,null,null,"4.NFPTR.COASC","Уголь отощённо-спекающийся","руб./тнт",null,null,null,null,null,null,null,null,null,null,null,null,null,null,null,null,null,null,null,null,null,null,0,0,0,null,null,null,"COASC"]
[null,null,null,null,null,null,null,null,null,null,null,null,"4.NFPTR.COAWC","Уголь слабоспекающийся","руб./тнт",null,null,null,null,null,null,null,null,null,null,null,null,null,null,null,null,null,null,null,null,null,null,0,0,0,null,null,null,"COAWC"]
[null,null,null,null,null,null,null,null,null,null,null,null,"4.NFPTR.COAS","Уголь тощий","руб./тнт",null,null,null,null,null,null,null,null,null,null,null,null,null,null,null,null,null,null,null,null,null,null,{"$f":"IF(AL1244=0,0,AL980/AL1244*1000)","v":0},{"$f":"IF(AM1244=0,0,AM980/AM1244*1000)","v":0},{"$f":"IF(AN1244=0,0,AN980/AN1244*1000)","v":0},null,null,null,"COAS"]
[null,null,null,null,null,null,null,null,null,null,null,null,"4.NFPTR.ENR","Энергия","руб./кВт*ч",null,null,null,null,null,null,null,null,null,null,null,null,null,null,null,null,null,null,null,null,null,null,{"$f":"IF(AL1835=0,0,AL981/AL1835)","v":0},0,0,null,null,null,"ENR"]
[null,null,null,null,null,null,null,null,null,null,null,null,"4.NFPTR.PWR","Заявленная мощность","руб./кВт*мес",null,null,null,null,null,null,null,null,null,null,null,null,null,null,null,null,null,null,null,null,null,null,0,0,0,null,null,null,"PWR"]
[null,null,null,null,null,null,null,null,null,null,null,null,"4.NFPTR.CWD","Уголь древесный","руб./тнт",null,null,null,null,null,null,null,null,null,null,null,null,null,null,null,null,null,null,null,null,null,null,{"$f":"IF(AL1247=0,0,AL983/AL1247*1000)","v":0},0,0,null,null,null,"CWD"]
[null,null,null,null,null,null,null,null,null,null,null,null,"4.NFPTR.WDS","Дрова","руб./тнт",null,null,null,null,null,null,null,null,null,null,null,null,null,null,null,null,null,null,null,null,null,null,0,0,0,null,null,null,"WDS"]
[null,null,null,null,null,null,null,null,null,null,null,null,"4.NFPTR.PLT","Пеллеты","руб./тнт",null,null,null,null,null,null,null,null,null,null,null,null,null,null,null,null,null,null,null,null,null,null,0,0,0,null,null,null,"PLT"]
[null,null,null,null,null,null,null,null,null,null,null,null,"4.NFPTR.SAW","Опилки","руб./тнт",null,null,null,null,null,null,null,null,null,null,null,null,null,null,null,null,null,null,null,null,null,null,0,0,0,null,null,null,"SAW"]
[null,null,null,null,null,null,null,null,null,null,null,null,"4.NFPTR.PEA","Торф","руб./тнт",null,null,null,null,null,null,null,null,null,null,null,null,null,null,null,null,null,null,null,null,null,null,0,0,0,null,null,null,"PEA"]
[null,null,null,null,null,null,null,null,null,null,null,null,"4.NFPTR.SHL","Сланцы","руб./тнт",null,null,null,null,null,null,null,null,null,null,null,null,null,null,null,null,null,null,null,null,null,null,0,0,0,null,null,null,"SHL"]
[null,null,null,null,null,null,null,null,null,null,null,null,"4.NFPTR.STF","Печное бытовое топливо","руб./тнт",null,null,null,null,null,null,null,null,null,null,null,null,null,null,null,null,null,null,null,null,null,null,0,0,0,null,null,null,"STF"]
[]
[null,null,null,null,null,null,null,null,null,null,null,null,"4.CFV","Расход условного топлива","тут",null,null,null,null,null,null,null,null,null,null,null,null,null,null,null,null,{"$f":"SUM(AF1080,AF1084:AF1089,AF1090,AF1095,AF1102,AF1103,AF1115:AF1121)","v":0},{"$f":"SUM(AG1080,AG1084:AG1089,AG1090,AG1095,AG1102,AG1103,AG1115:AG1121)","v":0},{"$f":"SUM(AH1080,AH1084:AH1089,AH1090,AH1095,AH1102,AH1103,AH1115:AH1121)","v":0},null,null,null,{"$f":"SUM(AL1080,AL1084:AL1089,AL1090,AL1095,AL1102,AL1103,AL1115:AL1121)","v":0},{"$f":"SUM(AM1080,AM1084:AM1089,AM1090,AM1095,AM1102,AM1103,AM1115:AM1121)","v":0},{"$f":"SUM(AN1080,AN1084:AN1089,AN1090,AN1095,AN1102,AN1103,AN1115:AN1121)","v":0}]
[null,null,null,null,null,null,null,null,null,null,null,null,"4.CFV.NG","Газ природный","тут",null,null,null,null,null,null,null,null,null,null,null,null,null,null,null,null,null,null,null,null,null,null,{"$f":"AM1080+AN1080","v":0},{"$f":"SUM(AM1081:AM1083)","v":0},{"$f":"SUM(AN1081:AN1083)","v":0},null,null,null,"NG"]
[null,null,null,null,null,null,null,null,null,null,null,null,"4.CFV.NGL","Газ лимитный","тут",null,null,null,null,null,null,null,null,null,null,null,null,null,null,null,null,null,null,null,null,null,null,0,{"$f":"AM1169*AM1213","v":0},0,null,null,null,"NGL"]
[null,null,null,null,null,null,null,null,null,null,null,null,"4.CFV.NGU","Газ сверхлимитный","тут",null,null,null,null,null,null,null,null,null,null,null,null,null,null,null,null,null,null,null,null,null,null,0,0,0,null,null,null,"NGU"]
[null,null,null,null,null,null,null,null,null,null,null,null,"4.CFV.NGC","Газ коммерческий","тут",null,null,null,null,null,null,null,null,null,null,null,null,null,null,null,null,null,null,null,null,null,null,0,0,0,null,null,null,"NGC"]
[null,null,null,null,null,null,null,null,null,null,null,null,"4.CFV.GBL","Газ доменный","тут",null,null,null,null,null,null,null,null,null,null,null,null,null,null,null,null,null,null,null,null,null,null,0,0,0,null,null,null,"GBL"]
[null,null,null,null,null,null,null,null,null,null,null,null,"4.CFV.GCK","Газ коксовый","тут",null,null,null,null,null,null,null,null,null,null,null,null,null,null,null,null,null,null,null,null,null,null,0,0,0,null,null,null,"GCK"]
[null,null,null,null,null,null,null,null,null,null,null,null,"4.CFV.GOA","Газ нефтяной (попутный)","тут",null,null,null,null,null,null,null,null,null,null,null,null,null,null,null,null,null,null,null,null,null,null,0,0,0,null,null,null,"GOA"]
[null,null,null,null,null,null,null,null,null,null,null,null,"4.CFV.DSG","Газ сухой отбензиненный","тут",null,null,null,null,null,null,null,null,null,null,null,null,null,null,null,null,null,null,null,null,null,null,0,0,0,null,null,null,"DSG"]
[null,null,null,null,null,null,null,null,null,null,null,null,"4.CFV.GCN","Газовый конденсат","тут",null,null,null,null,null,null,null,null,null,null,null,null,null,null,null,null,null,null,null,null,null,null,0,0,0,null,null,null,"GCN"]
[null,null,null,null,null,null,null,null,null,null,null,null,"4.CFV.LNG","Газ сжиженный","тут",null,null,null,null,null,null,null,null,null,null,null,null,null,null,null,null,null,null,null,null,null,null,0,0,0,null,null,null,"LNG"]
[null,null,null,null,null,null,null,null,null,null,null,null,"4.CFV.DSL","Дизельное топливо","тут",null,null,null,null,null,null,null,null,null,null,null,null,null,null,null,null,null,null,null,null,null,null,0,{"$f":"SUM(AM1091:AM1094)","v":0},{"$f":"SUM(AN1091:AN1094)","v":0},null,null,null,"DSL"]
[null,null,null,null,null,null,null,null,null,null,null,null,"4.CFV.DSLA","А (арктическое)","тут",null,null,null,null,null,null,null,null,null,null,null,null,null,null,null,null,null,null,null,null,null,null,0,0,0,null,null,null,"DSLA"]
[null,null,null,null,null,null,null,null,null,null,null,null,"4.CFV.DSLW","З (зимнее)","тут",null,null,null,null,null,null,null,null,null,null,null,null,null,null,null,null,null,null,null,null,null,null,0,0,0,null,null,null,"DSLW"]
[null,null,null,null,null,null,null,null,null,null,null,null,"4.CFV.DSLS","Л (летнее)","тут",null,null,null,null,null,null,null,null,null,null,null,null,null,null,null,null,null,null,null,null,null,null,0,0,0,null,null,null,"DSLS"]
[null,null,null,null,null,null,null,null,null,null,null,null,"4.CFV.DSLO","Е (межсезонное)","тут",null,null,null,null,null,null,null,null,null,null,null,null,null,null,null,null,null,null,null,null,null,null,0,0,0,null,null,null,"DSLO"]
[null,null,null,null,null,null,null,null,null,null,null,null,"4.CFV.MST","Мазут","тут",null,null,null,null,null,null,null,null,null,null,null,null,null,null,null,null,null,null,null,null,null,null,0,{"$f":"SUM(AM1096:AM1101)","v":0},{"$f":"SUM(AN1096:AN1101)","v":0},null,null,null,"MST"]
[null,null,null,null,null,null,null,null,null,null,null,null,"4.CFV.MSTM40","М-40","тут",null,null,null,null,null,null,null,null,null,null,null,null,null,null,null,null,null,null,null,null,null,null,0,0,0,null,null,null,"MSTM40"]
[null,null,null,null,null,null,null,null,null,null,null,null,"4.CFV.MSTM100","М-100","тут",null,null,null,null,null,null,null,null,null,null,null,null,null,null,null,null,null,null,null,null,null,null,0,{"$f":"AM1185*AM1229","v":0},0,null,null,null,"MSTM100"]
[null,null,null,null,null,null,null,null,null,null,null,null,"4.CFV.MSTM200","М-200","тут",null,null,null,null,null,null,null,null,null,null,null,null,null,null,null,null,null,null,null,null,null,null,0,0,0,null,null,null,"MSTM200"]
[null,null,null,null,null,null,null,null,null,null,null,null,"4.CFV.MSTT","мазут марки \"Т\"","тут",null,null,null,null,null,null,null,null,null,null,null,null,null,null,null,null,null,null,null,null,null,null,0,0,0,null,null,null,"MSTT"]
[null,null,null,null,null,null,null,null,null,null,null,null,"4.CFV.MSTF5","Ф-5","тут",null,null,null,null,null,null,null,null,null,null,null,null,null,null,null,null,null,null,null,null,null,null,0,0,0,null,null,null,"MSTF5"]
[null,null,null,null,null,null,null,null,null,null,null,null,"4.CFV.MSTF12","Ф-12","тут",null,null,null,null,null,null,null,null,null,null,null,null,null,null,null,null,null,null,null,null,null,null,0,0,0,null,null,null,"MSTF12"]
[null,null,null,null,null,null,null,null,null,null,null,null,"4.CFV.OIL","Нефть","тут",null,null,null,null,null,null,null,null,null,null,null,null,null,null,null,null,null,null,null,null,null,null,0,0,0,null,null,null,"OIL"]
[null,null,null,null,null,null,null,null,null,null,null,null,"4.CFV.COA","Уголь","тут",null,null,null,null,null,null,null,null,null,null,null,null,null,null,null,null,null,null,null,null,null,null,0,{"$f":"SUM(AM1104:AM1112)","v":0},{"$f":"SUM(AN1104:AN1112)","v":0},null,null,null,"COA"]
[null,null,null,null,null,null,null,null,null,null,null,null,"4.CFV.COAA","Уголь антрацит","тут",null,null,null,null,null,null,null,null,null,null,null,null,null,null,null,null,null,null,null,null,null,null,0,0,0,null,null,null,"COAA"]
[null,null,null,null,null,null,null,null,null,null,null,null,"4.CFV.COAB","Уголь бурый","тут",null,null,null,null,null,null,null,null,null,null,null,null,null,null,null,null,null,null,null,null,null,null,0,0,0,null,null,null,"COAB"]
[null,null,null,null,null,null,null,null,null,null,null,null,"4.CFV.COAG","Уголь газовый","тут",null,null,null,null,null,null,null,null,null,null,null,null,null,null,null,null,null,null,null,null,null,null,0,0,0,null,null,null,"COAG"]
[null,null,null,null,null,null,null,null,null,null,null,null,"4.CFV.COALF","Уголь длиннопламенный","тут",null,null,null,null,null,null,null,null,null,null,null,null,null,null,null,null,null,null,null,null,null,null,0,0,0,null,null,null,"COALF"]
[null,null,null,null,null,null,null,null,null,null,null,null,"4.CFV.COAF","Уголь жирный","тут",null,null,null,null,null,null,null,null,null,null,null,null,null,null,null,null,null,null,null,null,null,null,0,0,0,null,null,null,"COAF"]
[null,null,null,null,null,null,null,null,null,null,null,null,"4.CFV.COAC","Уголь коксовый","тут",null,null,null,null,null,null,null,null,null,null,null,null,null,null,null,null,null,null,null,null,null,null,0,0,0,null,null,null,"COAC"]
[null,null,null,null,null,null,null,null,null,null,null,null,"4.CFV.COASC","Уголь отощённо-спекающийся","тут",null,null,null,null,null,null,null,null,null,null,null,null,null,null,null,null,null,null,null,null,null,null,0,0,0,null,null,null,"COASC"]
[null,null,null,null,null,null,null,null,null,null,null,null,"4.CFV.COAWC","Уголь слабоспекающийся","тут",null,null,null,null,null,null,null,null,null,null,null,null,null,null,null,null,null,null,null,null,null,null,0,0,0,null,null,null,"COAWC"]
[null,null,null,null,null,null,null,null,null,null,null,null,"4.CFV.COAS","Уголь тощий","тут",null,null,null,null,null,null,null,null,null,null,null,null,null,null,null,null,null,null,null,null,null,null,0,0,0,null,null,null,"COAS"]
[]
[]
[null,null,null,null,null,null,null,null,null,null,null,null,"4.CFV.CWD","Уголь древесный","тут",null,null,null,null,null,null,null,null,null,null,null,null,null,null,null,null,null,null,null,null,null,null,{"$f":"AM1115+AN1115","v":0},{"$f":"AM1203*AM1247","v":0},0,null,null,null,"CWD"]
[null,null,null,null,null,null,null,null,null,null,null,null,"4.CFV.WDS","Дрова","тут",null,null,null,null,null,null,null,null,null,null,null,null,null,null,null,null,null,null,null,null,null,null,0,0,0,null,null,null,"WDS"]
[null,null,null,null,null,null,null,null,null,null,null,null,"4.CFV.PLT","Пеллеты","тут",null,null,null,null,null,null,null,null,null,null,null,null,null,null,null,null,null,null,null,null,null,null,0,0,0,null,null,null,"PLT"]
[null,null,null,null,null,null,null,null,null,null,null,null,"4.CFV.SAW","Опилки","тут",null,null,null,null,null,null,null,null,null,null,null,null,null,null,null,null,null,null,null,null,null,null,0,0,0,null,null,null,"SAW"]
[null,null,null,null,null,null,null,null,null,null,null,null,"4.CFV.PEA","Торф","тут",null,null,null,null,null,null,null,null,null,null,null,null,null,null,null,null,null,null,null,null,null,null,0,0,0,null,null,null,"PEA"]
[null,null,null,null,null,null,null,null,null,null,null,null,"4.CFV.SHL","Сланцы","тут",null,null,null,null,null,null,null,null,null,null,null,null,null,null,null,null,null,null,null,null,null,null,0,0,0,null,null,null,"SHL"]
[null,null,null,null,null,null,null,null,null,null,null,null,"4.CFV.STF","Печное бытовое топливо","тут",null,null,null,null,null,null,null,null,null,null,null,null,null,null,null,null,null,null,null,null,null,null,0,0,0,null,null,null,"STF"]
[]
[null,null,null,null,null,null,null,null,null,null,null,null,"4.P","Доля","%",null,null,null,null,null,null,null,null,null,null,null,null,null,null,null,null,{"$f":"SUM(AF1124,AF1128:AF1133,AF1134,AF1139,AF1146,AF1147,AF1159:AF1165)","v":0},{"$f":"SUM(AG1124,AG1128:AG1133,AG1134,AG1139,AG1146,AG1147,AG1159:AG1165)","v":0},{"$f":"SUM(AH1124,AH1128:AH1133,AH1134,AH1139,AH1146,AH1147,AH1159:AH1165)","v":0},null,null,null,{"$f":"SUM(AL1124,AL1128:AL1133,AL1134,AL1139,AL1146,AL1147,AL1159:AL1165)","v":0},{"$f":"SUM(AM1124,AM1128:AM1133,AM1134,AM1139,AM1146,AM1147,AM1159:AM1165)","v":0},{"$f":"SUM(AN1124,AN1128:AN1133,AN1134,AN1139,AN1146,AN1147,AN1159:AN1165)","v":0}]
[null,null,null,null,null,null,null,null,null,null,null,null,"4.P.NG","Газ природный","%",null,null,null,null,null,null,null,null,null,null,null,null,null,null,null,null,null,null,null,null,null,null,{"$f":"IF(AL1079=0,0,AL1080/AL1079*100)","v":0},{"$f":"IF(AM1079=0,0,AM1080/AM1079*100)","v":0},{"$f":"IF(AN1079=0,0,AN1080/AN1079*100)","v":0},null,null,null,"NG"]
[null,null,null,null,null,null,null,null,null,null,null,null,"4.P.NGL","Газ лимитный","%",null,null,null,null,null,null,null,null,null,null,null,null,null,null,null,null,null,null,null,null,null,null,{"$f":"IF(AL1079=0,0,AL1081/AL1079*100)","v":0},{"$f":"IF(AM1079=0,0,AM1081/AM1079*100)","v":0},{"$f":"IF(AN1079=0,0,AN1081/AN1079*100)","v":0},null,null,null,"NGL"]
[null,null,null,null,null,null,null,null,null,null,null,null,"4.P.NGU","Газ сверхлимитный","%",null,null,null,null,null,null,null,null,null,null,null,null,null,null,null,null,null,null,null,null,null,null,{"$f":"IF(AL1079=0,0,AL1082/AL1079*100)","v":0},{"$f":"IF(AM1079=0,0,AM1082/AM1079*100)","v":0},{"$f":"IF(AN1079=0,0,AN1082/AN1079*100)","v":0},null,null,null,"NGU"]
[null,null,null,null,null,null,null,null,null,null,null,null,"4.P.NGC","Газ коммерческий","%",null,null,null,null,null,null,null,null,null,null,null,null,null,null,null,null,null,null,null,null,null,null,{"$f":"IF(AL1079=0,0,AL1083/AL1079*100)","v":0},{"$f":"IF(AM1079=0,0,AM1083/AM1079*100)","v":0},{"$f":"IF(AN1079=0,0,AN1083/AN1079*100)","v":0},null,null,null,"NGC"]
[null,null,null,null,null,null,null,null,null,null,null,null,"4.P.GBL","Газ доменный","%",null,null,null,null,null,null,null,null,null,null,null,null,null,null,null,null,null,null,null,null,null,null,{"$f":"IF(AL1079=0,0,AL1084/AL1079*100)","v":0},{"$f":"IF(AM1079=0,0,AM1084/AM1079*100)","v":0},{"$f":"IF(AN1079=0,0,AN1084/AN1079*100)","v":0},null,null,null,"GBL"]
[null,null,null,null,null,null,null,null,null,null,null,null,"4.P.GCK","Газ коксовый","%",null,null,null,null,null,null,null,null,null,null,null,null,null,null,null,null,null,null,null,null,null,null,{"$f":"IF(AL1079=0,0,AL1085/AL1079*100)","v":0},{"$f":"IF(AM1079=0,0,AM1085/AM1079*100)","v":0},{"$f":"IF(AN1079=0,0,AN1085/AN1079*100)","v":0},null,null,null,"GCK"]
[null,null,null,null,null,null,null,null,null,null,null,null,"4.P.GOA","Газ нефтяной (попутный)","%",null,null,null,null,null,null,null,null,null,null,null,null,null,null,null,null,null,null,null,null,null,null,{"$f":"IF(AL1079=0,0,AL1086/AL1079*100)","v":0},{"$f":"IF(AM1079=0,0,AM1086/AM1079*100)","v":0},{"$f":"IF(AN1079=0,0,AN1086/AN1079*100)","v":0},null,null,null,"GOA"]
[null,null,null,null,null,null,null,null,null,null,null,null,"4.P.DSG","Газ сухой отбензиненный","%",null,null,null,null,null,null,null,null,null,null,null,null,null,null,null,null,null,null,null,null,null,null,{"$f":"IF(AL1079=0,0,AL1087/AL1079*100)","v":0},{"$f":"IF(AM1079=0,0,AM1087/AM1079*100)","v":0},{"$f":"IF(AN1079=0,0,AN1087/AN1079*100)","v":0},null,null,null,"DSG"]
[null,null,null,null,null,null,null,null,null,null,null,null,"4.P.GCN","Газовый конденсат","%",null,null,null,null,null,null,null,null,null,null,null,null,null,null,null,null,null,null,null,null,null,null,{"$f":"IF(AL1079=0,0,AL1088/AL1079*100)","v":0},{"$f":"IF(AM1079=0,0,AM1088/AM1079*100)","v":0},{"$f":"IF(AN1079=0,0,AN1088/AN1079*100)","v":0},null,null,null,"GCN"]
[null,null,null,null,null,null,null,null,null,null,null,null,"4.P.LNG","Газ сжиженный","%",null,null,null,null,null,null,null,null,null,null,null,null,null,null,null,null,null,null,null,null,null,null,{"$f":"IF(AL1079=0,0,AL1089/AL1079*100)","v":0},{"$f":"IF(AM1079=0,0,AM1089/AM1079*100)","v":0},{"$f":"IF(AN1079=0,0,AN1089/AN1079*100)","v":0},null,null,null,"LNG"]
[null,null,null,null,null,null,null,null,null,null,null,null,"4.P.DSL","Дизельное топливо","%",null,null,null,null,null,null,null,null,null,null,null,null,null,null,null,null,null,null,null,null,null,null,{"$f":"IF(AL1079=0,0,AL1090/AL1079*100)","v":0},{"$f":"IF(AM1079=0,0,AM1090/AM1079*100)","v":0},{"$f":"IF(AN1079=0,0,AN1090/AN1079*100)","v":0},null,null,null,"DSL"]
[null,null,null,null,null,null,null,null,null,null,null,null,"4.P.DSLA","А (арктическое)","%",null,null,null,null,null,null,null,null,null,null,null,null,null,null,null,null,null,null,null,null,null,null,{"$f":"IF(AL1079=0,0,AL1091/AL1079*100)","v":0},{"$f":"IF(AM1079=0,0,AM1091/AM1079*100)","v":0},{"$f":"IF(AN1079=0,0,AN1091/AN1079*100)","v":0},null,null,null,"DSLA"]
[null,null,null,null,null,null,null,null,null,null,null,null,"4.P.DSLW","З (зимнее)","%",null,null,null,null,null,null,null,null,null,null,null,null,null,null,null,null,null,null,null,null,null,null,{"$f":"IF(AL1079=0,0,AL1092/AL1079*100)","v":0},{"$f":"IF(AM1079=0,0,AM1092/AM1079*100)","v":0},{"$f":"IF(AN1079=0,0,AN1092/AN1079*100)","v":0},null,null,null,"DSLW"]
[null,null,null,null,null,null,null,null,null,null,null,null,"4.P.DSLS","Л (летнее)","%",null,null,null,null,null,null,null,null,null,null,null,null,null,null,null,null,null,null,null,null,null,null,{"$f":"IF(AL1079=0,0,AL1093/AL1079*100)","v":0},{"$f":"IF(AM1079=0,0,AM1093/AM1079*100)","v":0},{"$f":"IF(AN1079=0,0,AN1093/AN1079*100)","v":0},null,null,null,"DSLS"]
[null,null,null,null,null,null,null,null,null,null,null,null,"4.P.DSLO","Е (межсезонное)","%",null,null,null,null,null,null,null,null,null,null,null,null,null,null,null,null,null,null,null,null,null,null,{"$f":"IF(AL1079=0,0,AL1094/AL1079*100)","v":0},{"$f":"IF(AM1079=0,0,AM1094/AM1079*100)","v":0},{"$f":"IF(AN1079=0,0,AN1094/AN1079*100)","v":0},null,null,null,"DSLO"]
[null,null,null,null,null,null,null,null,null,null,null,null,"4.P.MST","Мазут","%",null,null,null,null,null,null,null,null,null,null,null,null,null,null,null,null,null,null,null,null,null,null,{"$f":"IF(AL1079=0,0,AL1095/AL1079*100)","v":0},{"$f":"IF(AM1079=0,0,AM1095/AM1079*100)","v":0},{"$f":"IF(AN1079=0,0,AN1095/AN1079*100)","v":0},null,null,null,"MST"]
[null,null,null,null,null,null,null,null,null,null,null,null,"4.P.MSTM40","М-40","%",null,null,null,null,null,null,null,null,null,null,null,null,null,null,null,null,null,null,null,null,null,null,{"$f":"IF(AL1079=0,0,AL1096/AL1079*100)","v":0},{"$f":"IF(AM1079=0,0,AM1096/AM1079*100)","v":0},{"$f":"IF(AN1079=0,0,AN1096/AN1079*100)","v":0},null,null,null,"MSTM40"]
[null,null,null,null,null,null,null,null,null,null,null,null,"4.P.MSTM100","М-100","%",null,null,null,null,null,null,null,null,null,null,null,null,null,null,null,null,null,null,null,null,null,null,{"$f":"IF(AL1079=0,0,AL1097/AL1079*100)","v":0},{"$f":"IF(AM1079=0,0,AM1097/AM1079*100)","v":0},{"$f":"IF(AN1079=0,0,AN1097/AN1079*100)","v":0},null,null,null,"MSTM100"]
[null,null,null,null,null,null,null,null,null,null,null,null,"4.P.MSTM200","М-200","%",null,null,null,null,null,null,null,null,null,null,null,null,null,null,null,null,null,null,null,null,null,null,{"$f":"IF(AL1079=0,0,AL1098/AL1079*100)","v":0},{"$f":"IF(AM1079=0,0,AM1098/AM1079*100)","v":0},{"$f":"IF(AN1079=0,0,AN1098/AN1079*100)","v":0},null,null,null,"MSTM200"]
[null,null,null,null,null,null,null,null,null,null,null,null,"4.P.MSTT","мазут марки \"Т\"","%",null,null,null,null,null,null,null,null,null,null,null,null,null,null,null,null,null,null,null,null,null,null,{"$f":"IF(AL1079=0,0,AL1099/AL1079*100)","v":0},{"$f":"IF(AM1079=0,0,AM1099/AM1079*100)","v":0},{"$f":"IF(AN1079=0,0,AN1099/AN1079*100)","v":0},null,null,null,"MSTT"]
[null,null,null,null,null,null,null,null,null,null,null,null,"4.P.MSTF5","Ф-5","%",null,null,null,null,null,null,null,null,null,null,null,null,null,null,null,null,null,null,null,null,null,null,{"$f":"IF(AL1079=0,0,AL1100/AL1079*100)","v":0},{"$f":"IF(AM1079=0,0,AM1100/AM1079*100)","v":0},{"$f":"IF(AN1079=0,0,AN1100/AN1079*100)","v":0},null,null,null,"MSTF5"]
[null,null,null,null,null,null,null,null,null,null,null,null,"4.P.MSTF12","Ф-12","%",null,null,null,null,null,null,null,null,null,null,null,null,null,null,null,null,null,null,null,null,null,null,{"$f":"IF(AL1079=0,0,AL1101/AL1079*100)","v":0},{"$f":"IF(AM1079=0,0,AM1101/AM1079*100)","v":0},{"$f":"IF(AN1079=0,0,AN1101/AN1079*100)","v":0},null,null,null,"MSTF12"]
[null,null,null,null,null,null,null,null,null,null,null,null,"4.P.OIL","Нефть","%",null,null,null,null,null,null,null,null,null,null,null,null,null,null,null,null,null,null,null,null,null,null,{"$f":"IF(AL1079=0,0,AL1102/AL1079*100)","v":0},{"$f":"IF(AM1079=0,0,AM1102/AM1079*100)","v":0},{"$f":"IF(AN1079=0,0,AN1102/AN1079*100)","v":0},null,null,null,"OIL"]
[null,null,null,null,null,null,null,null,null,null,null,null,"4.P.COA","Уголь","%",null,null,null,null,null,null,null,null,null,null,null,null,null,null,null,null,null,null,null,null,null,null,{"$f":"IF(AL1079=0,0,AL1103/AL1079*100)","v":0},{"$f":"IF(AM1079=0,0,AM1103/AM1079*100)","v":0},{"$f":"IF(AN1079=0,0,AN1103/AN1079*100)","v":0},null,null,null,"COA"]
[null,null,null,null,null,null,null,null,null,null,null,null,"4.P.COAA","Уголь антрацит","%",null,null,null,null,null,null,null,null,null,null,null,null,null,null,null,null,null,null,null,null,null,null,{"$f":"IF(AL1079=0,0,AL1104/AL1079*100)","v":0},{"$f":"IF(AM1079=0,0,AM1104/AM1079*100)","v":0},{"$f":"IF(AN1079=0,0,AN1104/AN1079*100)","v":0},null,null,null,"COAA"]
[null,null,null,null,null,null,null,null,null,null,null,null,"4.P.COAB","Уголь бурый","%",null,null,null,null,null,null,null,null,null,null,null,null,null,null,null,null,null,null,null,null,null,null,{"$f":"IF(AL1079=0,0,AL1105/AL1079*100)","v":0},{"$f":"IF(AM1079=0,0,AM1105/AM1079*100)","v":0},{"$f":"IF(AN1079=0,0,AN1105/AN1079*100)","v":0},null,null,null,"COAB"]
[null,null,null,null,null,null,null,null,null,null,null,null,"4.P.COAG","Уголь газовый","%",null,null,null,null,null,null,null,null,null,null,null,null,null,null,null,null,null,null,null,null,null,null,{"$f":"IF(AL1079=0,0,AL1106/AL1079*100)","v":0},{"$f":"IF(AM1079=0,0,AM1106/AM1079*100)","v":0},{"$f":"IF(AN1079=0,0,AN1106/AN1079*100)","v":0},null,null,null,"COAG"]
[null,null,null,null,null,null,null,null,null,null,null,null,"4.P.COALF","Уголь длиннопламенный","%",null,null,null,null,null,null,null,null,null,null,null,null,null,null,null,null,null,null,null,null,null,null,{"$f":"IF(AL1079=0,0,AL1107/AL1079*100)","v":0},{"$f":"IF(AM1079=0,0,AM1107/AM1079*100)","v":0},{"$f":"IF(AN1079=0,0,AN1107/AN1079*100)","v":0},null,null,null,"COALF"]
[null,null,null,null,null,null,null,null,null,null,null,null,"4.P.COAF","Уголь жирный","%",null,null,null,null,null,null,null,null,null,null,null,null,null,null,null,null,null,null,null,null,null,null,{"$f":"IF(AL1079=0,0,AL1108/AL1079*100)","v":0},{"$f":"IF(AM1079=0,0,AM1108/AM1079*100)","v":0},{"$f":"IF(AN1079=0,0,AN1108/AN1079*100)","v":0},null,null,null,"COAF"]
[null,null,null,null,null,null,null,null,null,null,null,null,"4.P.COAC","Уголь коксовый","%",null,null,null,null,null,null,null,null,null,null,null,null,null,null,null,null,null,null,null,null,null,null,{"$f":"IF(AL1079=0,0,AL1109/AL1079*100)","v":0},{"$f":"IF(AM1079=0,0,AM1109/AM1079*100)","v":0},{"$f":"IF(AN1079=0,0,AN1109/AN1079*100)","v":0},null,null,null,"COAC"]
[null,null,null,null,null,null,null,null,null,null,null,null,"4.P.COASC","Уголь отощённо-спекающийся","%",null,null,null,null,null,null,null,null,null,null,null,null,null,null,null,null,null,null,null,null,null,null,{"$f":"IF(AL1079=0,0,AL1110/AL1079*100)","v":0},{"$f":"IF(AM1079=0,0,AM1110/AM1079*100)","v":0},{"$f":"IF(AN1079=0,0,AN1110/AN1079*100)","v":0},null,null,null,"COASC"]
[null,null,null,null,null,null,null,null,null,null,null,null,"4.P.COAWC","Уголь слабоспекающийся","%",null,null,null,null,null,null,null,null,null,null,null,null,null,null,null,null,null,null,null,null,null,null,{"$f":"IF(AL1079=0,0,AL1111/AL1079*100)","v":0},{"$f":"IF(AM1079=0,0,AM1111/AM1079*100)","v":0},{"$f":"IF(AN1079=0,0,AN1111/AN1079*100)","v":0},null,null,null,"COAWC"]
[null,null,null,null,null,null,null,null,null,null,null,null,"4.P.COAS","Уголь тощий","%",null,null,null,null,null,null,null,null,null,null,null,null,null,null,null,null,null,null,null,null,null,null,{"$f":"IF(AL1079=0,0,AL1112/AL1079*100)","v":0},{"$f":"IF(AM1079=0,0,AM1112/AM1079*100)","v":0},{"$f":"IF(AN1079=0,0,AN1112/AN1079*100)","v":0},null,null,null,"COAS"]
[]
[]
[null,null,null,null,null,null,null,null,null,null,null,null,"4.P.CWD","Уголь древесный","%",null,null,null,null,null,null,null,null,null,null,null,null,null,null,null,null,null,null,null,null,null,null,{"$f":"IF(AL1079=0,0,AL1115/AL1079*100)","v":0},{"$f":"IF(AM1079=0,0,AM1115/AM1079*100)","v":0},{"$f":"IF(AN1079=0,0,AN1115/AN1079*100)","v":0},null,null,null,"CWD"]
[null,null,null,null,null,null,null,null,null,null,null,null,"4.P.WDS","Дрова","%",null,null,null,null,null,null,null,null,null,null,null,null,null,null,null,null,null,null,null,null,null,null,{"$f":"IF(AL1079=0,0,AL1116/AL1079*100)","v":0},{"$f":"IF(AM1079=0,0,AM1116/AM1079*100)","v":0},{"$f":"IF(AN1079=0,0,AN1116/AN1079*100)","v":0},null,null,null,"WDS"]
[null,null,null,null,null,null,null,null,null,null,null,null,"4.P.PLT","Пеллеты","%",null,null,null,null,null,null,null,null,null,null,null,null,null,null,null,null,null,null,null,null,null,null,{"$f":"IF(AL1079=0,0,AL1117/AL1079*100)","v":0},{"$f":"IF(AM1079=0,0,AM1117/AM1079*100)","v":0},{"$f":"IF(AN1079=0,0,AN1117/AN1079*100)","v":0},null,null,null,"PLT"]
[null,null,null,null,null,null,null,null,null,null,null,null,"4.P.SAW","Опилки","%",null,null,null,null,null,null,null,null,null,null,null,null,null,null,null,null,null,null,null,null,null,null,{"$f":"IF(AL1079=0,0,AL1118/AL1079*100)","v":0},{"$f":"IF(AM1079=0,0,AM1118/AM1079*100)","v":0},{"$f":"IF(AN1079=0,0,AN1118/AN1079*100)","v":0},null,null,null,"SAW"]
[null,null,null,null,null,null,null,null,null,null,null,null,"4.P.PEA","Торф","%",null,null,null,null,null,null,null,null,null,null,null,null,null,null,null,null,null,null,null,null,null,null,{"$f":"IF(AL1079=0,0,AL1119/AL1079*100)","v":0},{"$f":"IF(AM1079=0,0,AM1119/AM1079*100)","v":0},{"$f":"IF(AN1079=0,0,AN1119/AN1079*100)","v":0},null,null,null,"PEA"]
[null,null,null,null,null,null,null,null,null,null,null,null,"4.P.SHL","Сланцы","%",null,null,null,null,null,null,null,null,null,null,null,null,null,null,null,null,null,null,null,null,null,null,{"$f":"IF(AL1079=0,0,AL1120/AL1079*100)","v":0},{"$f":"IF(AM1079=0,0,AM1120/AM1079*100)","v":0},{"$f":"IF(AN1079=0,0,AN1120/AN1079*100)","v":0},null,null,null,"SHL"]
[null,null,null,null,null,null,null,null,null,null,null,null,"4.P.STF","Печное бытовое топливо","%",null,null,null,null,null,null,null,null,null,null,null,null,null,null,null,null,null,null,null,null,null,null,{"$f":"IF(AL1079=0,0,AL1121/AL1079*100)","v":0},{"$f":"IF(AM1079=0,0,AM1121/AM1079*100)","v":0},{"$f":"IF(AN1079=0,0,AN1121/AN1079*100)","v":0},null,null,null,"STF"]
[]
[null,null,null,null,null,null,null,null,null,null,null,null,"4.CF","Переводной коэффициент"]
[null,null,null,null,null,null,null,null,null,null,null,null,"4.CF.NG","Газ природный",null,null,null,null,null,null,null,null,null,null,null,null,null,null,null,null,null,null,null,null,null,null,null,{"$f":"IF(AL1212=0,0,AL1080/AL1212)","v":0},{"$f":"IF(AM1212=0,0,AM1080/AM1212)","v":0},{"$f":"IF(AN1212=0,0,AN1080/AN1212)","v":0},null,null,null,"NG"]
[null,null,null,null,null,null,null,null,null,null,null,null,"4.CF.NGL","Газ лимитный",null,null,null,null,null,null,null,null,null,null,null,null,null,null,null,null,null,null,null,null,null,null,null,null,{"$f":"AL1169","v":0},0,null,null,null,"NGL"]
[null,null,null,null,null,null,null,null,null,null,null,null,"4.CF.NGU","Газ сверхлимитный",null,null,null,null,null,null,null,null,null,null,null,null,null,null,null,null,null,null,null,null,null,null,null,null,0,0,null,null,null,"NGU"]
[null,null,null,null,null,null,null,null,null,null,null,null,"4.CF.NGC","Газ коммерческий",null,null,null,null,null,null,null,null,null,null,null,null,null,null,null,null,null,null,null,null,null,null,null,null,0,0,null,null,null,"NGC"]
[null,null,null,null,null,null,null,null,null,null,null,null,"4.CF.GBL","Газ доменный",null,null,null,null,null,null,null,null,null,null,null,null,null,null,null,null,null,null,null,null,null,null,null,null,0,0,null,null,null,"GBL"]
[null,null,null,null,null,null,null,null,null,null,null,null,"4.CF.GCK","Газ коксовый",null,null,null,null,null,null,null,null,null,null,null,null,null,null,null,null,null,null,null,null,null,null,null,null,0,0,null,null,null,"GCK"]
[null,null,null,null,null,null,null,null,null,null,null,null,"4.CF.GOA","Газ нефтяной (попутный)",null,null,null,null,null,null,null,null,null,null,null,null,null,null,null,null,null,null,null,null,null,null,null,null,0,0,null,null,null,"GOA"]
[null,null,null,null,null,null,null,null,null,null,null,null,"4.CF.DSG","Газ сухой отбензиненный",null,null,null,null,null,null,null,null,null,null,null,null,null,null,null,null,null,null,null,null,null,null,null,null,0,0,null,null,null,"DSG"]
[null,null,null,null,null,null,null,null,null,null,null,null,"4.CF.GCN","Газовый конденсат",null,null,null,null,null,null,null,null,null,null,null,null,null,null,null,null,null,null,null,null,null,null,null,null,0,0,null,null,null,"GCN"]
[null,null,null,null,null,null,null,null,null,null,null,null,"4.CF.LNG","Газ сжиженный",null,null,null,null,null,null,null,null,null,null,null,null,null,null,null,null,null,null,null,null,null,null,null,null,0,0,null,null,null,"LNG"]
[null,null,null,null,null,null,null,null,null,null,null,null,"4.CF.DSL","Дизельное топливо",null,null,null,null,null,null,null,null,null,null,null,null,null,null,null,null,null,null,null,null,null,null,null,{"$f":"IF(AL1222=0,0,AL1090/AL1222)","v":0},{"$f":"IF(AM1222=0,0,AM1090/AM1222)","v":0},{"$f":"IF(AN1222=0,0,AN1090/AN1222)","v":0},null,null,null,"DSL"]
[null,null,null,null,null,null,null,null,null,null,null,null,"4.CF.DSLA","А (арктическое)",null,null,null,null,null,null,null,null,null,null,null,null,null,null,null,null,null,null,null,null,null,null,null,null,0,0,null,null,null,"DSLA"]
[null,null,null,null,null,null,null,null,null,null,null,null,"4.CF.DSLW","З (зимнее)",null,null,null,null,null,null,null,null,null,null,null,null,null,null,null,null,null,null,null,null,null,null,null,null,0,0,null,null,null,"DSLW"]
[null,null,null,null,null,null,null,null,null,null,null,null,"4.CF.DSLS","Л (летнее)",null,null,null,null,null,null,null,null,null,null,null,null,null,null,null,null,null,null,null,null,null,null,null,null,0,0,null,null,null,"DSLS"]
[null,null,null,null,null,null,null,null,null,null,null,null,"4.CF.DSLO","Е (межсезонное)",null,null,null,null,null,null,null,null,null,null,null,null,null,null,null,null,null,null,null,null,null,null,null,null,0,0,null,null,null,"DSLO"]
[null,null,null,null,null,null,null,null,null,null,null,null,"4.CF.MST","Мазут",null,null,null,null,null,null,null,null,null,null,null,null,null,null,null,null,null,null,null,null,null,null,null,{"$f":"IF(AL1227=0,0,AL1095/AL1227)","v":0},{"$f":"IF(AM1227=0,0,AM1095/AM1227)","v":0},{"$f":"IF(AN1227=0,0,AN1095/AN1227)","v":0},null,null,null,"MST"]
[null,null,null,null,null,null,null,null,null,null,null,null,"4.CF.MSTM40","М-40",null,null,null,null,null,null,null,null,null,null,null,null,null,null,null,null,null,null,null,null,null,null,null,null,0,0,null,null,null,"MSTM40"]
[null,null,null,null,null,null,null,null,null,null,null,null,"4.CF.MSTM100","М-100",null,null,null,null,null,null,null,null,null,null,null,null,null,null,null,null,null,null,null,null,null,null,null,null,0,0,null,null,null,"MSTM100"]
[null,null,null,null,null,null,null,null,null,null,null,null,"4.CF.MSTM200","М-200",null,null,null,null,null,null,null,null,null,null,null,null,null,null,null,null,null,null,null,null,null,null,null,null,0,0,null,null,null,"MSTM200"]
[null,null,null,null,null,null,null,null,null,null,null,null,"4.CF.MSTT","мазут марки \"Т\"",null,null,null,null,null,null,null,null,null,null,null,null,null,null,null,null,null,null,null,null,null,null,null,null,0,0,null,null,null,"MSTT"]
[null,null,null,null,null,null,null,null,null,null,null,null,"4.CF.MSTF5","Ф-5",null,null,null,null,null,null,null,null,null,null,null,null,null,null,null,null,null,null,null,null,null,null,null,null,0,0,null,null,null,"MSTF5"]
[null,null,null,null,null,null,null,null,null,null,null,null,"4.CF.MSTF12","Ф-12",null,null,null,null,null,null,null,null,null,null,null,null,null,null,null,null,null,null,null,null,null,null,null,null,0,0,null,null,null,"MSTF12"]
[null,null,null,null,null,null,null,null,null,null,null,null,"4.CF.OIL","Нефть",null,null,null,null,null,null,null,null,null,null,null,null,null,null,null,null,null,null,null,null,null,null,null,null,0,0,null,null,null,"OIL"]
[null,null,null,null,null,null,null,null,null,null,null,null,"4.CF.COA","Уголь",null,null,null,null,null,null,null,null,null,null,null,null,null,null,null,null,null,null,null,null,null,null,null,{"$f":"IF(AL1235=0,0,AL1103/AL1235)","v":0},{"$f":"IF(AM1235=0,0,AM1103/AM1235)","v":0},{"$f":"IF(AN1235=0,0,AN1103/AN1235)","v":0},null,null,null,"COA"]
[null,null,null,null,null,null,null,null,null,null,null,null,"4.CF.COAA","Уголь антрацит",null,null,null,null,null,null,null,null,null,null,null,null,null,null,null,null,null,null,null,null,null,null,null,null,0,0,null,null,null,"COAA"]
[null,null,null,null,null,null,null,null,null,null,null,null,"4.CF.COAB","Уголь бурый",null,null,null,null,null,null,null,null,null,null,null,null,null,null,null,null,null,null,null,null,null,null,null,null,0,0,null,null,null,"COAB"]
[null,null,null,null,null,null,null,null,null,null,null,null,"4.CF.COAG","Уголь газовый",null,null,null,null,null,null,null,null,null,null,null,null,null,null,null,null,null,null,null,null,null,null,null,null,0,0,null,null,null,"COAG"]
[null,null,null,null,null,null,null,null,null,null,null,null,"4.CF.COALF","Уголь длиннопламенный",null,null,null,null,null,null,null,null,null,null,null,null,null,null,null,null,null,null,null,null,null,null,null,null,0,0,null,null,null,"COALF"]
[null,null,null,null,null,null,null,null,null,null,null,null,"4.CF.COAF","Уголь жирный",null,null,null,null,null,null,null,null,null,null,null,null,null,null,null,null,null,null,null,null,null,null,null,null,0,0,null,null,null,"COAF"]
[null,null,null,null,null,null,null,null,null,null,null,null,"4.CF.COAC","Уголь коксовый",null,null,null,null,null,null,null,null,null,null,null,null,null,null,null,null,null,null,null,null,null,null,null,null,0,0,null,null,null,"COAC"]
[null,null,null,null,null,null,null,null,null,null,null,null,"4.CF.COASC","Уголь отощённо-спекающийся",null,null,null,null,null,null,null,null,null,null,null,null,null,null,null,null,null,null,null,null,null,null,null,null,0,0,null,null,null,"COASC"]
[null,null,null,null,null,null,null,null,null,null,null,null,"4.CF.COAWC","Уголь слабоспекающийся",null,null,null,null,null,null,null,null,null,null,null,null,null,null,null,null,null,null,null,null,null,null,null,null,0,0,null,null,null,"COAWC"]
[null,null,null,null,null,null,null,null,null,null,null,null,"4.CF.COAS","Уголь тощий",null,null,null,null,null,null,null,null,null,null,null,null,null,null,null,null,null,null,null,null,null,null,null,null,0,0,null,null,null,"COAS"]
[]
[]
[null,null,null,null,null,null,null,null,null,null,null,null,"4.CF.CWD","Уголь древесный",null,null,null,null,null,null,null,null,null,null,null,null,null,null,null,null,null,null,null,null,null,null,null,null,{"$f":"AL1203","v":0},0,null,null,null,"CWD"]
[null,null,null,null,null,null,null,null,null,null,null,null,"4.CF.WDS","Дрова",null,null,null,null,null,null,null,null,null,null,null,null,null,null,null,null,null,null,null,null,null,null,null,null,0,0,null,null,null,"WDS"]
[null,null,null,null,null,null,null,null,null,null,null,null,"4.CF.PLT","Пеллеты",null,null,null,null,null,null,null,null,null,null,null,null,null,null,null,null,null,null,null,null,null,null,null,null,0,0,null,null,null,"PLT"]
[null,null,null,null,null,null,null,null,null,null,null,null,"4.CF.SAW","Опилки",null,null,null,null,null,null,null,null,null,null,null,null,null,null,null,null,null,null,null,null,null,null,null,null,0,0,null,null,null,"SAW"]
[null,null,null,null,null,null,null,null,null,null,null,null,"4.CF.PEA","Торф",null,null,null,null,null,null,null,null,null,null,null,null,null,null,null,null,null,null,null,null,null,null,null,null,0,0,null,null,null,"PEA"]
[null,null,null,null,null,null,null,null,null,null,null,null,"4.CF.SHL","Сланцы",null,null,null,null,null,null,null,null,null,null,null,null,null,null,null,null,null,null,null,null,null,null,null,null,0,0,null,null,null,"SHL"]
[null,null,null,null,null,null,null,null,null,null,null,null,"4.CF.STF","Печное бытовое топливо",null,null,null,null,null,null,null,null,null,null,null,null,null,null,null,null,null,null,null,null,null,null,null,null,0,0,null,null,null,"STF"]
[]
[null,null,null,null,null,null,null,null,null,null,null,null,"4.NFV","Расход натурального топлива"]
[null,null,null,null,null,null,null,null,null,null,null,null,"4.NFV.NG","Газ природный","тыс.м3",null,null,null,null,null,null,null,null,null,null,null,null,null,null,null,null,null,null,null,null,null,null,{"$f":"AM1212+AN1212","v":0},{"$f":"SUM(AM1213:AM1215)","v":0},{"$f":"SUM(AN1213:AN1215)","v":0},null,null,null,"NG"]
[null,null,null,null,null,null,null,null,null,null,null,null,"4.NFV.NGL","Газ лимитный","тыс.м3",null,null,null,null,null,null,null,null,null,null,null,null,null,null,null,null,null,null,null,null,null,null,{"$f":"AL1256","v":0},{"$f":"AM1256","v":0},{"$f":"AN1256","v":0},null,null,null,"NGL"]
[null,null,null,null,null,null,null,null,null,null,null,null,"4.NFV.NGU","Газ сверхлимитный","тыс.м3",null,null,null,null,null,null,null,null,null,null,null,null,null,null,null,null,null,null,null,null,null,null,{"$f":"AL1264","v":0},{"$f":"AM1264","v":0},{"$f":"AN1264","v":0},null,null,null,"NGU"]
[null,null,null,null,null,null,null,null,null,null,null,null,"4.NFV.NGC","Газ коммерческий","тыс.м3",null,null,null,null,null,null,null,null,null,null,null,null,null,null,null,null,null,null,null,null,null,null,{"$f":"AM1215+AN1215","v":0},null,null,null,null,null,"NGC"]
[null,null,null,null,null,null,null,null,null,null,null,null,"4.NFV.GBL","Газ доменный","тнт",null,null,null,null,null,null,null,null,null,null,null,null,null,null,null,null,null,null,null,null,null,null,0,null,null,null,null,null,"GBL"]
[null,null,null,null,null,null,null,null,null,null,null,null,"4.NFV.GCK","Газ коксовый","тнт",null,null,null,null,null,null,null,null,null,null,null,null,null,null,null,null,null,null,null,null,null,null,0,null,null,null,null,null,"GCK"]
[null,null,null,null,null,null,null,null,null,null,null,null,"4.NFV.GOA","Газ нефтяной (попутный)","тнт",null,null,null,null,null,null,null,null,null,null,null,null,null,null,null,null,null,null,null,null,null,null,0,null,null,null,null,null,"GOA"]
[null,null,null,null,null,null,null,null,null,null,null,null,"4.NFV.DSG","Газ сухой отбензиненный","тнт",null,null,null,null,null,null,null,null,null,null,null,null,null,null,null,null,null,null,null,null,null,null,0,null,null,null,null,null,"DSG"]
[null,null,null,null,null,null,null,null,null,null,null,null,"4.NFV.GCN","Газовый конденсат","тнт",null,null,null,null,null,null,null,null,null,null,null,null,null,null,null,null,null,null,null,null,null,null,0,null,null,null,null,null,"GCN"]
[null,null,null,null,null,null,null,null,null,null,null,null,"4.NFV.LNG","Газ сжиженный","тнт",null,null,null,null,null,null,null,null,null,null,null,null,null,null,null,null,null,null,null,null,null,null,0,null,null,null,null,null,"LNG"]
[null,null,null,null,null,null,null,null,null,null,null,null,"4.NFV.DSL","Дизельное топливо","тнт",null,null,null,null,null,null,null,null,null,null,null,null,null,null,null,null,null,null,null,null,null,null,0,{"$f":"SUM(AM1223:AM1226)","v":0},{"$f":"SUM(AN1223:AN1226)","v":0},null,null,null,"DSL"]
[null,null,null,null,null,null,null,null,null,null,null,null,"4.NFV.DSLA","А (арктическое)","тнт",null,null,null,null,null,null,null,null,null,null,null,null,null,null,null,null,null,null,null,null,null,null,0,null,null,null,null,null,"DSLA"]
[null,null,null,null,null,null,null,null,null,null,null,null,"4.NFV.DSLW","З (зимнее)","тнт",null,null,null,null,null,null,null,null,null,null,null,null,null,null,null,null,null,null,null,null,null,null,0,null,null,null,null,null,"DSLW"]
[null,null,null,null,null,null,null,null,null,null,null,null,"4.NFV.DSLS","Л (летнее)","тнт",null,null,null,null,null,null,null,null,null,null,null,null,null,null,null,null,null,null,null,null,null,null,0,null,null,null,null,null,"DSLS"]
[null,null,null,null,null,null,null,null,null,null,null,null,"4.NFV.DSLO","Е (межсезонное)","тнт",null,null,null,null,null,null,null,null,null,null,null,null,null,null,null,null,null,null,null,null,null,null,0,null,null,null,null,null,"DSLO"]
[null,null,null,null,null,null,null,null,null,null,null,null,"4.NFV.MST","Мазут","тнт",null,null,null,null,null,null,null,null,null,null,null,null,null,null,null,null,null,null,null,null,null,null,0,{"$f":"SUM(AM1228:AM1233)","v":0},{"$f":"SUM(AN1228:AN1233)","v":0},null,null,null,"MST"]
[null,null,null,null,null,null,null,null,null,null,null,null,"4.NFV.MSTM40","М-40","тнт",null,null,null,null,null,null,null,null,null,null,null,null,null,null,null,null,null,null,null,null,null,null,0,null,null,null,null,null,"MSTM40"]
[null,null,null,null,null,null,null,null,null,null,null,null,"4.NFV.MSTM100","М-100","тнт",null,null,null,null,null,null,null,null,null,null,null,null,null,null,null,null,null,null,null,null,null,null,0,null,null,null,null,null,"MSTM100"]
[null,null,null,null,null,null,null,null,null,null,null,null,"4.NFV.MSTM200","М-200","тнт",null,null,null,null,null,null,null,null,null,null,null,null,null,null,null,null,null,null,null,null,null,null,0,null,null,null,null,null,"MSTM200"]
[null,null,null,null,null,null,null,null,null,null,null,null,"4.NFV.MSTT","мазут марки \"Т\"","тнт",null,null,null,null,null,null,null,null,null,null,null,null,null,null,null,null,null,null,null,null,null,null,0,null,null,null,null,null,"MSTT"]
[null,null,null,null,null,null,null,null,null,null,null,null,"4.NFV.MSTF5","Ф-5","тнт",null,null,null,null,null,null,null,null,null,null,null,null,null,null,null,null,null,null,null,null,null,null,0,null,null,null,null,null,"MSTF5"]
[null,null,null,null,null,null,null,null,null,null,null,null,"4.NFV.MSTF12","Ф-12","тнт",null,null,null,null,null,null,null,null,null,null,null,null,null,null,null,null,null,null,null,null,null,null,0,null,null,null,null,null,"MSTF12"]
[null,null,null,null,null,null,null,null,null,null,null,null,"4.NFV.OIL","Нефть","тнт",null,null,null,null,null,null,null,null,null,null,null,null,null,null,null,null,null,null,null,null,null,null,0,null,null,null,null,null,"OIL"]
[null,null,null,null,null,null,null,null,null,null,null,null,"4.NFV.COA","Уголь","тнт",null,null,null,null,null,null,null,null,null,null,null,null,null,null,null,null,null,null,null,null,null,null,0,{"$f":"SUM(AM1236:AM1244)","v":0},{"$f":"SUM(AN1236:AN1244)","v":0},null,null,null,"COA"]
[null,null,null,null,null,null,null,null,null,null,null,null,"4.NFV.COAA","Уголь антрацит","тнт",null,null,null,null,null,null,null,null,null,null,null,null,null,null,null,null,null,null,null,null,null,null,0,null,null,null,null,null,"COAA"]
[null,null,null,null,null,null,null,null,null,null,null,null,"4.NFV.COAB","Уголь бурый","тнт",null,null,null,null,null,null,null,null,null,null,null,null,null,null,null,null,null,null,null,null,null,null,0,null,null,null,null,null,"COAB"]
[null,null,null,null,null,null,null,null,null,null,null,null,"4.NFV.COAG","Уголь газовый","тнт",null,null,null,null,null,null,null,null,null,null,null,null,null,null,null,null,null,null,null,null,null,null,0,null,null,null,null,null,"COAG"]
[null,null,null,null,null,null,null,null,null,null,null,null,"4.NFV.COALF","Уголь длиннопламенный","тнт",null,null,null,null,null,null,null,null,null,null,null,null,null,null,null,null,null,null,null,null,null,null,0,null,null,null,null,null,"COALF"]
[null,null,null,null,null,null,null,null,null,null,null,null,"4.NFV.COAF","Уголь жирный","тнт",null,null,null,null,null,null,null,null,null,null,null,null,null,null,null,null,null,null,null,null,null,null,0,null,null,null,null,null,"COAF"]
[null,null,null,null,null,null,null,null,null,null,null,null,"4.NFV.COAC","Уголь коксовый","тнт",null,null,null,null,null,null,null,null,null,null,null,null,null,null,null,null,null,null,null,null,null,null,0,null,null,null,null,null,"COAC"]
[null,null,null,null,null,null,null,null,null,null,null,null,"4.NFV.COASC","Уголь отощённо-спекающийся","тнт",null,null,null,null,null,null,null,null,null,null,null,null,null,null,null,null,null,null,null,null,null,null,0,null,null,null,null,null,"COASC"]
[null,null,null,null,null,null,null,null,null,null,null,null,"4.NFV.COAWC","Уголь слабоспекающийся","тнт",null,null,null,null,null,null,null,null,null,null,null,null,null,null,null,null,null,null,null,null,null,null,0,null,null,null,null,null,"COAWC"]
[null,null,null,null,null,null,null,null,null,null,null,null,"4.NFV.COAS","Уголь тощий","тнт",null,null,null,null,null,null,null,null,null,null,null,null,null,null,null,null,null,null,null,null,null,null,0,null,null,null,null,null,"COAS"]
[null,null,null,null,null,null,null,null,null,null,null,null,"4.NFV.ENR","Энергия","тыс.кВт*ч",null,null,null,null,null,null,null,null,null,null,null,null,null,null,null,null,null,null,null,null,null,null,{"$f":"AL1835","v":0},0,0,null,null,null,"ENR"]
[null,null,null,null,null,null,null,null,null,null,null,null,"4.NFV.PWR","Заявленная мощность","МВт",null,null,null,null,null,null,null,null,null,null,null,null,null,null,null,null,null,null,null,null,null,null,0,0,0,null,null,null,"PWR"]
[null,null,null,null,null,null,null,null,null,null,null,null,"4.NFV.CWD","Уголь древесный","тнт",null,null,null,null,null,null,null,null,null,null,null,null,null,null,null,null,null,null,null,null,null,null,{"$f":"AM1247+AN1247","v":0},null,null,null,null,null,"CWD"]
[null,null,null,null,null,null,null,null,null,null,null,null,"4.NFV.WDS","Дрова","тнт",null,null,null,null,null,null,null,null,null,null,null,null,null,null,null,null,null,null,null,null,null,null,0,null,null,null,null,null,"WDS"]
[null,null,null,null,null,null,null,null,null,null,null,null,"4.NFV.PLT","Пеллеты","тнт",null,null,null,null,null,null,null,null,null,null,null,null,null,null,null,null,null,null,null,null,null,null,0,null,null,null,null,null,"PLT"]
[null,null,null,null,null,null,null,null,null,null,null,null,"4.NFV.SAW","Опилки","тнт",null,null,null,null,null,null,null,null,null,null,null,null,null,null,null,null,null,null,null,null,null,null,0,null,null,null,null,null,"SAW"]
[null,null,null,null,null,null,null,null,null,null,null,null,"4.NFV.PEA","Торф","тнт",null,null,null,null,null,null,null,null,null,null,null,null,null,null,null,null,null,null,null,null,null,null,0,null,null,null,null,null,"PEA"]
[null,null,null,null,null,null,null,null,null,null,null,null,"4.NFV.SHL","Сланцы","тнт",null,null,null,null,null,null,null,null,null,null,null,null,null,null,null,null,null,null,null,null,null,null,0,null,null,null,null,null,"SHL"]
[null,null,null,null,null,null,null,null,null,null,null,null,"4.NFV.STF","Печное бытовое топливо","тнт",null,null,null,null,null,null,null,null,null,null,null,null,null,null,null,null,null,null,null,null,null,null,0,null,null,null,null,null,"STF"]
[]
[null,null,null,null,null,null,null,null,null,null,null,null,"4.NGV","Расход природного газа"]
[null,null,null,null,null,null,null,null,null,null,null,null,"4.NGV.NGL","Газ лимитный","тыс.м3",null,null,null,null,null,null,null,null,null,null,null,null,null,null,null,null,null,null,null,null,null,null,{"$f":"AM1256+AN1256","v":0},{"$f":"SUM(AM1257:AM1263)","v":0},{"$f":"SUM(AN1257:AN1263)","v":0},null,null,null,"NGL"]
[null,null,null,null,null,null,null,null,null,null,null,null,"4.NGV.1.NGL","1 группа: свыше 500 млн.м3","тыс.м3",null,null,null,null,null,null,null,null,null,null,null,null,null,null,null,null,null,null,null,null,null,null,0,null,null,null,null,null,"NGL"]
[null,null,null,null,null,null,null,null,null,null,null,null,"4.NGV.2.NGL","2 группа: от 100 до 500 млн.м3 включительно","тыс.м3",null,null,null,null,null,null,null,null,null,null,null,null,null,null,null,null,null,null,null,null,null,null,0,null,null,null,null,null,"NGL"]
[null,null,null,null,null,null,null,null,null,null,null,null,"4.NGV.3.NGL","3 группа: от 10 до 100 млн.м3 включительно","тыс.м3",null,null,null,null,null,null,null,null,null,null,null,null,null,null,null,null,null,null,null,null,null,null,0,null,null,null,null,null,"NGL"]
[null,null,null,null,null,null,null,null,null,null,null,null,"4.NGV.4.NGL","4 группа: от 1 до 10 млн.м3 включительно","тыс.м3",null,null,null,null,null,null,null,null,null,null,null,null,null,null,null,null,null,null,null,null,null,null,0,null,null,null,null,null,"NGL"]
[null,null,null,null,null,null,null,null,null,null,null,null,"4.NGV.5.NGL","5 группа: от 0,1 до 1 млн.м3 включительно","тыс.м3",null,null,null,null,null,null,null,null,null,null,null,null,null,null,null,null,null,null,null,null,null,null,0,null,null,null,null,null,"NGL"]
[null,null,null,null,null,null,null,null,null,null,null,null,"4.NGV.6.NGL","6 группа: от 0,01 до 0,1 млн.м3 включительно","тыс.м3",null,null,null,null,null,null,null,null,null,null,null,null,null,null,null,null,null,null,null,null,null,null,0,null,null,null,null,null,"NGL"]
[null,null,null,null,null,null,null,null,null,null,null,null,"4.NGV.7.NGL","7 группа: до 0,01 млн.м3 включительно","тыс.м3",null,null,null,null,null,null,null,null,null,null,null,null,null,null,null,null,null,null,null,null,null,null,0,null,null,null,null,null,"NGL"]
[null,null,null,null,null,null,null,null,null,null,null,null,"4.NGV.NGU","Газ сверхлимитный","тыс.м3",null,null,null,null,null,null,null,null,null,null,null,null,null,null,null,null,null,null,null,null,null,null,0,{"$f":"SUM(AM1265:AM1271)","v":0},{"$f":"SUM(AN1265:AN1271)","v":0},null,null,null,"NGU"]
[null,null,null,null,null,null,null,null,null,null,null,null,"4.NGV.1.NGU","1 группа: свыше 500 млн.м3","тыс.м3",null,null,null,null,null,null,null,null,null,null,null,null,null,null,null,null,null,null,null,null,null,null,0,null,null,null,null,null,"NGU"]
[null,null,null,null,null,null,null,null,null,null,null,null,"4.NGV.2.NGU","2 группа: от 100 до 500 млн.м3 включительно","тыс.м3",null,null,null,null,null,null,null,null,null,null,null,null,null,null,null,null,null,null,null,null,null,null,0,null,null,null,null,null,"NGU"]
[null,null,null,null,null,null,null,null,null,null,null,null,"4.NGV.3.NGU","3 группа: от 10 до 100 млн.м3 включительно","тыс.м3",null,null,null,null,null,null,null,null,null,null,null,null,null,null,null,null,null,null,null,null,null,null,0,null,null,null,null,null,"NGU"]
[null,null,null,null,null,null,null,null,null,null,null,null,"4.NGV.4.NGU","4 группа: от 1 до 10 млн.м3 включительно","тыс.м3",null,null,null,null,null,null,null,null,null,null,null,null,null,null,null,null,null,null,null,null,null,null,0,null,null,null,null,null,"NGU"]
[null,null,null,null,null,null,null,null,null,null,null,null,"4.NGV.5.NGU","5 группа: от 0,1 до 1 млн.м3 включительно","тыс.м3",null,null,null,null,null,null,null,null,null,null,null,null,null,null,null,null,null,null,null,null,null,null,0,null,null,null,null,null,"NGU"]
[null,null,null,null,null,null,null,null,null,null,null,null,"4.NGV.6.NGU","6 группа: от 0,01 до 0,1 млн.м3 включительно","тыс.м3",null,null,null,null,null,null,null,null,null,null,null,null,null,null,null,null,null,null,null,null,null,null,0,null,null,null,null,null,"NGU"]
[null,null,null,null,null,null,null,null,null,null,null,null,"4.NGV.7.NGU","7 группа: до 0,01 млн.м3 включительно","тыс.м3",null,null,null,null,null,null,null,null,null,null,null,null,null,null,null,null,null,null,null,null,null,null,0,null,null,null,null,null,"NGU"]
[]
[null,null,null,null,null,null,null,null,null,null,null,null,null,"Показатели себестоимости топлива "]
[]
[null,null,null,null,null,null,null,null,null,null,null,null,"4.NFP","Цена натурального топлива без учёта транспортировки (перевозки)"]
[null,null,null,null,null,null,null,null,null,null,null,null,"4.NFP.NG","Газ природный","руб./тыс.м3",null,null,null,null,null,null,null,null,null,null,null,null,null,null,null,null,null,null,null,null,null,null,{"$f":"IF(AL1212=0,0,AL1320/AL1212*1000)","v":0},{"$f":"IF(AM1212=0,0,AM1320/AM1212*1000)","v":0},{"$f":"IF(AN1212=0,0,AN1320/AN1212*1000)","v":0},null,null,null,"NG"]
[null,null,null,null,null,null,null,null,null,null,null,null,"4.NFP.NGL","Газ лимитный","руб./тыс.м3",null,null,null,null,null,null,null,null,null,null,null,null,null,null,null,null,null,null,null,null,null,null,{"$f":"IF(AL1213=0,0,AL1321/AL1213*1000)","v":0},null,null,null,null,null,"NGL"]
[null,null,null,null,null,null,null,null,null,null,null,null,"4.NFP.NGU","Газ сверхлимитный","руб./тыс.м3",null,null,null,null,null,null,null,null,null,null,null,null,null,null,null,null,null,null,null,null,null,null,0,null,null,null,null,null,"NGU"]
[null,null,null,null,null,null,null,null,null,null,null,null,"4.NFP.NGC","Газ коммерческий","руб./тыс.м3",null,null,null,null,null,null,null,null,null,null,null,null,null,null,null,null,null,null,null,null,null,null,0,null,null,null,null,null,"NGC"]
[null,null,null,null,null,null,null,null,null,null,null,null,"4.NFP.GBL","Газ доменный","руб./тнт",null,null,null,null,null,null,null,null,null,null,null,null,null,null,null,null,null,null,null,null,null,null,0,null,null,null,null,null,"GBL"]
[null,null,null,null,null,null,null,null,null,null,null,null,"4.NFP.GCK","Газ коксовый","руб./тнт",null,null,null,null,null,null,null,null,null,null,null,null,null,null,null,null,null,null,null,null,null,null,0,null,null,null,null,null,"GCK"]
[null,null,null,null,null,null,null,null,null,null,null,null,"4.NFP.GOA","Газ нефтяной (попутный)","руб./тнт",null,null,null,null,null,null,null,null,null,null,null,null,null,null,null,null,null,null,null,null,null,null,0,null,null,null,null,null,"GOA"]
[null,null,null,null,null,null,null,null,null,null,null,null,"4.NFP.DSG","Газ сухой отбензиненный","руб./тнт",null,null,null,null,null,null,null,null,null,null,null,null,null,null,null,null,null,null,null,null,null,null,0,null,null,null,null,null,"DSG"]
[null,null,null,null,null,null,null,null,null,null,null,null,"4.NFP.GCN","Газовый конденсат","руб./тнт",null,null,null,null,null,null,null,null,null,null,null,null,null,null,null,null,null,null,null,null,null,null,0,null,null,null,null,null,"GCN"]
[null,null,null,null,null,null,null,null,null,null,null,null,"4.NFP.LNG","Газ сжиженный","руб./тнт",null,null,null,null,null,null,null,null,null,null,null,null,null,null,null,null,null,null,null,null,null,null,0,null,null,null,null,null,"LNG"]
[null,null,null,null,null,null,null,null,null,null,null,null,"4.NFP.DSL","Дизельное топливо","руб./тнт",null,null,null,null,null,null,null,null,null,null,null,null,null,null,null,null,null,null,null,null,null,null,0,{"$f":"IF(AM1222=0,0,AM1330/AM1222*1000)","v":0},{"$f":"IF(AN1222=0,0,AN1330/AN1222*1000)","v":0},null,null,null,"DSL"]
[null,null,null,null,null,null,null,null,null,null,null,null,"4.NFP.DSLA","А (арктическое)","руб./тнт",null,null,null,null,null,null,null,null,null,null,null,null,null,null,null,null,null,null,null,null,null,null,0,null,null,null,null,null,"DSLA"]
[null,null,null,null,null,null,null,null,null,null,null,null,"4.NFP.DSLW","З (зимнее)","руб./тнт",null,null,null,null,null,null,null,null,null,null,null,null,null,null,null,null,null,null,null,null,null,null,0,null,null,null,null,null,"DSLW"]
[null,null,null,null,null,null,null,null,null,null,null,null,"4.NFP.DSLS","Л (летнее)","руб./тнт",null,null,null,null,null,null,null,null,null,null,null,null,null,null,null,null,null,null,null,null,null,null,0,null,null,null,null,null,"DSLS"]
[null,null,null,null,null,null,null,null,null,null,null,null,"4.NFP.DSLO","Е (межсезонное)","руб./тнт",null,null,null,null,null,null,null,null,null,null,null,null,null,null,null,null,null,null,null,null,null,null,0,null,null,null,null,null,"DSLO"]
[null,null,null,null,null,null,null,null,null,null,null,null,"4.NFP.MST","Мазут","руб./тнт",null,null,null,null,null,null,null,null,null,null,null,null,null,null,null,null,null,null,null,null,null,null,0,{"$f":"IF(AM1227=0,0,AM1335/AM1227*1000)","v":0},{"$f":"IF(AN1227=0,0,AN1335/AN1227*1000)","v":0},null,null,null,"MST"]
[null,null,null,null,null,null,null,null,null,null,null,null,"4.NFP.MSTM40","М-40","руб./тнт",null,null,null,null,null,null,null,null,null,null,null,null,null,null,null,null,null,null,null,null,null,null,0,null,null,null,null,null,"MSTM40"]
[null,null,null,null,null,null,null,null,null,null,null,null,"4.NFP.MSTM100","М-100","руб./тнт",null,null,null,null,null,null,null,null,null,null,null,null,null,null,null,null,null,null,null,null,null,null,0,null,null,null,null,null,"MSTM100"]
[null,null,null,null,null,null,null,null,null,null,null,null,"4.NFP.MSTM200","М-200","руб./тнт",null,null,null,null,null,null,null,null,null,null,null,null,null,null,null,null,null,null,null,null,null,null,0,null,null,null,null,null,"MSTM200"]
[null,null,null,null,null,null,null,null,null,null,null,null,"4.NFP.MSTT","мазут марки \"Т\"","руб./тнт",null,null,null,null,null,null,null,null,null,null,null,null,null,null,null,null,null,null,null,null,null,null,0,null,null,null,null,null,"MSTT"]
[null,null,null,null,null,null,null,null,null,null,null,null,"4.NFP.MSTF5","Ф-5","руб./тнт",null,null,null,null,null,null,null,null,null,null,null,null,null,null,null,null,null,null,null,null,null,null,0,null,null,null,null,null,"MSTF5"]
[null,null,null,null,null,null,null,null,null,null,null,null,"4.NFP.MSTF12","Ф-12","руб./тнт",null,null,null,null,null,null,null,null,null,null,null,null,null,null,null,null,null,null,null,null,null,null,0,null,null,null,null,null,"MSTF12"]
[null,null,null,null,null,null,null,null,null,null,null,null,"4.NFP.OIL","Нефть","руб./тнт",null,null,null,null,null,null,null,null,null,null,null,null,null,null,null,null,null,null,null,null,null,null,0,null,null,null,null,null,"OIL"]
[null,null,null,null,null,null,null,null,null,null,null,null,"4.NFP.COA","Уголь","руб./тнт",null,null,null,null,null,null,null,null,null,null,null,null,null,null,null,null,null,null,null,null,null,null,0,{"$f":"IF(AM1235=0,0,AM1343/AM1235*1000)","v":0},{"$f":"IF(AN1235=0,0,AN1343/AN1235*1000)","v":0},null,null,null,"COA"]
[null,null,null,null,null,null,null,null,null,null,null,null,"4.NFP.COAA","Уголь антрацит","руб./тнт",null,null,null,null,null,null,null,null,null,null,null,null,null,null,null,null,null,null,null,null,null,null,0,null,null,null,null,null,"COAA"]
[null,null,null,null,null,null,null,null,null,null,null,null,"4.NFP.COAB","Уголь бурый","руб./тнт",null,null,null,null,null,null,null,null,null,null,null,null,null,null,null,null,null,null,null,null,null,null,0,null,null,null,null,null,"COAB"]
[null,null,null,null,null,null,null,null,null,null,null,null,"4.NFP.COAG","Уголь газовый","руб./тнт",null,null,null,null,null,null,null,null,null,null,null,null,null,null,null,null,null,null,null,null,null,null,0,null,null,null,null,null,"COAG"]
[null,null,null,null,null,null,null,null,null,null,null,null,"4.NFP.COALF","Уголь длиннопламенный","руб./тнт",null,null,null,null,null,null,null,null,null,null,null,null,null,null,null,null,null,null,null,null,null,null,0,null,null,null,null,null,"COALF"]
[null,null,null,null,null,null,null,null,null,null,null,null,"4.NFP.COAF","Уголь жирный","руб./тнт",null,null,null,null,null,null,null,null,null,null,null,null,null,null,null,null,null,null,null,null,null,null,0,null,null,null,null,null,"COAF"]
[null,null,null,null,null,null,null,null,null,null,null,null,"4.NFP.COAC","Уголь коксовый","руб./тнт",null,null,null,null,null,null,null,null,null,null,null,null,null,null,null,null,null,null,null,null,null,null,0,null,null,null,null,null,"COAC"]
[null,null,null,null,null,null,null,null,null,null,null,null,"4.NFP.COASC","Уголь отощённо-спекающийся","руб./тнт",null,null,null,null,null,null,null,null,null,null,null,null,null,null,null,null,null,null,null,null,null,null,0,null,null,null,null,null,"COASC"]
[null,null,null,null,null,null,null,null,null,null,null,null,"4.NFP.COAWC","Уголь слабоспекающийся","руб./тнт",null,null,null,null,null,null,null,null,null,null,null,null,null,null,null,null,null,null,null,null,null,null,0,null,null,null,null,null,"COAWC"]
[null,null,null,null,null,null,null,null,null,null,null,null,"4.NFP.COAS","Уголь тощий","руб./тнт",null,null,null,null,null,null,null,null,null,null,null,null,null,null,null,null,null,null,null,null,null,null,0,null,null,null,null,null,"COAS"]
[]
[]
[null,null,null,null,null,null,null,null,null,null,null,null,"4.NFP.CWD","Уголь древесный","руб./тнт",null,null,null,null,null,null,null,null,null,null,null,null,null,null,null,null,null,null,null,null,null,null,{"$f":"IF(AL1247=0,0,AL1355/AL1247*1000)","v":0},null,null,null,null,null,"CWD"]
[null,null,null,null,null,null,null,null,null,null,null,null,"4.NFP.WDS","Дрова","руб./тнт",null,null,null,null,null,null,null,null,null,null,null,null,null,null,null,null,null,null,null,null,null,null,0,null,null,null,null,null,"WDS"]
[null,null,null,null,null,null,null,null,null,null,null,null,"4.NFP.PLT","Пеллеты","руб./тнт",null,null,null,null,null,null,null,null,null,null,null,null,null,null,null,null,null,null,null,null,null,null,0,null,null,null,null,null,"PLT"]
[null,null,null,null,null,null,null,null,null,null,null,null,"4.NFP.SAW","Опилки","руб./тнт",null,null,null,null,null,null,null,null,null,null,null,null,null,null,null,null,null,null,null,null,null,null,0,null,null,null,null,null,"SAW"]
[null,null,null,null,null,null,null,null,null,null,null,null,"4.NFP.PEA","Торф","руб./тнт",null,null,null,null,null,null,null,null,null,null,null,null,null,null,null,null,null,null,null,null,null,null,0,null,null,null,null,null,"PEA"]
[null,null,null,null,null,null,null,null,null,null,null,null,"4.NFP.SHL","Сланцы","руб./тнт",null,null,null,null,null,null,null,null,null,null,null,null,null,null,null,null,null,null,null,null,null,null,0,null,null,null,null,null,"SHL"]
[null,null,null,null,null,null,null,null,null,null,null,null,"4.NFP.STF","Печное бытовое топливо","руб./тнт",null,null,null,null,null,null,null,null,null,null,null,null,null,null,null,null,null,null,null,null,null,null,0,null,null,null,null,null,"STF"]
[]
[null,null,null,null,null,null,null,null,null,null,null,null,"4.NFC","Стоимость натурального топлива без учёта транспортировки (перевозки)","тыс.руб.",null,null,null,null,null,null,null,null,null,null,null,null,null,null,null,null,{"$f":"SUM(AF1320,AF1324:AF1329,AF1330,AF1335,AF1342,AF1343,AF1355:AF1361)","v":0},{"$f":"SUM(AG1320,AG1324:AG1329,AG1330,AG1335,AG1342,AG1343,AG1355:AG1361)","v":0},{"$f":"SUM(AH1320,AH1324:AH1329,AH1330,AH1335,AH1342,AH1343,AH1355:AH1361)","v":0},null,null,null,{"$f":"SUM(AL1320,AL1324:AL1329,AL1330,AL1335,AL1342,AL1343,AL1355:AL1361)","v":0},{"$f":"SUM(AM1320,AM1324:AM1329,AM1330,AM1335,AM1342,AM1343,AM1355:AM1361)","v":0},{"$f":"SUM(AN1320,AN1324:AN1329,AN1330,AN1335,AN1342,AN1343,AN1355:AN1361)","v":0}]
[null,null,null,null,null,null,null,null,null,null,null,null,"NFC.NG","Газ природный","тыс.руб.",null,null,null,null,null,null,null,null,null,null,null,null,null,null,null,null,null,null,null,null,null,null,{"$f":"AM1320+AN1320","v":0},{"$f":"SUM(AM1321:AM1323)","v":0},{"$f":"SUM(AN1321:AN1323)","v":0},null,null,null,"NG"]
[null,null,null,null,null,null,null,null,null,null,null,null,"NFC.NGL","Газ лимитный","тыс.руб.",null,null,null,null,null,null,null,null,null,null,null,null,null,null,null,null,null,null,null,null,null,null,0,{"$f":"AM1277*AM1213/1000","v":0},0,null,null,null,"NGL"]
[null,null,null,null,null,null,null,null,null,null,null,null,"NFC.NGU","Газ сверхлимитный","тыс.руб.",null,null,null,null,null,null,null,null,null,null,null,null,null,null,null,null,null,null,null,null,null,null,0,0,0,null,null,null,"NGU"]
[null,null,null,null,null,null,null,null,null,null,null,null,"NFC.NGC","Газ коммерческий","тыс.руб.",null,null,null,null,null,null,null,null,null,null,null,null,null,null,null,null,null,null,null,null,null,null,0,0,0,null,null,null,"NGC"]
[null,null,null,null,null,null,null,null,null,null,null,null,"NFC.GBL","Газ доменный","тыс.руб.",null,null,null,null,null,null,null,null,null,null,null,null,null,null,null,null,null,null,null,null,null,null,0,0,0,null,null,null,"GBL"]
[null,null,null,null,null,null,null,null,null,null,null,null,"NFC.GCK","Газ коксовый","тыс.руб.",null,null,null,null,null,null,null,null,null,null,null,null,null,null,null,null,null,null,null,null,null,null,0,0,0,null,null,null,"GCK"]
[null,null,null,null,null,null,null,null,null,null,null,null,"NFC.GOA","Газ нефтяной (попутный)","тыс.руб.",null,null,null,null,null,null,null,null,null,null,null,null,null,null,null,null,null,null,null,null,null,null,0,0,0,null,null,null,"GOA"]
[null,null,null,null,null,null,null,null,null,null,null,null,"NFC.DSG","Газ сухой отбензиненный","тыс.руб.",null,null,null,null,null,null,null,null,null,null,null,null,null,null,null,null,null,null,null,null,null,null,0,0,0,null,null,null,"DSG"]
[null,null,null,null,null,null,null,null,null,null,null,null,"NFC.GCN","Газовый конденсат","тыс.руб.",null,null,null,null,null,null,null,null,null,null,null,null,null,null,null,null,null,null,null,null,null,null,0,0,0,null,null,null,"GCN"]
[null,null,null,null,null,null,null,null,null,null,null,null,"NFC.LNG","Газ сжиженный","тыс.руб.",null,null,null,null,null,null,null,null,null,null,null,null,null,null,null,null,null,null,null,null,null,null,0,0,0,null,null,null,"LNG"]
[null,null,null,null,null,null,null,null,null,null,null,null,"NFC.DSL","Дизельное топливо","тыс.руб.",null,null,null,null,null,null,null,null,null,null,null,null,null,null,null,null,null,null,null,null,null,null,0,{"$f":"SUM(AM1331:AM1334)","v":0},{"$f":"SUM(AN1331:AN1334)","v":0},null,null,null,"DSL"]
[null,null,null,null,null,null,null,null,null,null,null,null,"NFC.DSLA","А (арктическое)","тыс.руб.",null,null,null,null,null,null,null,null,null,null,null,null,null,null,null,null,null,null,null,null,null,null,0,{"$f":"AM1287*AM1223/1000","v":0},0,null,null,null,"DSLA"]
[null,null,null,null,null,null,null,null,null,null,null,null,"NFC.DSLW","З (зимнее)","тыс.руб.",null,null,null,null,null,null,null,null,null,null,null,null,null,null,null,null,null,null,null,null,null,null,0,0,0,null,null,null,"DSLW"]
[null,null,null,null,null,null,null,null,null,null,null,null,"NFC.DSLS","Л (летнее)","тыс.руб.",null,null,null,null,null,null,null,null,null,null,null,null,null,null,null,null,null,null,null,null,null,null,0,0,0,null,null,null,"DSLS"]
[null,null,null,null,null,null,null,null,null,null,null,null,"NFC.DSLO","Е (межсезонное)","тыс.руб.",null,null,null,null,null,null,null,null,null,null,null,null,null,null,null,null,null,null,null,null,null,null,0,0,0,null,null,null,"DSLO"]
[null,null,null,null,null,null,null,null,null,null,null,null,"NFC.MST","Мазут","тыс.руб.",null,null,null,null,null,null,null,null,null,null,null,null,null,null,null,null,null,null,null,null,null,null,0,{"$f":"SUM(AM1336:AM1341)","v":0},{"$f":"SUM(AN1336:AN1341)","v":0},null,null,null,"MST"]
[null,null,null,null,null,null,null,null,null,null,null,null,"NFC.MSTM40","М-40","тыс.руб.",null,null,null,null,null,null,null,null,null,null,null,null,null,null,null,null,null,null,null,null,null,null,0,{"$f":"AM1292*AM1228/1000","v":0},0,null,null,null,"MSTM40"]
[null,null,null,null,null,null,null,null,null,null,null,null,"NFC.MSTM100","М-100","тыс.руб.",null,null,null,null,null,null,null,null,null,null,null,null,null,null,null,null,null,null,null,null,null,null,0,0,0,null,null,null,"MSTM100"]
[null,null,null,null,null,null,null,null,null,null,null,null,"NFC.MSTM200","М-200","тыс.руб.",null,null,null,null,null,null,null,null,null,null,null,null,null,null,null,null,null,null,null,null,null,null,0,0,0,null,null,null,"MSTM200"]
[null,null,null,null,null,null,null,null,null,null,null,null,"NFC.MSTT","мазут марки \"Т\"","тыс.руб.",null,null,null,null,null,null,null,null,null,null,null,null,null,null,null,null,null,null,null,null,null,null,0,0,0,null,null,null,"MSTT"]
[null,null,null,null,null,null,null,null,null,null,null,null,"NFC.MSTF5","Ф-5","тыс.руб.",null,null,null,null,null,null,null,null,null,null,null,null,null,null,null,null,null,null,null,null,null,null,0,0,0,null,null,null,"MSTF5"]
[null,null,null,null,null,null,null,null,null,null,null,null,"NFC.MSTF12","Ф-12","тыс.руб.",null,null,null,null,null,null,null,null,null,null,null,null,null,null,null,null,null,null,null,null,null,null,0,0,0,null,null,null,"MSTF12"]
[null,null,null,null,null,null,null,null,null,null,null,null,"NFC.OIL","Нефть","тыс.руб.",null,null,null,null,null,null,null,null,null,null,null,null,null,null,null,null,null,null,null,null,null,null,0,0,0,null,null,null,"OIL"]
[null,null,null,null,null,null,null,null,null,null,null,null,"NFC.COA","Уголь","тыс.руб.",null,null,null,null,null,null,null,null,null,null,null,null,null,null,null,null,null,null,null,null,null,null,0,{"$f":"SUM(AM1344:AM1352)","v":0},{"$f":"SUM(AN1344:AN1352)","v":0},null,null,null,"COA"]
[null,null,null,null,null,null,null,null,null,null,null,null,"NFC.COAA","Уголь антрацит","тыс.руб.",null,null,null,null,null,null,null,null,null,null,null,null,null,null,null,null,null,null,null,null,null,null,0,{"$f":"AM1300*AM1236/1000","v":0},0,null,null,null,"COAA"]
[null,null,null,null,null,null,null,null,null,null,null,null,"NFC.COAB","Уголь бурый","тыс.руб.",null,null,null,null,null,null,null,null,null,null,null,null,null,null,null,null,null,null,null,null,null,null,0,0,0,null,null,null,"COAB"]
[null,null,null,null,null,null,null,null,null,null,null,null,"NFC.COAG","Уголь газовый","тыс.руб.",null,null,null,null,null,null,null,null,null,null,null,null,null,null,null,null,null,null,null,null,null,null,0,0,0,null,null,null,"COAG"]
[null,null,null,null,null,null,null,null,null,null,null,null,"NFC.COALF","Уголь длиннопламенный","тыс.руб.",null,null,null,null,null,null,null,null,null,null,null,null,null,null,null,null,null,null,null,null,null,null,0,0,0,null,null,null,"COALF"]
[null,null,null,null,null,null,null,null,null,null,null,null,"NFC.COAF","Уголь жирный","тыс.руб.",null,null,null,null,null,null,null,null,null,null,null,null,null,null,null,null,null,null,null,null,null,null,0,0,0,null,null,null,"COAF"]
[null,null,null,null,null,null,null,null,null,null,null,null,"NFC.COAC","Уголь коксовый","тыс.руб.",null,null,null,null,null,null,null,null,null,null,null,null,null,null,null,null,null,null,null,null,null,null,0,0,0,null,null,null,"COAC"]
[null,null,null,null,null,null,null,null,null,null,null,null,"NFC.COASC","Уголь отощённо-спекающийся","тыс.руб.",null,null,null,null,null,null,null,null,null,null,null,null,null,null,null,null,null,null,null,null,null,null,0,0,0,null,null,null,"COASC"]
[null,null,null,null,null,null,null,null,null,null,null,null,"NFC.COAWC","Уголь слабоспекающийся","тыс.руб.",null,null,null,null,null,null,null,null,null,null,null,null,null,null,null,null,null,null,null,null,null,null,0,0,0,null,null,null,"COAWC"]
[null,null,null,null,null,null,null,null,null,null,null,null,"NFC.COAS","Уголь тощий","тыс.руб.",null,null,null,null,null,null,null,null,null,null,null,null,null,null,null,null,null,null,null,null,null,null,0,0,0,null,null,null,"COAS"]
[]
[]
[null,null,null,null,null,null,null,null,null,null,null,null,"NFC.CWD","Уголь древесный","тыс.руб.",null,null,null,null,null,null,null,null,null,null,null,null,null,null,null,null,null,null,null,null,null,null,{"$f":"AM1355+AN1355","v":0},{"$f":"AM1311*AM1247/1000","v":0},0,null,null,null,"CWD"]
[null,null,null,null,null,null,null,null,null,null,null,null,"NFC.WDS","Дрова","тыс.руб.",null,null,null,null,null,null,null,null,null,null,null,null,null,null,null,null,null,null,null,null,null,null,0,0,0,null,null,null,"WDS"]
[null,null,null,null,null,null,null,null,null,null,null,null,"NFC.PLT","Пеллеты","тыс.руб.",null,null,null,null,null,null,null,null,null,null,null,null,null,null,null,null,null,null,null,null,null,null,0,0,0,null,null,null,"PLT"]
[null,null,null,null,null,null,null,null,null,null,null,null,"NFC.SAW","Опилки","тыс.руб.",null,null,null,null,null,null,null,null,null,null,null,null,null,null,null,null,null,null,null,null,null,null,0,0,0,null,null,null,"SAW"]
[null,null,null,null,null,null,null,null,null,null,null,null,"NFC.PEA","Торф","тыс.руб.",null,null,null,null,null,null,null,null,null,null,null,null,null,null,null,null,null,null,null,null,null,null,0,0,0,null,null,null,"PEA"]
[null,null,null,null,null,null,null,null,null,null,null,null,"NFC.SHL","Сланцы","тыс.руб.",null,null,null,null,null,null,null,null,null,null,null,null,null,null,null,null,null,null,null,null,null,null,0,0,0,null,null,null,"SHL"]
[null,null,null,null,null,null,null,null,null,null,null,null,"NFC.STF","Печное бытовое топливо","тыс.руб.",null,null,null,null,null,null,null,null,null,null,null,null,null,null,null,null,null,null,null,null,null,null,0,0,0,null,null,null,"STF"]
[]
[]
[null,null,null,null,null,null,null,null,null,null,null,null,null,"Показатели транспортировки (перевозки) топлива"]
[]
[null,null,null,null,null,null,null,null,null,null,null,null,"4.0.3.1.1.1","Природный газ. Газ лимитный. Тариф на ССУ (cнабженческо-сбытовые услуги)"]
[null,null,null,null,null,null,null,null,null,null,null,null,{"$f":"M1366 & \".1\"","v":"4.0.3.1.1.1.1"},"1 группа: свыше 500 млн.м3","руб./тыс.м3",null,null,null,null,null,null,null,null,null,null,null,null,null,null,null,null,null,null,null,null,null,null,{"$f":"IF(AL1257=0,0,AL1383/AL1257*1000)","v":0},null,null,null,null,null,"NGL"]
[null,null,null,null,null,null,null,null,null,null,null,null,{"$f":"M1366 & \".2\"","v":"4.0.3.1.1.1.2"},"2 группа: от 100 до 500 млн.м3 включительно","руб./тыс.м3",null,null,null,null,null,null,null,null,null,null,null,null,null,null,null,null,null,null,null,null,null,null,{"$f":"IF(AL1258=0,0,AL1384/AL1258*1000)","v":0},null,null,null,null,null,"NGL"]
[null,null,null,null,null,null,null,null,null,null,null,null,{"$f":"M1366 & \".3\"","v":"4.0.3.1.1.1.3"},"3 группа: от 10 до 100 млн.м3 включительно","руб./тыс.м3",null,null,null,null,null,null,null,null,null,null,null,null,null,null,null,null,null,null,null,null,null,null,0,null,null,null,null,null,"NGL"]
[null,null,null,null,null,null,null,null,null,null,null,null,{"$f":"M1366 & \".4\"","v":"4.0.3.1.1.1.4"},"4 группа: от 1 до 10 млн.м3 включительно","руб./тыс.м3",null,null,null,null,null,null,null,null,null,null,null,null,null,null,null,null,null,null,null,null,null,null,0,null,null,null,null,null,"NGL"]
[null,null,null,null,null,null,null,null,null,null,null,null,{"$f":"M1366 & \".5\"","v":"4.0.3.1.1.1.5"},"5 группа: от 0,1 до 1 млн.м3 включительно","руб./тыс.м3",null,null,null,null,null,null,null,null,null,null,null,null,null,null,null,null,null,null,null,null,null,null,0,null,null,null,null,null,"NGL"]
[null,null,null,null,null,null,null,null,null,null,null,null,{"$f":"M1366 & \".6\"","v":"4.0.3.1.1.1.6"},"6 группа: от 0,01 до 0,1 млн.м3 включительно","руб./тыс.м3",null,null,null,null,null,null,null,null,null,null,null,null,null,null,null,null,null,null,null,null,null,null,0,null,null,null,null,null,"NGL"]
[null,null,null,null,null,null,null,null,null,null,null,null,{"$f":"M1366 & \".7\"","v":"4.0.3.1.1.1.7"},"7 группа: до 0,01 млн.м3 включительно","руб./тыс.м3",null,null,null,null,null,null,null,null,null,null,null,null,null,null,null,null,null,null,null,null,null,null,0,null,null,null,null,null,"NGL"]
[null,null,null,null,null,null,null,null,null,null,null,null,"4.0.3.1.1.2","Природный газ. Газ лимитный. Тариф ГРО (услуги газораспределительной организации)"]
[null,null,null,null,null,null,null,null,null,null,null,null,{"$f":"M1374 & \".1\"","v":"4.0.3.1.1.2.1"},"1 группа: свыше 500 млн.м3","руб./тыс.м3",null,null,null,null,null,null,null,null,null,null,null,null,null,null,null,null,null,null,null,null,null,null,{"$f":"IF(AL1257=0,0,AL1391/AL1257*1000)","v":0},null,null,null,null,null,"NGL"]
[null,null,null,null,null,null,null,null,null,null,null,null,{"$f":"M1374 & \".2\"","v":"4.0.3.1.1.2.2"},"2 группа: от 100 до 500 млн.м3 включительно","руб./тыс.м3",null,null,null,null,null,null,null,null,null,null,null,null,null,null,null,null,null,null,null,null,null,null,{"$f":"IF(AL1258=0,0,AL1392/AL1258*1000)","v":0},null,null,null,null,null,"NGL"]
[null,null,null,null,null,null,null,null,null,null,null,null,{"$f":"M1374 & \".3\"","v":"4.0.3.1.1.2.3"},"3 группа: от 10 до 100 млн.м3 включительно","руб./тыс.м3",null,null,null,null,null,null,null,null,null,null,null,null,null,null,null,null,null,null,null,null,null,null,0,null,null,null,null,null,"NGL"]
[null,null,null,null,null,null,null,null,null,null,null,null,{"$f":"M1374 & \".4\"","v":"4.0.3.1.1.2.4"},"4 группа: от 1 до 10 млн.м3 включительно","руб./тыс.м3",null,null,null,null,null,null,null,null,null,null,null,null,null,null,null,null,null,null,null,null,null,null,0,null,null,null,null,null,"NGL"]
[null,null,null,null,null,null,null,null,null,null,null,null,{"$f":"M1374 & \".5\"","v":"4.0.3.1.1.2.5"},"5 группа: от 0,1 до 1 млн.м3 включительно","руб./тыс.м3",null,null,null,null,null,null,null,null,null,null,null,null,null,null,null,null,null,null,null,null,null,null,0,null,null,null,null,null,"NGL"]
[null,null,null,null,null,null,null,null,null,null,null,null,{"$f":"M1374 & \".6\"","v":"4.0.3.1.1.2.6"},"6 группа: от 0,01 до 0,1 млн.м3 включительно","руб./тыс.м3",null,null,null,null,null,null,null,null,null,null,null,null,null,null,null,null,null,null,null,null,null,null,0,null,null,null,null,null,"NGL"]
[null,null,null,null,null,null,null,null,null,null,null,null,{"$f":"M1374 & \".7\"","v":"4.0.3.1.1.2.7"},"7 группа: до 0,01 млн.м3 включительно","руб./тыс.м3",null,null,null,null,null,null,null,null,null,null,null,null,null,null,null,null,null,null,null,null,null,null,0,null,null,null,null,null,"NGL"]
[null,null,null,null,null,null,null,null,null,null,null,null,"4.0.3.1.1.3","Природный газ. Газ лимитный. ПССУ (плата за cнабженческо-сбытовые услуги), всего","тыс.руб.",null,null,null,null,null,null,null,null,null,null,null,null,null,null,null,null,null,null,null,null,null,null,{"$f":"AM1382+AN1382","v":0},{"$f":"SUM(AM1383:AM1389)","v":0},{"$f":"SUM(AN1383:AN1389)","v":0},null,null,null,"NGL"]
[null,null,null,null,null,null,null,null,null,null,null,null,{"$f":"M1382 & \".1\"","v":"4.0.3.1.1.3.1"},"1 группа: свыше 500 млн.м3","тыс.руб.",null,null,null,null,null,null,null,null,null,null,null,null,null,null,null,null,null,null,null,null,null,null,0,{"$f":"AM1367*AM1257/1000","v":0},{"$f":"AN1367*AN1257/1000","v":0},null,null,null,"NGL"]
[null,null,null,null,null,null,null,null,null,null,null,null,{"$f":"M1382 & \".2\"","v":"4.0.3.1.1.3.2"},"2 группа: от 100 до 500 млн.м3 включительно","тыс.руб.",null,null,null,null,null,null,null,null,null,null,null,null,null,null,null,null,null,null,null,null,null,null,0,{"$f":"AM1368*AM1258/1000","v":0},0,null,null,null,"NGL"]
[null,null,null,null,null,null,null,null,null,null,null,null,{"$f":"M1382 & \".3\"","v":"4.0.3.1.1.3.3"},"3 группа: от 10 до 100 млн.м3 включительно","тыс.руб.",null,null,null,null,null,null,null,null,null,null,null,null,null,null,null,null,null,null,null,null,null,null,0,0,0,null,null,null,"NGL"]
[null,null,null,null,null,null,null,null,null,null,null,null,{"$f":"M1382 & \".4\"","v":"4.0.3.1.1.3.4"},"4 группа: от 1 до 10 млн.м3 включительно","тыс.руб.",null,null,null,null,null,null,null,null,null,null,null,null,null,null,null,null,null,null,null,null,null,null,0,0,0,null,null,null,"NGL"]
[null,null,null,null,null,null,null,null,null,null,null,null,{"$f":"M1382 & \".5\"","v":"4.0.3.1.1.3.5"},"5 группа: от 0,1 до 1 млн.м3 включительно","тыс.руб.",null,null,null,null,null,null,null,null,null,null,null,null,null,null,null,null,null,null,null,null,null,null,0,0,0,null,null,null,"NGL"]
[null,null,null,null,null,null,null,null,null,null,null,null,{"$f":"M1382 & \".6\"","v":"4.0.3.1.1.3.6"},"6 группа: от 0,01 до 0,1 млн.м3 включительно","тыс.руб.",null,null,null,null,null,null,null,null,null,null,null,null,null,null,null,null,null,null,null,null,null,null,0,0,0,null,null,null,"NGL"]
[null,null,null,null,null,null,null,null,null,null,null,null,{"$f":"M1382 & \".7\"","v":"4.0.3.1.1.3.7"},"7 группа: до 0,01 млн.м3 включительно","тыс.руб.",null,null,null,null,null,null,null,null,null,null,null,null,null,null,null,null,null,null,null,null,null,null,0,0,0,null,null,null,"NGL"]
[null,null,null,null,null,null,null,null,null,null,null,null,"4.0.3.1.1.4","Природный газ. Газ лимитный. ГРО (плата за услуги газораспределительной организации), всего","тыс.руб.",null,null,null,null,null,null,null,null,null,null,null,null,null,null,null,null,null,null,null,null,null,null,0,{"$f":"SUM(AM1391:AM1397)","v":0},{"$f":"SUM(AN1391:AN1397)","v":0},null,null,null,"NGL"]
[null,null,null,null,null,null,null,null,null,null,null,null,{"$f":"M1390 & \".1\"","v":"4.0.3.1.1.4.1"},"1 группа: свыше 500 млн.м3","тыс.руб.",null,null,null,null,null,null,null,null,null,null,null,null,null,null,null,null,null,null,null,null,null,null,0,{"$f":"AM1375*AM1257/1000","v":0},{"$f":"AN1375*AN1257/1000","v":0},null,null,null,"NGL"]
[null,null,null,null,null,null,null,null,null,null,null,null,{"$f":"M1390 & \".2\"","v":"4.0.3.1.1.4.2"},"2 группа: от 100 до 500 млн.м3 включительно","тыс.руб.",null,null,null,null,null,null,null,null,null,null,null,null,null,null,null,null,null,null,null,null,null,null,0,{"$f":"AM1376*AM1258/1000","v":0},0,null,null,null,"NGL"]
[null,null,null,null,null,null,null,null,null,null,null,null,{"$f":"M1390 & \".3\"","v":"4.0.3.1.1.4.3"},"3 группа: от 10 до 100 млн.м3 включительно","тыс.руб.",null,null,null,null,null,null,null,null,null,null,null,null,null,null,null,null,null,null,null,null,null,null,0,0,0,null,null,null,"NGL"]
[null,null,null,null,null,null,null,null,null,null,null,null,{"$f":"M1390 & \".4\"","v":"4.0.3.1.1.4.4"},"4 группа: от 1 до 10 млн.м3 включительно","тыс.руб.",null,null,null,null,null,null,null,null,null,null,null,null,null,null,null,null,null,null,null,null,null,null,0,0,0,null,null,null,"NGL"]
[null,null,null,null,null,null,null,null,null,null,null,null,{"$f":"M1390 & \".5\"","v":"4.0.3.1.1.4.5"},"5 группа: от 0,1 до 1 млн.м3 включительно","тыс.руб.",null,null,null,null,null,null,null,null,null,null,null,null,null,null,null,null,null,null,null,null,null,null,0,0,0,null,null,null,"NGL"]
[null,null,null,null,null,null,null,null,null,null,null,null,{"$f":"M1390 & \".6\"","v":"4.0.3.1.1.4.6"},"6 группа: от 0,01 до 0,1 млн.м3 включительно","тыс.руб.",null,null,null,null,null,null,null,null,null,null,null,null,null,null,null,null,null,null,null,null,null,null,0,0,0,null,null,null,"NGL"]
[null,null,null,null,null,null,null,null,null,null,null,null,{"$f":"M1390 & \".7\"","v":"4.0.3.1.1.4.7"},"7 группа: до 0,01 млн.м3 включительно","тыс.руб.",null,null,null,null,null,null,null,null,null,null,null,null,null,null,null,null,null,null,null,null,null,null,0,0,0,null,null,null,"NGL"]
[null,null,null,null,null,null,null,null,null,null,null,null,"4.0.3.1.1.5","Природный газ. Газ лимитный. ТТР (плата за услуги транзитной транспортировки), всего","тыс.руб.",null,null,null,null,null,null,null,null,null,null,null,null,null,null,null,null,null,null,null,null,null,null,0,null,null,null,null,null,"NGL"]
[null,null,null,null,null,null,null,null,null,null,null,null,{"$f":"M1398 & \".1\"","v":"4.0.3.1.1.5.1"},"Средний тариф транзитной транспортировки","руб./тыс.м3",null,null,null,null,null,null,null,null,null,null,null,null,null,null,null,null,null,null,null,null,null,null,{"$f":"IF(AL1400=0,0,AL1398/AL1400*1000)","v":0},{"$f":"IF(AM1400=0,0,AM1398/AM1400*1000)","v":0},{"$f":"IF(AN1400=0,0,AN1398/AN1400*1000)","v":0},null,null,null,"NGL"]
[null,null,null,null,null,null,null,null,null,null,null,null,{"$f":"M1398 & \".2\"","v":"4.0.3.1.1.5.2"},"Объём топлива, транспортируемого в транзитном потоке","тыс.м3",null,null,null,null,null,null,null,null,null,null,null,null,null,null,null,null,null,null,null,null,null,null,{"$f":"AM1400+AN1400","v":0},null,null,null,null,null,"NGL"]
[null,null,null,null,null,null,null,null,null,null,null,null,"4.0.3.1.2.1","Природный газ. Газ сверхлимитный. Тариф на ССУ (cнабженческо-сбытовые услуги)"]
[null,null,null,null,null,null,null,null,null,null,null,null,{"$f":"M1401 & \".1\"","v":"4.0.3.1.2.1.1"},"1 группа: свыше 500 млн.м3","руб./тыс.м3",null,null,null,null,null,null,null,null,null,null,null,null,null,null,null,null,null,null,null,null,null,null,{"$f":"IF(AL1265=0,0,AL1418/AL1265*1000)","v":0},null,null,null,null,null,"NGU"]
[null,null,null,null,null,null,null,null,null,null,null,null,{"$f":"M1401 & \".2\"","v":"4.0.3.1.2.1.2"},"2 группа: от 100 до 500 млн.м3 включительно","руб./тыс.м3",null,null,null,null,null,null,null,null,null,null,null,null,null,null,null,null,null,null,null,null,null,null,{"$f":"IF(AL1266=0,0,AL1419/AL1266*1000)","v":0},null,null,null,null,null,"NGU"]
[null,null,null,null,null,null,null,null,null,null,null,null,{"$f":"M1401 & \".3\"","v":"4.0.3.1.2.1.3"},"3 группа: от 10 до 100 млн.м3 включительно","руб./тыс.м3",null,null,null,null,null,null,null,null,null,null,null,null,null,null,null,null,null,null,null,null,null,null,0,null,null,null,null,null,"NGU"]
[null,null,null,null,null,null,null,null,null,null,null,null,{"$f":"M1401 & \".4\"","v":"4.0.3.1.2.1.4"},"4 группа: от 1 до 10 млн.м3 включительно","руб./тыс.м3",null,null,null,null,null,null,null,null,null,null,null,null,null,null,null,null,null,null,null,null,null,null,0,null,null,null,null,null,"NGU"]
[null,null,null,null,null,null,null,null,null,null,null,null,{"$f":"M1401 & \".5\"","v":"4.0.3.1.2.1.5"},"5 группа: от 0,1 до 1 млн.м3 включительно","руб./тыс.м3",null,null,null,null,null,null,null,null,null,null,null,null,null,null,null,null,null,null,null,null,null,null,0,null,null,null,null,null,"NGU"]
[null,null,null,null,null,null,null,null,null,null,null,null,{"$f":"M1401 & \".6\"","v":"4.0.3.1.2.1.6"},"6 группа: от 0,01 до 0,1 млн.м3 включительно","руб./тыс.м3",null,null,null,null,null,null,null,null,null,null,null,null,null,null,null,null,null,null,null,null,null,null,0,null,null,null,null,null,"NGU"]
[null,null,null,null,null,null,null,null,null,null,null,null,{"$f":"M1401 & \".7\"","v":"4.0.3.1.2.1.7"},"7 группа: до 0,01 млн.м3 включительно","руб./тыс.м3",null,null,null,null,null,null,null,null,null,null,null,null,null,null,null,null,null,null,null,null,null,null,0,null,null,null,null,null,"NGU"]
[null,null,null,null,null,null,null,null,null,null,null,null,"4.0.3.1.2.2","Природный газ. Газ сверхлимитный. Тариф ГРО (услуги газораспределительной организации)"]
[null,null,null,null,null,null,null,null,null,null,null,null,{"$f":"M1409 & \".1\"","v":"4.0.3.1.2.2.1"},"1 группа: свыше 500 млн.м3","руб./тыс.м3",null,null,null,null,null,null,null,null,null,null,null,null,null,null,null,null,null,null,null,null,null,null,{"$f":"IF(AL1265=0,0,AL1426/AL1265*1000)","v":0},null,null,null,null,null,"NGU"]
[null,null,null,null,null,null,null,null,null,null,null,null,{"$f":"M1409 & \".2\"","v":"4.0.3.1.2.2.2"},"2 группа: от 100 до 500 млн.м3 включительно","руб./тыс.м3",null,null,null,null,null,null,null,null,null,null,null,null,null,null,null,null,null,null,null,null,null,null,{"$f":"IF(AL1266=0,0,AL1427/AL1266*1000)","v":0},null,null,null,null,null,"NGU"]
[null,null,null,null,null,null,null,null,null,null,null,null,{"$f":"M1409 & \".3\"","v":"4.0.3.1.2.2.3"},"3 группа: от 10 до 100 млн.м3 включительно","руб./тыс.м3",null,null,null,null,null,null,null,null,null,null,null,null,null,null,null,null,null,null,null,null,null,null,0,null,null,null,null,null,"NGU"]
[null,null,null,null,null,null,null,null,null,null,null,null,{"$f":"M1409 & \".4\"","v":"4.0.3.1.2.2.4"},"4 группа: от 1 до 10 млн.м3 включительно","руб./тыс.м3",null,null,null,null,null,null,null,null,null,null,null,null,null,null,null,null,null,null,null,null,null,null,0,null,null,null,null,null,"NGU"]
[null,null,null,null,null,null,null,null,null,null,null,null,{"$f":"M1409 & \".5\"","v":"4.0.3.1.2.2.5"},"5 группа: от 0,1 до 1 млн.м3 включительно","руб./тыс.м3",null,null,null,null,null,null,null,null,null,null,null,null,null,null,null,null,null,null,null,null,null,null,0,null,null,null,null,null,"NGU"]
[null,null,null,null,null,null,null,null,null,null,null,null,{"$f":"M1409 & \".6\"","v":"4.0.3.1.2.2.6"},"6 группа: от 0,01 до 0,1 млн.м3 включительно","руб./тыс.м3",null,null,null,null,null,null,null,null,null,null,null,null,null,null,null,null,null,null,null,null,null,null,0,null,null,null,null,null,"NGU"]
[null,null,null,null,null,null,null,null,null,null,null,null,{"$f":"M1409 & \".7\"","v":"4.0.3.1.2.2.7"},"7 группа: до 0,01 млн.м3 включительно","руб./тыс.м3",null,null,null,null,null,null,null,null,null,null,null,null,null,null,null,null,null,null,null,null,null,null,0,null,null,null,null,null,"NGU"]
[null,null,null,null,null,null,null,null,null,null,null,null,"4.0.3.1.2.3","Природный газ. Газ сверхлимитный. ПССУ (плата за cнабженческо-сбытовые услуги), всего","тыс.руб.",null,null,null,null,null,null,null,null,null,null,null,null,null,null,null,null,null,null,null,null,null,null,{"$f":"AM1417+AN1417","v":0},{"$f":"SUM(AM1418:AM1424)","v":0},{"$f":"SUM(AN1418:AN1424)","v":0},null,null,null,"NGU"]
[null,null,null,null,null,null,null,null,null,null,null,null,{"$f":"M1417 & \".1\"","v":"4.0.3.1.2.3.1"},"1 группа: свыше 500 млн.м3","тыс.руб.",null,null,null,null,null,null,null,null,null,null,null,null,null,null,null,null,null,null,null,null,null,null,0,{"$f":"AM1402*AM1265/1000","v":0},{"$f":"AN1402*AN1265/1000","v":0},null,null,null,"NGU"]
[null,null,null,null,null,null,null,null,null,null,null,null,{"$f":"M1417 & \".2\"","v":"4.0.3.1.2.3.2"},"2 группа: от 100 до 500 млн.м3 включительно","тыс.руб.",null,null,null,null,null,null,null,null,null,null,null,null,null,null,null,null,null,null,null,null,null,null,0,{"$f":"AM1403*AM1266/1000","v":0},0,null,null,null,"NGU"]
[null,null,null,null,null,null,null,null,null,null,null,null,{"$f":"M1417 & \".3\"","v":"4.0.3.1.2.3.3"},"3 группа: от 10 до 100 млн.м3 включительно","тыс.руб.",null,null,null,null,null,null,null,null,null,null,null,null,null,null,null,null,null,null,null,null,null,null,0,0,0,null,null,null,"NGU"]
[null,null,null,null,null,null,null,null,null,null,null,null,{"$f":"M1417 & \".4\"","v":"4.0.3.1.2.3.4"},"4 группа: от 1 до 10 млн.м3 включительно","тыс.руб.",null,null,null,null,null,null,null,null,null,null,null,null,null,null,null,null,null,null,null,null,null,null,0,0,0,null,null,null,"NGU"]
[null,null,null,null,null,null,null,null,null,null,null,null,{"$f":"M1417 & \".5\"","v":"4.0.3.1.2.3.5"},"5 группа: от 0,1 до 1 млн.м3 включительно","тыс.руб.",null,null,null,null,null,null,null,null,null,null,null,null,null,null,null,null,null,null,null,null,null,null,0,0,0,null,null,null,"NGU"]
[null,null,null,null,null,null,null,null,null,null,null,null,{"$f":"M1417 & \".6\"","v":"4.0.3.1.2.3.6"},"6 группа: от 0,01 до 0,1 млн.м3 включительно","тыс.руб.",null,null,null,null,null,null,null,null,null,null,null,null,null,null,null,null,null,null,null,null,null,null,0,0,0,null,null,null,"NGU"]
[null,null,null,null,null,null,null,null,null,null,null,null,{"$f":"M1417 & \".7\"","v":"4.0.3.1.2.3.7"},"7 группа: до 0,01 млн.м3 включительно","тыс.руб.",null,null,null,null,null,null,null,null,null,null,null,null,null,null,null,null,null,null,null,null,null,null,0,0,0,null,null,null,"NGU"]
[null,null,null,null,null,null,null,null,null,null,null,null,"4.0.3.1.2.4","Природный газ. Газ сверхлимитный. ГРО (плата за услуги газораспределительной организации), всего","тыс.руб.",null,null,null,null,null,null,null,null,null,null,null,null,null,null,null,null,null,null,null,null,null,null,0,{"$f":"SUM(AM1426:AM1432)","v":0},{"$f":"SUM(AN1426:AN1432)","v":0},null,null,null,"NGU"]
[null,null,null,null,null,null,null,null,null,null,null,null,{"$f":"M1425 & \".1\"","v":"4.0.3.1.2.4.1"},"1 группа: свыше 500 млн.м3","тыс.руб.",null,null,null,null,null,null,null,null,null,null,null,null,null,null,null,null,null,null,null,null,null,null,0,{"$f":"AM1410*AM1265/1000","v":0},{"$f":"AN1410*AN1265/1000","v":0},null,null,null,"NGU"]
[null,null,null,null,null,null,null,null,null,null,null,null,{"$f":"M1425 & \".2\"","v":"4.0.3.1.2.4.2"},"2 группа: от 100 до 500 млн.м3 включительно","тыс.руб.",null,null,null,null,null,null,null,null,null,null,null,null,null,null,null,null,null,null,null,null,null,null,0,{"$f":"AM1411*AM1266/1000","v":0},0,null,null,null,"NGU"]
[null,null,null,null,null,null,null,null,null,null,null,null,{"$f":"M1425 & \".3\"","v":"4.0.3.1.2.4.3"},"3 группа: от 10 до 100 млн.м3 включительно","тыс.руб.",null,null,null,null,null,null,null,null,null,null,null,null,null,null,null,null,null,null,null,null,null,null,0,0,0,null,null,null,"NGU"]
[null,null,null,null,null,null,null,null,null,null,null,null,{"$f":"M1425 & \".4\"","v":"4.0.3.1.2.4.4"},"4 группа: от 1 до 10 млн.м3 включительно","тыс.руб.",null,null,null,null,null,null,null,null,null,null,null,null,null,null,null,null,null,null,null,null,null,null,0,0,0,null,null,null,"NGU"]
[null,null,null,null,null,null,null,null,null,null,null,null,{"$f":"M1425 & \".5\"","v":"4.0.3.1.2.4.5"},"5 группа: от 0,1 до 1 млн.м3 включительно","тыс.руб.",null,null,null,null,null,null,null,null,null,null,null,null,null,null,null,null,null,null,null,null,null,null,0,0,0,null,null,null,"NGU"]
[null,null,null,null,null,null,null,null,null,null,null,null,{"$f":"M1425 & \".6\"","v":"4.0.3.1.2.4.6"},"6 группа: от 0,01 до 0,1 млн.м3 включительно","тыс.руб.",null,null,null,null,null,null,null,null,null,null,null,null,null,null,null,null,null,null,null,null,null,null,0,0,0,null,null,null,"NGU"]
[null,null,null,null,null,null,null,null,null,null,null,null,{"$f":"M1425 & \".7\"","v":"4.0.3.1.2.4.7"},"7 группа: до 0,01 млн.м3 включительно","тыс.руб.",null,null,null,null,null,null,null,null,null,null,null,null,null,null,null,null,null,null,null,null,null,null,0,0,0,null,null,null,"NGU"]
[null,null,null,null,null,null,null,null,null,null,null,null,"4.0.3.1.2.5","Природный газ. Газ сверхлимитный. ТТР (плата за услуги транзитной транспортировки), всего","тыс.руб.",null,null,null,null,null,null,null,null,null,null,null,null,null,null,null,null,null,null,null,null,null,null,0,null,null,null,null,null,"NGU"]
[null,null,null,null,null,null,null,null,null,null,null,null,{"$f":"M1433 & \".1\"","v":"4.0.3.1.2.5.1"},"Средний тариф транзитной транспортировки","руб./тыс.м3",null,null,null,null,null,null,null,null,null,null,null,null,null,null,null,null,null,null,null,null,null,null,{"$f":"IF(AL1435=0,0,AL1433/AL1435*1000)","v":0},{"$f":"IF(AM1435=0,0,AM1433/AM1435*1000)","v":0},{"$f":"IF(AN1435=0,0,AN1433/AN1435*1000)","v":0},null,null,null,"NGU"]
[null,null,null,null,null,null,null,null,null,null,null,null,{"$f":"M1433 & \".2\"","v":"4.0.3.1.2.5.2"},"Объём топлива, транспортируемого в транзитном потоке","тыс.м3",null,null,null,null,null,null,null,null,null,null,null,null,null,null,null,null,null,null,null,null,null,null,{"$f":"AM1435+AN1435","v":0},null,null,null,null,null,"NGU"]
[null,null,null,null,null,null,null,null,null,null,null,null,"4.PATR","Перевозка автомобильным транспортом. Цена (тариф) за транспортировку (перевозку) единицы топлива"]
[]
[]
[]
[]
[]
[]
[]
[]
[null,null,null,null,null,null,null,null,null,null,null,null,"4.PATR.GCN","Газовый конденсат","руб./тнт",null,null,null,null,null,null,null,null,null,null,null,null,null,null,null,null,null,null,null,null,null,null,{"$f":"IF(AL1489=0,0,AL1533/AL1489*1000)","v":0},null,null,null,null,null,"GCN"]
[null,null,null,null,null,null,null,null,null,null,null,null,"4.PATR.LNG","Газ сжиженный","руб./тнт",null,null,null,null,null,null,null,null,null,null,null,null,null,null,null,null,null,null,null,null,null,null,0,null,null,null,null,null,"LNG"]
[null,null,null,null,null,null,null,null,null,null,null,null,"4.PATR.DSL","Дизельное топливо","руб./тнт",null,null,null,null,null,null,null,null,null,null,null,null,null,null,null,null,null,null,null,null,null,null,0,{"$f":"IF(AM1491=0,0,AM1535/AM1491*1000)","v":0},{"$f":"IF(AN1491=0,0,AN1535/AN1491*1000)","v":0},null,null,null,"DSL"]
[null,null,null,null,null,null,null,null,null,null,null,null,"4.PATR.DSLA","А (арктическое)","руб./тнт",null,null,null,null,null,null,null,null,null,null,null,null,null,null,null,null,null,null,null,null,null,null,0,null,null,null,null,null,"DSLA"]
[null,null,null,null,null,null,null,null,null,null,null,null,"4.PATR.DSLW","З (зимнее)","руб./тнт",null,null,null,null,null,null,null,null,null,null,null,null,null,null,null,null,null,null,null,null,null,null,0,null,null,null,null,null,"DSLW"]
[null,null,null,null,null,null,null,null,null,null,null,null,"4.PATR.DSLS","Л (летнее)","руб./тнт",null,null,null,null,null,null,null,null,null,null,null,null,null,null,null,null,null,null,null,null,null,null,0,null,null,null,null,null,"DSLS"]
[null,null,null,null,null,null,null,null,null,null,null,null,"4.PATR.DSLO","Е (межсезонное)","руб./тнт",null,null,null,null,null,null,null,null,null,null,null,null,null,null,null,null,null,null,null,null,null,null,0,null,null,null,null,null,"DSLO"]
[null,null,null,null,null,null,null,null,null,null,null,null,"4.PATR.MST","Мазут","руб./тнт",null,null,null,null,null,null,null,null,null,null,null,null,null,null,null,null,null,null,null,null,null,null,0,{"$f":"IF(AM1496=0,0,AM1540/AM1496*1000)","v":0},{"$f":"IF(AN1496=0,0,AN1540/AN1496*1000)","v":0},null,null,null,"MST"]
[null,null,null,null,null,null,null,null,null,null,null,null,"4.PATR.MSTM40","М-40","руб./тнт",null,null,null,null,null,null,null,null,null,null,null,null,null,null,null,null,null,null,null,null,null,null,0,null,null,null,null,null,"MSTM40"]
[null,null,null,null,null,null,null,null,null,null,null,null,"4.PATR.MSTM100","М-100","руб./тнт",null,null,null,null,null,null,null,null,null,null,null,null,null,null,null,null,null,null,null,null,null,null,0,null,null,null,null,null,"MSTM100"]
[null,null,null,null,null,null,null,null,null,null,null,null,"4.PATR.MSTM200","М-200","руб./тнт",null,null,null,null,null,null,null,null,null,null,null,null,null,null,null,null,null,null,null,null,null,null,0,null,null,null,null,null,"MSTM200"]
[null,null,null,null,null,null,null,null,null,null,null,null,"4.PATR.MSTT","мазут марки \"Т\"","руб./тнт",null,null,null,null,null,null,null,null,null,null,null,null,null,null,null,null,null,null,null,null,null,null,0,null,null,null,null,null,"MSTT"]
[null,null,null,null,null,null,null,null,null,null,null,null,"4.PATR.MSTF5","Ф-5","руб./тнт",null,null,null,null,null,null,null,null,null,null,null,null,null,null,null,null,null,null,null,null,null,null,0,null,null,null,null,null,"MSTF5"]
[null,null,null,null,null,null,null,null,null,null,null,null,"4.PATR.MSTF12","Ф-12","руб./тнт",null,null,null,null,null,null,null,null,null,null,null,null,null,null,null,null,null,null,null,null,null,null,0,null,null,null,null,null,"MSTF12"]
[null,null,null,null,null,null,null,null,null,null,null,null,"4.PATR.OIL","Нефть","руб./тнт",null,null,null,null,null,null,null,null,null,null,null,null,null,null,null,null,null,null,null,null,null,null,0,null,null,null,null,null,"OIL"]
[null,null,null,null,null,null,null,null,null,null,null,null,"4.PATR.COA","Уголь","руб./тнт",null,null,null,null,null,null,null,null,null,null,null,null,null,null,null,null,null,null,null,null,null,null,0,{"$f":"IF(AM1504=0,0,AM1548/AM1504*1000)","v":0},{"$f":"IF(AN1504=0,0,AN1548/AN1504*1000)","v":0},null,null,null,"COA"]
[null,null,null,null,null,null,null,null,null,null,null,null,"4.PATR.COAA","Уголь антрацит","руб./тнт",null,null,null,null,null,null,null,null,null,null,null,null,null,null,null,null,null,null,null,null,null,null,0,null,null,null,null,null,"COAA"]
[null,null,null,null,null,null,null,null,null,null,null,null,"4.PATR.COAB","Уголь бурый","руб./тнт",null,null,null,null,null,null,null,null,null,null,null,null,null,null,null,null,null,null,null,null,null,null,0,null,null,null,null,null,"COAB"]
[null,null,null,null,null,null,null,null,null,null,null,null,"4.PATR.COAG","Уголь газовый","руб./тнт",null,null,null,null,null,null,null,null,null,null,null,null,null,null,null,null,null,null,null,null,null,null,0,null,null,null,null,null,"COAG"]
[null,null,null,null,null,null,null,null,null,null,null,null,"4.PATR.COALF","Уголь длиннопламенный","руб./тнт",null,null,null,null,null,null,null,null,null,null,null,null,null,null,null,null,null,null,null,null,null,null,0,null,null,null,null,null,"COALF"]
[null,null,null,null,null,null,null,null,null,null,null,null,"4.PATR.COAF","Уголь жирный","руб./тнт",null,null,null,null,null,null,null,null,null,null,null,null,null,null,null,null,null,null,null,null,null,null,0,null,null,null,null,null,"COAF"]
[null,null,null,null,null,null,null,null,null,null,null,null,"4.PATR.COAC","Уголь коксовый","руб./тнт",null,null,null,null,null,null,null,null,null,null,null,null,null,null,null,null,null,null,null,null,null,null,0,null,null,null,null,null,"COAC"]
[null,null,null,null,null,null,null,null,null,null,null,null,"4.PATR.COASC","Уголь отощённо-спекающийся","руб./тнт",null,null,null,null,null,null,null,null,null,null,null,null,null,null,null,null,null,null,null,null,null,null,0,null,null,null,null,null,"COASC"]
[null,null,null,null,null,null,null,null,null,null,null,null,"4.PATR.COAWC","Уголь слабоспекающийся","руб./тнт",null,null,null,null,null,null,null,null,null,null,null,null,null,null,null,null,null,null,null,null,null,null,0,null,null,null,null,null,"COAWC"]
[null,null,null,null,null,null,null,null,null,null,null,null,"4.PATR.COAS","Уголь тощий","руб./тнт",null,null,null,null,null,null,null,null,null,null,null,null,null,null,null,null,null,null,null,null,null,null,0,null,null,null,null,null,"COAS"]
[]
[]
[null,null,null,null,null,null,null,null,null,null,null,null,"4.PATR.CWD","Уголь древесный","руб./тнт",null,null,null,null,null,null,null,null,null,null,null,null,null,null,null,null,null,null,null,null,null,null,{"$f":"IF(AL1516=0,0,AL1560/AL1516*1000)","v":0},null,null,null,null,null,"CWD"]
[null,null,null,null,null,null,null,null,null,null,null,null,"4.PATR.WDS","Дрова","руб./тнт",null,null,null,null,null,null,null,null,null,null,null,null,null,null,null,null,null,null,null,null,null,null,0,null,null,null,null,null,"WDS"]
[null,null,null,null,null,null,null,null,null,null,null,null,"4.PATR.PLT","Пеллеты","руб./тнт",null,null,null,null,null,null,null,null,null,null,null,null,null,null,null,null,null,null,null,null,null,null,0,null,null,null,null,null,"PLT"]
[null,null,null,null,null,null,null,null,null,null,null,null,"4.PATR.SAW","Опилки","руб./тнт",null,null,null,null,null,null,null,null,null,null,null,null,null,null,null,null,null,null,null,null,null,null,0,null,null,null,null,null,"SAW"]
[null,null,null,null,null,null,null,null,null,null,null,null,"4.PATR.PEA","Торф","руб./тнт",null,null,null,null,null,null,null,null,null,null,null,null,null,null,null,null,null,null,null,null,null,null,0,null,null,null,null,null,"PEA"]
[null,null,null,null,null,null,null,null,null,null,null,null,"4.PATR.SHL","Сланцы","руб./тнт",null,null,null,null,null,null,null,null,null,null,null,null,null,null,null,null,null,null,null,null,null,null,0,null,null,null,null,null,"SHL"]
[null,null,null,null,null,null,null,null,null,null,null,null,"4.PATR.STF","Печное бытовое топливо","руб./тнт",null,null,null,null,null,null,null,null,null,null,null,null,null,null,null,null,null,null,null,null,null,null,0,null,null,null,null,null,"STF"]
[]
[null,null,null,null,null,null,null,null,null,null,null,null,"4.VATR","Перевозка автомобильным транспортом. Объём транспортировки (перевозки) топлива"]
[]
[]
[]
[]
[]
[]
[]
[]
[null,null,null,null,null,null,null,null,null,null,null,null,"4.VATR.GCN","Газовый конденсат","тнт",null,null,null,null,null,null,null,null,null,null,null,null,null,null,null,null,null,null,null,null,null,null,{"$f":"AM1489+AN1489","v":0},null,null,null,null,null,"GCN"]
[null,null,null,null,null,null,null,null,null,null,null,null,"4.VATR.LNG","Газ сжиженный","тнт",null,null,null,null,null,null,null,null,null,null,null,null,null,null,null,null,null,null,null,null,null,null,0,null,null,null,null,null,"LNG"]
[null,null,null,null,null,null,null,null,null,null,null,null,"4.VATR.DSL","Дизельное топливо","тнт",null,null,null,null,null,null,null,null,null,null,null,null,null,null,null,null,null,null,null,null,null,null,0,{"$f":"SUM(AM1492:AM1495)","v":0},{"$f":"SUM(AN1492:AN1495)","v":0},null,null,null,"DSL"]
[null,null,null,null,null,null,null,null,null,null,null,null,"4.VATR.DSLA","А (арктическое)","тнт",null,null,null,null,null,null,null,null,null,null,null,null,null,null,null,null,null,null,null,null,null,null,0,null,null,null,null,null,"DSLA"]
[null,null,null,null,null,null,null,null,null,null,null,null,"4.VATR.DSLW","З (зимнее)","тнт",null,null,null,null,null,null,null,null,null,null,null,null,null,null,null,null,null,null,null,null,null,null,0,null,null,null,null,null,"DSLW"]
[null,null,null,null,null,null,null,null,null,null,null,null,"4.VATR.DSLS","Л (летнее)","тнт",null,null,null,null,null,null,null,null,null,null,null,null,null,null,null,null,null,null,null,null,null,null,0,null,null,null,null,null,"DSLS"]
[null,null,null,null,null,null,null,null,null,null,null,null,"4.VATR.DSLO","Е (межсезонное)","тнт",null,null,null,null,null,null,null,null,null,null,null,null,null,null,null,null,null,null,null,null,null,null,0,null,null,null,null,null,"DSLO"]
[null,null,null,null,null,null,null,null,null,null,null,null,"4.VATR.MST","Мазут","тнт",null,null,null,null,null,null,null,null,null,null,null,null,null,null,null,null,null,null,null,null,null,null,0,{"$f":"SUM(AM1497:AM1502)","v":0},{"$f":"SUM(AN1497:AN1502)","v":0},null,null,null,"MST"]
[null,null,null,null,null,null,null,null,null,null,null,null,"4.VATR.MSTM40","М-40","тнт",null,null,null,null,null,null,null,null,null,null,null,null,null,null,null,null,null,null,null,null,null,null,0,null,null,null,null,null,"MSTM40"]
[null,null,null,null,null,null,null,null,null,null,null,null,"4.VATR.MSTM100","М-100","тнт",null,null,null,null,null,null,null,null,null,null,null,null,null,null,null,null,null,null,null,null,null,null,0,null,null,null,null,null,"MSTM100"]
[null,null,null,null,null,null,null,null,null,null,null,null,"4.VATR.MSTM200","М-200","тнт",null,null,null,null,null,null,null,null,null,null,null,null,null,null,null,null,null,null,null,null,null,null,0,null,null,null,null,null,"MSTM200"]
[null,null,null,null,null,null,null,null,null,null,null,null,"4.VATR.MSTT","мазут марки \"Т\"","тнт",null,null,null,null,null,null,null,null,null,null,null,null,null,null,null,null,null,null,null,null,null,null,0,null,null,null,null,null,"MSTT"]
[null,null,null,null,null,null,null,null,null,null,null,null,"4.VATR.MSTF5","Ф-5","тнт",null,null,null,null,null,null,null,null,null,null,null,null,null,null,null,null,null,null,null,null,null,null,0,null,null,null,null,null,"MSTF5"]
[null,null,null,null,null,null,null,null,null,null,null,null,"4.VATR.MSTF12","Ф-12","тнт",null,null,null,null,null,null,null,null,null,null,null,null,null,null,null,null,null,null,null,null,null,null,0,null,null,null,null,null,"MSTF12"]
[null,null,null,null,null,null,null,null,null,null,null,null,"4.VATR.OIL","Нефть","тнт",null,null,null,null,null,null,null,null,null,null,null,null,null,null,null,null,null,null,null,null,null,null,0,null,null,null,null,null,"OIL"]
[null,null,null,null,null,null,null,null,null,null,null,null,"4.VATR.COA","Уголь","тнт",null,null,null,null,null,null,null,null,null,null,null,null,null,null,null,null,null,null,null,null,null,null,0,{"$f":"SUM(AM1505:AM1513)","v":0},{"$f":"SUM(AN1505:AN1513)","v":0},null,null,null,"COA"]
[null,null,null,null,null,null,null,null,null,null,null,null,"4.VATR.COAA","Уголь антрацит","тнт",null,null,null,null,null,null,null,null,null,null,null,null,null,null,null,null,null,null,null,null,null,null,0,null,null,null,null,null,"COAA"]
[null,null,null,null,null,null,null,null,null,null,null,null,"4.VATR.COAB","Уголь бурый","тнт",null,null,null,null,null,null,null,null,null,null,null,null,null,null,null,null,null,null,null,null,null,null,0,null,null,null,null,null,"COAB"]
[null,null,null,null,null,null,null,null,null,null,null,null,"4.VATR.COAG","Уголь газовый","тнт",null,null,null,null,null,null,null,null,null,null,null,null,null,null,null,null,null,null,null,null,null,null,0,null,null,null,null,null,"COAG"]
[null,null,null,null,null,null,null,null,null,null,null,null,"4.VATR.COALF","Уголь длиннопламенный","тнт",null,null,null,null,null,null,null,null,null,null,null,null,null,null,null,null,null,null,null,null,null,null,0,null,null,null,null,null,"COALF"]
[null,null,null,null,null,null,null,null,null,null,null,null,"4.VATR.COAF","Уголь жирный","тнт",null,null,null,null,null,null,null,null,null,null,null,null,null,null,null,null,null,null,null,null,null,null,0,null,null,null,null,null,"COAF"]
[null,null,null,null,null,null,null,null,null,null,null,null,"4.VATR.COAC","Уголь коксовый","тнт",null,null,null,null,null,null,null,null,null,null,null,null,null,null,null,null,null,null,null,null,null,null,0,null,null,null,null,null,"COAC"]
[null,null,null,null,null,null,null,null,null,null,null,null,"4.VATR.COASC","Уголь отощённо-спекающийся","тнт",null,null,null,null,null,null,null,null,null,null,null,null,null,null,null,null,null,null,null,null,null,null,0,null,null,null,null,null,"COASC"]
[null,null,null,null,null,null,null,null,null,null,null,null,"4.VATR.COAWC","Уголь слабоспекающийся","тнт",null,null,null,null,null,null,null,null,null,null,null,null,null,null,null,null,null,null,null,null,null,null,0,null,null,null,null,null,"COAWC"]
[null,null,null,null,null,null,null,null,null,null,null,null,"4.VATR.COAS","Уголь тощий","тнт",null,null,null,null,null,null,null,null,null,null,null,null,null,null,null,null,null,null,null,null,null,null,0,null,null,null,null,null,"COAS"]
[]
[]
[null,null,null,null,null,null,null,null,null,null,null,null,"4.VATR.CWD","Уголь древесный","тнт",null,null,null,null,null,null,null,null,null,null,null,null,null,null,null,null,null,null,null,null,null,null,{"$f":"AM1516+AN1516","v":0},null,null,null,null,null,"CWD"]
[null,null,null,null,null,null,null,null,null,null,null,null,"4.VATR.WDS","Дрова","тнт",null,null,null,null,null,null,null,null,null,null,null,null,null,null,null,null,null,null,null,null,null,null,0,null,null,null,null,null,"WDS"]
[null,null,null,null,null,null,null,null,null,null,null,null,"4.VATR.PLT","Пеллеты","тнт",null,null,null,null,null,null,null,null,null,null,null,null,null,null,null,null,null,null,null,null,null,null,0,null,null,null,null,null,"PLT"]
[null,null,null,null,null,null,null,null,null,null,null,null,"4.VATR.SAW","Опилки","тнт",null,null,null,null,null,null,null,null,null,null,null,null,null,null,null,null,null,null,null,null,null,null,0,null,null,null,null,null,"SAW"]
[null,null,null,null,null,null,null,null,null,null,null,null,"4.VATR.PEA","Торф","тнт",null,null,null,null,null,null,null,null,null,null,null,null,null,null,null,null,null,null,null,null,null,null,0,null,null,null,null,null,"PEA"]
[null,null,null,null,null,null,null,null,null,null,null,null,"4.VATR.SHL","Сланцы","тнт",null,null,null,null,null,null,null,null,null,null,null,null,null,null,null,null,null,null,null,null,null,null,0,null,null,null,null,null,"SHL"]
[null,null,null,null,null,null,null,null,null,null,null,null,"4.VATR.STF","Печное бытовое топливо","тнт",null,null,null,null,null,null,null,null,null,null,null,null,null,null,null,null,null,null,null,null,null,null,0,null,null,null,null,null,"STF"]
[]
[null,null,null,null,null,null,null,null,null,null,null,null,"4.CATR","Перевозка автомобильным транспортом. Стоимость транспортировки (перевозки) топлива","тыс.руб.",null,null,null,null,null,null,null,null,null,null,null,null,null,null,null,null,{"$f":"SUM(AF1525,AF1529:AF1534,AF1535,AF1540,AF1547,AF1548,AF1560:AF1566)","v":0},{"$f":"SUM(AG1525,AG1529:AG1534,AG1535,AG1540,AG1547,AG1548,AG1560:AG1566)","v":0},{"$f":"SUM(AH1525,AH1529:AH1534,AH1535,AH1540,AH1547,AH1548,AH1560:AH1566)","v":0},null,null,null,{"$f":"SUM(AL1525,AL1529:AL1534,AL1535,AL1540,AL1547,AL1548,AL1560:AL1566)","v":0},{"$f":"SUM(AM1525,AM1529:AM1534,AM1535,AM1540,AM1547,AM1548,AM1560:AM1566)","v":0},{"$f":"SUM(AN1525,AN1529:AN1534,AN1535,AN1540,AN1547,AN1548,AN1560:AN1566)","v":0}]
[]
[]
[]
[]
[]
[]
[]
[]
[null,null,null,null,null,null,null,null,null,null,null,null,"4.CATR.GCN","Газовый конденсат","тыс.руб.",null,null,null,null,null,null,null,null,null,null,null,null,null,null,null,null,null,null,null,null,null,null,{"$f":"AM1533+AN1533","v":0},{"$f":"AM1445*AM1489/1000","v":0},0,null,null,null,"GCN"]
[null,null,null,null,null,null,null,null,null,null,null,null,"4.CATR.LNG","Газ сжиженный","тыс.руб.",null,null,null,null,null,null,null,null,null,null,null,null,null,null,null,null,null,null,null,null,null,null,0,0,0,null,null,null,"LNG"]
[null,null,null,null,null,null,null,null,null,null,null,null,"4.CATR.DSL","Дизельное топливо","тыс.руб.",null,null,null,null,null,null,null,null,null,null,null,null,null,null,null,null,null,null,null,null,null,null,0,{"$f":"SUM(AM1536:AM1539)","v":0},{"$f":"SUM(AN1536:AN1539)","v":0},null,null,null,"DSL"]
[null,null,null,null,null,null,null,null,null,null,null,null,"4.CATR.DSLA","А (арктическое)","тыс.руб.",null,null,null,null,null,null,null,null,null,null,null,null,null,null,null,null,null,null,null,null,null,null,0,0,0,null,null,null,"DSLA"]
[null,null,null,null,null,null,null,null,null,null,null,null,"4.CATR.DSLW","З (зимнее)","тыс.руб.",null,null,null,null,null,null,null,null,null,null,null,null,null,null,null,null,null,null,null,null,null,null,0,0,0,null,null,null,"DSLW"]
[null,null,null,null,null,null,null,null,null,null,null,null,"4.CATR.DSLS","Л (летнее)","тыс.руб.",null,null,null,null,null,null,null,null,null,null,null,null,null,null,null,null,null,null,null,null,null,null,0,0,0,null,null,null,"DSLS"]
[null,null,null,null,null,null,null,null,null,null,null,null,"4.CATR.DSLO","Е (межсезонное)","тыс.руб.",null,null,null,null,null,null,null,null,null,null,null,null,null,null,null,null,null,null,null,null,null,null,0,0,0,null,null,null,"DSLO"]
[null,null,null,null,null,null,null,null,null,null,null,null,"4.CATR.MST","Мазут","тыс.руб.",null,null,null,null,null,null,null,null,null,null,null,null,null,null,null,null,null,null,null,null,null,null,0,{"$f":"SUM(AM1541:AM1546)","v":0},{"$f":"SUM(AN1541:AN1546)","v":0},null,null,null,"MST"]
[null,null,null,null,null,null,null,null,null,null,null,null,"4.CATR.MSTM40","М-40","тыс.руб.",null,null,null,null,null,null,null,null,null,null,null,null,null,null,null,null,null,null,null,null,null,null,0,0,0,null,null,null,"MSTM40"]
[null,null,null,null,null,null,null,null,null,null,null,null,"4.CATR.MSTM100","М-100","тыс.руб.",null,null,null,null,null,null,null,null,null,null,null,null,null,null,null,null,null,null,null,null,null,null,0,0,0,null,null,null,"MSTM100"]
[null,null,null,null,null,null,null,null,null,null,null,null,"4.CATR.MSTM200","М-200","тыс.руб.",null,null,null,null,null,null,null,null,null,null,null,null,null,null,null,null,null,null,null,null,null,null,0,0,0,null,null,null,"MSTM200"]
[null,null,null,null,null,null,null,null,null,null,null,null,"4.CATR.MSTT","мазут марки \"Т\"","тыс.руб.",null,null,null,null,null,null,null,null,null,null,null,null,null,null,null,null,null,null,null,null,null,null,0,0,0,null,null,null,"MSTT"]
[null,null,null,null,null,null,null,null,null,null,null,null,"4.CATR.MSTF5","Ф-5","тыс.руб.",null,null,null,null,null,null,null,null,null,null,null,null,null,null,null,null,null,null,null,null,null,null,0,0,0,null,null,null,"MSTF5"]
[null,null,null,null,null,null,null,null,null,null,null,null,"4.CATR.MSTF12","Ф-12","тыс.руб.",null,null,null,null,null,null,null,null,null,null,null,null,null,null,null,null,null,null,null,null,null,null,0,0,0,null,null,null,"MSTF12"]
[null,null,null,null,null,null,null,null,null,null,null,null,"4.CATR.OIL","Нефть","тыс.руб.",null,null,null,null,null,null,null,null,null,null,null,null,null,null,null,null,null,null,null,null,null,null,0,0,0,null,null,null,"OIL"]
[null,null,null,null,null,null,null,null,null,null,null,null,"4.CATR.COA","Уголь","тыс.руб.",null,null,null,null,null,null,null,null,null,null,null,null,null,null,null,null,null,null,null,null,null,null,0,{"$f":"SUM(AM1549:AM1557)","v":0},{"$f":"SUM(AN1549:AN1557)","v":0},null,null,null,"COA"]
[null,null,null,null,null,null,null,null,null,null,null,null,"4.CATR.COAA","Уголь антрацит","тыс.руб.",null,null,null,null,null,null,null,null,null,null,null,null,null,null,null,null,null,null,null,null,null,null,0,{"$f":"AM1461*AM1505/1000","v":0},0,null,null,null,"COAA"]
[null,null,null,null,null,null,null,null,null,null,null,null,"4.CATR.COAB","Уголь бурый","тыс.руб.",null,null,null,null,null,null,null,null,null,null,null,null,null,null,null,null,null,null,null,null,null,null,0,0,0,null,null,null,"COAB"]
[null,null,null,null,null,null,null,null,null,null,null,null,"4.CATR.COAG","Уголь газовый","тыс.руб.",null,null,null,null,null,null,null,null,null,null,null,null,null,null,null,null,null,null,null,null,null,null,0,0,0,null,null,null,"COAG"]
[null,null,null,null,null,null,null,null,null,null,null,null,"4.CATR.COALF","Уголь длиннопламенный","тыс.руб.",null,null,null,null,null,null,null,null,null,null,null,null,null,null,null,null,null,null,null,null,null,null,0,0,0,null,null,null,"COALF"]
[null,null,null,null,null,null,null,null,null,null,null,null,"4.CATR.COAF","Уголь жирный","тыс.руб.",null,null,null,null,null,null,null,null,null,null,null,null,null,null,null,null,null,null,null,null,null,null,0,0,0,null,null,null,"COAF"]
[null,null,null,null,null,null,null,null,null,null,null,null,"4.CATR.COAC","Уголь коксовый","тыс.руб.",null,null,null,null,null,null,null,null,null,null,null,null,null,null,null,null,null,null,null,null,null,null,0,0,0,null,null,null,"COAC"]
[null,null,null,null,null,null,null,null,null,null,null,null,"4.CATR.COASC","Уголь отощённо-спекающийся","тыс.руб.",null,null,null,null,null,null,null,null,null,null,null,null,null,null,null,null,null,null,null,null,null,null,0,0,0,null,null,null,"COASC"]
[null,null,null,null,null,null,null,null,null,null,null,null,"4.CATR.COAWC","Уголь слабоспекающийся","тыс.руб.",null,null,null,null,null,null,null,null,null,null,null,null,null,null,null,null,null,null,null,null,null,null,0,0,0,null,null,null,"COAWC"]
[null,null,null,null,null,null,null,null,null,null,null,null,"4.CATR.COAS","Уголь тощий","тыс.руб.",null,null,null,null,null,null,null,null,null,null,null,null,null,null,null,null,null,null,null,null,null,null,0,0,0,null,null,null,"COAS"]
[]
[]
[null,null,null,null,null,null,null,null,null,null,null,null,"4.CATR.CWD","Уголь древесный","тыс.руб.",null,null,null,null,null,null,null,null,null,null,null,null,null,null,null,null,null,null,null,null,null,null,{"$f":"AM1560+AN1560","v":0},{"$f":"AM1472*AM1516/1000","v":0},0,null,null,null,"CWD"]
[null,null,null,null,null,null,null,null,null,null,null,null,"4.CATR.WDS","Дрова","тыс.руб.",null,null,null,null,null,null,null,null,null,null,null,null,null,null,null,null,null,null,null,null,null,null,0,0,0,null,null,null,"WDS"]
[null,null,null,null,null,null,null,null,null,null,null,null,"4.CATR.PLT","Пеллеты","тыс.руб.",null,null,null,null,null,null,null,null,null,null,null,null,null,null,null,null,null,null,null,null,null,null,0,0,0,null,null,null,"PLT"]
[null,null,null,null,null,null,null,null,null,null,null,null,"4.CATR.SAW","Опилки","тыс.руб.",null,null,null,null,null,null,null,null,null,null,null,null,null,null,null,null,null,null,null,null,null,null,0,0,0,null,null,null,"SAW"]
[null,null,null,null,null,null,null,null,null,null,null,null,"4.CATR.PEA","Торф","тыс.руб.",null,null,null,null,null,null,null,null,null,null,null,null,null,null,null,null,null,null,null,null,null,null,0,0,0,null,null,null,"PEA"]
[null,null,null,null,null,null,null,null,null,null,null,null,"4.CATR.SHL","Сланцы","тыс.руб.",null,null,null,null,null,null,null,null,null,null,null,null,null,null,null,null,null,null,null,null,null,null,0,0,0,null,null,null,"SHL"]
[null,null,null,null,null,null,null,null,null,null,null,null,"4.CATR.STF","Печное бытовое топливо","тыс.руб.",null,null,null,null,null,null,null,null,null,null,null,null,null,null,null,null,null,null,null,null,null,null,0,0,0,null,null,null,"STF"]
[]
[null,null,null,null,null,null,null,null,null,null,null,null,"4.PRTR","Перевозка ж/д транспортом. Цена (тариф) за транспортировку (перевозку) единицы топлива"]
[]
[]
[]
[]
[]
[]
[]
[]
[null,null,null,null,null,null,null,null,null,null,null,null,"4.PRTR.GCN","Газовый конденсат","руб./тнт",null,null,null,null,null,null,null,null,null,null,null,null,null,null,null,null,null,null,null,null,null,null,{"$f":"IF(AL1621=0,0,AL1665/AL1621*1000)","v":0},null,null,null,null,null,"GCN"]
[null,null,null,null,null,null,null,null,null,null,null,null,"4.PRTR.LNG","Газ сжиженный","руб./тнт",null,null,null,null,null,null,null,null,null,null,null,null,null,null,null,null,null,null,null,null,null,null,0,null,null,null,null,null,"LNG"]
[null,null,null,null,null,null,null,null,null,null,null,null,"4.PRTR.DSL","Дизельное топливо","руб./тнт",null,null,null,null,null,null,null,null,null,null,null,null,null,null,null,null,null,null,null,null,null,null,0,{"$f":"IF(AM1623=0,0,AM1667/AM1623*1000)","v":0},{"$f":"IF(AN1623=0,0,AN1667/AN1623*1000)","v":0},null,null,null,"DSL"]
[null,null,null,null,null,null,null,null,null,null,null,null,"4.PRTR.DSLA","А (арктическое)","руб./тнт",null,null,null,null,null,null,null,null,null,null,null,null,null,null,null,null,null,null,null,null,null,null,0,null,null,null,null,null,"DSLA"]
[null,null,null,null,null,null,null,null,null,null,null,null,"4.PRTR.DSLW","З (зимнее)","руб./тнт",null,null,null,null,null,null,null,null,null,null,null,null,null,null,null,null,null,null,null,null,null,null,0,null,null,null,null,null,"DSLW"]
[null,null,null,null,null,null,null,null,null,null,null,null,"4.PRTR.DSLS","Л (летнее)","руб./тнт",null,null,null,null,null,null,null,null,null,null,null,null,null,null,null,null,null,null,null,null,null,null,0,null,null,null,null,null,"DSLS"]
[null,null,null,null,null,null,null,null,null,null,null,null,"4.PRTR.DSLO","Е (межсезонное)","руб./тнт",null,null,null,null,null,null,null,null,null,null,null,null,null,null,null,null,null,null,null,null,null,null,0,null,null,null,null,null,"DSLO"]
[null,null,null,null,null,null,null,null,null,null,null,null,"4.PRTR.MST","Мазут","руб./тнт",null,null,null,null,null,null,null,null,null,null,null,null,null,null,null,null,null,null,null,null,null,null,0,{"$f":"IF(AM1628=0,0,AM1672/AM1628*1000)","v":0},{"$f":"IF(AN1628=0,0,AN1672/AN1628*1000)","v":0},null,null,null,"MST"]
[null,null,null,null,null,null,null,null,null,null,null,null,"4.PRTR.MSTM40","М-40","руб./тнт",null,null,null,null,null,null,null,null,null,null,null,null,null,null,null,null,null,null,null,null,null,null,0,null,null,null,null,null,"MSTM40"]
[null,null,null,null,null,null,null,null,null,null,null,null,"4.PRTR.MSTM100","М-100","руб./тнт",null,null,null,null,null,null,null,null,null,null,null,null,null,null,null,null,null,null,null,null,null,null,0,null,null,null,null,null,"MSTM100"]
[null,null,null,null,null,null,null,null,null,null,null,null,"4.PRTR.MSTM200","М-200","руб./тнт",null,null,null,null,null,null,null,null,null,null,null,null,null,null,null,null,null,null,null,null,null,null,0,null,null,null,null,null,"MSTM200"]
[null,null,null,null,null,null,null,null,null,null,null,null,"4.PRTR.MSTT","мазут марки \"Т\"","руб./тнт",null,null,null,null,null,null,null,null,null,null,null,null,null,null,null,null,null,null,null,null,null,null,0,null,null,null,null,null,"MSTT"]
[null,null,null,null,null,null,null,null,null,null,null,null,"4.PRTR.MSTF5","Ф-5","руб./тнт",null,null,null,null,null,null,null,null,null,null,null,null,null,null,null,null,null,null,null,null,null,null,0,null,null,null,null,null,"MSTF5"]
[null,null,null,null,null,null,null,null,null,null,null,null,"4.PRTR.MSTF12","Ф-12","руб./тнт",null,null,null,null,null,null,null,null,null,null,null,null,null,null,null,null,null,null,null,null,null,null,0,null,null,null,null,null,"MSTF12"]
[null,null,null,null,null,null,null,null,null,null,null,null,"4.PRTR.OIL","Нефть","руб./тнт",null,null,null,null,null,null,null,null,null,null,null,null,null,null,null,null,null,null,null,null,null,null,0,null,null,null,null,null,"OIL"]
[null,null,null,null,null,null,null,null,null,null,null,null,"4.PRTR.COA","Уголь","руб./тнт",null,null,null,null,null,null,null,null,null,null,null,null,null,null,null,null,null,null,null,null,null,null,0,{"$f":"IF(AM1636=0,0,AM1680/AM1636*1000)","v":0},{"$f":"IF(AN1636=0,0,AN1680/AN1636*1000)","v":0},null,null,null,"COA"]
[null,null,null,null,null,null,null,null,null,null,null,null,"4.PRTR.COAA","Уголь антрацит","руб./тнт",null,null,null,null,null,null,null,null,null,null,null,null,null,null,null,null,null,null,null,null,null,null,0,null,null,null,null,null,"COAA"]
[null,null,null,null,null,null,null,null,null,null,null,null,"4.PRTR.COAB","Уголь бурый","руб./тнт",null,null,null,null,null,null,null,null,null,null,null,null,null,null,null,null,null,null,null,null,null,null,0,null,null,null,null,null,"COAB"]
[null,null,null,null,null,null,null,null,null,null,null,null,"4.PRTR.COAG","Уголь газовый","руб./тнт",null,null,null,null,null,null,null,null,null,null,null,null,null,null,null,null,null,null,null,null,null,null,0,null,null,null,null,null,"COAG"]
[null,null,null,null,null,null,null,null,null,null,null,null,"4.PRTR.COALF","Уголь длиннопламенный","руб./тнт",null,null,null,null,null,null,null,null,null,null,null,null,null,null,null,null,null,null,null,null,null,null,0,null,null,null,null,null,"COALF"]
[null,null,null,null,null,null,null,null,null,null,null,null,"4.PRTR.COAF","Уголь жирный","руб./тнт",null,null,null,null,null,null,null,null,null,null,null,null,null,null,null,null,null,null,null,null,null,null,0,null,null,null,null,null,"COAF"]
[null,null,null,null,null,null,null,null,null,null,null,null,"4.PRTR.COAC","Уголь коксовый","руб./тнт",null,null,null,null,null,null,null,null,null,null,null,null,null,null,null,null,null,null,null,null,null,null,0,null,null,null,null,null,"COAC"]
[null,null,null,null,null,null,null,null,null,null,null,null,"4.PRTR.COASC","Уголь отощённо-спекающийся","руб./тнт",null,null,null,null,null,null,null,null,null,null,null,null,null,null,null,null,null,null,null,null,null,null,0,null,null,null,null,null,"COASC"]
[null,null,null,null,null,null,null,null,null,null,null,null,"4.PRTR.COAWC","Уголь слабоспекающийся","руб./тнт",null,null,null,null,null,null,null,null,null,null,null,null,null,null,null,null,null,null,null,null,null,null,0,null,null,null,null,null,"COAWC"]
[null,null,null,null,null,null,null,null,null,null,null,null,"4.PRTR.COAS","Уголь тощий","руб./тнт",null,null,null,null,null,null,null,null,null,null,null,null,null,null,null,null,null,null,null,null,null,null,0,null,null,null,null,null,"COAS"]
[]
[]
[null,null,null,null,null,null,null,null,null,null,null,null,"4.PRTR.CWD","Уголь древесный","руб./тнт",null,null,null,null,null,null,null,null,null,null,null,null,null,null,null,null,null,null,null,null,null,null,{"$f":"IF(AL1648=0,0,AL1692/AL1648*1000)","v":0},null,null,null,null,null,"CWD"]
[null,null,null,null,null,null,null,null,null,null,null,null,"4.PRTR.WDS","Дрова","руб./тнт",null,null,null,null,null,null,null,null,null,null,null,null,null,null,null,null,null,null,null,null,null,null,0,null,null,null,null,null,"WDS"]
[null,null,null,null,null,null,null,null,null,null,null,null,"4.PRTR.PLT","Пеллеты","руб./тнт",null,null,null,null,null,null,null,null,null,null,null,null,null,null,null,null,null,null,null,null,null,null,0,null,null,null,null,null,"PLT"]
[null,null,null,null,null,null,null,null,null,null,null,null,"4.PRTR.SAW","Опилки","руб./тнт",null,null,null,null,null,null,null,null,null,null,null,null,null,null,null,null,null,null,null,null,null,null,0,null,null,null,null,null,"SAW"]
[null,null,null,null,null,null,null,null,null,null,null,null,"4.PRTR.PEA","Торф","руб./тнт",null,null,null,null,null,null,null,null,null,null,null,null,null,null,null,null,null,null,null,null,null,null,0,null,null,null,null,null,"PEA"]
[null,null,null,null,null,null,null,null,null,null,null,null,"4.PRTR.SHL","Сланцы","руб./тнт",null,null,null,null,null,null,null,null,null,null,null,null,null,null,null,null,null,null,null,null,null,null,0,null,null,null,null,null,"SHL"]
[null,null,null,null,null,null,null,null,null,null,null,null,"4.PRTR.STF","Печное бытовое топливо","руб./тнт",null,null,null,null,null,null,null,null,null,null,null,null,null,null,null,null,null,null,null,null,null,null,0,null,null,null,null,null,"STF"]
[]
[null,null,null,null,null,null,null,null,null,null,null,null,"4.VRTR","Перевозка ж/д транспортом. Объём транспортировки (перевозки) топлива"]
[]
[]
[]
[]
[]
[]
[]
[]
[null,null,null,null,null,null,null,null,null,null,null,null,"4.VRTR.GCN","Газовый конденсат","тнт",null,null,null,null,null,null,null,null,null,null,null,null,null,null,null,null,null,null,null,null,null,null,{"$f":"AM1621+AN1621","v":0},null,null,null,null,null,"GCN"]
[null,null,null,null,null,null,null,null,null,null,null,null,"4.VRTR.LNG","Газ сжиженный","тнт",null,null,null,null,null,null,null,null,null,null,null,null,null,null,null,null,null,null,null,null,null,null,0,null,null,null,null,null,"LNG"]
[null,null,null,null,null,null,null,null,null,null,null,null,"4.VRTR.DSL","Дизельное топливо","тнт",null,null,null,null,null,null,null,null,null,null,null,null,null,null,null,null,null,null,null,null,null,null,0,{"$f":"SUM(AM1624:AM1627)","v":0},{"$f":"SUM(AN1624:AN1627)","v":0},null,null,null,"DSL"]
[null,null,null,null,null,null,null,null,null,null,null,null,"4.VRTR.DSLA","А (арктическое)","тнт",null,null,null,null,null,null,null,null,null,null,null,null,null,null,null,null,null,null,null,null,null,null,0,null,null,null,null,null,"DSLA"]
[null,null,null,null,null,null,null,null,null,null,null,null,"4.VRTR.DSLW","З (зимнее)","тнт",null,null,null,null,null,null,null,null,null,null,null,null,null,null,null,null,null,null,null,null,null,null,0,null,null,null,null,null,"DSLW"]
[null,null,null,null,null,null,null,null,null,null,null,null,"4.VRTR.DSLS","Л (летнее)","тнт",null,null,null,null,null,null,null,null,null,null,null,null,null,null,null,null,null,null,null,null,null,null,0,null,null,null,null,null,"DSLS"]
[null,null,null,null,null,null,null,null,null,null,null,null,"4.VRTR.DSLO","Е (межсезонное)","тнт",null,null,null,null,null,null,null,null,null,null,null,null,null,null,null,null,null,null,null,null,null,null,0,null,null,null,null,null,"DSLO"]
[null,null,null,null,null,null,null,null,null,null,null,null,"4.VRTR.MST","Мазут","тнт",null,null,null,null,null,null,null,null,null,null,null,null,null,null,null,null,null,null,null,null,null,null,0,{"$f":"SUM(AM1629:AM1634)","v":0},{"$f":"SUM(AN1629:AN1634)","v":0},null,null,null,"MST"]
[null,null,null,null,null,null,null,null,null,null,null,null,"4.VRTR.MSTM40","М-40","тнт",null,null,null,null,null,null,null,null,null,null,null,null,null,null,null,null,null,null,null,null,null,null,0,null,null,null,null,null,"MSTM40"]
[null,null,null,null,null,null,null,null,null,null,null,null,"4.VRTR.MSTM100","М-100","тнт",null,null,null,null,null,null,null,null,null,null,null,null,null,null,null,null,null,null,null,null,null,null,0,null,null,null,null,null,"MSTM100"]
[null,null,null,null,null,null,null,null,null,null,null,null,"4.VRTR.MSTM200","М-200","тнт",null,null,null,null,null,null,null,null,null,null,null,null,null,null,null,null,null,null,null,null,null,null,0,null,null,null,null,null,"MSTM200"]
[null,null,null,null,null,null,null,null,null,null,null,null,"4.VRTR.MSTT","мазут марки \"Т\"","тнт",null,null,null,null,null,null,null,null,null,null,null,null,null,null,null,null,null,null,null,null,null,null,0,null,null,null,null,null,"MSTT"]
[null,null,null,null,null,null,null,null,null,null,null,null,"4.VRTR.MSTF5","Ф-5","тнт",null,null,null,null,null,null,null,null,null,null,null,null,null,null,null,null,null,null,null,null,null,null,0,null,null,null,null,null,"MSTF5"]
[null,null,null,null,null,null,null,null,null,null,null,null,"4.VRTR.MSTF12","Ф-12","тнт",null,null,null,null,null,null,null,null,null,null,null,null,null,null,null,null,null,null,null,null,null,null,0,null,null,null,null,null,"MSTF12"]
[null,null,null,null,null,null,null,null,null,null,null,null,"4.VRTR.OIL","Нефть","тнт",null,null,null,null,null,null,null,null,null,null,null,null,null,null,null,null,null,null,null,null,null,null,0,null,null,null,null,null,"OIL"]
[null,null,null,null,null,null,null,null,null,null,null,null,"4.VRTR.COA","Уголь","тнт",null,null,null,null,null,null,null,null,null,null,null,null,null,null,null,null,null,null,null,null,null,null,0,{"$f":"SUM(AM1637:AM1645)","v":0},{"$f":"SUM(AN1637:AN1645)","v":0},null,null,null,"COA"]
[null,null,null,null,null,null,null,null,null,null,null,null,"4.VRTR.COAA","Уголь антрацит","тнт",null,null,null,null,null,null,null,null,null,null,null,null,null,null,null,null,null,null,null,null,null,null,0,null,null,null,null,null,"COAA"]
[null,null,null,null,null,null,null,null,null,null,null,null,"4.VRTR.COAB","Уголь бурый","тнт",null,null,null,null,null,null,null,null,null,null,null,null,null,null,null,null,null,null,null,null,null,null,0,null,null,null,null,null,"COAB"]
[null,null,null,null,null,null,null,null,null,null,null,null,"4.VRTR.COAG","Уголь газовый","тнт",null,null,null,null,null,null,null,null,null,null,null,null,null,null,null,null,null,null,null,null,null,null,0,null,null,null,null,null,"COAG"]
[null,null,null,null,null,null,null,null,null,null,null,null,"4.VRTR.COALF","Уголь длиннопламенный","тнт",null,null,null,null,null,null,null,null,null,null,null,null,null,null,null,null,null,null,null,null,null,null,0,null,null,null,null,null,"COALF"]
[null,null,null,null,null,null,null,null,null,null,null,null,"4.VRTR.COAF","Уголь жирный","тнт",null,null,null,null,null,null,null,null,null,null,null,null,null,null,null,null,null,null,null,null,null,null,0,null,null,null,null,null,"COAF"]
[null,null,null,null,null,null,null,null,null,null,null,null,"4.VRTR.COAC","Уголь коксовый","тнт",null,null,null,null,null,null,null,null,null,null,null,null,null,null,null,null,null,null,null,null,null,null,0,null,null,null,null,null,"COAC"]
[null,null,null,null,null,null,null,null,null,null,null,null,"4.VRTR.COASC","Уголь отощённо-спекающийся","тнт",null,null,null,null,null,null,null,null,null,null,null,null,null,null,null,null,null,null,null,null,null,null,0,null,null,null,null,null,"COASC"]
[null,null,null,null,null,null,null,null,null,null,null,null,"4.VRTR.COAWC","Уголь слабоспекающийся","тнт",null,null,null,null,null,null,null,null,null,null,null,null,null,null,null,null,null,null,null,null,null,null,0,null,null,null,null,null,"COAWC"]
[null,null,null,null,null,null,null,null,null,null,null,null,"4.VRTR.COAS","Уголь тощий","тнт",null,null,null,null,null,null,null,null,null,null,null,null,null,null,null,null,null,null,null,null,null,null,0,null,null,null,null,null,"COAS"]
[]
[]
[null,null,null,null,null,null,null,null,null,null,null,null,"4.VRTR.CWD","Уголь древесный","тнт",null,null,null,null,null,null,null,null,null,null,null,null,null,null,null,null,null,null,null,null,null,null,{"$f":"AM1648+AN1648","v":0},null,null,null,null,null,"CWD"]
[null,null,null,null,null,null,null,null,null,null,null,null,"4.VRTR.WDS","Дрова","тнт",null,null,null,null,null,null,null,null,null,null,null,null,null,null,null,null,null,null,null,null,null,null,0,null,null,null,null,null,"WDS"]
[null,null,null,null,null,null,null,null,null,null,null,null,"4.VRTR.PLT","Пеллеты","тнт",null,null,null,null,null,null,null,null,null,null,null,null,null,null,null,null,null,null,null,null,null,null,0,null,null,null,null,null,"PLT"]
[null,null,null,null,null,null,null,null,null,null,null,null,"4.VRTR.SAW","Опилки","тнт",null,null,null,null,null,null,null,null,null,null,null,null,null,null,null,null,null,null,null,null,null,null,0,null,null,null,null,null,"SAW"]
[null,null,null,null,null,null,null,null,null,null,null,null,"4.VRTR.PEA","Торф","тнт",null,null,null,null,null,null,null,null,null,null,null,null,null,null,null,null,null,null,null,null,null,null,0,null,null,null,null,null,"PEA"]
[null,null,null,null,null,null,null,null,null,null,null,null,"4.VRTR.SHL","Сланцы","тнт",null,null,null,null,null,null,null,null,null,null,null,null,null,null,null,null,null,null,null,null,null,null,0,null,null,null,null,null,"SHL"]
[null,null,null,null,null,null,null,null,null,null,null,null,"4.VRTR.STF","Печное бытовое топливо","тнт",null,null,null,null,null,null,null,null,null,null,null,null,null,null,null,null,null,null,null,null,null,null,0,null,null,null,null,null,"STF"]
[]
[null,null,null,null,null,null,null,null,null,null,null,null,"4.CRTR","Перевозка ж/д транспортом. Стоимость транспортировки (перевозки) топлива","тыс.руб.",null,null,null,null,null,null,null,null,null,null,null,null,null,null,null,null,{"$f":"SUM(AF1657,AF1661:AF1666,AF1667,AF1672,AF1679,AF1680,AF1692:AF1698)","v":0},{"$f":"SUM(AG1657,AG1661:AG1666,AG1667,AG1672,AG1679,AG1680,AG1692:AG1698)","v":0},{"$f":"SUM(AH1657,AH1661:AH1666,AH1667,AH1672,AH1679,AH1680,AH1692:AH1698)","v":0},null,null,null,{"$f":"SUM(AL1657,AL1661:AL1666,AL1667,AL1672,AL1679,AL1680,AL1692:AL1698)","v":0},{"$f":"SUM(AM1657,AM1661:AM1666,AM1667,AM1672,AM1679,AM1680,AM1692:AM1698)","v":0},{"$f":"SUM(AN1657,AN1661:AN1666,AN1667,AN1672,AN1679,AN1680,AN1692:AN1698)","v":0}]
[]
[]
[]
[]
[]
[]
[]
[]
[null,null,null,null,null,null,null,null,null,null,null,null,"4.CRTR.GCN","Газовый конденсат","тыс.руб.",null,null,null,null,null,null,null,null,null,null,null,null,null,null,null,null,null,null,null,null,null,null,{"$f":"AM1665+AN1665","v":0},{"$f":"AM1577*AM1621/1000","v":0},0,null,null,null,"GCN"]
[null,null,null,null,null,null,null,null,null,null,null,null,"4.CRTR.LNG","Газ сжиженный","тыс.руб.",null,null,null,null,null,null,null,null,null,null,null,null,null,null,null,null,null,null,null,null,null,null,0,0,0,null,null,null,"LNG"]
[null,null,null,null,null,null,null,null,null,null,null,null,"4.CRTR.DSL","Дизельное топливо","тыс.руб.",null,null,null,null,null,null,null,null,null,null,null,null,null,null,null,null,null,null,null,null,null,null,0,{"$f":"SUM(AM1668:AM1671)","v":0},{"$f":"SUM(AN1668:AN1671)","v":0},null,null,null,"DSL"]
[null,null,null,null,null,null,null,null,null,null,null,null,"4.CRTR.DSLA","А (арктическое)","тыс.руб.",null,null,null,null,null,null,null,null,null,null,null,null,null,null,null,null,null,null,null,null,null,null,0,0,0,null,null,null,"DSLA"]
[null,null,null,null,null,null,null,null,null,null,null,null,"4.CRTR.DSLW","З (зимнее)","тыс.руб.",null,null,null,null,null,null,null,null,null,null,null,null,null,null,null,null,null,null,null,null,null,null,0,0,0,null,null,null,"DSLW"]
[null,null,null,null,null,null,null,null,null,null,null,null,"4.CRTR.DSLS","Л (летнее)","тыс.руб.",null,null,null,null,null,null,null,null,null,null,null,null,null,null,null,null,null,null,null,null,null,null,0,0,0,null,null,null,"DSLS"]
[null,null,null,null,null,null,null,null,null,null,null,null,"4.CRTR.DSLO","Е (межсезонное)","тыс.руб.",null,null,null,null,null,null,null,null,null,null,null,null,null,null,null,null,null,null,null,null,null,null,0,0,0,null,null,null,"DSLO"]
[null,null,null,null,null,null,null,null,null,null,null,null,"4.CRTR.MST","Мазут","тыс.руб.",null,null,null,null,null,null,null,null,null,null,null,null,null,null,null,null,null,null,null,null,null,null,0,{"$f":"SUM(AM1673:AM1678)","v":0},{"$f":"SUM(AN1673:AN1678)","v":0},null,null,null,"MST"]
[null,null,null,null,null,null,null,null,null,null,null,null,"4.CRTR.MSTM40","М-40","тыс.руб.",null,null,null,null,null,null,null,null,null,null,null,null,null,null,null,null,null,null,null,null,null,null,0,0,0,null,null,null,"MSTM40"]
[null,null,null,null,null,null,null,null,null,null,null,null,"4.CRTR.MSTM100","М-100","тыс.руб.",null,null,null,null,null,null,null,null,null,null,null,null,null,null,null,null,null,null,null,null,null,null,0,0,0,null,null,null,"MSTM100"]
[null,null,null,null,null,null,null,null,null,null,null,null,"4.CRTR.MSTM200","М-200","тыс.руб.",null,null,null,null,null,null,null,null,null,null,null,null,null,null,null,null,null,null,null,null,null,null,0,0,0,null,null,null,"MSTM200"]
[null,null,null,null,null,null,null,null,null,null,null,null,"4.CRTR.MSTT","мазут марки \"Т\"","тыс.руб.",null,null,null,null,null,null,null,null,null,null,null,null,null,null,null,null,null,null,null,null,null,null,0,0,0,null,null,null,"MSTT"]
[null,null,null,null,null,null,null,null,null,null,null,null,"4.CRTR.MSTF5","Ф-5","тыс.руб.",null,null,null,null,null,null,null,null,null,null,null,null,null,null,null,null,null,null,null,null,null,null,0,0,0,null,null,null,"MSTF5"]
[null,null,null,null,null,null,null,null,null,null,null,null,"4.CRTR.MSTF12","Ф-12","тыс.руб.",null,null,null,null,null,null,null,null,null,null,null,null,null,null,null,null,null,null,null,null,null,null,0,0,0,null,null,null,"MSTF12"]
[null,null,null,null,null,null,null,null,null,null,null,null,"4.CRTR.OIL","Нефть","тыс.руб.",null,null,null,null,null,null,null,null,null,null,null,null,null,null,null,null,null,null,null,null,null,null,0,0,0,null,null,null,"OIL"]
[null,null,null,null,null,null,null,null,null,null,null,null,"4.CRTR.COA","Уголь","тыс.руб.",null,null,null,null,null,null,null,null,null,null,null,null,null,null,null,null,null,null,null,null,null,null,0,{"$f":"SUM(AM1681:AM1689)","v":0},{"$f":"SUM(AN1681:AN1689)","v":0},null,null,null,"COA"]
[null,null,null,null,null,null,null,null,null,null,null,null,"4.CRTR.COAA","Уголь антрацит","тыс.руб.",null,null,null,null,null,null,null,null,null,null,null,null,null,null,null,null,null,null,null,null,null,null,0,{"$f":"AM1593*AM1637/1000","v":0},0,null,null,null,"COAA"]
[null,null,null,null,null,null,null,null,null,null,null,null,"4.CRTR.COAB","Уголь бурый","тыс.руб.",null,null,null,null,null,null,null,null,null,null,null,null,null,null,null,null,null,null,null,null,null,null,0,0,0,null,null,null,"COAB"]
[null,null,null,null,null,null,null,null,null,null,null,null,"4.CRTR.COAG","Уголь газовый","тыс.руб.",null,null,null,null,null,null,null,null,null,null,null,null,null,null,null,null,null,null,null,null,null,null,0,0,0,null,null,null,"COAG"]
[null,null,null,null,null,null,null,null,null,null,null,null,"4.CRTR.COALF","Уголь длиннопламенный","тыс.руб.",null,null,null,null,null,null,null,null,null,null,null,null,null,null,null,null,null,null,null,null,null,null,0,0,0,null,null,null,"COALF"]
[null,null,null,null,null,null,null,null,null,null,null,null,"4.CRTR.COAF","Уголь жирный","тыс.руб.",null,null,null,null,null,null,null,null,null,null,null,null,null,null,null,null,null,null,null,null,null,null,0,0,0,null,null,null,"COAF"]
[null,null,null,null,null,null,null,null,null,null,null,null,"4.CRTR.COAC","Уголь коксовый","тыс.руб.",null,null,null,null,null,null,null,null,null,null,null,null,null,null,null,null,null,null,null,null,null,null,0,0,0,null,null,null,"COAC"]
[null,null,null,null,null,null,null,null,null,null,null,null,"4.CRTR.COASC","Уголь отощённо-спекающийся","тыс.руб.",null,null,null,null,null,null,null,null,null,null,null,null,null,null,null,null,null,null,null,null,null,null,0,0,0,null,null,null,"COASC"]
[null,null,null,null,null,null,null,null,null,null,null,null,"4.CRTR.COAWC","Уголь слабоспекающийся","тыс.руб.",null,null,null,null,null,null,null,null,null,null,null,null,null,null,null,null,null,null,null,null,null,null,0,0,0,null,null,null,"COAWC"]
[null,null,null,null,null,null,null,null,null,null,null,null,"4.CRTR.COAS","Уголь тощий","тыс.руб.",null,null,null,null,null,null,null,null,null,null,null,null,null,null,null,null,null,null,null,null,null,null,0,0,0,null,null,null,"COAS"]
[]
[]
[null,null,null,null,null,null,null,null,null,null,null,null,"4.CRTR.CWD","Уголь древесный","тыс.руб.",null,null,null,null,null,null,null,null,null,null,null,null,null,null,null,null,null,null,null,null,null,null,{"$f":"AM1692+AN1692","v":0},{"$f":"AM1604*AM1648/1000","v":0},0,null,null,null,"CWD"]
[null,null,null,null,null,null,null,null,null,null,null,null,"4.CRTR.WDS","Дрова","тыс.руб.",null,null,null,null,null,null,null,null,null,null,null,null,null,null,null,null,null,null,null,null,null,null,0,0,0,null,null,null,"WDS"]
[null,null,null,null,null,null,null,null,null,null,null,null,"4.CRTR.PLT","Пеллеты","тыс.руб.",null,null,null,null,null,null,null,null,null,null,null,null,null,null,null,null,null,null,null,null,null,null,0,0,0,null,null,null,"PLT"]
[null,null,null,null,null,null,null,null,null,null,null,null,"4.CRTR.SAW","Опилки","тыс.руб.",null,null,null,null,null,null,null,null,null,null,null,null,null,null,null,null,null,null,null,null,null,null,0,0,0,null,null,null,"SAW"]
[null,null,null,null,null,null,null,null,null,null,null,null,"4.CRTR.PEA","Торф","тыс.руб.",null,null,null,null,null,null,null,null,null,null,null,null,null,null,null,null,null,null,null,null,null,null,0,0,0,null,null,null,"PEA"]
[null,null,null,null,null,null,null,null,null,null,null,null,"4.CRTR.SHL","Сланцы","тыс.руб.",null,null,null,null,null,null,null,null,null,null,null,null,null,null,null,null,null,null,null,null,null,null,0,0,0,null,null,null,"SHL"]
[null,null,null,null,null,null,null,null,null,null,null,null,"4.CRTR.STF","Печное бытовое топливо","тыс.руб.",null,null,null,null,null,null,null,null,null,null,null,null,null,null,null,null,null,null,null,null,null,null,0,0,0,null,null,null,"STF"]
[]
[null,null,null,null,null,null,null,null,null,null,null,null,"4.POTR","Иные виды транспортировки (перевозки). Цена (тариф) за транспортировку (перевозку) единицы топлива"]
[]
[]
[]
[]
[]
[]
[]
[]
[null,null,null,null,null,null,null,null,null,null,null,null,"4.POTR.GCN","Газовый конденсат","руб./тнт",null,null,null,null,null,null,null,null,null,null,null,null,null,null,null,null,null,null,null,null,null,null,{"$f":"IF(AL1753=0,0,AL1797/AL1753*1000)","v":0},null,null,null,null,null,"GCN"]
[null,null,null,null,null,null,null,null,null,null,null,null,"4.POTR.LNG","Газ сжиженный","руб./тнт",null,null,null,null,null,null,null,null,null,null,null,null,null,null,null,null,null,null,null,null,null,null,0,null,null,null,null,null,"LNG"]
[null,null,null,null,null,null,null,null,null,null,null,null,"4.POTR.DSL","Дизельное топливо","руб./тнт",null,null,null,null,null,null,null,null,null,null,null,null,null,null,null,null,null,null,null,null,null,null,0,{"$f":"IF(AM1755=0,0,AM1799/AM1755*1000)","v":0},{"$f":"IF(AN1755=0,0,AN1799/AN1755*1000)","v":0},null,null,null,"DSL"]
[null,null,null,null,null,null,null,null,null,null,null,null,"4.POTR.DSLA","А (арктическое)","руб./тнт",null,null,null,null,null,null,null,null,null,null,null,null,null,null,null,null,null,null,null,null,null,null,0,null,null,null,null,null,"DSLA"]
[null,null,null,null,null,null,null,null,null,null,null,null,"4.POTR.DSLW","З (зимнее)","руб./тнт",null,null,null,null,null,null,null,null,null,null,null,null,null,null,null,null,null,null,null,null,null,null,0,null,null,null,null,null,"DSLW"]
[null,null,null,null,null,null,null,null,null,null,null,null,"4.POTR.DSLS","Л (летнее)","руб./тнт",null,null,null,null,null,null,null,null,null,null,null,null,null,null,null,null,null,null,null,null,null,null,0,null,null,null,null,null,"DSLS"]
[null,null,null,null,null,null,null,null,null,null,null,null,"4.POTR.DSLO","Е (межсезонное)","руб./тнт",null,null,null,null,null,null,null,null,null,null,null,null,null,null,null,null,null,null,null,null,null,null,0,null,null,null,null,null,"DSLO"]
[null,null,null,null,null,null,null,null,null,null,null,null,"4.POTR.MST","Мазут","руб./тнт",null,null,null,null,null,null,null,null,null,null,null,null,null,null,null,null,null,null,null,null,null,null,0,{"$f":"IF(AM1760=0,0,AM1804/AM1760*1000)","v":0},{"$f":"IF(AN1760=0,0,AN1804/AN1760*1000)","v":0},null,null,null,"MST"]
[null,null,null,null,null,null,null,null,null,null,null,null,"4.POTR.MSTM40","М-40","руб./тнт",null,null,null,null,null,null,null,null,null,null,null,null,null,null,null,null,null,null,null,null,null,null,0,null,null,null,null,null,"MSTM40"]
[null,null,null,null,null,null,null,null,null,null,null,null,"4.POTR.MSTM100","М-100","руб./тнт",null,null,null,null,null,null,null,null,null,null,null,null,null,null,null,null,null,null,null,null,null,null,0,null,null,null,null,null,"MSTM100"]
[null,null,null,null,null,null,null,null,null,null,null,null,"4.POTR.MSTM200","М-200","руб./тнт",null,null,null,null,null,null,null,null,null,null,null,null,null,null,null,null,null,null,null,null,null,null,0,null,null,null,null,null,"MSTM200"]
[null,null,null,null,null,null,null,null,null,null,null,null,"4.POTR.MSTT","мазут марки \"Т\"","руб./тнт",null,null,null,null,null,null,null,null,null,null,null,null,null,null,null,null,null,null,null,null,null,null,0,null,null,null,null,null,"MSTT"]
[null,null,null,null,null,null,null,null,null,null,null,null,"4.POTR.MSTF5","Ф-5","руб./тнт",null,null,null,null,null,null,null,null,null,null,null,null,null,null,null,null,null,null,null,null,null,null,0,null,null,null,null,null,"MSTF5"]
[null,null,null,null,null,null,null,null,null,null,null,null,"4.POTR.MSTF12","Ф-12","руб./тнт",null,null,null,null,null,null,null,null,null,null,null,null,null,null,null,null,null,null,null,null,null,null,0,null,null,null,null,null,"MSTF12"]
[null,null,null,null,null,null,null,null,null,null,null,null,"4.POTR.OIL","Нефть","руб./тнт",null,null,null,null,null,null,null,null,null,null,null,null,null,null,null,null,null,null,null,null,null,null,0,null,null,null,null,null,"OIL"]
[null,null,null,null,null,null,null,null,null,null,null,null,"4.POTR.COA","Уголь","руб./тнт",null,null,null,null,null,null,null,null,null,null,null,null,null,null,null,null,null,null,null,null,null,null,0,{"$f":"IF(AM1768=0,0,AM1812/AM1768*1000)","v":0},{"$f":"IF(AN1768=0,0,AN1812/AN1768*1000)","v":0},null,null,null,"COA"]
[null,null,null,null,null,null,null,null,null,null,null,null,"4.POTR.COAA","Уголь антрацит","руб./тнт",null,null,null,null,null,null,null,null,null,null,null,null,null,null,null,null,null,null,null,null,null,null,0,null,null,null,null,null,"COAA"]
[null,null,null,null,null,null,null,null,null,null,null,null,"4.POTR.COAB","Уголь бурый","руб./тнт",null,null,null,null,null,null,null,null,null,null,null,null,null,null,null,null,null,null,null,null,null,null,0,null,null,null,null,null,"COAB"]
[null,null,null,null,null,null,null,null,null,null,null,null,"4.POTR.COAG","Уголь газовый","руб./тнт",null,null,null,null,null,null,null,null,null,null,null,null,null,null,null,null,null,null,null,null,null,null,0,null,null,null,null,null,"COAG"]
[null,null,null,null,null,null,null,null,null,null,null,null,"4.POTR.COALF","Уголь длиннопламенный","руб./тнт",null,null,null,null,null,null,null,null,null,null,null,null,null,null,null,null,null,null,null,null,null,null,0,null,null,null,null,null,"COALF"]
[null,null,null,null,null,null,null,null,null,null,null,null,"4.POTR.COAF","Уголь жирный","руб./тнт",null,null,null,null,null,null,null,null,null,null,null,null,null,null,null,null,null,null,null,null,null,null,0,null,null,null,null,null,"COAF"]
[null,null,null,null,null,null,null,null,null,null,null,null,"4.POTR.COAC","Уголь коксовый","руб./тнт",null,null,null,null,null,null,null,null,null,null,null,null,null,null,null,null,null,null,null,null,null,null,0,null,null,null,null,null,"COAC"]
[null,null,null,null,null,null,null,null,null,null,null,null,"4.POTR.COASC","Уголь отощённо-спекающийся","руб./тнт",null,null,null,null,null,null,null,null,null,null,null,null,null,null,null,null,null,null,null,null,null,null,0,null,null,null,null,null,"COASC"]
[null,null,null,null,null,null,null,null,null,null,null,null,"4.POTR.COAWC","Уголь слабоспекающийся","руб./тнт",null,null,null,null,null,null,null,null,null,null,null,null,null,null,null,null,null,null,null,null,null,null,0,null,null,null,null,null,"COAWC"]
[null,null,null,null,null,null,null,null,null,null,null,null,"4.POTR.COAS","Уголь тощий","руб./тнт",null,null,null,null,null,null,null,null,null,null,null,null,null,null,null,null,null,null,null,null,null,null,0,null,null,null,null,null,"COAS"]
[]
[]
[null,null,null,null,null,null,null,null,null,null,null,null,"4.POTR.CWD","Уголь древесный","руб./тнт",null,null,null,null,null,null,null,null,null,null,null,null,null,null,null,null,null,null,null,null,null,null,{"$f":"IF(AL1780=0,0,AL1824/AL1780*1000)","v":0},null,null,null,null,null,"CWD"]
[null,null,null,null,null,null,null,null,null,null,null,null,"4.POTR.WDS","Дрова","руб./тнт",null,null,null,null,null,null,null,null,null,null,null,null,null,null,null,null,null,null,null,null,null,null,0,null,null,null,null,null,"WDS"]
[null,null,null,null,null,null,null,null,null,null,null,null,"4.POTR.PLT","Пеллеты","руб./тнт",null,null,null,null,null,null,null,null,null,null,null,null,null,null,null,null,null,null,null,null,null,null,0,null,null,null,null,null,"PLT"]
[null,null,null,null,null,null,null,null,null,null,null,null,"4.POTR.SAW","Опилки","руб./тнт",null,null,null,null,null,null,null,null,null,null,null,null,null,null,null,null,null,null,null,null,null,null,0,null,null,null,null,null,"SAW"]
[null,null,null,null,null,null,null,null,null,null,null,null,"4.POTR.PEA","Торф","руб./тнт",null,null,null,null,null,null,null,null,null,null,null,null,null,null,null,null,null,null,null,null,null,null,0,null,null,null,null,null,"PEA"]
[null,null,null,null,null,null,null,null,null,null,null,null,"4.POTR.SHL","Сланцы","руб./тнт",null,null,null,null,null,null,null,null,null,null,null,null,null,null,null,null,null,null,null,null,null,null,0,null,null,null,null,null,"SHL"]
[null,null,null,null,null,null,null,null,null,null,null,null,"4.POTR.STF","Печное бытовое топливо","руб./тнт",null,null,null,null,null,null,null,null,null,null,null,null,null,null,null,null,null,null,null,null,null,null,0,null,null,null,null,null,"STF"]
[]
[null,null,null,null,null,null,null,null,null,null,null,null,"4.VOTR","Иные виды транспортировки (перевозки). Объём транспортировки (перевозки) топлива"]
[]
[]
[]
[]
[]
[]
[]
[]
[null,null,null,null,null,null,null,null,null,null,null,null,"4.VOTR.GCN","Газовый конденсат","тнт",null,null,null,null,null,null,null,null,null,null,null,null,null,null,null,null,null,null,null,null,null,null,{"$f":"AM1753+AN1753","v":0},null,null,null,null,null,"GCN"]
[null,null,null,null,null,null,null,null,null,null,null,null,"4.VOTR.LNG","Газ сжиженный","тнт",null,null,null,null,null,null,null,null,null,null,null,null,null,null,null,null,null,null,null,null,null,null,0,null,null,null,null,null,"LNG"]
[null,null,null,null,null,null,null,null,null,null,null,null,"4.VOTR.DSL","Дизельное топливо","тнт",null,null,null,null,null,null,null,null,null,null,null,null,null,null,null,null,null,null,null,null,null,null,0,{"$f":"SUM(AM1756:AM1759)","v":0},{"$f":"SUM(AN1756:AN1759)","v":0},null,null,null,"DSL"]
[null,null,null,null,null,null,null,null,null,null,null,null,"4.VOTR.DSLA","А (арктическое)","тнт",null,null,null,null,null,null,null,null,null,null,null,null,null,null,null,null,null,null,null,null,null,null,0,null,null,null,null,null,"DSLA"]
[null,null,null,null,null,null,null,null,null,null,null,null,"4.VOTR.DSLW","З (зимнее)","тнт",null,null,null,null,null,null,null,null,null,null,null,null,null,null,null,null,null,null,null,null,null,null,0,null,null,null,null,null,"DSLW"]
[null,null,null,null,null,null,null,null,null,null,null,null,"4.VOTR.DSLS","Л (летнее)","тнт",null,null,null,null,null,null,null,null,null,null,null,null,null,null,null,null,null,null,null,null,null,null,0,null,null,null,null,null,"DSLS"]
[null,null,null,null,null,null,null,null,null,null,null,null,"4.VOTR.DSLO","Е (межсезонное)","тнт",null,null,null,null,null,null,null,null,null,null,null,null,null,null,null,null,null,null,null,null,null,null,0,null,null,null,null,null,"DSLO"]
[null,null,null,null,null,null,null,null,null,null,null,null,"4.VOTR.MST","Мазут","тнт",null,null,null,null,null,null,null,null,null,null,null,null,null,null,null,null,null,null,null,null,null,null,0,{"$f":"SUM(AM1761:AM1766)","v":0},{"$f":"SUM(AN1761:AN1766)","v":0},null,null,null,"MST"]
[null,null,null,null,null,null,null,null,null,null,null,null,"4.VOTR.MSTM40","М-40","тнт",null,null,null,null,null,null,null,null,null,null,null,null,null,null,null,null,null,null,null,null,null,null,0,null,null,null,null,null,"MSTM40"]
[null,null,null,null,null,null,null,null,null,null,null,null,"4.VOTR.MSTM100","М-100","тнт",null,null,null,null,null,null,null,null,null,null,null,null,null,null,null,null,null,null,null,null,null,null,0,null,null,null,null,null,"MSTM100"]
[null,null,null,null,null,null,null,null,null,null,null,null,"4.VOTR.MSTM200","М-200","тнт",null,null,null,null,null,null,null,null,null,null,null,null,null,null,null,null,null,null,null,null,null,null,0,null,null,null,null,null,"MSTM200"]
[null,null,null,null,null,null,null,null,null,null,null,null,"4.VOTR.MSTT","мазут марки \"Т\"","тнт",null,null,null,null,null,null,null,null,null,null,null,null,null,null,null,null,null,null,null,null,null,null,0,null,null,null,null,null,"MSTT"]
[null,null,null,null,null,null,null,null,null,null,null,null,"4.VOTR.MSTF5","Ф-5","тнт",null,null,null,null,null,null,null,null,null,null,null,null,null,null,null,null,null,null,null,null,null,null,0,null,null,null,null,null,"MSTF5"]
[null,null,null,null,null,null,null,null,null,null,null,null,"4.VOTR.MSTF12","Ф-12","тнт",null,null,null,null,null,null,null,null,null,null,null,null,null,null,null,null,null,null,null,null,null,null,0,null,null,null,null,null,"MSTF12"]
[null,null,null,null,null,null,null,null,null,null,null,null,"4.VOTR.OIL","Нефть","тнт",null,null,null,null,null,null,null,null,null,null,null,null,null,null,null,null,null,null,null,null,null,null,0,null,null,null,null,null,"OIL"]
[null,null,null,null,null,null,null,null,null,null,null,null,"4.VOTR.COA","Уголь","тнт",null,null,null,null,null,null,null,null,null,null,null,null,null,null,null,null,null,null,null,null,null,null,0,{"$f":"SUM(AM1769:AM1777)","v":0},{"$f":"SUM(AN1769:AN1777)","v":0},null,null,null,"COA"]
[null,null,null,null,null,null,null,null,null,null,null,null,"4.VOTR.COAA","Уголь антрацит","тнт",null,null,null,null,null,null,null,null,null,null,null,null,null,null,null,null,null,null,null,null,null,null,0,null,null,null,null,null,"COAA"]
[null,null,null,null,null,null,null,null,null,null,null,null,"4.VOTR.COAB","Уголь бурый","тнт",null,null,null,null,null,null,null,null,null,null,null,null,null,null,null,null,null,null,null,null,null,null,0,null,null,null,null,null,"COAB"]
[null,null,null,null,null,null,null,null,null,null,null,null,"4.VOTR.COAG","Уголь газовый","тнт",null,null,null,null,null,null,null,null,null,null,null,null,null,null,null,null,null,null,null,null,null,null,0,null,null,null,null,null,"COAG"]
[null,null,null,null,null,null,null,null,null,null,null,null,"4.VOTR.COALF","Уголь длиннопламенный","тнт",null,null,null,null,null,null,null,null,null,null,null,null,null,null,null,null,null,null,null,null,null,null,0,null,null,null,null,null,"COALF"]
[null,null,null,null,null,null,null,null,null,null,null,null,"4.VOTR.COAF","Уголь жирный","тнт",null,null,null,null,null,null,null,null,null,null,null,null,null,null,null,null,null,null,null,null,null,null,0,null,null,null,null,null,"COAF"]
[null,null,null,null,null,null,null,null,null,null,null,null,"4.VOTR.COAC","Уголь коксовый","тнт",null,null,null,null,null,null,null,null,null,null,null,null,null,null,null,null,null,null,null,null,null,null,0,null,null,null,null,null,"COAC"]
[null,null,null,null,null,null,null,null,null,null,null,null,"4.VOTR.COASC","Уголь отощённо-спекающийся","тнт",null,null,null,null,null,null,null,null,null,null,null,null,null,null,null,null,null,null,null,null,null,null,0,null,null,null,null,null,"COASC"]
[null,null,null,null,null,null,null,null,null,null,null,null,"4.VOTR.COAWC","Уголь слабоспекающийся","тнт",null,null,null,null,null,null,null,null,null,null,null,null,null,null,null,null,null,null,null,null,null,null,0,null,null,null,null,null,"COAWC"]
[null,null,null,null,null,null,null,null,null,null,null,null,"4.VOTR.COAS","Уголь тощий","тнт",null,null,null,null,null,null,null,null,null,null,null,null,null,null,null,null,null,null,null,null,null,null,0,null,null,null,null,null,"COAS"]
[]
[]
[null,null,null,null,null,null,null,null,null,null,null,null,"4.VOTR.CWD","Уголь древесный","тнт",null,null,null,null,null,null,null,null,null,null,null,null,null,null,null,null,null,null,null,null,null,null,{"$f":"AM1780+AN1780","v":0},null,null,null,null,null,"CWD"]
[null,null,null,null,null,null,null,null,null,null,null,null,"4.VOTR.WDS","Дрова","тнт",null,null,null,null,null,null,null,null,null,null,null,null,null,null,null,null,null,null,null,null,null,null,0,null,null,null,null,null,"WDS"]
[null,null,null,null,null,null,null,null,null,null,null,null,"4.VOTR.PLT","Пеллеты","тнт",null,null,null,null,null,null,null,null,null,null,null,null,null,null,null,null,null,null,null,null,null,null,0,null,null,null,null,null,"PLT"]
[null,null,null,null,null,null,null,null,null,null,null,null,"4.VOTR.SAW","Опилки","тнт",null,null,null,null,null,null,null,null,null,null,null,null,null,null,null,null,null,null,null,null,null,null,0,null,null,null,null,null,"SAW"]
[null,null,null,null,null,null,null,null,null,null,null,null,"4.VOTR.PEA","Торф","тнт",null,null,null,null,null,null,null,null,null,null,null,null,null,null,null,null,null,null,null,null,null,null,0,null,null,null,null,null,"PEA"]
[null,null,null,null,null,null,null,null,null,null,null,null,"4.VOTR.SHL","Сланцы","тнт",null,null,null,null,null,null,null,null,null,null,null,null,null,null,null,null,null,null,null,null,null,null,0,null,null,null,null,null,"SHL"]
[null,null,null,null,null,null,null,null,null,null,null,null,"4.VOTR.STF","Печное бытовое топливо","тнт",null,null,null,null,null,null,null,null,null,null,null,null,null,null,null,null,null,null,null,null,null,null,0,null,null,null,null,null,"STF"]
[]
[null,null,null,null,null,null,null,null,null,null,null,null,"4.COTR","Иные виды транспортировки (перевозки). Стоимость транспортировки (перевозки) топлива","тыс.руб.",null,null,null,null,null,null,null,null,null,null,null,null,null,null,null,null,{"$f":"SUM(AF1789,AF1793:AF1798,AF1799,AF1804,AF1811,AF1812,AF1824:AF1830)","v":0},{"$f":"SUM(AG1789,AG1793:AG1798,AG1799,AG1804,AG1811,AG1812,AG1824:AG1830)","v":0},{"$f":"SUM(AH1789,AH1793:AH1798,AH1799,AH1804,AH1811,AH1812,AH1824:AH1830)","v":0},null,null,null,{"$f":"SUM(AL1789,AL1793:AL1798,AL1799,AL1804,AL1811,AL1812,AL1824:AL1830)","v":0},{"$f":"SUM(AM1789,AM1793:AM1798,AM1799,AM1804,AM1811,AM1812,AM1824:AM1830)","v":0},{"$f":"SUM(AN1789,AN1793:AN1798,AN1799,AN1804,AN1811,AN1812,AN1824:AN1830)","v":0}]
[]
[]
[]
[]
[]
[]
[]
[]
[null,null,null,null,null,null,null,null,null,null,null,null,"4.COTR.GCN","Газовый конденсат","тыс.руб.",null,null,null,null,null,null,null,null,null,null,null,null,null,null,null,null,null,null,null,null,null,null,{"$f":"AM1797+AN1797","v":0},{"$f":"AM1709*AM1753/1000","v":0},0,null,null,null,"GCN"]
[null,null,null,null,null,null,null,null,null,null,null,null,"4.COTR.LNG","Газ сжиженный","тыс.руб.",null,null,null,null,null,null,null,null,null,null,null,null,null,null,null,null,null,null,null,null,null,null,0,0,0,null,null,null,"LNG"]
[null,null,null,null,null,null,null,null,null,null,null,null,"4.COTR.DSL","Дизельное топливо","тыс.руб.",null,null,null,null,null,null,null,null,null,null,null,null,null,null,null,null,null,null,null,null,null,null,0,{"$f":"SUM(AM1800:AM1803)","v":0},{"$f":"SUM(AN1800:AN1803)","v":0},null,null,null,"DSL"]
[null,null,null,null,null,null,null,null,null,null,null,null,"4.COTR.DSLA","А (арктическое)","тыс.руб.",null,null,null,null,null,null,null,null,null,null,null,null,null,null,null,null,null,null,null,null,null,null,0,0,0,null,null,null,"DSLA"]
[null,null,null,null,null,null,null,null,null,null,null,null,"4.COTR.DSLW","З (зимнее)","тыс.руб.",null,null,null,null,null,null,null,null,null,null,null,null,null,null,null,null,null,null,null,null,null,null,0,0,0,null,null,null,"DSLW"]
[null,null,null,null,null,null,null,null,null,null,null,null,"4.COTR.DSLS","Л (летнее)","тыс.руб.",null,null,null,null,null,null,null,null,null,null,null,null,null,null,null,null,null,null,null,null,null,null,0,0,0,null,null,null,"DSLS"]
[null,null,null,null,null,null,null,null,null,null,null,null,"4.COTR.DSLO","Е (межсезонное)","тыс.руб.",null,null,null,null,null,null,null,null,null,null,null,null,null,null,null,null,null,null,null,null,null,null,0,0,0,null,null,null,"DSLO"]
[null,null,null,null,null,null,null,null,null,null,null,null,"4.COTR.MST","Мазут","тыс.руб.",null,null,null,null,null,null,null,null,null,null,null,null,null,null,null,null,null,null,null,null,null,null,0,{"$f":"SUM(AM1805:AM1810)","v":0},{"$f":"SUM(AN1805:AN1810)","v":0},null,null,null,"MST"]
[null,null,null,null,null,null,null,null,null,null,null,null,"4.COTR.MSTM40","М-40","тыс.руб.",null,null,null,null,null,null,null,null,null,null,null,null,null,null,null,null,null,null,null,null,null,null,0,0,0,null,null,null,"MSTM40"]
[null,null,null,null,null,null,null,null,null,null,null,null,"4.COTR.MSTM100","М-100","тыс.руб.",null,null,null,null,null,null,null,null,null,null,null,null,null,null,null,null,null,null,null,null,null,null,0,0,0,null,null,null,"MSTM100"]
[null,null,null,null,null,null,null,null,null,null,null,null,"4.COTR.MSTM200","М-200","тыс.руб.",null,null,null,null,null,null,null,null,null,null,null,null,null,null,null,null,null,null,null,null,null,null,0,0,0,null,null,null,"MSTM200"]
[null,null,null,null,null,null,null,null,null,null,null,null,"4.COTR.MSTT","мазут марки \"Т\"","тыс.руб.",null,null,null,null,null,null,null,null,null,null,null,null,null,null,null,null,null,null,null,null,null,null,0,0,0,null,null,null,"MSTT"]
[null,null,null,null,null,null,null,null,null,null,null,null,"4.COTR.MSTF5","Ф-5","тыс.руб.",null,null,null,null,null,null,null,null,null,null,null,null,null,null,null,null,null,null,null,null,null,null,0,0,0,null,null,null,"MSTF5"]
[null,null,null,null,null,null,null,null,null,null,null,null,"4.COTR.MSTF12","Ф-12","тыс.руб.",null,null,null,null,null,null,null,null,null,null,null,null,null,null,null,null,null,null,null,null,null,null,0,0,0,null,null,null,"MSTF12"]
[null,null,null,null,null,null,null,null,null,null,null,null,"4.COTR.OIL","Нефть","тыс.руб.",null,null,null,null,null,null,null,null,null,null,null,null,null,null,null,null,null,null,null,null,null,null,0,0,0,null,null,null,"OIL"]
[null,null,null,null,null,null,null,null,null,null,null,null,"4.COTR.COA","Уголь","тыс.руб.",null,null,null,null,null,null,null,null,null,null,null,null,null,null,null,null,null,null,null,null,null,null,0,{"$f":"SUM(AM1813:AM1821)","v":0},{"$f":"SUM(AN1813:AN1821)","v":0},null,null,null,"COA"]
[null,null,null,null,null,null,null,null,null,null,null,null,"4.COTR.COAA","Уголь антрацит","тыс.руб.",null,null,null,null,null,null,null,null,null,null,null,null,null,null,null,null,null,null,null,null,null,null,0,{"$f":"AM1725*AM1769/1000","v":0},0,null,null,null,"COAA"]
[null,null,null,null,null,null,null,null,null,null,null,null,"4.COTR.COAB","Уголь бурый","тыс.руб.",null,null,null,null,null,null,null,null,null,null,null,null,null,null,null,null,null,null,null,null,null,null,0,0,0,null,null,null,"COAB"]
[null,null,null,null,null,null,null,null,null,null,null,null,"4.COTR.COAG","Уголь газовый","тыс.руб.",null,null,null,null,null,null,null,null,null,null,null,null,null,null,null,null,null,null,null,null,null,null,0,0,0,null,null,null,"COAG"]
[null,null,null,null,null,null,null,null,null,null,null,null,"4.COTR.COALF","Уголь длиннопламенный","тыс.руб.",null,null,null,null,null,null,null,null,null,null,null,null,null,null,null,null,null,null,null,null,null,null,0,0,0,null,null,null,"COALF"]
[null,null,null,null,null,null,null,null,null,null,null,null,"4.COTR.COAF","Уголь жирный","тыс.руб.",null,null,null,null,null,null,null,null,null,null,null,null,null,null,null,null,null,null,null,null,null,null,0,0,0,null,null,null,"COAF"]
[null,null,null,null,null,null,null,null,null,null,null,null,"4.COTR.COAC","Уголь коксовый","тыс.руб.",null,null,null,null,null,null,null,null,null,null,null,null,null,null,null,null,null,null,null,null,null,null,0,0,0,null,null,null,"COAC"]
[null,null,null,null,null,null,null,null,null,null,null,null,"4.COTR.COASC","Уголь отощённо-спекающийся","тыс.руб.",null,null,null,null,null,null,null,null,null,null,null,null,null,null,null,null,null,null,null,null,null,null,0,0,0,null,null,null,"COASC"]
[null,null,null,null,null,null,null,null,null,null,null,null,"4.COTR.COAWC","Уголь слабоспекающийся","тыс.руб.",null,null,null,null,null,null,null,null,null,null,null,null,null,null,null,null,null,null,null,null,null,null,0,0,0,null,null,null,"COAWC"]
[null,null,null,null,null,null,null,null,null,null,null,null,"4.COTR.COAS","Уголь тощий","тыс.руб.",null,null,null,null,null,null,null,null,null,null,null,null,null,null,null,null,null,null,null,null,null,null,0,0,0,null,null,null,"COAS"]
[]
[]
[null,null,null,null,null,null,null,null,null,null,null,null,"4.COTR.CWD","Уголь древесный","тыс.руб.",null,null,null,null,null,null,null,null,null,null,null,null,null,null,null,null,null,null,null,null,null,null,{"$f":"AM1824+AN1824","v":0},{"$f":"AM1736*AM1780/1000","v":0},0,null,null,null,"CWD"]
[null,null,null,null,null,null,null,null,null,null,null,null,"4.COTR.WDS","Дрова","тыс.руб.",null,null,null,null,null,null,null,null,null,null,null,null,null,null,null,null,null,null,null,null,null,null,0,0,0,null,null,null,"WDS"]
[null,null,null,null,null,null,null,null,null,null,null,null,"4.COTR.PLT","Пеллеты","тыс.руб.",null,null,null,null,null,null,null,null,null,null,null,null,null,null,null,null,null,null,null,null,null,null,0,0,0,null,null,null,"PLT"]
[null,null,null,null,null,null,null,null,null,null,null,null,"4.COTR.SAW","Опилки","тыс.руб.",null,null,null,null,null,null,null,null,null,null,null,null,null,null,null,null,null,null,null,null,null,null,0,0,0,null,null,null,"SAW"]
[null,null,null,null,null,null,null,null,null,null,null,null,"4.COTR.PEA","Торф","тыс.руб.",null,null,null,null,null,null,null,null,null,null,null,null,null,null,null,null,null,null,null,null,null,null,0,0,0,null,null,null,"PEA"]
[null,null,null,null,null,null,null,null,null,null,null,null,"4.COTR.SHL","Сланцы","тыс.руб.",null,null,null,null,null,null,null,null,null,null,null,null,null,null,null,null,null,null,null,null,null,null,0,0,0,null,null,null,"SHL"]
[null,null,null,null,null,null,null,null,null,null,null,null,"4.COTR.STF","Печное бытовое топливо","тыс.руб.",null,null,null,null,null,null,null,null,null,null,null,null,null,null,null,null,null,null,null,null,null,null,0,0,0,null,null,null,"STF"]
[]
[]
[null,null,null,null,null,null,null,null,null,null,null,null,null,"Показатели расхода электроэнергии по уровням напряжения"]
[]
[null,null,null,null,null,null,null,null,null,null,null,null,"4.13.0.1","объём энергии","тыс.кВтч",null,null,null,null,null,null,null,null,null,null,null,null,null,null,null,null,null,null,null,null,null,null,{"$f":"AM1835+AN1835","v":0},{"$f":"AM1839+AM1845+AM1851+AM1857","v":0},{"$f":"AN1839+AN1845+AN1851+AN1857","v":0},null,null,null,"ENR"]
[null,null,null,null,null,null,null,null,null,null,null,null,"4.13.0.2","объём заявленной мощности","МВт",null,null,null,null,null,null,null,null,null,null,null,null,null,null,null,null,null,null,null,null,null,null,{"$f":"AM1836+AN1836","v":0},{"$f":"AM1842+AM1848+AM1854+AM1860","v":0},{"$f":"AN1842+AN1848+AN1854+AN1860","v":0},null,null,null,"PWR"]
[null,null,null,null,null,null,null,null,null,null,null,null,"4.13.1.1","энергия НН (0,4 кВ и ниже)","тыс.руб.",null,null,null,null,null,null,null,null,null,null,null,null,null,null,null,null,null,null,null,null,null,null,{"$f":"AM1837+AN1837","v":0},{"$f":"AM1838*AM1839","v":0},{"$f":"AN1838*AN1839","v":0},null,null,null,"ENR"]
[null,null,null,null,null,null,null,null,null,null,null,null,{"$f":"M1837 & \".1\"","v":"4.13.1.1.1"},"тариф на энергию","руб./кВт*ч",null,null,null,null,null,null,null,null,null,null,null,null,null,null,null,null,null,null,null,null,null,null,{"$f":"IF(AL1839=0,0,AL1837/AL1839)","v":0},null,null,null,null,null,"ENR"]
[null,null,null,null,null,null,null,null,null,null,null,null,{"$f":"M1837 & \".2\"","v":"4.13.1.1.2"},"объём энергии","тыс.кВтч",null,null,null,null,null,null,null,null,null,null,null,null,null,null,null,null,null,null,null,null,null,null,{"$f":"AM1839+AN1839","v":0},null,null,null,null,null,"ENR"]
[null,null,null,null,null,null,null,null,null,null,null,null,"4.13.1.2","заявленная мощность по НН (0,4 кВ и ниже)","тыс.руб.",null,null,null,null,null,null,null,null,null,null,null,null,null,null,null,null,null,null,null,null,null,null,{"$f":"AM1840+AN1840","v":0},{"$f":"AM1841*AM1842","v":0},{"$f":"AN1841*AN1842","v":0},null,null,null,"PWR"]
[null,null,null,null,null,null,null,null,null,null,null,null,{"$f":"M1840 & \".1\"","v":"4.13.1.2.1"},"тариф на заявленную мощность","руб./кВт*мес",null,null,null,null,null,null,null,null,null,null,null,null,null,null,null,null,null,null,null,null,null,null,{"$f":"IF(AL1842=0,0,AL1840/AL1842)","v":0},null,null,null,null,null,"PWR"]
[null,null,null,null,null,null,null,null,null,null,null,null,{"$f":"M1840 & \".2\"","v":"4.13.1.2.2"},"годовой объём мощности","МВт",null,null,null,null,null,null,null,null,null,null,null,null,null,null,null,null,null,null,null,null,null,null,{"$f":"AM1842+AN1842","v":0},null,null,null,null,null,"PWR"]
[null,null,null,null,null,null,null,null,null,null,null,null,"4.13.2.1","энергия СН 2 (1-20 кВ)","тыс.руб.",null,null,null,null,null,null,null,null,null,null,null,null,null,null,null,null,null,null,null,null,null,null,{"$f":"AM1843+AN1843","v":0},{"$f":"AM1844*AM1845","v":0},{"$f":"AN1844*AN1845","v":0},null,null,null,"ENR"]
[null,null,null,null,null,null,null,null,null,null,null,null,{"$f":"M1843 & \".1\"","v":"4.13.2.1.1"},"тариф на энергию","руб./кВт*ч",null,null,null,null,null,null,null,null,null,null,null,null,null,null,null,null,null,null,null,null,null,null,{"$f":"IF(AL1845=0,0,AL1843/AL1845)","v":0},null,null,null,null,null,"ENR"]
[null,null,null,null,null,null,null,null,null,null,null,null,{"$f":"M1843 & \".2\"","v":"4.13.2.1.2"},"объём энергии","тыс.кВтч",null,null,null,null,null,null,null,null,null,null,null,null,null,null,null,null,null,null,null,null,null,null,{"$f":"AM1845+AN1845","v":0},null,null,null,null,null,"ENR"]
[null,null,null,null,null,null,null,null,null,null,null,null,"4.13.2.2","заявленная мощность по СН 2 (1-20 кВ)","тыс.руб.",null,null,null,null,null,null,null,null,null,null,null,null,null,null,null,null,null,null,null,null,null,null,{"$f":"AM1846+AN1846","v":0},{"$f":"AM1847*AM1848","v":0},{"$f":"AN1847*AN1848","v":0},null,null,null,"PWR"]
[null,null,null,null,null,null,null,null,null,null,null,null,{"$f":"M1846 & \".1\"","v":"4.13.2.2.1"},"тариф на заявленную мощность","руб./кВт*мес",null,null,null,null,null,null,null,null,null,null,null,null,null,null,null,null,null,null,null,null,null,null,{"$f":"IF(AL1848=0,0,AL1846/AL1848)","v":0},null,null,null,null,null,"PWR"]
[null,null,null,null,null,null,null,null,null,null,null,null,{"$f":"M1846 & \".2\"","v":"4.13.2.2.2"},"годовой объём мощности","МВт",null,null,null,null,null,null,null,null,null,null,null,null,null,null,null,null,null,null,null,null,null,null,{"$f":"AM1848+AN1848","v":0},null,null,null,null,null,"PWR"]
[null,null,null,null,null,null,null,null,null,null,null,null,"4.13.3.1","энергия СН 1 (35 кВ)","тыс.руб.",null,null,null,null,null,null,null,null,null,null,null,null,null,null,null,null,null,null,null,null,null,null,{"$f":"AM1849+AN1849","v":0},{"$f":"AM1850*AM1851","v":0},{"$f":"AN1850*AN1851","v":0},null,null,null,"ENR"]
[null,null,null,null,null,null,null,null,null,null,null,null,{"$f":"M1849 & \".1\"","v":"4.13.3.1.1"},"тариф на энергию","руб./кВт*ч",null,null,null,null,null,null,null,null,null,null,null,null,null,null,null,null,null,null,null,null,null,null,{"$f":"IF(AL1851=0,0,AL1849/AL1851)","v":0},null,null,null,null,null,"ENR"]
[null,null,null,null,null,null,null,null,null,null,null,null,{"$f":"M1849 & \".2\"","v":"4.13.3.1.2"},"объём энергии","тыс.кВтч",null,null,null,null,null,null,null,null,null,null,null,null,null,null,null,null,null,null,null,null,null,null,{"$f":"AM1851+AN1851","v":0},null,null,null,null,null,"ENR"]
[null,null,null,null,null,null,null,null,null,null,null,null,"4.13.3.2","заявленная мощность по СН 1 (35 кВ)","тыс.руб.",null,null,null,null,null,null,null,null,null,null,null,null,null,null,null,null,null,null,null,null,null,null,{"$f":"AM1852+AN1852","v":0},{"$f":"AM1853*AM1854","v":0},{"$f":"AN1853*AN1854","v":0},null,null,null,"PWR"]
[null,null,null,null,null,null,null,null,null,null,null,null,{"$f":"M1852 & \".1\"","v":"4.13.3.2.1"},"тариф на заявленную мощность","руб./кВт*мес",null,null,null,null,null,null,null,null,null,null,null,null,null,null,null,null,null,null,null,null,null,null,{"$f":"IF(AL1854=0,0,AL1852/AL1854)","v":0},null,null,null,null,null,"PWR"]
[null,null,null,null,null,null,null,null,null,null,null,null,{"$f":"M1852 & \".2\"","v":"4.13.3.2.2"},"годовой объём мощности","МВт",null,null,null,null,null,null,null,null,null,null,null,null,null,null,null,null,null,null,null,null,null,null,{"$f":"AM1854+AN1854","v":0},null,null,null,null,null,"PWR"]
[null,null,null,null,null,null,null,null,null,null,null,null,"4.13.4.1","энергия ВН (110 кВ и выше)","тыс.руб.",null,null,null,null,null,null,null,null,null,null,null,null,null,null,null,null,null,null,null,null,null,null,{"$f":"AM1855+AN1855","v":0},{"$f":"AM1856*AM1857","v":0},{"$f":"AN1856*AN1857","v":0},null,null,null,"ENR"]
[null,null,null,null,null,null,null,null,null,null,null,null,{"$f":"M1855 & \".1\"","v":"4.13.4.1.1"},"тариф на энергию","руб./кВт*ч",null,null,null,null,null,null,null,null,null,null,null,null,null,null,null,null,null,null,null,null,null,null,{"$f":"IF(AL1857=0,0,AL1855/AL1857)","v":0},null,null,null,null,null,"ENR"]
[null,null,null,null,null,null,null,null,null,null,null,null,{"$f":"M1855 & \".2\"","v":"4.13.4.1.2"},"объём энергии","тыс.кВтч",null,null,null,null,null,null,null,null,null,null,null,null,null,null,null,null,null,null,null,null,null,null,{"$f":"AM1857+AN1857","v":0},null,null,null,null,null,"ENR"]
[null,null,null,null,null,null,null,null,null,null,null,null,"4.13.4.2","заявленная мощность по ВН (110 кВ и выше)","тыс.руб.",null,null,null,null,null,null,null,null,null,null,null,null,null,null,null,null,null,null,null,null,null,null,{"$f":"AM1858+AN1858","v":0},{"$f":"AM1859*AM1860","v":0},{"$f":"AN1859*AN1860","v":0},null,null,null,"PWR"]
[null,null,null,null,null,null,null,null,null,null,null,null,{"$f":"M1858 & \".1\"","v":"4.13.4.2.1"},"тариф на заявленную мощность","руб./кВт*мес",null,null,null,null,null,null,null,null,null,null,null,null,null,null,null,null,null,null,null,null,null,null,{"$f":"IF(AL1860=0,0,AL1858/AL1860)","v":0},null,null,null,null,null,"PWR"]
[null,null,null,null,null,null,null,null,null,null,null,null,{"$f":"M1858 & \".2\"","v":"4.13.4.2.2"},"годовой объём мощности","МВт",null,null,null,null,null,null,null,null,null,null,null,null,null,null,null,null,null,null,null,null,null,null,{"$f":"AM1860+AN1860","v":0},null,null,null,null,null,"PWR"]
[]
[null,null,null,null,null,null,null,null,null,null,null,null,null,"Прочие виды топлива","тыс.руб.",null,null,null,null,null,null,null,null,null,null,null,null,null,null,null,null,null,null,null,null,null,null,{"$f":"AM1862+AN1862","v":0},{"$f":"SUM(AM1863,AM1866,AM1869)","v":0},{"$f":"SUM(AN1863,AN1866,AN1869)","v":0},null,null,null,"OTH"]
[null,null,null,null,null,null,null,null,null,null,null,null,"4.14.1","Биогаз","тыс.руб.",null,null,null,null,null,null,null,null,null,null,null,null,null,null,null,null,null,null,null,null,null,null,0,{"$f":"AM1864*AM1865/1000","v":0},{"$f":"AN1864*AN1865/1000","v":0},null,null,null,"OTH"]
[null,null,null,null,null,null,null,null,null,null,null,null,"4.14.1.1","Цена","руб./тыс.м3",null,null,null,null,null,null,null,null,null,null,null,null,null,null,null,null,null,null,null,null,null,null,0,null,null,null,null,null,"OTH"]
[null,null,null,null,null,null,null,null,null,null,null,null,"4.14.1.2","Объём","тыс.м3",null,null,null,null,null,null,null,null,null,null,null,null,null,null,null,null,null,null,null,null,null,null,0,null,null,null,null,null,"OTH"]
[null,null,null,null,null,null,null,null,null,null,null,null,"4.14.2","ТБО","тыс.руб.",null,null,null,null,null,null,null,null,null,null,null,null,null,null,null,null,null,null,null,null,null,null,0,{"$f":"AM1867*AM1868/1000","v":0},{"$f":"AN1867*AN1868/1000","v":0},null,null,null,"OTH"]
[null,null,null,null,null,null,null,null,null,null,null,null,"4.14.2.1","Цена","руб./тнт",null,null,null,null,null,null,null,null,null,null,null,null,null,null,null,null,null,null,null,null,null,null,0,null,null,null,null,null,"OTH"]
[null,null,null,null,null,null,null,null,null,null,null,null,"4.14.2.2","Объём","тнт",null,null,null,null,null,null,null,null,null,null,null,null,null,null,null,null,null,null,null,null,null,null,0,null,null,null,null,null,"OTH"]
[null,null,null,null,null,null,null,null,null,null,null,null,"4.14.3","Иные виды топлива","тыс.руб.",null,null,null,null,null,null,null,null,null,null,null,null,null,null,null,null,null,null,null,null,null,null,0,null,null,null,null,null,"OTH"]
[]
[null,null,null,null,null,null,null,null,null,null,null,null,"21","Полезный отпуск продукции всего","Гкал",null,null,null,null,null,null,null,null,null,null,null,null,null,null,null,null,{"$f":"SUMIF(ТС.РО!$AS$15:$AT$15,AF$15,ТС.РО!$AS$370:$AT$370)","v":0},{"$f":"SUMIF(ТС.РО!$AS$15:$AT$15,AG$15,ТС.РО!$AS$370:$AT$370)","v":0},{"$f":"SUMIF(ТС.РО!$AS$15:$AT$15,AH$15,ТС.РО!$AS$370:$AT$370)","v":0}]
[]
[]
[]
[]
[]
[]
[]
[]
[]
[]
[]
[]
[]
[]
[]
[]
[]
[]
[]
[]
[]
[]
[]
[]
[]
[]
[]
[]
[]
[]
[]
[]
[]
[]
[]
[]
[]
[]
[]
[]
[]
[]
[]
[]
[]
[]
[]
[]
[]
[]
[]
[]
[]
[]
[]
[]
[]
[]
[]
[]
[]
[]
[]
[]
[]
[]
[]
[]
[]
[]
[]
[]
[]
[]
[]
[]
[]
[]
[]
[]
[]
[]
[]
[null,null,null,null,null,null,null,null,null,null,null,null,null,null,null,null,null,null,null,null,null,null,null,null,null,null,null,null,"COLDVSNA_CALC_ADD_RANGE"]
[]
[]
[]
[null,null,null,null,null,null,null,null,null,null,null,null,null,null,null,null,null,null,null,null,null,null,null,null,null,null,null,null,12,6,6]
[]
[]
[null,null,null,null,null,null,null,null,null,null,null,null,null,null,null,null,null,null,null,null,null,null,null,null,null,null,null,null,"Y","I","II"]
[]
[]
[]
[null,null,null,null,null,null,null,null,null,null,null,null,null,null,null,null,null,null,null,null,null,null,null,null,null,null,null,null,"Год","I полугодие","II полугодие"]
[]
[null,null,null,null,null,null,null,null,null,null,null,null,null,null,null,null,null,null,null,null,null,null,null,null,null,null,null,null,{"$f":"AC1970 & \"_\" & AC1962","v":"0_Y"},{"$f":"AD1970 & \"_\" & AD1962","v":"0_I"},{"$f":"AE1970 & \"_\" & AE1962","v":"0_II"}]
[]
[null,null,null,null,null,null,null,null,null,null,null,null,null,null,null,null,null,null,null,null,null,null,null,null,null,null,null,null,{"$f":"AC1972","v":0},{"$f":"AC1972","v":0},{"$f":"AC1972","v":0}]
[null,null,null,null,null,null,null,null,null,null,null,null,null,null,null,null,null,null,null,null,null,null,null,null,null,null,null,null,"Удалить"]
[null,null,null,null,null,null,null,null,null,null,null,null,"№ п/п","Наименование показателя","Единица измерения"]
[]
[null,null,null,null,null,null,null,null,null,null,null,null,null,"Является ли организация плательщиком НДС",null,null,null,null,null,null,null,null,null,null,null,null,null,null,null,null,null,null,null,null,"COLDVSNA_CALC_EMPTY_BASE_RANGE"]
[null,null,null,null,null,null,null,null,null,null,null,null,null,{"$f":"IF(CALC_IDENTIFIER=\"\",\"\",CALC_IDENTIFIER)","v":""},null,null,null,null,null,null,null,null,null,null,null,null,null,null,null,null,null,null,null,null,"COLDVSNA_CALC_SINGLE_BASE_RANGE"]
[null,null,null,null,null,null,null,null,null,null,null,null,"1","Производственные расходы","тыс.руб.",null,null,null,null,null,null,null,null,null,null,null,null,null,null,null,null,{"$f":"AG1976+AH1976","v":0},{"$f":"SUM(AG1977,AG1981,AG2059,AG2060,AG2073,AG2074,AG2075,AG2080)","v":0},{"$f":"SUM(AH1977,AH1981,AH2059,AH2060,AH2073,AH2074,AH2075,AH2080)","v":0}]
[null,null,null,null,null,null,null,null,null,null,null,null,"1.1","Расходы на приобретение сырья и материалов и их хранение","тыс.руб.",null,null,null,null,null,null,null,null,null,null,null,null,null,null,null,null,0,{"$f":"SUM(AG1978,AG1979,AG1980)","v":0},{"$f":"SUM(AH1978,AH1979,AH1980)","v":0}]
[null,null,null,null,null,null,null,null,null,null,null,null,"1.1.1","Реагенты ","тыс.руб.",null,null,null,null,null,null,null,null,null,null,null,null,null,null,null,null,0,{"$f":"ХВС.Р!AG$25","v":0},{"$f":"ХВС.Р!AH$25","v":0}]
[null,null,null,null,null,null,null,null,null,null,null,null,"1.1.2","Горюче-смазочные материалы","тыс.руб.",null,null,null,null,null,null,null,null,null,null,null,null,null,null,null,null,0]
[null,null,null,null,null,null,null,null,null,null,null,null,"1.1.3","Материалы и малоценные основные средства","тыс.руб.",null,null,null,null,null,null,null,null,null,null,null,null,null,null,null,null,0]
[null,null,null,null,null,null,null,null,null,null,null,null,"1.2","Расходы на энергетические ресурсы и холодную воду","тыс.руб.",null,null,null,null,null,null,null,null,null,null,null,null,null,null,null,null,0,{"$f":"SUM(AG1982,AG2042,AG2043,AG2044,AG2049)","v":0},{"$f":"SUM(AH1982,AH2042,AH2043,AH2044,AH2049)","v":0}]
[null,null,null,null,null,null,null,null,null,null,null,null,"1.2.1","электроэнергия ","тыс.руб.",null,null,null,null,null,null,null,null,null,null,null,null,null,null,null,null,0,{"$f":"SUM(AG2024,AG2036,AG2030)","v":0},{"$f":"SUM(AH2024,AH2036,AH2030)","v":0}]
[null,null,null,null,null,null,null,null,null,null,null,null,"1.2.1.1","Объём покупной энергии"]
[null,null,null,null,null,null,null,null,null,null,null,null,"1.2.1.1.1","Объём покупной энергии по одноставочному тарифу","тыс.кВт*ч",null,null,null,null,null,null,null,null,null,null,null,null,null,null,null,null,{"$f":"SUM(AF1985:AF1989)","v":0},{"$f":"SUM(AG1985:AG1989)","v":0},{"$f":"SUM(AH1985:AH1989)","v":0}]
[null,null,null,null,null,null,null,null,null,null,null,null,"1.2.1.1.1.1","НН","тыс.кВт*ч",null,null,null,null,null,null,null,null,null,null,null,null,null,null,null,null,{"$f":"AG1985+AH1985","v":0}]
[null,null,null,null,null,null,null,null,null,null,null,null,"1.2.1.1.1.2","СН1","тыс.кВт*ч",null,null,null,null,null,null,null,null,null,null,null,null,null,null,null,null,{"$f":"AG1986+AH1986","v":0}]
[null,null,null,null,null,null,null,null,null,null,null,null,"1.2.1.1.1.3","СН2","тыс.кВт*ч",null,null,null,null,null,null,null,null,null,null,null,null,null,null,null,null,{"$f":"AG1987+AH1987","v":0}]
[null,null,null,null,null,null,null,null,null,null,null,null,"1.2.1.1.1.4","ВН","тыс.кВт*ч",null,null,null,null,null,null,null,null,null,null,null,null,null,null,null,null,{"$f":"AG1988+AH1988","v":0}]
[null,null,null,null,null,null,null,null,null,null,null,null,"1.2.1.1.1.5","без разбивки по напряжению","тыс.кВт*ч",null,null,null,null,null,null,null,null,null,null,null,null,null,null,null,null,{"$f":"AG1989+AH1989","v":0}]
[null,null,null,null,null,null,null,null,null,null,null,null,"1.2.1.1.2","Объём покупной электроэнергии по двухставочному тарифу"]
[null,null,null,null,null,null,null,null,null,null,null,null,"1.2.1.1.2.1","Мощность","МВт*мес",null,null,null,null,null,null,null,null,null,null,null,null,null,null,null,null,{"$f":"SUM(AF1992:AF1996)","v":0},{"$f":"SUM(AG1992:AG1996)","v":0},{"$f":"SUM(AH1992:AH1996)","v":0}]
[null,null,null,null,null,null,null,null,null,null,null,null,"1.2.1.1.2.1.1","НН","МВт*мес",null,null,null,null,null,null,null,null,null,null,null,null,null,null,null,null,{"$f":"AG1992+AH1992","v":0}]
[null,null,null,null,null,null,null,null,null,null,null,null,"1.2.1.1.2.1.2","СН1","МВт*мес",null,null,null,null,null,null,null,null,null,null,null,null,null,null,null,null,{"$f":"AG1993+AH1993","v":0}]
[null,null,null,null,null,null,null,null,null,null,null,null,"1.2.1.1.2.1.3","СН2","МВт*мес",null,null,null,null,null,null,null,null,null,null,null,null,null,null,null,null,{"$f":"AG1994+AH1994","v":0}]
[null,null,null,null,null,null,null,null,null,null,null,null,"1.2.1.1.2.1.4","ВН","МВт*мес",null,null,null,null,null,null,null,null,null,null,null,null,null,null,null,null,{"$f":"AG1995+AH1995","v":0}]
[null,null,null,null,null,null,null,null,null,null,null,null,"1.2.1.1.2.1.5","ГН","МВт*мес",null,null,null,null,null,null,null,null,null,null,null,null,null,null,null,null,{"$f":"AG1996+AH1996","v":0}]
[null,null,null,null,null,null,null,null,null,null,null,null,"1.2.1.1.2.2","Активная электроэнергия","тыс.кВт*ч",null,null,null,null,null,null,null,null,null,null,null,null,null,null,null,null,{"$f":"SUM(AF1998:AF2002)","v":0},{"$f":"SUM(AG1998:AG2002)","v":0},{"$f":"SUM(AH1998:AH2002)","v":0}]
[null,null,null,null,null,null,null,null,null,null,null,null,"1.2.1.1.2.2.1","НН","тыс.кВт*ч",null,null,null,null,null,null,null,null,null,null,null,null,null,null,null,null,{"$f":"AG1998+AH1998","v":0}]
[null,null,null,null,null,null,null,null,null,null,null,null,"1.2.1.1.2.2.2","СН1","тыс.кВт*ч",null,null,null,null,null,null,null,null,null,null,null,null,null,null,null,null,{"$f":"AG1999+AH1999","v":0}]
[null,null,null,null,null,null,null,null,null,null,null,null,"1.2.1.1.2.2.3","СН2","тыс.кВт*ч",null,null,null,null,null,null,null,null,null,null,null,null,null,null,null,null,{"$f":"AG2000+AH2000","v":0}]
[null,null,null,null,null,null,null,null,null,null,null,null,"1.2.1.1.2.2.4","ВН","тыс.кВт*ч",null,null,null,null,null,null,null,null,null,null,null,null,null,null,null,null,{"$f":"AG2001+AH2001","v":0}]
[null,null,null,null,null,null,null,null,null,null,null,null,"1.2.1.1.2.2.5","ГН","тыс.кВт*ч",null,null,null,null,null,null,null,null,null,null,null,null,null,null,null,null,{"$f":"AG2002+AH2002","v":0}]
[null,null,null,null,null,null,null,null,null,null,null,null,"1.2.1.2","Тариф на электроэнергию и мощность"]
[null,null,null,null,null,null,null,null,null,null,null,null,"1.2.1.2.1","по одноставочному тарифу"]
[null,null,null,null,null,null,null,null,null,null,null,null,"1.2.1.2.1.1","НН","руб./кВт*ч",null,null,null,null,null,null,null,null,null,null,null,null,null,null,null,null,{"$f":"IF(AF1985=0,0,AF2025/AF1985)","v":0}]
[null,null,null,null,null,null,null,null,null,null,null,null,"1.2.1.2.1.2","СН1","руб./кВт*ч",null,null,null,null,null,null,null,null,null,null,null,null,null,null,null,null,{"$f":"IF(AF1986=0,0,AF2026/AF1986)","v":0}]
[null,null,null,null,null,null,null,null,null,null,null,null,"1.2.1.2.1.3","СН2","руб./кВт*ч",null,null,null,null,null,null,null,null,null,null,null,null,null,null,null,null,{"$f":"IF(AF1987=0,0,AF2027/AF1987)","v":0}]
[null,null,null,null,null,null,null,null,null,null,null,null,"1.2.1.2.1.4","ВН","руб./кВт*ч",null,null,null,null,null,null,null,null,null,null,null,null,null,null,null,null,{"$f":"IF(AF1988=0,0,AF2028/AF1988)","v":0}]
[null,null,null,null,null,null,null,null,null,null,null,null,"1.2.1.2.1.5","без разбивки по напряжению","руб./кВт*ч",null,null,null,null,null,null,null,null,null,null,null,null,null,null,null,null,{"$f":"IF(AF1989=0,0,AF2029/AF1989)","v":0}]
[null,null,null,null,null,null,null,null,null,null,null,null,"1.2.1.2.1.6","Средний одноставочный тариф на электрическую энергию","руб./кВт*ч",null,null,null,null,null,null,null,null,null,null,null,null,null,null,null,null,{"$f":"IF(AF1984=0,0,AF2024/AF1984)","v":0},{"$f":"IF(AG1984=0,0,AG2024/AG1984)","v":0},{"$f":"IF(AH1984=0,0,AH2024/AH1984)","v":0}]
[null,null,null,null,null,null,null,null,null,null,null,null,"1.2.1.2.2","по двухставочному тарифу"]
[null,null,null,null,null,null,null,null,null,null,null,null,"1.2.1.2.2.1","ставка за мощность","руб./МВт*мес",null,null,null,null,null,null,null,null,null,null,null,null,null,null,null,null,{"$f":"IF(AF1991=0,0,(AF2013*AF1992+AF2014*AF1993+AF2015*AF1994+AF2016*AF1995+AF2017*AF1996)/AF1991)","v":0},{"$f":"IF(AG1991=0,0,(AG2013*AG1992+AG2014*AG1993+AG2015*AG1994+AG2016*AG1995+AG2017*AG1996)/AG1991)","v":0},{"$f":"IF(AH1991=0,0,(AH2013*AH1992+AH2014*AH1993+AH2015*AH1994+AH2016*AH1995+AH2017*AH1996)/AH1991)","v":0}]
[null,null,null,null,null,null,null,null,null,null,null,null,"1.2.1.2.2.1.1","НН","руб./МВт*мес",null,null,null,null,null,null,null,null,null,null,null,null,null,null,null,null,{"$f":"IF(AF1992=0,0,AF2031*1000/AF1992)","v":0}]
[null,null,null,null,null,null,null,null,null,null,null,null,"1.2.1.2.2.1.2","СН1","руб./МВт*мес",null,null,null,null,null,null,null,null,null,null,null,null,null,null,null,null,{"$f":"IF(AF1993=0,0,AF2032*1000/AF1993)","v":0}]
[null,null,null,null,null,null,null,null,null,null,null,null,"1.2.1.2.2.1.3","СН2","руб./МВт*мес",null,null,null,null,null,null,null,null,null,null,null,null,null,null,null,null,{"$f":"IF(AF1994=0,0,AF2033*1000/AF1994)","v":0}]
[null,null,null,null,null,null,null,null,null,null,null,null,"1.2.1.2.2.1.4","ВН","руб./МВт*мес",null,null,null,null,null,null,null,null,null,null,null,null,null,null,null,null,{"$f":"IF(AF1995=0,0,AF2034*1000/AF1995)","v":0}]
[null,null,null,null,null,null,null,null,null,null,null,null,"1.2.1.2.2.1.5","ГН","руб./МВт*мес",null,null,null,null,null,null,null,null,null,null,null,null,null,null,null,null,{"$f":"IF(AF1996=0,0,AF2035*1000/AF1996)","v":0}]
[null,null,null,null,null,null,null,null,null,null,null,null,"1.2.1.2.2.2","ставка за электроэнергию","руб./кВт*мес",null,null,null,null,null,null,null,null,null,null,null,null,null,null,null,null,{"$f":"IF(AF1997=0,0,(AF2019*AF1998+AF2020*AF1999+AF2021*AF2000+AF2022*AF2001+AF2023*AF2002)/AF1997)","v":0},{"$f":"IF(AG1997=0,0,(AG2019*AG1998+AG2020*AG1999+AG2021*AG2000+AG2022*AG2001+AG2023*AG2002)/AG1997)","v":0},{"$f":"IF(AH1997=0,0,(AH2019*AH1998+AH2020*AH1999+AH2021*AH2000+AH2022*AH2001+AH2023*AH2002)/AH1997)","v":0}]
[null,null,null,null,null,null,null,null,null,null,null,null,"1.2.1.2.2.2.1","НН","руб./кВт*мес",null,null,null,null,null,null,null,null,null,null,null,null,null,null,null,null,{"$f":"IF(AF1998=0,0,AF2037/AF1998)","v":0}]
[null,null,null,null,null,null,null,null,null,null,null,null,"1.2.1.2.2.2.2","СН1","руб./кВт*мес",null,null,null,null,null,null,null,null,null,null,null,null,null,null,null,null,{"$f":"IF(AF1999=0,0,AF2038/AF1999)","v":0}]
[null,null,null,null,null,null,null,null,null,null,null,null,"1.2.1.2.2.2.3","СН2","руб./кВт*мес",null,null,null,null,null,null,null,null,null,null,null,null,null,null,null,null,{"$f":"IF(AF2000=0,0,AF2039/AF2000)","v":0}]
[null,null,null,null,null,null,null,null,null,null,null,null,"1.2.1.2.2.2.4","ВН","руб./кВт*мес",null,null,null,null,null,null,null,null,null,null,null,null,null,null,null,null,{"$f":"IF(AF2001=0,0,AF2040/AF2001)","v":0}]
[null,null,null,null,null,null,null,null,null,null,null,null,"1.2.1.2.2.2.5","ГН","руб./кВт*мес",null,null,null,null,null,null,null,null,null,null,null,null,null,null,null,null,{"$f":"IF(AF2002=0,0,AF2041/AF2002)","v":0}]
[null,null,null,null,null,null,null,null,null,null,null,null,"1.2.1.3","Затраты на покупку энергии по одноставочному тарифу","тыс.руб.",null,null,null,null,null,null,null,null,null,null,null,null,null,null,null,null,{"$f":"AG2024+AH2024","v":0},{"$f":"SUM(AG2025:AG2029)","v":0},{"$f":"SUM(AH2025:AH2029)","v":0}]
[null,null,null,null,null,null,null,null,null,null,null,null,"1.2.1.3.1","НН","тыс.руб.",null,null,null,null,null,null,null,null,null,null,null,null,null,null,null,null,0,{"$f":"AG1985*AG2005","v":0},{"$f":"AH1985*AH2005","v":0}]
[null,null,null,null,null,null,null,null,null,null,null,null,"1.2.1.3.2","СН1","тыс.руб.",null,null,null,null,null,null,null,null,null,null,null,null,null,null,null,null,0,{"$f":"AG1986*AG2006","v":0},0]
[null,null,null,null,null,null,null,null,null,null,null,null,"1.2.1.3.3","СН2","тыс.руб.",null,null,null,null,null,null,null,null,null,null,null,null,null,null,null,null,0,0,0]
[null,null,null,null,null,null,null,null,null,null,null,null,"1.2.1.3.4","ВН","тыс.руб.",null,null,null,null,null,null,null,null,null,null,null,null,null,null,null,null,0,0,0]
[null,null,null,null,null,null,null,null,null,null,null,null,"1.2.1.3.5","без разбивки по напряжению","тыс.руб.",null,null,null,null,null,null,null,null,null,null,null,null,null,null,null,null,0,0,0]
[null,null,null,null,null,null,null,null,null,null,null,null,"1.2.1.4","Затраты на покупку мощности по двухставочному тарифу","тыс.руб.",null,null,null,null,null,null,null,null,null,null,null,null,null,null,null,null,0,{"$f":"SUM(AG2031:AG2035)","v":0},{"$f":"SUM(AH2031:AH2035)","v":0}]
[null,null,null,null,null,null,null,null,null,null,null,null,"1.2.1.4.1","НН","тыс.руб.",null,null,null,null,null,null,null,null,null,null,null,null,null,null,null,null,0,{"$f":"AG1992*AG2013/1000","v":0},{"$f":"AH1992*AH2013/1000","v":0}]
[null,null,null,null,null,null,null,null,null,null,null,null,"1.2.1.4.2","СН1","тыс.руб.",null,null,null,null,null,null,null,null,null,null,null,null,null,null,null,null,0,{"$f":"AG1993*AG2014/1000","v":0},0]
[null,null,null,null,null,null,null,null,null,null,null,null,"1.2.1.4.3","СН2","тыс.руб.",null,null,null,null,null,null,null,null,null,null,null,null,null,null,null,null,0,0,0]
[null,null,null,null,null,null,null,null,null,null,null,null,"1.2.1.4.4","ВН","тыс.руб.",null,null,null,null,null,null,null,null,null,null,null,null,null,null,null,null,0,0,0]
[null,null,null,null,null,null,null,null,null,null,null,null,"1.2.1.4.5","ГН","тыс.руб.",null,null,null,null,null,null,null,null,null,null,null,null,null,null,null,null,0,0,0]
[null,null,null,null,null,null,null,null,null,null,null,null,"1.2.1.5","Затраты на покупку энергии по двухставочному тарифу","тыс.руб.",null,null,null,null,null,null,null,null,null,null,null,null,null,null,null,null,0,{"$f":"SUM(AG2037:AG2041)","v":0},{"$f":"SUM(AH2037:AH2041)","v":0}]
[null,null,null,null,null,null,null,null,null,null,null,null,"1.2.1.5.1","НН","тыс.руб.",null,null,null,null,null,null,null,null,null,null,null,null,null,null,null,null,0,{"$f":"AG1998*AG2019","v":0},0]
[null,null,null,null,null,null,null,null,null,null,null,null,"1.2.1.5.2","СН1","тыс.руб.",null,null,null,null,null,null,null,null,null,null,null,null,null,null,null,null,0,0,0]
[null,null,null,null,null,null,null,null,null,null,null,null,"1.2.1.5.3","СН2","тыс.руб.",null,null,null,null,null,null,null,null,null,null,null,null,null,null,null,null,0,0,0]
[null,null,null,null,null,null,null,null,null,null,null,null,"1.2.1.5.4","ВН","тыс.руб.",null,null,null,null,null,null,null,null,null,null,null,null,null,null,null,null,0,0,0]
[null,null,null,null,null,null,null,null,null,null,null,null,"1.2.1.5.5","ГН","тыс.руб.",null,null,null,null,null,null,null,null,null,null,null,null,null,null,null,null,0,0,0]
[null,null,null,null,null,null,null,null,null,null,null,null,"1.2.2","теплоэнергия","тыс.руб.",null,null,null,null,null,null,null,null,null,null,null,null,null,null,null,null,0]
[null,null,null,null,null,null,null,null,null,null,null,null,"1.2.3","теплоноситель","тыс.руб.",null,null,null,null,null,null,null,null,null,null,null,null,null,null,null,null,0]
[null,null,null,null,null,null,null,null,null,null,null,null,"1.2.4","топливо","тыс.руб.",null,null,null,null,null,null,null,null,null,null,null,null,null,null,null,null,0]
[]
[]
[]
[]
[null,null,null,null,null,null,null,null,null,null,null,null,"1.2.5","холодная вода","тыс.руб.",null,null,null,null,null,null,null,null,null,null,null,null,null,null,null,null,{"$f":"AG2049+AH2049","v":0},{"$f":"AG2050*AG2051","v":0},{"$f":"AH2050*AH2051","v":0}]
[null,null,null,null,null,null,null,null,null,null,null,null,"1.2.5.1","цена","руб./куб.м",null,null,null,null,null,null,null,null,null,null,null,null,null,null,null,null,{"$f":"IF(AF2051=0,0,AF2049/AF2051)","v":0}]
[null,null,null,null,null,null,null,null,null,null,null,null,"1.2.5.2","объём","тыс.куб.м",null,null,null,null,null,null,null,null,null,null,null,null,null,null,null,null,{"$f":"AG2051+AH2051","v":0}]
[]
[]
[]
[]
[]
[]
[]
[null,null,null,null,null,null,null,null,null,null,null,null,"1.3","Расходы на оплату работ и услуг, выполняемые сторонними организациями и индивидуальными предпринимателями, связанные с эксплуатацией централизованных систем либо объектов в составе таких систем","тыс.руб.",null,null,null,null,null,null,null,null,null,null,null,null,null,null,null,null,{"$f":"AG2059+AH2059","v":0}]
[null,null,null,null,null,null,null,null,null,null,null,null,"1.4","Расходы на оплату труда и отчисления на социальные нужды основного производственного персонала, в том числе налоги и сборы ","тыс.руб.",null,null,null,null,null,null,null,null,null,null,null,null,null,null,null,null,{"$f":"AG2060+AH2060","v":0},{"$f":"SUM(AG2061,AG2072)","v":0},{"$f":"SUM(AH2061,AH2072)","v":0}]
[null,null,null,null,null,null,null,null,null,null,null,null,"1.4.1","Расходы на оплату труда производственного персонала","тыс.руб.",null,null,null,null,null,null,null,null,null,null,null,null,null,null,null,null,{"$f":"AG2061+AH2061","v":0}]
[null,null,null,null,null,null,null,null,null,null,null,null,"1.4.1.1","Численность (среднесписочная), принятая для расчёта","ед."]
[null,null,null,null,null,null,null,null,null,null,null,null,"1.4.1.2","Среднемесячная оплата труда основного производственного персонала","руб./мес.",null,null,null,null,null,null,null,null,null,null,null,null,null,null,null,null,{"$f":"IF(AF2062=0,0,AF2061/AF2062*1000/AF$6)","v":0},{"$f":"IF(AG2062=0,0,AG2061/AG2062*1000/AG$6)","v":0},{"$f":"IF(AH2062=0,0,AH2061/AH2062*1000/AH$6)","v":0}]
[null,null,null,null,null,null,null,null,null,null,null,null,"1.4.1.3","Фактическая численность основного производственного персонала, относимого на регулируемый вид деятельности","ед."]
[null,null,null,null,null,null,null,null,null,null,null,null,"1.4.1.4","Справочно: нормативная численность основного производственного персонала, относимого на регулируемый вид деятельности","ед."]
[null,null,null,null,null,null,null,null,null,null,null,null,"1.4.1.5","Тарифная ставка рабочего 1-го разряда","руб./мес."]
[null,null,null,null,null,null,null,null,null,null,null,null,"1.4.1.6","Индекс роста номинальной заработной платы"]
[null,null,null,null,null,null,null,null,null,null,null,null,"1.4.1.7","Тарифная ставка рабочего 1-го разряда с учётом дефлятора","руб./мес."]
[null,null,null,null,null,null,null,null,null,null,null,null,"1.4.1.8","Средний тарифный коэффициент"]
[null,null,null,null,null,null,null,null,null,null,null,null,"1.4.1.9","Среднемесячная тарифная ставка","руб./мес."]
[null,null,null,null,null,null,null,null,null,null,null,null,"1.4.1.10","Минимальный размер оплаты труда по отраслевому тарифному соглашению","руб./мес."]
[null,null,null,null,null,null,null,null,null,null,null,null,"1.4.2","Отчисления на социальные нужды производственного персонала, в том числе налоги и сборы","тыс.руб.",null,null,null,null,null,null,null,null,null,null,null,null,null,null,null,null,{"$f":"AG2072+AH2072","v":0}]
[null,null,null,null,null,null,null,null,null,null,null,null,"1.5","Расходы на уплату процентов по займам и кредитам, не учитываемые при определении налогооблагаемой базы налога на прибыль","тыс.руб.",null,null,null,null,null,null,null,null,null,null,null,null,null,null,null,null,0]
[null,null,null,null,null,null,null,null,null,null,null,null,"1.6","Общехозяйственные расходы","тыс.руб.",null,null,null,null,null,null,null,null,null,null,null,null,null,null,null,null,0]
[null,null,null,null,null,null,null,null,null,null,null,null,"1.7","Прочие производственные расходы","тыс.руб.",null,null,null,null,null,null,null,null,null,null,null,null,null,null,null,null,0,{"$f":"SUM(AG2076:AG2079)","v":0},{"$f":"SUM(AH2076:AH2079)","v":0}]
[null,null,null,null,null,null,null,null,null,null,null,null,"1.7.1","Расходы на амортизацию транспорта","тыс.руб.",null,null,null,null,null,null,null,null,null,null,null,null,null,null,null,null,0]
[null,null,null,null,null,null,null,null,null,null,null,null,{"$f":"IF(TEMPLATE_SPHERE_CODE=\"COLDVSNA\",\"1.7.2\",IF(TEMPLATE_SPHERE_CODE=\"VOTV\",\"1.7.2\",\"\"))","v":""},{"$f":"IF(TEMPLATE_SPHERE_CODE=\"COLDVSNA\",\"Контроль качества воды\",IF(TEMPLATE_SPHERE_CODE=\"VOTV\",\"Контроль сточных вод\",\"\"))","v":""},"тыс.руб.",null,null,null,null,null,null,null,null,null,null,null,null,null,null,null,null,0]
[null,null,null,null,null,null,null,null,null,null,null,null,"1.7.3","Расходы на аварийно-диспетчерское обслуживание","тыс.руб.",null,null,null,null,null,null,null,null,null,null,null,null,null,null,null,null,0]
[null,null,null,null,null,null,null,null,null,null,null,null,{"$f":"IF(TEMPLATE_SPHERE_CODE=\"COLDVSNA\",\"\",IF(TEMPLATE_SPHERE_CODE=\"VOTV\",\"1.7.4\",\"\"))","v":""},{"$f":"IF(TEMPLATE_SPHERE_CODE=\"COLDVSNA\",\"\",IF(TEMPLATE_SPHERE_CODE=\"VOTV\",\"Услуги по обращению с осадком сточных вод\",\"\"))","v":""},{"$f":"IF(TEMPLATE_SPHERE_CODE=\"COLDVSNA\",\"\",IF(TEMPLATE_SPHERE_CODE=\"VOTV\",\"тыс.руб.\",\"\"))","v":""}]
[null,null,null,null,null,null,null,null,null,null,null,null,"1.8","Цеховые расходы","тыс.руб.",null,null,null,null,null,null,null,null,null,null,null,null,null,null,null,null,{"$f":"AG2080+AH2080","v":0},{"$f":"SUM(AG2081:AG2084)","v":0},{"$f":"SUM(AH2081:AH2084)","v":0}]
[null,null,null,null,null,null,null,null,null,null,null,null,"1.8.1","Расходы на оплату труда цехового персонала","тыс.руб.",null,null,null,null,null,null,null,null,null,null,null,null,null,null,null,null,0]
[null,null,null,null,null,null,null,null,null,null,null,null,"1.8.2","Отчисления на социальные нужды цехового персонала, в том числе налоги и сборы","тыс.руб.",null,null,null,null,null,null,null,null,null,null,null,null,null,null,null,null,0]
[null,null,null,null,null,null,null,null,null,null,null,null,"1.8.3","Расходы на охрану труда","тыс.руб.",null,null,null,null,null,null,null,null,null,null,null,null,null,null,null,null,0]
[null,null,null,null,null,null,null,null,null,null,null,null,"1.8.4","Прочие","тыс.руб.",null,null,null,null,null,null,null,null,null,null,null,null,null,null,null,null,0]
[null,null,null,null,null,null,null,null,null,null,null,null,"2","Ремонтные расходы","тыс.руб.",null,null,null,null,null,null,null,null,null,null,null,null,null,null,null,null,0,{"$f":"SUM(AG2086,AG2088,AG2090)","v":0},{"$f":"SUM(AH2086,AH2088,AH2090)","v":0}]
[null,null,null,null,null,null,null,null,null,null,null,null,"2.1","Расходы на текущий ремонт централизованных систем водоснабжения и (или) водоотведения либо объектов, входящих в состав таких систем","тыс.руб.",null,null,null,null,null,null,null,null,null,null,null,null,null,null,null,null,0]
[null,null,null,null,null,null,null,null,null,null,null,null,"2.1.1","Справочно: расходы на текущий ремонт, предусмотренные производственной программой регулируемой организации","тыс.руб.",null,null,null,null,null,null,null,null,null,null,null,null,null,null,null,null,0]
[null,null,null,null,null,null,null,null,null,null,null,null,"2.2","Расходы на капитальный ремонт централизованных систем водоснабжения и (или водоотведения) либо объектов, входящих в состав таких систем","тыс.руб.",null,null,null,null,null,null,null,null,null,null,null,null,null,null,null,null,0]
[null,null,null,null,null,null,null,null,null,null,null,null,"2.2.1","Справочно: расходы на капитальный ремонт, предусмотренные производственной программой регулируемой организации","тыс.руб.",null,null,null,null,null,null,null,null,null,null,null,null,null,null,null,null,0]
[null,null,null,null,null,null,null,null,null,null,null,null,"2.3","Расходы на оплату труда и отчисления на социальные нужды ремонтного персонала, в том числе налоги и сборы","тыс.руб.",null,null,null,null,null,null,null,null,null,null,null,null,null,null,null,null,0,{"$f":"SUM(AG2091,AG2102)","v":0},{"$f":"SUM(AH2091,AH2102)","v":0}]
[null,null,null,null,null,null,null,null,null,null,null,null,"2.3.1","Расходы на оплату труда ремонтного персонала","тыс.руб.",null,null,null,null,null,null,null,null,null,null,null,null,null,null,null,null,0]
[null,null,null,null,null,null,null,null,null,null,null,null,"2.3.1.1","Численность (среднесписочная), принятая для расчёта","ед."]
[null,null,null,null,null,null,null,null,null,null,null,null,"2.3.1.2","Среднемесячная оплата труда ремонтного персонала","руб./мес.",null,null,null,null,null,null,null,null,null,null,null,null,null,null,null,null,{"$f":"IF(AF2092=0,0,AF2091/AF2092*1000/AF$6)","v":0},{"$f":"IF(AG2092=0,0,AG2091/AG2092*1000/AG$6)","v":0},{"$f":"IF(AH2092=0,0,AH2091/AH2092*1000/AH$6)","v":0}]
[null,null,null,null,null,null,null,null,null,null,null,null,"2.3.1.3","Фактическая численность ремонтного персонала, относимого на регулируемый вид деятельности","ед."]
[null,null,null,null,null,null,null,null,null,null,null,null,"2.3.1.4","Справочно: нормативная численность ремонтного персонала, относимого на регулируемый вид деятельности","ед."]
[null,null,null,null,null,null,null,null,null,null,null,null,"2.3.1.5","Тарифная ставка рабочего 1-го разряда","руб./мес."]
[null,null,null,null,null,null,null,null,null,null,null,null,"2.3.1.6","Индекс роста номинальной заработной платы"]
[null,null,null,null,null,null,null,null,null,null,null,null,"2.3.1.7","Тарифная ставка рабочего 1-го разряда с учётом дефлятора","руб./мес."]
[null,null,null,null,null,null,null,null,null,null,null,null,"2.3.1.8","Средний тарифный коэффициент"]
[null,null,null,null,null,null,null,null,null,null,null,null,"2.3.1.9","Среднемесячная тарифная ставка","руб./мес."]
[null,null,null,null,null,null,null,null,null,null,null,null,"2.3.1.10","Минимальный размер оплаты труда по отраслевому тарифному соглашению","руб./мес."]
[null,null,null,null,null,null,null,null,null,null,null,null,"2.3.2","Отчисления на социальные нужды ремонтного персонала, в том числе налоги и сборы","тыс.руб.",null,null,null,null,null,null,null,null,null,null,null,null,null,null,null,null,{"$f":"AG2102+AH2102","v":0}]
[null,null,null,null,null,null,null,null,null,null,null,null,3,"Административные расходы","тыс.руб.",null,null,null,null,null,null,null,null,null,null,null,null,null,null,null,null,0,{"$f":"SUM(AG2104,AG2111,AG2124,AG2125,AG2126,AG2127,AG2128)","v":0},{"$f":"SUM(AH2104,AH2111,AH2124,AH2125,AH2126,AH2127,AH2128)","v":0}]
[null,null,null,null,null,null,null,null,null,null,null,null,"3.1","Расходы на оплату работ и услуг, выполняемых сторонними организациями","тыс.руб.",null,null,null,null,null,null,null,null,null,null,null,null,null,null,null,null,0,{"$f":"SUM(AG2105:AG2110)","v":0},{"$f":"SUM(AH2105:AH2110)","v":0}]
[null,null,null,null,null,null,null,null,null,null,null,null,"3.1.1","услуги связи и интернет","тыс.руб.",null,null,null,null,null,null,null,null,null,null,null,null,null,null,null,null,0]
[null,null,null,null,null,null,null,null,null,null,null,null,"3.1.2","юридические услуги","тыс.руб.",null,null,null,null,null,null,null,null,null,null,null,null,null,null,null,null,0]
[null,null,null,null,null,null,null,null,null,null,null,null,"3.1.3","аудиторские услуги","тыс.руб.",null,null,null,null,null,null,null,null,null,null,null,null,null,null,null,null,0]
[null,null,null,null,null,null,null,null,null,null,null,null,"3.1.4","консультационные услуги","тыс.руб.",null,null,null,null,null,null,null,null,null,null,null,null,null,null,null,null,0]
[null,null,null,null,null,null,null,null,null,null,null,null,"3.1.5","услуги по вневедомственной охране объектов и территорий","тыс.руб.",null,null,null,null,null,null,null,null,null,null,null,null,null,null,null,null,0]
[null,null,null,null,null,null,null,null,null,null,null,null,"3.1.6","информационные услуги","тыс.руб.",null,null,null,null,null,null,null,null,null,null,null,null,null,null,null,null,0]
[null,null,null,null,null,null,null,null,null,null,null,null,"3.2","Расходы на оплату труда и отчисления на социальные нужды административно-управленческого персонала, в том числе налоги и сборы","тыс.руб.",null,null,null,null,null,null,null,null,null,null,null,null,null,null,null,null,0,{"$f":"SUM(AG2112,AG2123)","v":0},{"$f":"SUM(AH2112,AH2123)","v":0}]
[null,null,null,null,null,null,null,null,null,null,null,null,"3.2.1","Расходы на оплату труда административно-управленческого персонала","тыс.руб.",null,null,null,null,null,null,null,null,null,null,null,null,null,null,null,null,0]
[null,null,null,null,null,null,null,null,null,null,null,null,"3.2.1.1","Численность (среднесписочная), принятая для расчёта","ед."]
[null,null,null,null,null,null,null,null,null,null,null,null,"3.2.1.2","Среднемесячная оплата труда административно-управленческого персонала","руб./мес.",null,null,null,null,null,null,null,null,null,null,null,null,null,null,null,null,{"$f":"IF(AF2113=0,0,AF2112/AF2113*1000/AF$6)","v":0},{"$f":"IF(AG2113=0,0,AG2112/AG2113*1000/AG$6)","v":0},{"$f":"IF(AH2113=0,0,AH2112/AH2113*1000/AH$6)","v":0}]
[null,null,null,null,null,null,null,null,null,null,null,null,"3.2.1.3","Фактическая численность административно-управленческого персонала, относимого на регулируемый вид деятельности","ед."]
[null,null,null,null,null,null,null,null,null,null,null,null,"3.2.1.4","Справочно: нормативная численность административно-управленческого персонала, относимого на регулируемый вид деятельности","ед."]
[null,null,null,null,null,null,null,null,null,null,null,null,"3.2.1.5","Тарифная ставка рабочего 1-го разряда","руб./мес."]
[null,null,null,null,null,null,null,null,null,null,null,null,"3.2.1.6","Индекс роста номинальной заработной платы"]
[null,null,null,null,null,null,null,null,null,null,null,null,"3.2.1.7","Тарифная ставка рабочего 1-го разряда с учётом дефлятора","руб./мес."]
[null,null,null,null,null,null,null,null,null,null,null,null,"3.2.1.8","Средний тарифный коэффициент"]
[null,null,null,null,null,null,null,null,null,null,null,null,"3.2.1.9","Среднемесячная тарифная ставка","руб./мес."]
[null,null,null,null,null,null,null,null,null,null,null,null,"3.2.1.10","Минимальный размер оплаты труда по отраслевому тарифному соглашению","руб./мес."]
[null,null,null,null,null,null,null,null,null,null,null,null,"3.2.2","Отчисления на социальные нужды административно-управленческого персонала, в том числе налоги и сборы","тыс.руб.",null,null,null,null,null,null,null,null,null,null,null,null,null,null,null,null,{"$f":"AG2123+AH2123","v":0}]
[null,null,null,null,null,null,null,null,null,null,null,null,"3.3","Арендная плата, лизинговые платежи, не связанные с арендой (лизингом) централизованных систем водоснабжения и (или) водоотведения либо объектов, входящих в состав таких систем","тыс.руб.",null,null,null,null,null,null,null,null,null,null,null,null,null,null,null,null,0]
[null,null,null,null,null,null,null,null,null,null,null,null,"3.4","Служебные командировки","тыс.руб.",null,null,null,null,null,null,null,null,null,null,null,null,null,null,null,null,0]
[null,null,null,null,null,null,null,null,null,null,null,null,"3.5","Обучение персонала","тыс.руб.",null,null,null,null,null,null,null,null,null,null,null,null,null,null,null,null,0]
[null,null,null,null,null,null,null,null,null,null,null,null,"3.6","Страхование производственных объектов","тыс.руб.",null,null,null,null,null,null,null,null,null,null,null,null,null,null,null,null,0]
[null,null,null,null,null,null,null,null,null,null,null,null,"3.7","Прочие административные расходы","тыс.руб.",null,null,null,null,null,null,null,null,null,null,null,null,null,null,null,null,0]
[null,null,null,null,null,null,null,null,null,null,null,null,"3.7.1","Расходы на амортизацию непроизводственных активов","тыс.руб.",null,null,null,null,null,null,null,null,null,null,null,null,null,null,null,null,0]
[null,null,null,null,null,null,null,null,null,null,null,null,"3.7.2","Расходы по охране объектов и территорий","тыс.руб.",null,null,null,null,null,null,null,null,null,null,null,null,null,null,null,null,0]
[null,null,null,null,null,null,null,null,null,null,null,null,4,"Сбытовые расходы гарантирующих организаций","тыс.руб.",null,null,null,null,null,null,null,null,null,null,null,null,null,null,null,null,0]
[null,null,null,null,null,null,null,null,null,null,null,null,"4.1","Расходы по сомнительным долгам, в размере не более 2% НВВ","тыс.руб.",null,null,null,null,null,null,null,null,null,null,null,null,null,null,null,null,0]
[null,null,null,null,null,null,null,null,null,null,null,null,5,"Амортизация","тыс.руб.",null,null,null,null,null,null,null,null,null,null,null,null,null,null,null,null,0]
[null,null,null,null,null,null,null,null,null,null,null,null,"5.1","Амортизация основных средств и нематериальных активов, относимых к объектам централизованной системы водоснабжения и водоотведения","тыс.руб.",null,null,null,null,null,null,null,null,null,null,null,null,null,null,null,null,0]
[null,null,null,null,null,null,null,null,null,null,null,null,6,"Расходы на арендную плату, лизинговые платежи, концессионную плату, связанные с арендой (лизингом) централизованных систем водоснабжения и (или) водоотведения либо объектов, входящих в состав таких систем","тыс.руб.",null,null,null,null,null,null,null,null,null,null,null,null,null,null,null,null,0,{"$f":"SUM(AG2136,AG2140:AG2143)","v":0},{"$f":"SUM(AH2136,AH2140:AH2143)","v":0}]
[null,null,null,null,null,null,null,null,null,null,null,null,"6.1","Аренда имущества","тыс.руб.",null,null,null,null,null,null,null,null,null,null,null,null,null,null,null,null,0,{"$f":"SUM(AG2137:AG2139)","v":0},{"$f":"SUM(AH2137:AH2139)","v":0}]
[null,null,null,null,null,null,null,null,null,null,null,null,"6.1.1","Аренда объектов в государственной собственности","тыс.руб.",null,null,null,null,null,null,null,null,null,null,null,null,null,null,null,null,0]
[null,null,null,null,null,null,null,null,null,null,null,null,"6.1.2","Аренда объектов в муниципальной собственности","тыс.руб.",null,null,null,null,null,null,null,null,null,null,null,null,null,null,null,null,0]
[null,null,null,null,null,null,null,null,null,null,null,null,"6.1.3","Прочее","тыс.руб.",null,null,null,null,null,null,null,null,null,null,null,null,null,null,null,null,0]
[null,null,null,null,null,null,null,null,null,null,null,null,"6.2","Концессионная плата","тыс.руб.",null,null,null,null,null,null,null,null,null,null,null,null,null,null,null,null,0]
[null,null,null,null,null,null,null,null,null,null,null,null,"6.3","Лизинговые платежи","тыс.руб.",null,null,null,null,null,null,null,null,null,null,null,null,null,null,null,null,0]
[null,null,null,null,null,null,null,null,null,null,null,null,"6.4","Аренда земельных участков","тыс.руб.",null,null,null,null,null,null,null,null,null,null,null,null,null,null,null,null,0]
[null,null,null,null,null,null,null,null,null,null,null,null,"6.5","Иное","тыс.руб.",null,null,null,null,null,null,null,null,null,null,null,null,null,null,null,null,0]
[null,null,null,null,null,null,null,null,null,null,null,null,7,"Расходы, связанные с уплатой налогов и сборов, связанные с арендой (лизингом) централизованных систем водоснабжения и (или) водоотведения либо объектов, входящих в состав таких систем","тыс.руб.",null,null,null,null,null,null,null,null,null,null,null,null,null,null,null,null,0,{"$f":"SUM(AG2145:AG2151)","v":0},{"$f":"SUM(AH2145:AH2151)","v":0}]
[null,null,null,null,null,null,null,null,null,null,null,null,"7.1","Налог на прибыль","тыс.руб.",null,null,null,null,null,null,null,null,null,null,null,null,null,null,null,null,0]
[null,null,null,null,null,null,null,null,null,null,null,null,"7.2","Налог на имущество организаций","тыс.руб.",null,null,null,null,null,null,null,null,null,null,null,null,null,null,null,null,0]
[null,null,null,null,null,null,null,null,null,null,null,null,"7.3","Плата за негативное воздействие на окружающую среду","тыс.руб.",null,null,null,null,null,null,null,null,null,null,null,null,null,null,null,null,0]
[null,null,null,null,null,null,null,null,null,null,null,null,"7.4","Водный налог и плата за пользование водным объектом","тыс.руб.",null,null,null,null,null,null,null,null,null,null,null,null,null,null,null,null,0]
[null,null,null,null,null,null,null,null,null,null,null,null,"7.5","Земельный налог","тыс.руб.",null,null,null,null,null,null,null,null,null,null,null,null,null,null,null,null,0]
[null,null,null,null,null,null,null,null,null,null,null,null,"7.6","Транспортный налог","тыс.руб.",null,null,null,null,null,null,null,null,null,null,null,null,null,null,null,null,0]
[null,null,null,null,null,null,null,null,null,null,null,null,"7.7","Прочие налоги и сборы, за исключением налогов и сборов с фонда оплаты труда, учитываемых в составе производственных, ремонтных и административных расходов","тыс.руб.",null,null,null,null,null,null,null,null,null,null,null,null,null,null,null,null,0]
[null,null,null,null,null,null,null,null,null,null,null,null,"8","Расходы на оплату товаров (услуг, работ), приобретаемых у других организаций, осуществляющих регулируемые виды деятельности","тыс.руб.",null,null,null,null,null,null,null,null,null,null,null,null,null,null,null,null,0]
[null,null,null,null,null,null,null,null,null,null,null,null,"9","Расходы на обслуживание бесхозяйных сетей","тыс.руб.",null,null,null,null,null,null,null,null,null,null,null,null,null,null,null,null,0]
[null,null,null,null,null,null,null,null,null,null,null,null,"10","Прочие неподконтрольные расходы","тыс.руб.",null,null,null,null,null,null,null,null,null,null,null,null,null,null,null,null,0]
[]
[null,null,null,null,null,null,null,null,null,null,null,null,"РО","Итого расходы","тыс.руб.",null,null,null,null,null,null,null,null,null,null,null,null,null,null,null,null,{"$f":"SUM(AF1976,AF2085,AF2103,AF2131,AF2133,AF2135,AF2144,AF2152,AF2153,AF2154)","v":0},{"$f":"SUM(AG1976,AG2085,AG2103,AG2131,AG2133,AG2135,AG2144,AG2152,AG2153,AG2154)","v":0},{"$f":"SUM(AH1976,AH2085,AH2103,AH2131,AH2133,AH2135,AH2144,AH2152,AH2153,AH2154)","v":0}]
[]
[null,null,null,null,null,null,null,null,null,null,null,null,"РР","Итого расходы на реализацию","тыс.руб.",null,null,null,null,null,null,null,null,null,null,null,null,null,null,null,null,{"$f":"AG2158+AH2158","v":0},{"$f":"AG2156*AG$242","v":0},{"$f":"AH2156*AH$242","v":0}]
[]
[null,null,null,null,null,null,null,null,null,null,null,null,"У","Убыток","тыс.руб.",null,null,null,null,null,null,null,null,null,null,null,null,null,null,null,null,{"$f":"AG2160+AH2160","v":0}]
[null,null,null,null,null,null,null,null,null,null,null,null,"П","Прибыль","тыс.руб.",null,null,null,null,null,null,null,null,null,null,null,null,null,null,null,null,{"$f":"AG2161+AH2161","v":0},{"$f":"SUM(AG2163:AG2166)","v":0},{"$f":"SUM(AH2163:AH2166)","v":0}]
[]
[null,null,null,null,null,null,null,null,null,null,null,null,"П.1","Прибыль на развитие производства (капитальные вложения)","тыс.руб.",null,null,null,null,null,null,null,null,null,null,null,null,null,null,null,null,{"$f":"AG2163+AH2163","v":0}]
[null,null,null,null,null,null,null,null,null,null,null,null,"П.2","Прибыль на социальное развитие","тыс.руб.",null,null,null,null,null,null,null,null,null,null,null,null,null,null,null,null,{"$f":"AG2164+AH2164","v":0}]
[null,null,null,null,null,null,null,null,null,null,null,null,"П.3","Прибыль на поощрение","тыс.руб.",null,null,null,null,null,null,null,null,null,null,null,null,null,null,null,null,{"$f":"AG2165+AH2165","v":0}]
[null,null,null,null,null,null,null,null,null,null,null,null,"П.4","Прибыль на прочие цели","тыс.руб.",null,null,null,null,null,null,null,null,null,null,null,null,null,null,null,null,{"$f":"AG2166+AH2166","v":0}]
[]
[]
[]
[]
[]
[]
[]
[]
[null,null,null,null,null,null,null,null,null,null,null,null,"РП","Итого расходы с учётом расходов из прибыли","тыс.руб.",null,null,null,null,null,null,null,null,null,null,null,null,null,null,null,null,{"$f":"AG2175+AH2175","v":0},{"$f":"AG2156+AG2161","v":0},{"$f":"AH2156+AH2161","v":0}]
[]
[]
[]
[]
[]
[]
[]
[]
[]
[]
[]
[]
[]
[]
[]
[]
[]
[null,null,null,null,null,null,null,null,null,null,null,null,"UI.TOTAL","Полезный отпуск продукции всего:\n[БТр!п.3] - транспортировка\n[БПр!п.5.2] - производство","тыс.куб.м",null,null,null,null,null,null,null,null,null,null,null,null,null,null,null,null,{"$f":"AG2193+AH2193","v":0},{"$f":"SUMIF(ХВС.БПр!$BA$131:$BA$132,AG$17 & \".0-\" & AG$9,ХВС.БПр!$X$131:$X$132)/1000+SUMIF(ХВС.БТр!$BA$131:$BA$132,AG$17 & \".0-\" & AG$9,ХВС.БТр!$P$131:$P$132)/1000","v":0},{"$f":"SUMIF(ХВС.БПр!$BA$131:$BA$132,AH$17 & \".0-\" & AH$9,ХВС.БПр!$X$131:$X$132)/1000+SUMIF(ХВС.БТр!$BA$131:$BA$132,AH$17 & \".0-\" & AH$9,ХВС.БТр!$P$131:$P$132)/1000","v":0}]
[null,null,null,null,null,null,null,null,null,null,null,null,"UI.EC","Полезный отпуск на реализацию потребителям:\n[БТр!п.3.2:3.5] - транспортировка\n[БПр!п.5.2.2 + БПр!п.5.2.3] - производство","тыс.куб.м",null,null,null,null,null,null,null,null,null,null,null,null,null,null,null,null,{"$f":"AG2194+AH2194","v":0},{"$f":"SUMIF(ХВС.БПр!$BA$131:$BA$132,AG$17 & \".0-\" & AG$9,ХВС.БПр!$AC$131:$AC$132)/1000+SUMIF(ХВС.БПр!$BA$131:$BA$132,AG$17 & \".0-\" & AG$9,ХВС.БПр!$AF$131:$AF$132)/1000+SUMIF(ХВС.БТр!$BA$131:$BA$132,AG$17 & \".0-\" & AG$9,ХВС.БТр!$R$131:$R$132)/1000+SUMIF(ХВС.БТр!$BA$131:$BA$132,AG$17 & \".0-\" & AG$9,ХВС.БТр!$U$131:$U$132)/1000+SUMIF(ХВС.БТр!$BA$131:$BA$132,AG$17 & \".0-\" & AG$9,ХВС.БТр!$X$131:$X$132)/1000+SUMIF(ХВС.БТр!$BA$131:$BA$132,AG$17 & \".0-\" & AG$9,ХВС.БТр!$AA$131:$AA$132)/1000","v":0},{"$f":"SUMIF(ХВС.БПр!$BA$131:$BA$132,AH$17 & \".0-\" & AH$9,ХВС.БПр!$AC$131:$AC$132)/1000+SUMIF(ХВС.БПр!$BA$131:$BA$132,AH$17 & \".0-\" & AH$9,ХВС.БПр!$AF$131:$AF$132)/1000+SUMIF(ХВС.БТр!$BA$131:$BA$132,AH$17 & \".0-\" & AH$9,ХВС.БТр!$R$131:$R$132)/1000+SUMIF(ХВС.БТр!$BA$131:$BA$132,AH$17 & \".0-\" & AH$9,ХВС.БТр!$U$131:$U$132)/1000+SUMIF(ХВС.БТр!$BA$131:$BA$132,AH$17 & \".0-\" & AH$9,ХВС.БТр!$X$131:$X$132)/1000+SUMIF(ХВС.БТр!$BA$131:$BA$132,AH$17 & \".0-\" & AH$9,ХВС.БТр!$AA$131:$AA$132)/1000","v":0}]
[null,null,null,null,null,null,null,null,null,null,null,null,"UI.COEF","Коэффициент (доля) на реализацию потребителям",null,null,null,null,null,null,null,null,null,null,null,null,null,null,null,null,null,{"$f":"IF(AF2193=0,0,AF2194/AF2193)","v":0},{"$f":"IF(AG2193=0,0,AG2194/AG2193)","v":0},{"$f":"IF(AH2193=0,0,AH2194/AH2193)","v":0}]
[null,null,null,null,null,null,null,null,null,null,null,null,"UI.PURE.EC","Полезный отпуск на реализацию потребителям:\n[БТр!п.3.3:3.5] - транспортировка\n[БПр!п.5.2.3] - производство","тыс.куб.м",null,null,null,null,null,null,null,null,null,null,null,null,null,null,null,null,{"$f":"AG2196+AH2196","v":0},{"$f":"SUMIF(ХВС.БПр!$BA$131:$BA$132,AG$17 & \".0-\" & AG$9,ХВС.БПр!$AF$131:$AF$132)/1000+SUMIF(ХВС.БТр!$BA$131:$BA$132,AG$17 & \".0-\" & AG$9,ХВС.БТр!$U$131:$U$132)/1000+SUMIF(ХВС.БТр!$BA$131:$BA$132,AG$17 & \".0-\" & AG$9,ХВС.БТр!$X$131:$X$132)/1000+SUMIF(ХВС.БТр!$BA$131:$BA$132,AG$17 & \".0-\" & AG$9,ХВС.БТр!$AA$131:$AA$132)/1000","v":0},{"$f":"SUMIF(ХВС.БПр!$BA$131:$BA$132,AH$17 & \".0-\" & AH$9,ХВС.БПр!$AF$131:$AF$132)/1000+SUMIF(ХВС.БТр!$BA$131:$BA$132,AH$17 & \".0-\" & AH$9,ХВС.БТр!$U$131:$U$132)/1000+SUMIF(ХВС.БТр!$BA$131:$BA$132,AH$17 & \".0-\" & AH$9,ХВС.БТр!$X$131:$X$132)/1000+SUMIF(ХВС.БТр!$BA$131:$BA$132,AH$17 & \".0-\" & AH$9,ХВС.БТр!$AA$131:$AA$132)/1000","v":0}]
[]
[null,null,null,null,null,null,null,null,null,null,null,null,"UI.TTL",{"$f":"IF(TEMPLATE_SPHERE_CODE=\"COLDVSNA\",\"Объём отпуска воды\",IF(TEMPLATE_SPHERE_CODE=\"VOTV\",\"Объём сточных вод\",\"\"))","v":""},"тыс.куб.м",null,null,null,null,null,null,null,null,null,null,null,null,null,null,null,null,null,{"$f":"AG2193","v":0},{"$f":"AH2193","v":0}]
[]
[null,null,null,null,null,null,null,null,null,null,null,null,"PROFITABILITY","Рентабельность","%",null,null,null,null,null,null,null,null,null,null,null,null,null,null,null,null,{"$f":"IF(AF2156=0,0,(AF2161-AF2160)/AF2156*100)","v":0},{"$f":"IF(AG2156=0,0,(AG2161-AG2160)/AG2156*100)","v":0},{"$f":"IF(AH2156=0,0,(AH2161-AH2160)/AH2156*100)","v":0}]
[]
[null,null,null,null,null,null,null,null,null,null,null,null,"D","Справочно: результат деятельности в периоде регулирования","тыс.руб.",null,null,null,null,null,null,null,null,null,null,null,null,null,null,null,null,{"$f":"AG2202+AH2202","v":0},{"$f":"AG2203-(AG2158+AG2161-AG2160)","v":0},{"$f":"AH2203-(AH2158+AH2161-AH2160)","v":0}]
[null,null,null,null,null,null,null,null,null,null,null,null,{"$f":"M2202 & \".0.1\"","v":"D.0.1"},"Общий доход от реализации потребителям без учёта НДС, исходя из утверждённых тарифов","тыс.руб.",null,null,null,null,null,null,null,null,null,null,null,null,null,null,null,null,{"$f":"AG2203+AH2203","v":0},{"$f":"AG2205+AG2208+AG2211+AG2214+AG2217+AG2218","v":0},{"$f":"AH2205+AH2208+AH2211+AH2214+AH2217+AH2218","v":0}]
[null,null,null,null,null,null,null,null,null,null,null,null,{"$f":"M2202 & \".0.2\"","v":"D.0.2"},"Полезный отпуск продукции на реализацию потребителям","тыс.куб.м",null,null,null,null,null,null,null,null,null,null,null,null,null,null,null,null,{"$f":"AG2204+AH2204","v":0},{"$f":"AG2207+AG2210+AG2213+AG2216","v":0},{"$f":"AH2207+AH2210+AH2213+AH2216","v":0}]
[null,null,null,null,null,null,null,null,null,null,null,null,{"$f":"M2202 & \".1\"","v":"D.1"},"Организации-перепродавцы","тыс.руб.",null,null,null,null,null,null,null,null,null,null,null,null,null,null,null,null,{"$f":"AG2205+AH2205","v":0},{"$f":"AG2206*AG2207","v":0},{"$f":"AH2206*AH2207","v":0}]
[null,null,null,null,null,null,null,null,null,null,null,null,{"$f":"M2205 & \".1\"","v":"D.1.1"},"средневзвешенный тариф","руб./куб.м",null,null,null,null,null,null,null,null,null,null,null,null,null,null,null,null,{"$f":"IF(AF2207=0,0,AF2205/AF2207)","v":0}]
[null,null,null,null,null,null,null,null,null,null,null,null,{"$f":"M2205 & \".2\"","v":"D.1.2"},"объём","тыс.куб.м",null,null,null,null,null,null,null,null,null,null,null,null,null,null,null,null,{"$f":"AG2207+AH2207","v":0},{"$f":"SUMIF(ХВС.БПр!$BA$131:$BA$132,AG$17 & \".0-\" & AG$9,ХВС.БПр!$AC$131:$AC$132)/1000+SUMIF(ХВС.БТр!$BA$131:$BA$132,AG$17 & \".0-\" & AG$9,ХВС.БТр!$R$131:$R$132)/1000","v":0},{"$f":"SUMIF(ХВС.БПр!$BA$131:$BA$132,AH$17 & \".0-\" & AH$9,ХВС.БПр!$AC$131:$AC$132)/1000+SUMIF(ХВС.БТр!$BA$131:$BA$132,AH$17 & \".0-\" & AH$9,ХВС.БТр!$R$131:$R$132)/1000","v":0}]
[null,null,null,null,null,null,null,null,null,null,null,null,{"$f":"M2202 & \".2\"","v":"D.2"},"Бюджетные потребители","тыс.руб.",null,null,null,null,null,null,null,null,null,null,null,null,null,null,null,null,{"$f":"AG2208+AH2208","v":0},{"$f":"AG2209*AG2210","v":0},{"$f":"AH2209*AH2210","v":0}]
[null,null,null,null,null,null,null,null,null,null,null,null,{"$f":"M2208 & \".1\"","v":"D.2.1"},"средневзвешенный тариф","руб./куб.м",null,null,null,null,null,null,null,null,null,null,null,null,null,null,null,null,{"$f":"IF(AF2210=0,0,AF2208/AF2210)","v":0}]
[null,null,null,null,null,null,null,null,null,null,null,null,{"$f":"M2208 & \".2\"","v":"D.2.2"},"объём","тыс.куб.м",null,null,null,null,null,null,null,null,null,null,null,null,null,null,null,null,{"$f":"AG2210+AH2210","v":0},{"$f":"SUMIF(ХВС.БПр!$BA$131:$BA$132,AG$17 & \".0-\" & AG$9,ХВС.БПр!$AG$131:$AG$132)/1000+SUMIF(ХВС.БТр!$BA$131:$BA$132,AG$17 & \".0-\" & AG$9,ХВС.БТр!$U$131:$U$132)/1000","v":0},{"$f":"SUMIF(ХВС.БПр!$BA$131:$BA$132,AH$17 & \".0-\" & AH$9,ХВС.БПр!$AG$131:$AG$132)/1000+SUMIF(ХВС.БТр!$BA$131:$BA$132,AH$17 & \".0-\" & AH$9,ХВС.БТр!$U$131:$U$132)/1000","v":0}]
[null,null,null,null,null,null,null,null,null,null,null,null,{"$f":"M2202 & \".3\"","v":"D.3"},"Население","тыс.руб.",null,null,null,null,null,null,null,null,null,null,null,null,null,null,null,null,{"$f":"AG2211+AH2211","v":0},{"$f":"AG2212*AG2213","v":0},{"$f":"AH2212*AH2213","v":0}]
[null,null,null,null,null,null,null,null,null,null,null,null,{"$f":"M2211 & \".1\"","v":"D.3.1"},"средневзвешенный тариф","руб./куб.м",null,null,null,null,null,null,null,null,null,null,null,null,null,null,null,null,{"$f":"IF(AF2213=0,0,AF2211/AF2213)","v":0}]
[null,null,null,null,null,null,null,null,null,null,null,null,{"$f":"M2211 & \".2\"","v":"D.3.2"},"объём","тыс.куб.м",null,null,null,null,null,null,null,null,null,null,null,null,null,null,null,null,{"$f":"AG2213+AH2213","v":0},{"$f":"SUMIF(ХВС.БПр!$BA$131:$BA$132,AG$17 & \".0-\" & AG$9,ХВС.БПр!$AJ$131:$AJ$132)/1000+SUMIF(ХВС.БТр!$BA$131:$BA$132,AG$17 & \".0-\" & AG$9,ХВС.БТр!$X$131:$X$132)/1000","v":0},{"$f":"SUMIF(ХВС.БПр!$BA$131:$BA$132,AH$17 & \".0-\" & AH$9,ХВС.БПр!$AJ$131:$AJ$132)/1000+SUMIF(ХВС.БТр!$BA$131:$BA$132,AH$17 & \".0-\" & AH$9,ХВС.БТр!$X$131:$X$132)/1000","v":0}]
[null,null,null,null,null,null,null,null,null,null,null,null,{"$f":"M2202 & \".4\"","v":"D.4"},"Прочие","тыс.руб.",null,null,null,null,null,null,null,null,null,null,null,null,null,null,null,null,{"$f":"AG2214+AH2214","v":0},{"$f":"AG2215*AG2216","v":0},{"$f":"AH2215*AH2216","v":0}]
[null,null,null,null,null,null,null,null,null,null,null,null,{"$f":"M2214 & \".1\"","v":"D.4.1"},"средневзвешенный тариф","руб./куб.м",null,null,null,null,null,null,null,null,null,null,null,null,null,null,null,null,{"$f":"IF(AF2216=0,0,AF2214/AF2216)","v":0}]
[null,null,null,null,null,null,null,null,null,null,null,null,{"$f":"M2214 & \".2\"","v":"D.4.2"},"объём","тыс.куб.м",null,null,null,null,null,null,null,null,null,null,null,null,null,null,null,null,{"$f":"AG2216+AH2216","v":0},{"$f":"SUMIF(ХВС.БПр!$BA$131:$BA$132,AG$17 & \".0-\" & AG$9,ХВС.БПр!$AM$131:$AM$132)/1000+SUMIF(ХВС.БТр!$BA$131:$BA$132,AG$17 & \".0-\" & AG$9,ХВС.БТр!$AA$131:$AA$132)/1000","v":0},{"$f":"SUMIF(ХВС.БПр!$BA$131:$BA$132,AH$17 & \".0-\" & AH$9,ХВС.БПр!$AM$131:$AM$132)/1000+SUMIF(ХВС.БТр!$BA$131:$BA$132,AH$17 & \".0-\" & AH$9,ХВС.БТр!$AA$131:$AA$132)/1000","v":0}]
[null,null,null,null,null,null,null,null,null,null,null,null,{"$f":"M2202 & \".5\"","v":"D.5"},"Объём дотаций из всех уровней бюджета","тыс.руб.",null,null,null,null,null,null,null,null,null,null,null,null,null,null,null,null,{"$f":"AG2217+AH2217","v":0}]
[null,null,null,null,null,null,null,null,null,null,null,null,{"$f":"M2202 & \".6\"","v":"D.6"},"Доходы, полученные сверх реализации по утверждённым тарифам","тыс.руб.",null,null,null,null,null,null,null,null,null,null,null,null,null,null,null,null,{"$f":"AG2218+AH2218","v":0}]
[]
[]
[]
[]
[]
[]
[null,null,null,null,null,null,null,null,null,null,null,null,null,"Дополнительные показатели"]
[null,null,null,null,null,null,null,null,null,null,null,null,null,"Производство"]
[null,null,null,null,null,null,null,null,null,null,null,null,null,{"$f":"\"Стоимость основных средств, относимых на источники производства (подъём / добыча) \" & RESOURCE_IDENTIFIER","v":"Стоимость основных средств, относимых на источники производства (подъём / добыча) "},"тыс.руб."]
[null,null,null,null,null,null,null,null,null,null,null,null,null,{"$f":"\"Количество \" & TEMPLATE_SPHERE_OKK_SOURCE","v":"Количество "},"ед."]
[null,null,null,null,null,null,null,null,null,null,null,null,null,"Износ основных средств","%"]
[null,null,null,null,null,null,null,null,null,null,null,null,null,"Очистка"]
[null,null,null,null,null,null,null,null,null,null,null,null,null,{"$f":"\"Стоимость основных средств, относимых на системы / сооружения для очистки \" & RESOURCE_IDENTIFIER","v":"Стоимость основных средств, относимых на системы / сооружения для очистки "},"тыс.руб."]
[null,null,null,null,null,null,null,null,null,null,null,null,null,"Учёт способа очистки питьевой воды","Индекс группы"]
[]
[null,null,null,null,null,null,null,null,null,null,null,null,null,"Износ основных средств","%"]
[null,null,null,null,null,null,null,null,null,null,null,null,null,"Транспортировка"]
[null,null,null,null,null,null,null,null,null,null,null,null,null,{"$f":"\"Стоимость основных средств, относимых на транспортировку \" & RESOURCE_IDENTIFIER","v":"Стоимость основных средств, относимых на транспортировку "},"тыс.руб."]
[null,null,null,null,null,null,null,null,null,null,null,null,null,"Протяженность сетей","км"]
[null,null,null,null,null,null,null,null,null,null,null,null,null,"Протяженность сетей, подлежащих замене (износ 100%)","км"]
[null,null,null,null,null,null,null,null,null,null,null,null,null,"Сбыт"]
[null,null,null,null,null,null,null,null,null,null,null,null,null,"Полезный отпуск наиболее крупному единичному потребителю","тыс.куб.м"]
[null,null,null,null,null,null,null,null,null,null,null,null,null,"Численность обслуживаемого населения","чел."]
[null,null,null,null,null,null,null,null,null,null,null,null,null,"Количество абонентов","тыс.ед."]
[null,null,null,null,null,null,null,null,null,null,null,null,null,"Высота подъёма воды","м"]
[]
[]
[]
[]
[]
[]
[]
[null,null,null,null,null,null,null,null,null,null,null,null,null,null,null,null,null,null,null,null,null,null,null,null,null,null,null,null,"COLDVSNA_REAGENT_ADD_RANGE"]
[]
[]
[]
[null,null,null,null,null,null,null,null,null,null,null,null,null,null,null,null,null,null,null,null,null,null,null,null,null,null,null,null,12,6,6]
[]
[]
[null,null,null,null,null,null,null,null,null,null,null,null,null,null,null,null,null,null,null,null,null,null,null,null,null,null,null,null,"Y","I","II"]
[]
[]
[]
[null,null,null,null,null,null,null,null,null,null,null,null,null,null,null,null,null,null,null,null,null,null,null,null,null,null,null,null,"Год","I полугодие","II полугодие"]
[]
[null,null,null,null,null,null,null,null,null,null,null,null,null,null,null,null,null,null,null,null,null,null,null,null,null,null,null,null,{"$f":"AC2266 & \"_\" & AC2258","v":"0_Y"},{"$f":"AD2266 & \"_\" & AD2258","v":"0_I"},{"$f":"AE2266 & \"_\" & AE2258","v":"0_II"}]
[]
[null,null,null,null,null,null,null,null,null,null,null,null,null,null,null,null,null,null,null,null,null,null,null,null,null,null,null,null,{"$f":"AC2268","v":0},{"$f":"AC2268","v":0},{"$f":"AC2268","v":0}]
[null,null,null,null,null,null,null,null,null,null,null,null,null,null,null,null,null,null,null,null,null,null,null,null,null,null,null,null,"Удалить"]
[null,null,null,null,null,null,null,null,null,null,null,null,"№ п/п","Наименование показателя","Единица измерения",null,null,null,null,null,null,null,null,null,null,null,null,null,null,null,null,null,null,null,null,null,null,null,null,null,null,null,null,null,null,null,null,null,null,null,null,null,null,null,null,null,null,null,null,null,null,null,null,null,null,null,null,null,null,null,null,null,null,null,null,null,"COLDVSNA_REAGENT_ONE_RANGE"]
[null,null,null,null,null,null,null,null,null,null,null,null,null,null,null,null,null,null,null,null,null,null,null,null,null,null,null,null,null,null,null,null,null,null,null,null,null,null,null,null,null,null,null,null,null,null,"COLDVSNA_REAGENT_EMPTY_BASE_RANGE",null,null,null,null,null,null,null,null,null,null,null,null,null,null,null,null,null,null,null,null,null,null,null,null,null,null,null,null,null,"COLDVSNA_REAGENT_NO_ONE_RANGE"]
[null,null,null,null,null,null,null,null,null,null,null,null,null,"Является ли организация плательщиком НДС",null,null,null,null,null,null,null,null,null,null,null,null,null,null,null,null,null,null,null,null,null,null,null,null,null,null,null,null,null,null,null,null,"COLDVSNA_REAGENT_SINGLE_BASE_RANGE",null,null,null,null,null,null,null,null,null,null,null,null,null,null,null,null,null,null,null,null,null,null,null,null,null,null,null,null,null,"COLDVSNA_REAGENT_OTH_RANGE"]
[null,null,null,null,null,null,null,null,null,null,null,null,null,{"$f":"IF(CALC_IDENTIFIER=\"\",\"\",CALC_IDENTIFIER)","v":""},null,null,null,null,null,null,null,null,null,null,null,null,null,null,null,null,null,null,null,null,null,null,null,null,null,null,null,null,null,null,null,null,"COLDVSNA_REAGENT_TEMPLATE_RANGE",null,null,null,null,null,null,null,null,null,null,null,null,null,null,"COLDVSNA_REAGENT_EMPTY_TEMPLATE_RANGE",null,null,null,null,null,null,null,null,null,null,null,null,null,null,"COLDVSNA_REAGENT_NO_OTH_RANGE"]
[]
[]
[null,null,null,null,null,null,null,null,null,null,null,null,"1.1.1","Итого","тыс.руб.",null,null,null,null,null,null,null,null,null,null,null,null,null,null,null,null,{"$f":"AG2274+AH2274","v":0},{"$f":"SUM(AG2276,AG2295,AG2305,AG2550)","v":0},{"$f":"SUM(AH2276,AH2295,AH2305,AH2550)","v":0},null,null,null,{"$f":"AM2274+AN2274","v":0},{"$f":"SUM(AM2276,AM2295,AM2305,AM2550)","v":0},{"$f":"SUM(AN2276,AN2295,AN2305,AN2550)","v":0},{"$f":"AP2274+AQ2274","v":0},{"$f":"SUM(AP2276,AP2295,AP2305,AP2550)","v":0},{"$f":"SUM(AQ2276,AQ2295,AQ2305,AQ2550)","v":0}]
[]
[null,null,null,null,null,null,null,null,null,null,null,null,"COAG","Коагулянты","тыс.руб.",null,null,null,null,null,null,null,null,null,null,null,null,null,null,null,null,{"$f":"AG2276+AH2276","v":0},{"$f":"SUM(AG2278,AG2281,AG2284,AG2287,AG2290,AG2293)","v":0},{"$f":"SUM(AH2278,AH2281,AH2284,AH2287,AH2290,AH2293)","v":0},null,null,null,{"$f":"AM2276+AN2276","v":0},{"$f":"SUM(AM2278,AM2281,AM2284,AM2287,AM2290,AM2293)","v":0},{"$f":"SUM(AN2278,AN2281,AN2284,AN2287,AN2290,AN2293)","v":0},{"$f":"AP2276+AQ2276","v":0},{"$f":"SUM(AP2278,AP2281,AP2284,AP2287,AP2290,AP2293)","v":0},{"$f":"SUM(AQ2278,AQ2281,AQ2284,AQ2287,AQ2290,AQ2293)","v":0}]
[]
[null,null,null,null,null,null,null,null,null,null,null,null,"HDSFAL","гидроксохлоросульфат алюминия (коагулянт смешанного типа)","тыс.руб.",null,null,null,null,null,null,null,null,null,null,null,null,null,null,null,null,null,null,null,null,null,null,{"$f":"AM2278+AN2278","v":0},{"$f":"AM2279*AM2280/1000","v":0},{"$f":"AN2279*AN2280/1000","v":0}]
[null,null,null,null,null,null,null,null,null,null,null,null,{"$f":"M2278 & \".P\"","v":"HDSFAL.P"},"Цена за единицу","руб./ед.",null,null,null,null,null,null,null,null,null,null,null,null,null,null,null,null,null,null,null,null,null,null,{"$f":"IF(AL2280=0,0,AL2278*1000/AL2280)","v":0}]
[null,null,null,null,null,null,null,null,null,null,null,null,{"$f":"M2278 & \".V\"","v":"HDSFAL.V"},"Объём","ед.",null,null,null,null,null,null,null,null,null,null,null,null,null,null,null,null,null,null,null,null,null,null,{"$f":"AM2280+AN2280","v":0}]
[null,null,null,null,null,null,null,null,null,null,null,null,"FES","железный купорос","тыс.руб.",null,null,null,null,null,null,null,null,null,null,null,null,null,null,null,null,null,null,null,null,null,null,{"$f":"AM2281+AN2281","v":0},{"$f":"AM2282*AM2283/1000","v":0},{"$f":"AN2282*AN2283/1000","v":0}]
[null,null,null,null,null,null,null,null,null,null,null,null,{"$f":"M2281 & \".P\"","v":"FES.P"},"Цена за единицу","руб./ед.",null,null,null,null,null,null,null,null,null,null,null,null,null,null,null,null,null,null,null,null,null,null,{"$f":"IF(AL2283=0,0,AL2281*1000/AL2283)","v":0}]
[null,null,null,null,null,null,null,null,null,null,null,null,{"$f":"M2281 & \".V\"","v":"FES.V"},"Объём","ед.",null,null,null,null,null,null,null,null,null,null,null,null,null,null,null,null,null,null,null,null,null,null,{"$f":"AM2283+AN2283","v":0}]
[null,null,null,null,null,null,null,null,null,null,null,null,"OXCLAL","оксихлорид алюминия","тыс.руб.",null,null,null,null,null,null,null,null,null,null,null,null,null,null,null,null,null,null,null,null,null,null,{"$f":"AM2284+AN2284","v":0},{"$f":"AM2285*AM2286/1000","v":0},{"$f":"AN2285*AN2286/1000","v":0}]
[null,null,null,null,null,null,null,null,null,null,null,null,{"$f":"M2284 & \".P\"","v":"OXCLAL.P"},"Цена за единицу","руб./ед.",null,null,null,null,null,null,null,null,null,null,null,null,null,null,null,null,null,null,null,null,null,null,{"$f":"IF(AL2286=0,0,AL2284*1000/AL2286)","v":0}]
[null,null,null,null,null,null,null,null,null,null,null,null,{"$f":"M2284 & \".V\"","v":"OXCLAL.V"},"Объём","ед.",null,null,null,null,null,null,null,null,null,null,null,null,null,null,null,null,null,null,null,null,null,null,{"$f":"AM2286+AN2286","v":0}]
[null,null,null,null,null,null,null,null,null,null,null,null,"PLOXCLAL","полиоксихлорид алюминия ","тыс.руб.",null,null,null,null,null,null,null,null,null,null,null,null,null,null,null,null,null,null,null,null,null,null,{"$f":"AM2287+AN2287","v":0},{"$f":"AM2288*AM2289/1000","v":0},{"$f":"AN2288*AN2289/1000","v":0}]
[null,null,null,null,null,null,null,null,null,null,null,null,{"$f":"M2287 & \".P\"","v":"PLOXCLAL.P"},"Цена за единицу","руб./ед.",null,null,null,null,null,null,null,null,null,null,null,null,null,null,null,null,null,null,null,null,null,null,{"$f":"IF(AL2289=0,0,AL2287*1000/AL2289)","v":0}]
[null,null,null,null,null,null,null,null,null,null,null,null,{"$f":"M2287 & \".V\"","v":"PLOXCLAL.V"},"Объём","ед.",null,null,null,null,null,null,null,null,null,null,null,null,null,null,null,null,null,null,null,null,null,null,{"$f":"AM2289+AN2289","v":0}]
[null,null,null,null,null,null,null,null,null,null,null,null,"SFAL","сульфат алюминия ","тыс.руб.",null,null,null,null,null,null,null,null,null,null,null,null,null,null,null,null,null,null,null,null,null,null,{"$f":"AM2290+AN2290","v":0},{"$f":"AM2291*AM2292/1000","v":0},{"$f":"AN2291*AN2292/1000","v":0}]
[null,null,null,null,null,null,null,null,null,null,null,null,{"$f":"M2290 & \".P\"","v":"SFAL.P"},"Цена за единицу","руб./ед.",null,null,null,null,null,null,null,null,null,null,null,null,null,null,null,null,null,null,null,null,null,null,{"$f":"IF(AL2292=0,0,AL2290*1000/AL2292)","v":0}]
[null,null,null,null,null,null,null,null,null,null,null,null,{"$f":"M2290 & \".V\"","v":"SFAL.V"},"Объём","ед.",null,null,null,null,null,null,null,null,null,null,null,null,null,null,null,null,null,null,null,null,null,null,{"$f":"AM2292+AN2292","v":0}]
[null,null,null,null,null,null,null,null,null,null,null,null,"OTH","прочие","тыс.руб.",null,null,null,null,null,null,null,null,null,null,null,null,null,null,null,null,null,null,null,null,null,null,{"$f":"AM2293+AN2293","v":0}]
[]
[null,null,null,null,null,null,null,null,null,null,null,null,"FLOC","Флокулянты","тыс.руб.",null,null,null,null,null,null,null,null,null,null,null,null,null,null,null,null,{"$f":"AG2295+AH2295","v":0},{"$f":"SUM(AG2297,AG2300,AG2303)","v":0},{"$f":"SUM(AH2297,AH2300,AH2303)","v":0},null,null,null,{"$f":"AM2295+AN2295","v":0},{"$f":"SUM(AM2297,AM2300,AM2303)","v":0},{"$f":"SUM(AN2297,AN2300,AN2303)","v":0},{"$f":"AP2295+AQ2295","v":0},{"$f":"SUM(AP2297,AP2300,AP2303)","v":0},{"$f":"SUM(AQ2297,AQ2300,AQ2303)","v":0}]
[]
[null,null,null,null,null,null,null,null,null,null,null,null,"MGFLK","Магнафлок","тыс.руб.",null,null,null,null,null,null,null,null,null,null,null,null,null,null,null,null,null,null,null,null,null,null,{"$f":"AM2297+AN2297","v":0},{"$f":"AM2298*AM2299/1000","v":0},{"$f":"AN2298*AN2299/1000","v":0}]
[null,null,null,null,null,null,null,null,null,null,null,null,{"$f":"M2297 & \".P\"","v":"MGFLK.P"},"Цена за единицу","руб./ед.",null,null,null,null,null,null,null,null,null,null,null,null,null,null,null,null,null,null,null,null,null,null,{"$f":"IF(AL2299=0,0,AL2297*1000/AL2299)","v":0}]
[null,null,null,null,null,null,null,null,null,null,null,null,{"$f":"M2297 & \".V\"","v":"MGFLK.V"},"Объём","ед.",null,null,null,null,null,null,null,null,null,null,null,null,null,null,null,null,null,null,null,null,null,null,{"$f":"AM2299+AN2299","v":0}]
[null,null,null,null,null,null,null,null,null,null,null,null,"PRSTL","Праестол","тыс.руб.",null,null,null,null,null,null,null,null,null,null,null,null,null,null,null,null,null,null,null,null,null,null,{"$f":"AM2300+AN2300","v":0},{"$f":"AM2301*AM2302/1000","v":0},{"$f":"AN2301*AN2302/1000","v":0}]
[null,null,null,null,null,null,null,null,null,null,null,null,{"$f":"M2300 & \".P\"","v":"PRSTL.P"},"Цена за единицу","руб./ед.",null,null,null,null,null,null,null,null,null,null,null,null,null,null,null,null,null,null,null,null,null,null,{"$f":"IF(AL2302=0,0,AL2300*1000/AL2302)","v":0}]
[null,null,null,null,null,null,null,null,null,null,null,null,{"$f":"M2300 & \".V\"","v":"PRSTL.V"},"Объём","ед.",null,null,null,null,null,null,null,null,null,null,null,null,null,null,null,null,null,null,null,null,null,null,{"$f":"AM2302+AN2302","v":0}]
[null,null,null,null,null,null,null,null,null,null,null,null,"OTH","прочие","тыс.руб.",null,null,null,null,null,null,null,null,null,null,null,null,null,null,null,null,null,null,null,null,null,null,{"$f":"AM2303+AN2303","v":0}]
[]
[null,null,null,null,null,null,null,null,null,null,null,null,"REAG","Реагенты","тыс.руб.",null,null,null,null,null,null,null,null,null,null,null,null,null,null,null,null,{"$f":"AG2305+AH2305","v":0},{"$f":"SUMIF(ХВС.Р!$AO$57:$AO$299,ХВС.Р!$AO$56,ХВС.Р!AG$57:AG$299)","v":0},{"$f":"SUMIF(ХВС.Р!$AO$57:$AO$299,ХВС.Р!$AO$56,ХВС.Р!AH$57:AH$299)","v":0},null,null,null,{"$f":"AM2305+AN2305","v":0},{"$f":"SUMIF(ХВС.Р!$AO$57:$AO$299,ХВС.Р!$AO$56,ХВС.Р!AM$57:AM$299)","v":0},{"$f":"SUMIF(ХВС.Р!$AO$57:$AO$299,ХВС.Р!$AO$56,ХВС.Р!AN$57:AN$299)","v":0},{"$f":"AP2305+AQ2305","v":0},{"$f":"SUMIF(ХВС.Р!$AO$57:$AO$299,ХВС.Р!$AO$56,ХВС.Р!AP$57:AP$299)","v":0},{"$f":"SUMIF(ХВС.Р!$AO$57:$AO$299,ХВС.Р!$AO$56,ХВС.Р!AQ$57:AQ$299)","v":0}]
[]
[null,null,null,null,null,null,null,null,null,null,null,null,"AGRP","агар питательный","тыс.руб.",null,null,null,null,null,null,null,null,null,null,null,null,null,null,null,null,null,null,null,null,null,null,{"$f":"AM2307+AN2307","v":0},{"$f":"AM2308*AM2309/1000","v":0},{"$f":"AN2308*AN2309/1000","v":0}]
[null,null,null,null,null,null,null,null,null,null,null,null,{"$f":"M2307 & \".P\"","v":"AGRP.P"},"Цена за единицу","руб./ед.",null,null,null,null,null,null,null,null,null,null,null,null,null,null,null,null,null,null,null,null,null,null,{"$f":"IF(AL2309=0,0,AL2307*1000/AL2309)","v":0}]
[null,null,null,null,null,null,null,null,null,null,null,null,{"$f":"M2307 & \".V\"","v":"AGRP.V"},"Объём","ед.",null,null,null,null,null,null,null,null,null,null,null,null,null,null,null,null,null,null,null,null,null,null,{"$f":"AM2309+AN2309","v":0}]
[null,null,null,null,null,null,null,null,null,null,null,null,"AGRE","агар Эндо","тыс.руб.",null,null,null,null,null,null,null,null,null,null,null,null,null,null,null,null,null,null,null,null,null,null,{"$f":"AM2310+AN2310","v":0},{"$f":"AM2311*AM2312/1000","v":0},{"$f":"AN2311*AN2312/1000","v":0}]
[null,null,null,null,null,null,null,null,null,null,null,null,{"$f":"M2310 & \".P\"","v":"AGRE.P"},"Цена за единицу","руб./ед.",null,null,null,null,null,null,null,null,null,null,null,null,null,null,null,null,null,null,null,null,null,null,{"$f":"IF(AL2312=0,0,AL2310*1000/AL2312)","v":0}]
[null,null,null,null,null,null,null,null,null,null,null,null,{"$f":"M2310 & \".V\"","v":"AGRE.V"},"Объём","ед.",null,null,null,null,null,null,null,null,null,null,null,null,null,null,null,null,null,null,null,null,null,null,{"$f":"AM2312+AN2312","v":0}]
[null,null,null,null,null,null,null,null,null,null,null,null,"ALOX","алюминий окись","тыс.руб.",null,null,null,null,null,null,null,null,null,null,null,null,null,null,null,null,null,null,null,null,null,null,{"$f":"AM2313+AN2313","v":0},{"$f":"AM2314*AM2315/1000","v":0},{"$f":"AN2314*AN2315/1000","v":0}]
[null,null,null,null,null,null,null,null,null,null,null,null,{"$f":"M2313 & \".P\"","v":"ALOX.P"},"Цена за единицу","руб./ед.",null,null,null,null,null,null,null,null,null,null,null,null,null,null,null,null,null,null,null,null,null,null,{"$f":"IF(AL2315=0,0,AL2313*1000/AL2315)","v":0}]
[null,null,null,null,null,null,null,null,null,null,null,null,{"$f":"M2313 & \".V\"","v":"ALOX.V"},"Объём","ед.",null,null,null,null,null,null,null,null,null,null,null,null,null,null,null,null,null,null,null,null,null,null,{"$f":"AM2315+AN2315","v":0}]
[null,null,null,null,null,null,null,null,null,null,null,null,"ALS","алюминий сернокислый","тыс.руб.",null,null,null,null,null,null,null,null,null,null,null,null,null,null,null,null,null,null,null,null,null,null,{"$f":"AM2316+AN2316","v":0},{"$f":"AM2317*AM2318/1000","v":0},{"$f":"AN2317*AN2318/1000","v":0}]
[null,null,null,null,null,null,null,null,null,null,null,null,{"$f":"M2316 & \".P\"","v":"ALS.P"},"Цена за единицу","руб./ед.",null,null,null,null,null,null,null,null,null,null,null,null,null,null,null,null,null,null,null,null,null,null,{"$f":"IF(AL2318=0,0,AL2316*1000/AL2318)","v":0}]
[null,null,null,null,null,null,null,null,null,null,null,null,{"$f":"M2316 & \".V\"","v":"ALS.V"},"Объём","ед.",null,null,null,null,null,null,null,null,null,null,null,null,null,null,null,null,null,null,null,null,null,null,{"$f":"AM2318+AN2318","v":0}]
[null,null,null,null,null,null,null,null,null,null,null,null,"AM","аммиак","тыс.руб.",null,null,null,null,null,null,null,null,null,null,null,null,null,null,null,null,null,null,null,null,null,null,{"$f":"AM2319+AN2319","v":0},{"$f":"AM2320*AM2321/1000","v":0},{"$f":"AN2320*AN2321/1000","v":0}]
[null,null,null,null,null,null,null,null,null,null,null,null,{"$f":"M2319 & \".P\"","v":"AM.P"},"Цена за единицу","руб./ед.",null,null,null,null,null,null,null,null,null,null,null,null,null,null,null,null,null,null,null,null,null,null,{"$f":"IF(AL2321=0,0,AL2319*1000/AL2321)","v":0}]
[null,null,null,null,null,null,null,null,null,null,null,null,{"$f":"M2319 & \".V\"","v":"AM.V"},"Объём","ед.",null,null,null,null,null,null,null,null,null,null,null,null,null,null,null,null,null,null,null,null,null,null,{"$f":"AM2321+AN2321","v":0}]
[null,null,null,null,null,null,null,null,null,null,null,null,"AMW","аммиачная вода","тыс.руб.",null,null,null,null,null,null,null,null,null,null,null,null,null,null,null,null,null,null,null,null,null,null,{"$f":"AM2322+AN2322","v":0},{"$f":"AM2323*AM2324/1000","v":0},{"$f":"AN2323*AN2324/1000","v":0}]
[null,null,null,null,null,null,null,null,null,null,null,null,{"$f":"M2322 & \".P\"","v":"AMW.P"},"Цена за единицу","руб./ед.",null,null,null,null,null,null,null,null,null,null,null,null,null,null,null,null,null,null,null,null,null,null,{"$f":"IF(AL2324=0,0,AL2322*1000/AL2324)","v":0}]
[null,null,null,null,null,null,null,null,null,null,null,null,{"$f":"M2322 & \".V\"","v":"AMW.V"},"Объём","ед.",null,null,null,null,null,null,null,null,null,null,null,null,null,null,null,null,null,null,null,null,null,null,{"$f":"AM2324+AN2324","v":0}]
[null,null,null,null,null,null,null,null,null,null,null,null,"AMN","аммоний","тыс.руб.",null,null,null,null,null,null,null,null,null,null,null,null,null,null,null,null,null,null,null,null,null,null,{"$f":"AM2325+AN2325","v":0},{"$f":"AM2326*AM2327/1000","v":0},{"$f":"AN2326*AN2327/1000","v":0}]
[null,null,null,null,null,null,null,null,null,null,null,null,{"$f":"M2325 & \".P\"","v":"AMN.P"},"Цена за единицу","руб./ед.",null,null,null,null,null,null,null,null,null,null,null,null,null,null,null,null,null,null,null,null,null,null,{"$f":"IF(AL2327=0,0,AL2325*1000/AL2327)","v":0}]
[null,null,null,null,null,null,null,null,null,null,null,null,{"$f":"M2325 & \".V\"","v":"AMN.V"},"Объём","ед.",null,null,null,null,null,null,null,null,null,null,null,null,null,null,null,null,null,null,null,null,null,null,{"$f":"AM2327+AN2327","v":0}]
[null,null,null,null,null,null,null,null,null,null,null,null,"AMNCL","аммоний хлористый","тыс.руб.",null,null,null,null,null,null,null,null,null,null,null,null,null,null,null,null,null,null,null,null,null,null,{"$f":"AM2328+AN2328","v":0},{"$f":"AM2329*AM2330/1000","v":0},{"$f":"AN2329*AN2330/1000","v":0}]
[null,null,null,null,null,null,null,null,null,null,null,null,{"$f":"M2328 & \".P\"","v":"AMNCL.P"},"Цена за единицу","руб./ед.",null,null,null,null,null,null,null,null,null,null,null,null,null,null,null,null,null,null,null,null,null,null,{"$f":"IF(AL2330=0,0,AL2328*1000/AL2330)","v":0}]
[null,null,null,null,null,null,null,null,null,null,null,null,{"$f":"M2328 & \".V\"","v":"AMNCL.V"},"Объём","ед.",null,null,null,null,null,null,null,null,null,null,null,null,null,null,null,null,null,null,null,null,null,null,{"$f":"AM2330+AN2330","v":0}]
[null,null,null,null,null,null,null,null,null,null,null,null,"BACL","барий хлористый","тыс.руб.",null,null,null,null,null,null,null,null,null,null,null,null,null,null,null,null,null,null,null,null,null,null,{"$f":"AM2331+AN2331","v":0},{"$f":"AM2332*AM2333/1000","v":0},{"$f":"AN2332*AN2333/1000","v":0}]
[null,null,null,null,null,null,null,null,null,null,null,null,{"$f":"M2331 & \".P\"","v":"BACL.P"},"Цена за единицу","руб./ед.",null,null,null,null,null,null,null,null,null,null,null,null,null,null,null,null,null,null,null,null,null,null,{"$f":"IF(AL2333=0,0,AL2331*1000/AL2333)","v":0}]
[null,null,null,null,null,null,null,null,null,null,null,null,{"$f":"M2331 & \".V\"","v":"BACL.V"},"Объём","ед.",null,null,null,null,null,null,null,null,null,null,null,null,null,null,null,null,null,null,null,null,null,null,{"$f":"AM2333+AN2333","v":0}]
[null,null,null,null,null,null,null,null,null,null,null,null,"BIOX","биоксимин","тыс.руб.",null,null,null,null,null,null,null,null,null,null,null,null,null,null,null,null,null,null,null,null,null,null,{"$f":"AM2334+AN2334","v":0},{"$f":"AM2335*AM2336/1000","v":0},{"$f":"AN2335*AN2336/1000","v":0}]
[null,null,null,null,null,null,null,null,null,null,null,null,{"$f":"M2334 & \".P\"","v":"BIOX.P"},"Цена за единицу","руб./ед.",null,null,null,null,null,null,null,null,null,null,null,null,null,null,null,null,null,null,null,null,null,null,{"$f":"IF(AL2336=0,0,AL2334*1000/AL2336)","v":0}]
[null,null,null,null,null,null,null,null,null,null,null,null,{"$f":"M2334 & \".V\"","v":"BIOX.V"},"Объём","ед.",null,null,null,null,null,null,null,null,null,null,null,null,null,null,null,null,null,null,null,null,null,null,{"$f":"AM2336+AN2336","v":0}]
[null,null,null,null,null,null,null,null,null,null,null,null,"BRFNL","бромфеноловый синий","тыс.руб.",null,null,null,null,null,null,null,null,null,null,null,null,null,null,null,null,null,null,null,null,null,null,{"$f":"AM2337+AN2337","v":0},{"$f":"AM2338*AM2339/1000","v":0},{"$f":"AN2338*AN2339/1000","v":0}]
[null,null,null,null,null,null,null,null,null,null,null,null,{"$f":"M2337 & \".P\"","v":"BRFNL.P"},"Цена за единицу","руб./ед.",null,null,null,null,null,null,null,null,null,null,null,null,null,null,null,null,null,null,null,null,null,null,{"$f":"IF(AL2339=0,0,AL2337*1000/AL2339)","v":0}]
[null,null,null,null,null,null,null,null,null,null,null,null,{"$f":"M2337 & \".V\"","v":"BRFNL.V"},"Объём","ед.",null,null,null,null,null,null,null,null,null,null,null,null,null,null,null,null,null,null,null,null,null,null,{"$f":"AM2339+AN2339","v":0}]
[null,null,null,null,null,null,null,null,null,null,null,null,"HDOX","водорода перекись","тыс.руб.",null,null,null,null,null,null,null,null,null,null,null,null,null,null,null,null,null,null,null,null,null,null,{"$f":"AM2340+AN2340","v":0},{"$f":"AM2341*AM2342/1000","v":0},{"$f":"AN2341*AN2342/1000","v":0}]
[null,null,null,null,null,null,null,null,null,null,null,null,{"$f":"M2340 & \".P\"","v":"HDOX.P"},"Цена за единицу","руб./ед.",null,null,null,null,null,null,null,null,null,null,null,null,null,null,null,null,null,null,null,null,null,null,{"$f":"IF(AL2342=0,0,AL2340*1000/AL2342)","v":0}]
[null,null,null,null,null,null,null,null,null,null,null,null,{"$f":"M2340 & \".V\"","v":"HDOX.V"},"Объём","ед.",null,null,null,null,null,null,null,null,null,null,null,null,null,null,null,null,null,null,null,null,null,null,{"$f":"AM2342+AN2342","v":0}]
[null,null,null,null,null,null,null,null,null,null,null,null,"GEXN","гексан","тыс.руб.",null,null,null,null,null,null,null,null,null,null,null,null,null,null,null,null,null,null,null,null,null,null,{"$f":"AM2343+AN2343","v":0},{"$f":"AM2344*AM2345/1000","v":0},{"$f":"AN2344*AN2345/1000","v":0}]
[null,null,null,null,null,null,null,null,null,null,null,null,{"$f":"M2343 & \".P\"","v":"GEXN.P"},"Цена за единицу","руб./ед.",null,null,null,null,null,null,null,null,null,null,null,null,null,null,null,null,null,null,null,null,null,null,{"$f":"IF(AL2345=0,0,AL2343*1000/AL2345)","v":0}]
[null,null,null,null,null,null,null,null,null,null,null,null,{"$f":"M2343 & \".V\"","v":"GEXN.V"},"Объём","ед.",null,null,null,null,null,null,null,null,null,null,null,null,null,null,null,null,null,null,null,null,null,null,{"$f":"AM2345+AN2345","v":0}]
[null,null,null,null,null,null,null,null,null,null,null,null,"HDOXCL","гидроксиламин солянокислый","тыс.руб.",null,null,null,null,null,null,null,null,null,null,null,null,null,null,null,null,null,null,null,null,null,null,{"$f":"AM2346+AN2346","v":0},{"$f":"AM2347*AM2348/1000","v":0},{"$f":"AN2347*AN2348/1000","v":0}]
[null,null,null,null,null,null,null,null,null,null,null,null,{"$f":"M2346 & \".P\"","v":"HDOXCL.P"},"Цена за единицу","руб./ед.",null,null,null,null,null,null,null,null,null,null,null,null,null,null,null,null,null,null,null,null,null,null,{"$f":"IF(AL2348=0,0,AL2346*1000/AL2348)","v":0}]
[null,null,null,null,null,null,null,null,null,null,null,null,{"$f":"M2346 & \".V\"","v":"HDOXCL.V"},"Объём","ед.",null,null,null,null,null,null,null,null,null,null,null,null,null,null,null,null,null,null,null,null,null,null,{"$f":"AM2348+AN2348","v":0}]
[null,null,null,null,null,null,null,null,null,null,null,null,"HDCLCA","гидрохлорид кальция","тыс.руб.",null,null,null,null,null,null,null,null,null,null,null,null,null,null,null,null,null,null,null,null,null,null,{"$f":"AM2349+AN2349","v":0},{"$f":"AM2350*AM2351/1000","v":0},{"$f":"AN2350*AN2351/1000","v":0}]
[null,null,null,null,null,null,null,null,null,null,null,null,{"$f":"M2349 & \".P\"","v":"HDCLCA.P"},"Цена за единицу","руб./ед.",null,null,null,null,null,null,null,null,null,null,null,null,null,null,null,null,null,null,null,null,null,null,{"$f":"IF(AL2351=0,0,AL2349*1000/AL2351)","v":0}]
[null,null,null,null,null,null,null,null,null,null,null,null,{"$f":"M2349 & \".V\"","v":"HDCLCA.V"},"Объём","ед.",null,null,null,null,null,null,null,null,null,null,null,null,null,null,null,null,null,null,null,null,null,null,{"$f":"AM2351+AN2351","v":0}]
[null,null,null,null,null,null,null,null,null,null,null,null,"HPCLCA","гипохлорит кальция","тыс.руб.",null,null,null,null,null,null,null,null,null,null,null,null,null,null,null,null,null,null,null,null,null,null,{"$f":"AM2352+AN2352","v":0},{"$f":"AM2353*AM2354/1000","v":0},{"$f":"AN2353*AN2354/1000","v":0}]
[null,null,null,null,null,null,null,null,null,null,null,null,{"$f":"M2352 & \".P\"","v":"HPCLCA.P"},"Цена за единицу","руб./ед.",null,null,null,null,null,null,null,null,null,null,null,null,null,null,null,null,null,null,null,null,null,null,{"$f":"IF(AL2354=0,0,AL2352*1000/AL2354)","v":0}]
[null,null,null,null,null,null,null,null,null,null,null,null,{"$f":"M2352 & \".V\"","v":"HPCLCA.V"},"Объём","ед.",null,null,null,null,null,null,null,null,null,null,null,null,null,null,null,null,null,null,null,null,null,null,{"$f":"AM2354+AN2354","v":0}]
[null,null,null,null,null,null,null,null,null,null,null,null,"HPCLNA","гипохлорит натрия","тыс.руб.",null,null,null,null,null,null,null,null,null,null,null,null,null,null,null,null,null,null,null,null,null,null,{"$f":"AM2355+AN2355","v":0},{"$f":"AM2356*AM2357/1000","v":0},{"$f":"AN2356*AN2357/1000","v":0}]
[null,null,null,null,null,null,null,null,null,null,null,null,{"$f":"M2355 & \".P\"","v":"HPCLNA.P"},"Цена за единицу","руб./ед.",null,null,null,null,null,null,null,null,null,null,null,null,null,null,null,null,null,null,null,null,null,null,{"$f":"IF(AL2357=0,0,AL2355*1000/AL2357)","v":0}]
[null,null,null,null,null,null,null,null,null,null,null,null,{"$f":"M2355 & \".V\"","v":"HPCLNA.V"},"Объём","ед.",null,null,null,null,null,null,null,null,null,null,null,null,null,null,null,null,null,null,null,null,null,null,{"$f":"AM2357+AN2357","v":0}]
[null,null,null,null,null,null,null,null,null,null,null,null,"GLC","глицерин","тыс.руб.",null,null,null,null,null,null,null,null,null,null,null,null,null,null,null,null,null,null,null,null,null,null,{"$f":"AM2358+AN2358","v":0},{"$f":"AM2359*AM2360/1000","v":0},{"$f":"AN2359*AN2360/1000","v":0}]
[null,null,null,null,null,null,null,null,null,null,null,null,{"$f":"M2358 & \".P\"","v":"GLC.P"},"Цена за единицу","руб./ед.",null,null,null,null,null,null,null,null,null,null,null,null,null,null,null,null,null,null,null,null,null,null,{"$f":"IF(AL2360=0,0,AL2358*1000/AL2360)","v":0}]
[null,null,null,null,null,null,null,null,null,null,null,null,{"$f":"M2358 & \".V\"","v":"GLC.V"},"Объём","ед.",null,null,null,null,null,null,null,null,null,null,null,null,null,null,null,null,null,null,null,null,null,null,{"$f":"AM2360+AN2360","v":0}]
[null,null,null,null,null,null,null,null,null,null,null,null,"DFNLCD","дифенилкарбазид","тыс.руб.",null,null,null,null,null,null,null,null,null,null,null,null,null,null,null,null,null,null,null,null,null,null,{"$f":"AM2361+AN2361","v":0},{"$f":"AM2362*AM2363/1000","v":0},{"$f":"AN2362*AN2363/1000","v":0}]
[null,null,null,null,null,null,null,null,null,null,null,null,{"$f":"M2361 & \".P\"","v":"DFNLCD.P"},"Цена за единицу","руб./ед.",null,null,null,null,null,null,null,null,null,null,null,null,null,null,null,null,null,null,null,null,null,null,{"$f":"IF(AL2363=0,0,AL2361*1000/AL2363)","v":0}]
[null,null,null,null,null,null,null,null,null,null,null,null,{"$f":"M2361 & \".V\"","v":"DFNLCD.V"},"Объём","ед.",null,null,null,null,null,null,null,null,null,null,null,null,null,null,null,null,null,null,null,null,null,null,{"$f":"AM2363+AN2363","v":0}]
[null,null,null,null,null,null,null,null,null,null,null,null,"DFNLCN","дифенилкарбазон","тыс.руб.",null,null,null,null,null,null,null,null,null,null,null,null,null,null,null,null,null,null,null,null,null,null,{"$f":"AM2364+AN2364","v":0},{"$f":"AM2365*AM2366/1000","v":0},{"$f":"AN2365*AN2366/1000","v":0}]
[null,null,null,null,null,null,null,null,null,null,null,null,{"$f":"M2364 & \".P\"","v":"DFNLCN.P"},"Цена за единицу","руб./ед.",null,null,null,null,null,null,null,null,null,null,null,null,null,null,null,null,null,null,null,null,null,null,{"$f":"IF(AL2366=0,0,AL2364*1000/AL2366)","v":0}]
[null,null,null,null,null,null,null,null,null,null,null,null,{"$f":"M2364 & \".V\"","v":"DFNLCN.V"},"Объём","ед.",null,null,null,null,null,null,null,null,null,null,null,null,null,null,null,null,null,null,null,null,null,null,{"$f":"AM2366+AN2366","v":0}]
[null,null,null,null,null,null,null,null,null,null,null,null,"FES","железо сернокислое","тыс.руб.",null,null,null,null,null,null,null,null,null,null,null,null,null,null,null,null,null,null,null,null,null,null,{"$f":"AM2367+AN2367","v":0},{"$f":"AM2368*AM2369/1000","v":0},{"$f":"AN2368*AN2369/1000","v":0}]
[null,null,null,null,null,null,null,null,null,null,null,null,{"$f":"M2367 & \".P\"","v":"FES.P"},"Цена за единицу","руб./ед.",null,null,null,null,null,null,null,null,null,null,null,null,null,null,null,null,null,null,null,null,null,null,{"$f":"IF(AL2369=0,0,AL2367*1000/AL2369)","v":0}]
[null,null,null,null,null,null,null,null,null,null,null,null,{"$f":"M2367 & \".V\"","v":"FES.V"},"Объём","ед.",null,null,null,null,null,null,null,null,null,null,null,null,null,null,null,null,null,null,null,null,null,null,{"$f":"AM2369+AN2369","v":0}]
[null,null,null,null,null,null,null,null,null,null,null,null,"FECL","железо трёххлористое","тыс.руб.",null,null,null,null,null,null,null,null,null,null,null,null,null,null,null,null,null,null,null,null,null,null,{"$f":"AM2370+AN2370","v":0},{"$f":"AM2371*AM2372/1000","v":0},{"$f":"AN2371*AN2372/1000","v":0}]
[null,null,null,null,null,null,null,null,null,null,null,null,{"$f":"M2370 & \".P\"","v":"FECL.P"},"Цена за единицу","руб./ед.",null,null,null,null,null,null,null,null,null,null,null,null,null,null,null,null,null,null,null,null,null,null,{"$f":"IF(AL2372=0,0,AL2370*1000/AL2372)","v":0}]
[null,null,null,null,null,null,null,null,null,null,null,null,{"$f":"M2370 & \".V\"","v":"FECL.V"},"Объём","ед.",null,null,null,null,null,null,null,null,null,null,null,null,null,null,null,null,null,null,null,null,null,null,{"$f":"AM2372+AN2372","v":0}]
[null,null,null,null,null,null,null,null,null,null,null,null,"LIMENP","известь негашёная (порошок)","тыс.руб.",null,null,null,null,null,null,null,null,null,null,null,null,null,null,null,null,null,null,null,null,null,null,{"$f":"AM2373+AN2373","v":0},{"$f":"AM2374*AM2375/1000","v":0},{"$f":"AN2374*AN2375/1000","v":0}]
[null,null,null,null,null,null,null,null,null,null,null,null,{"$f":"M2373 & \".P\"","v":"LIMENP.P"},"Цена за единицу","руб./ед.",null,null,null,null,null,null,null,null,null,null,null,null,null,null,null,null,null,null,null,null,null,null,{"$f":"IF(AL2375=0,0,AL2373*1000/AL2375)","v":0}]
[null,null,null,null,null,null,null,null,null,null,null,null,{"$f":"M2373 & \".V\"","v":"LIMENP.V"},"Объём","ед.",null,null,null,null,null,null,null,null,null,null,null,null,null,null,null,null,null,null,null,null,null,null,{"$f":"AM2375+AN2375","v":0}]
[null,null,null,null,null,null,null,null,null,null,null,null,"LIMENH","известь негашёная гидратная","тыс.руб.",null,null,null,null,null,null,null,null,null,null,null,null,null,null,null,null,null,null,null,null,null,null,{"$f":"AM2376+AN2376","v":0},{"$f":"AM2377*AM2378/1000","v":0},{"$f":"AN2377*AN2378/1000","v":0}]
[null,null,null,null,null,null,null,null,null,null,null,null,{"$f":"M2376 & \".P\"","v":"LIMENH.P"},"Цена за единицу","руб./ед.",null,null,null,null,null,null,null,null,null,null,null,null,null,null,null,null,null,null,null,null,null,null,{"$f":"IF(AL2378=0,0,AL2376*1000/AL2378)","v":0}]
[null,null,null,null,null,null,null,null,null,null,null,null,{"$f":"M2376 & \".V\"","v":"LIMENH.V"},"Объём","ед.",null,null,null,null,null,null,null,null,null,null,null,null,null,null,null,null,null,null,null,null,null,null,{"$f":"AM2378+AN2378","v":0}]
[null,null,null,null,null,null,null,null,null,null,null,null,"LIMECL","известь хлорная","тыс.руб.",null,null,null,null,null,null,null,null,null,null,null,null,null,null,null,null,null,null,null,null,null,null,{"$f":"AM2379+AN2379","v":0},{"$f":"AM2380*AM2381/1000","v":0},{"$f":"AN2380*AN2381/1000","v":0}]
[null,null,null,null,null,null,null,null,null,null,null,null,{"$f":"M2379 & \".P\"","v":"LIMECL.P"},"Цена за единицу","руб./ед.",null,null,null,null,null,null,null,null,null,null,null,null,null,null,null,null,null,null,null,null,null,null,{"$f":"IF(AL2381=0,0,AL2379*1000/AL2381)","v":0}]
[null,null,null,null,null,null,null,null,null,null,null,null,{"$f":"M2379 & \".V\"","v":"LIMECL.V"},"Объём","ед.",null,null,null,null,null,null,null,null,null,null,null,null,null,null,null,null,null,null,null,null,null,null,{"$f":"AM2381+AN2381","v":0}]
[null,null,null,null,null,null,null,null,null,null,null,null,"KN","калий азотнокислый","тыс.руб.",null,null,null,null,null,null,null,null,null,null,null,null,null,null,null,null,null,null,null,null,null,null,{"$f":"AM2382+AN2382","v":0},{"$f":"AM2383*AM2384/1000","v":0},{"$f":"AN2383*AN2384/1000","v":0}]
[null,null,null,null,null,null,null,null,null,null,null,null,{"$f":"M2382 & \".P\"","v":"KN.P"},"Цена за единицу","руб./ед.",null,null,null,null,null,null,null,null,null,null,null,null,null,null,null,null,null,null,null,null,null,null,{"$f":"IF(AL2384=0,0,AL2382*1000/AL2384)","v":0}]
[null,null,null,null,null,null,null,null,null,null,null,null,{"$f":"M2382 & \".V\"","v":"KN.V"},"Объём","ед.",null,null,null,null,null,null,null,null,null,null,null,null,null,null,null,null,null,null,null,null,null,null,{"$f":"AM2384+AN2384","v":0}]
[null,null,null,null,null,null,null,null,null,null,null,null,"KCR","калий двухромовокислый","тыс.руб.",null,null,null,null,null,null,null,null,null,null,null,null,null,null,null,null,null,null,null,null,null,null,{"$f":"AM2385+AN2385","v":0},{"$f":"AM2386*AM2387/1000","v":0},{"$f":"AN2386*AN2387/1000","v":0}]
[null,null,null,null,null,null,null,null,null,null,null,null,{"$f":"M2385 & \".P\"","v":"KCR.P"},"Цена за единицу","руб./ед.",null,null,null,null,null,null,null,null,null,null,null,null,null,null,null,null,null,null,null,null,null,null,{"$f":"IF(AL2387=0,0,AL2385*1000/AL2387)","v":0}]
[null,null,null,null,null,null,null,null,null,null,null,null,{"$f":"M2385 & \".V\"","v":"KCR.V"},"Объём","ед.",null,null,null,null,null,null,null,null,null,null,null,null,null,null,null,null,null,null,null,null,null,null,{"$f":"AM2387+AN2387","v":0}]
[null,null,null,null,null,null,null,null,null,null,null,null,"KI","калий йодистый","тыс.руб.",null,null,null,null,null,null,null,null,null,null,null,null,null,null,null,null,null,null,null,null,null,null,{"$f":"AM2388+AN2388","v":0},{"$f":"AM2389*AM2390/1000","v":0},{"$f":"AN2389*AN2390/1000","v":0}]
[null,null,null,null,null,null,null,null,null,null,null,null,{"$f":"M2388 & \".P\"","v":"KI.P"},"Цена за единицу","руб./ед.",null,null,null,null,null,null,null,null,null,null,null,null,null,null,null,null,null,null,null,null,null,null,{"$f":"IF(AL2390=0,0,AL2388*1000/AL2390)","v":0}]
[null,null,null,null,null,null,null,null,null,null,null,null,{"$f":"M2388 & \".V\"","v":"KI.V"},"Объём","ед.",null,null,null,null,null,null,null,null,null,null,null,null,null,null,null,null,null,null,null,null,null,null,{"$f":"AM2390+AN2390","v":0}]
[null,null,null,null,null,null,null,null,null,null,null,null,"KMN","калий марганцевокислый","тыс.руб.",null,null,null,null,null,null,null,null,null,null,null,null,null,null,null,null,null,null,null,null,null,null,{"$f":"AM2391+AN2391","v":0},{"$f":"AM2392*AM2393/1000","v":0},{"$f":"AN2392*AN2393/1000","v":0}]
[null,null,null,null,null,null,null,null,null,null,null,null,{"$f":"M2391 & \".P\"","v":"KMN.P"},"Цена за единицу","руб./ед.",null,null,null,null,null,null,null,null,null,null,null,null,null,null,null,null,null,null,null,null,null,null,{"$f":"IF(AL2393=0,0,AL2391*1000/AL2393)","v":0}]
[null,null,null,null,null,null,null,null,null,null,null,null,{"$f":"M2391 & \".V\"","v":"KMN.V"},"Объём","ед.",null,null,null,null,null,null,null,null,null,null,null,null,null,null,null,null,null,null,null,null,null,null,{"$f":"AM2393+AN2393","v":0}]
[null,null,null,null,null,null,null,null,null,null,null,null,"KP","калий фосфорнокислый","тыс.руб.",null,null,null,null,null,null,null,null,null,null,null,null,null,null,null,null,null,null,null,null,null,null,{"$f":"AM2394+AN2394","v":0},{"$f":"AM2395*AM2396/1000","v":0},{"$f":"AN2395*AN2396/1000","v":0}]
[null,null,null,null,null,null,null,null,null,null,null,null,{"$f":"M2394 & \".P\"","v":"KP.P"},"Цена за единицу","руб./ед.",null,null,null,null,null,null,null,null,null,null,null,null,null,null,null,null,null,null,null,null,null,null,{"$f":"IF(AL2396=0,0,AL2394*1000/AL2396)","v":0}]
[null,null,null,null,null,null,null,null,null,null,null,null,{"$f":"M2394 & \".V\"","v":"KP.V"},"Объём","ед.",null,null,null,null,null,null,null,null,null,null,null,null,null,null,null,null,null,null,null,null,null,null,{"$f":"AM2396+AN2396","v":0}]
[null,null,null,null,null,null,null,null,null,null,null,null,"HCL","калий хлористый","тыс.руб.",null,null,null,null,null,null,null,null,null,null,null,null,null,null,null,null,null,null,null,null,null,null,{"$f":"AM2397+AN2397","v":0},{"$f":"AM2398*AM2399/1000","v":0},{"$f":"AN2398*AN2399/1000","v":0}]
[null,null,null,null,null,null,null,null,null,null,null,null,{"$f":"M2397 & \".P\"","v":"HCL.P"},"Цена за единицу","руб./ед.",null,null,null,null,null,null,null,null,null,null,null,null,null,null,null,null,null,null,null,null,null,null,{"$f":"IF(AL2399=0,0,AL2397*1000/AL2399)","v":0}]
[null,null,null,null,null,null,null,null,null,null,null,null,{"$f":"M2397 & \".V\"","v":"HCL.V"},"Объём","ед.",null,null,null,null,null,null,null,null,null,null,null,null,null,null,null,null,null,null,null,null,null,null,{"$f":"AM2399+AN2399","v":0}]
[null,null,null,null,null,null,null,null,null,null,null,null,"KNA","калий-натрий виннокислый","тыс.руб.",null,null,null,null,null,null,null,null,null,null,null,null,null,null,null,null,null,null,null,null,null,null,{"$f":"AM2400+AN2400","v":0},{"$f":"AM2401*AM2402/1000","v":0},{"$f":"AN2401*AN2402/1000","v":0}]
[null,null,null,null,null,null,null,null,null,null,null,null,{"$f":"M2400 & \".P\"","v":"KNA.P"},"Цена за единицу","руб./ед.",null,null,null,null,null,null,null,null,null,null,null,null,null,null,null,null,null,null,null,null,null,null,{"$f":"IF(AL2402=0,0,AL2400*1000/AL2402)","v":0}]
[null,null,null,null,null,null,null,null,null,null,null,null,{"$f":"M2400 & \".V\"","v":"KNA.V"},"Объём","ед.",null,null,null,null,null,null,null,null,null,null,null,null,null,null,null,null,null,null,null,null,null,null,{"$f":"AM2402+AN2402","v":0}]
[null,null,null,null,null,null,null,null,null,null,null,null,"CAC","кальций углекислый","тыс.руб.",null,null,null,null,null,null,null,null,null,null,null,null,null,null,null,null,null,null,null,null,null,null,{"$f":"AM2403+AN2403","v":0},{"$f":"AM2404*AM2405/1000","v":0},{"$f":"AN2404*AN2405/1000","v":0}]
[null,null,null,null,null,null,null,null,null,null,null,null,{"$f":"M2403 & \".P\"","v":"CAC.P"},"Цена за единицу","руб./ед.",null,null,null,null,null,null,null,null,null,null,null,null,null,null,null,null,null,null,null,null,null,null,{"$f":"IF(AL2405=0,0,AL2403*1000/AL2405)","v":0}]
[null,null,null,null,null,null,null,null,null,null,null,null,{"$f":"M2403 & \".V\"","v":"CAC.V"},"Объём","ед.",null,null,null,null,null,null,null,null,null,null,null,null,null,null,null,null,null,null,null,null,null,null,{"$f":"AM2405+AN2405","v":0}]
[null,null,null,null,null,null,null,null,null,null,null,null,"CACL","кальций хлористый","тыс.руб.",null,null,null,null,null,null,null,null,null,null,null,null,null,null,null,null,null,null,null,null,null,null,{"$f":"AM2406+AN2406","v":0},{"$f":"AM2407*AM2408/1000","v":0},{"$f":"AN2407*AN2408/1000","v":0}]
[null,null,null,null,null,null,null,null,null,null,null,null,{"$f":"M2406 & \".P\"","v":"CACL.P"},"Цена за единицу","руб./ед.",null,null,null,null,null,null,null,null,null,null,null,null,null,null,null,null,null,null,null,null,null,null,{"$f":"IF(AL2408=0,0,AL2406*1000/AL2408)","v":0}]
[null,null,null,null,null,null,null,null,null,null,null,null,{"$f":"M2406 & \".V\"","v":"CACL.V"},"Объём","ед.",null,null,null,null,null,null,null,null,null,null,null,null,null,null,null,null,null,null,null,null,null,null,{"$f":"AM2408+AN2408","v":0}]
[null,null,null,null,null,null,null,null,null,null,null,null,"CAHPCL","кальция гипохлорит","тыс.руб.",null,null,null,null,null,null,null,null,null,null,null,null,null,null,null,null,null,null,null,null,null,null,{"$f":"AM2409+AN2409","v":0},{"$f":"AM2410*AM2411/1000","v":0},{"$f":"AN2410*AN2411/1000","v":0}]
[null,null,null,null,null,null,null,null,null,null,null,null,{"$f":"M2409 & \".P\"","v":"CAHPCL.P"},"Цена за единицу","руб./ед.",null,null,null,null,null,null,null,null,null,null,null,null,null,null,null,null,null,null,null,null,null,null,{"$f":"IF(AL2411=0,0,AL2409*1000/AL2411)","v":0}]
[null,null,null,null,null,null,null,null,null,null,null,null,{"$f":"M2409 & \".V\"","v":"CAHPCL.V"},"Объём","ед.",null,null,null,null,null,null,null,null,null,null,null,null,null,null,null,null,null,null,null,null,null,null,{"$f":"AM2411+AN2411","v":0}]
[null,null,null,null,null,null,null,null,null,null,null,null,"SAND","кварцевый песок","тыс.руб.",null,null,null,null,null,null,null,null,null,null,null,null,null,null,null,null,null,null,null,null,null,null,{"$f":"AM2412+AN2412","v":0},{"$f":"AM2413*AM2414/1000","v":0},{"$f":"AN2413*AN2414/1000","v":0}]
[null,null,null,null,null,null,null,null,null,null,null,null,{"$f":"M2412 & \".P\"","v":"SAND.P"},"Цена за единицу","руб./ед.",null,null,null,null,null,null,null,null,null,null,null,null,null,null,null,null,null,null,null,null,null,null,{"$f":"IF(AL2414=0,0,AL2412*1000/AL2414)","v":0}]
[null,null,null,null,null,null,null,null,null,null,null,null,{"$f":"M2412 & \".V\"","v":"SAND.V"},"Объём","ед.",null,null,null,null,null,null,null,null,null,null,null,null,null,null,null,null,null,null,null,null,null,null,{"$f":"AM2414+AN2414","v":0}]
[null,null,null,null,null,null,null,null,null,null,null,null,"ACIDN","кислота азотная","тыс.руб.",null,null,null,null,null,null,null,null,null,null,null,null,null,null,null,null,null,null,null,null,null,null,{"$f":"AM2415+AN2415","v":0},{"$f":"AM2416*AM2417/1000","v":0},{"$f":"AN2416*AN2417/1000","v":0}]
[null,null,null,null,null,null,null,null,null,null,null,null,{"$f":"M2415 & \".P\"","v":"ACIDN.P"},"Цена за единицу","руб./ед.",null,null,null,null,null,null,null,null,null,null,null,null,null,null,null,null,null,null,null,null,null,null,{"$f":"IF(AL2417=0,0,AL2415*1000/AL2417)","v":0}]
[null,null,null,null,null,null,null,null,null,null,null,null,{"$f":"M2415 & \".V\"","v":"ACIDN.V"},"Объём","ед.",null,null,null,null,null,null,null,null,null,null,null,null,null,null,null,null,null,null,null,null,null,null,{"$f":"AM2417+AN2417","v":0}]
[null,null,null,null,null,null,null,null,null,null,null,null,"ACIDA","кислота аскорбиновая","тыс.руб.",null,null,null,null,null,null,null,null,null,null,null,null,null,null,null,null,null,null,null,null,null,null,{"$f":"AM2418+AN2418","v":0},{"$f":"AM2419*AM2420/1000","v":0},{"$f":"AN2419*AN2420/1000","v":0}]
[null,null,null,null,null,null,null,null,null,null,null,null,{"$f":"M2418 & \".P\"","v":"ACIDA.P"},"Цена за единицу","руб./ед.",null,null,null,null,null,null,null,null,null,null,null,null,null,null,null,null,null,null,null,null,null,null,{"$f":"IF(AL2420=0,0,AL2418*1000/AL2420)","v":0}]
[null,null,null,null,null,null,null,null,null,null,null,null,{"$f":"M2418 & \".V\"","v":"ACIDA.V"},"Объём","ед.",null,null,null,null,null,null,null,null,null,null,null,null,null,null,null,null,null,null,null,null,null,null,{"$f":"AM2420+AN2420","v":0}]
[null,null,null,null,null,null,null,null,null,null,null,null,"ACIDL","кислота лимонная","тыс.руб.",null,null,null,null,null,null,null,null,null,null,null,null,null,null,null,null,null,null,null,null,null,null,{"$f":"AM2421+AN2421","v":0},{"$f":"AM2422*AM2423/1000","v":0},{"$f":"AN2422*AN2423/1000","v":0}]
[null,null,null,null,null,null,null,null,null,null,null,null,{"$f":"M2421 & \".P\"","v":"ACIDL.P"},"Цена за единицу","руб./ед.",null,null,null,null,null,null,null,null,null,null,null,null,null,null,null,null,null,null,null,null,null,null,{"$f":"IF(AL2423=0,0,AL2421*1000/AL2423)","v":0}]
[null,null,null,null,null,null,null,null,null,null,null,null,{"$f":"M2421 & \".V\"","v":"ACIDL.V"},"Объём","ед.",null,null,null,null,null,null,null,null,null,null,null,null,null,null,null,null,null,null,null,null,null,null,{"$f":"AM2423+AN2423","v":0}]
[null,null,null,null,null,null,null,null,null,null,null,null,"AURIN","кислота розоловая (аурин)","тыс.руб.",null,null,null,null,null,null,null,null,null,null,null,null,null,null,null,null,null,null,null,null,null,null,{"$f":"AM2424+AN2424","v":0},{"$f":"AM2425*AM2426/1000","v":0},{"$f":"AN2425*AN2426/1000","v":0}]
[null,null,null,null,null,null,null,null,null,null,null,null,{"$f":"M2424 & \".P\"","v":"AURIN.P"},"Цена за единицу","руб./ед.",null,null,null,null,null,null,null,null,null,null,null,null,null,null,null,null,null,null,null,null,null,null,{"$f":"IF(AL2426=0,0,AL2424*1000/AL2426)","v":0}]
[null,null,null,null,null,null,null,null,null,null,null,null,{"$f":"M2424 & \".V\"","v":"AURIN.V"},"Объём","ед.",null,null,null,null,null,null,null,null,null,null,null,null,null,null,null,null,null,null,null,null,null,null,{"$f":"AM2426+AN2426","v":0}]
[null,null,null,null,null,null,null,null,null,null,null,null,"ACIDS","кислота серная","тыс.руб.",null,null,null,null,null,null,null,null,null,null,null,null,null,null,null,null,null,null,null,null,null,null,{"$f":"AM2427+AN2427","v":0},{"$f":"AM2428*AM2429/1000","v":0},{"$f":"AN2428*AN2429/1000","v":0}]
[null,null,null,null,null,null,null,null,null,null,null,null,{"$f":"M2427 & \".P\"","v":"ACIDS.P"},"Цена за единицу","руб./ед.",null,null,null,null,null,null,null,null,null,null,null,null,null,null,null,null,null,null,null,null,null,null,{"$f":"IF(AL2429=0,0,AL2427*1000/AL2429)","v":0}]
[null,null,null,null,null,null,null,null,null,null,null,null,{"$f":"M2427 & \".V\"","v":"ACIDS.V"},"Объём","ед.",null,null,null,null,null,null,null,null,null,null,null,null,null,null,null,null,null,null,null,null,null,null,{"$f":"AM2429+AN2429","v":0}]
[null,null,null,null,null,null,null,null,null,null,null,null,"ADIDCL","кислота соляная","тыс.руб.",null,null,null,null,null,null,null,null,null,null,null,null,null,null,null,null,null,null,null,null,null,null,{"$f":"AM2430+AN2430","v":0},{"$f":"AM2431*AM2432/1000","v":0},{"$f":"AN2431*AN2432/1000","v":0}]
[null,null,null,null,null,null,null,null,null,null,null,null,{"$f":"M2430 & \".P\"","v":"ADIDCL.P"},"Цена за единицу","руб./ед.",null,null,null,null,null,null,null,null,null,null,null,null,null,null,null,null,null,null,null,null,null,null,{"$f":"IF(AL2432=0,0,AL2430*1000/AL2432)","v":0}]
[null,null,null,null,null,null,null,null,null,null,null,null,{"$f":"M2430 & \".V\"","v":"ADIDCL.V"},"Объём","ед.",null,null,null,null,null,null,null,null,null,null,null,null,null,null,null,null,null,null,null,null,null,null,{"$f":"AM2432+AN2432","v":0}]
[null,null,null,null,null,null,null,null,null,null,null,null,"ACIDAC","кислота уксусная","тыс.руб.",null,null,null,null,null,null,null,null,null,null,null,null,null,null,null,null,null,null,null,null,null,null,{"$f":"AM2433+AN2433","v":0},{"$f":"AM2434*AM2435/1000","v":0},{"$f":"AN2434*AN2435/1000","v":0}]
[null,null,null,null,null,null,null,null,null,null,null,null,{"$f":"M2433 & \".P\"","v":"ACIDAC.P"},"Цена за единицу","руб./ед.",null,null,null,null,null,null,null,null,null,null,null,null,null,null,null,null,null,null,null,null,null,null,{"$f":"IF(AL2435=0,0,AL2433*1000/AL2435)","v":0}]
[null,null,null,null,null,null,null,null,null,null,null,null,{"$f":"M2433 & \".V\"","v":"ACIDAC.V"},"Объём","ед.",null,null,null,null,null,null,null,null,null,null,null,null,null,null,null,null,null,null,null,null,null,null,{"$f":"AM2435+AN2435","v":0}]
[null,null,null,null,null,null,null,null,null,null,null,null,"ACIDOX","кислота щавелевая","тыс.руб.",null,null,null,null,null,null,null,null,null,null,null,null,null,null,null,null,null,null,null,null,null,null,{"$f":"AM2436+AN2436","v":0},{"$f":"AM2437*AM2438/1000","v":0},{"$f":"AN2437*AN2438/1000","v":0}]
[null,null,null,null,null,null,null,null,null,null,null,null,{"$f":"M2436 & \".P\"","v":"ACIDOX.P"},"Цена за единицу","руб./ед.",null,null,null,null,null,null,null,null,null,null,null,null,null,null,null,null,null,null,null,null,null,null,{"$f":"IF(AL2438=0,0,AL2436*1000/AL2438)","v":0}]
[null,null,null,null,null,null,null,null,null,null,null,null,{"$f":"M2436 & \".V\"","v":"ACIDOX.V"},"Объём","ед.",null,null,null,null,null,null,null,null,null,null,null,null,null,null,null,null,null,null,null,null,null,null,{"$f":"AM2438+AN2438","v":0}]
[null,null,null,null,null,null,null,null,null,null,null,null,"STARCH","крахмал","тыс.руб.",null,null,null,null,null,null,null,null,null,null,null,null,null,null,null,null,null,null,null,null,null,null,{"$f":"AM2439+AN2439","v":0},{"$f":"AM2440*AM2441/1000","v":0},{"$f":"AN2440*AN2441/1000","v":0}]
[null,null,null,null,null,null,null,null,null,null,null,null,{"$f":"M2439 & \".P\"","v":"STARCH.P"},"Цена за единицу","руб./ед.",null,null,null,null,null,null,null,null,null,null,null,null,null,null,null,null,null,null,null,null,null,null,{"$f":"IF(AL2441=0,0,AL2439*1000/AL2441)","v":0}]
[null,null,null,null,null,null,null,null,null,null,null,null,{"$f":"M2439 & \".V\"","v":"STARCH.V"},"Объём","ед.",null,null,null,null,null,null,null,null,null,null,null,null,null,null,null,null,null,null,null,null,null,null,{"$f":"AM2441+AN2441","v":0}]
[null,null,null,null,null,null,null,null,null,null,null,null,"LANTN","лантан азотнокислый","тыс.руб.",null,null,null,null,null,null,null,null,null,null,null,null,null,null,null,null,null,null,null,null,null,null,{"$f":"AM2442+AN2442","v":0},{"$f":"AM2443*AM2444/1000","v":0},{"$f":"AN2443*AN2444/1000","v":0}]
[null,null,null,null,null,null,null,null,null,null,null,null,{"$f":"M2442 & \".P\"","v":"LANTN.P"},"Цена за единицу","руб./ед.",null,null,null,null,null,null,null,null,null,null,null,null,null,null,null,null,null,null,null,null,null,null,{"$f":"IF(AL2444=0,0,AL2442*1000/AL2444)","v":0}]
[null,null,null,null,null,null,null,null,null,null,null,null,{"$f":"M2442 & \".V\"","v":"LANTN.V"},"Объём","ед.",null,null,null,null,null,null,null,null,null,null,null,null,null,null,null,null,null,null,null,null,null,null,{"$f":"AM2444+AN2444","v":0}]
[null,null,null,null,null,null,null,null,null,null,null,null,"MGS","магний сернокислый","тыс.руб.",null,null,null,null,null,null,null,null,null,null,null,null,null,null,null,null,null,null,null,null,null,null,{"$f":"AM2445+AN2445","v":0},{"$f":"AM2446*AM2447/1000","v":0},{"$f":"AN2446*AN2447/1000","v":0}]
[null,null,null,null,null,null,null,null,null,null,null,null,{"$f":"M2445 & \".P\"","v":"MGS.P"},"Цена за единицу","руб./ед.",null,null,null,null,null,null,null,null,null,null,null,null,null,null,null,null,null,null,null,null,null,null,{"$f":"IF(AL2447=0,0,AL2445*1000/AL2447)","v":0}]
[null,null,null,null,null,null,null,null,null,null,null,null,{"$f":"M2445 & \".V\"","v":"MGS.V"},"Объём","ед.",null,null,null,null,null,null,null,null,null,null,null,null,null,null,null,null,null,null,null,null,null,null,{"$f":"AM2447+AN2447","v":0}]
[null,null,null,null,null,null,null,null,null,null,null,null,"NATR","натр едкий","тыс.руб.",null,null,null,null,null,null,null,null,null,null,null,null,null,null,null,null,null,null,null,null,null,null,{"$f":"AM2448+AN2448","v":0},{"$f":"AM2449*AM2450/1000","v":0},{"$f":"AN2449*AN2450/1000","v":0}]
[null,null,null,null,null,null,null,null,null,null,null,null,{"$f":"M2448 & \".P\"","v":"NATR.P"},"Цена за единицу","руб./ед.",null,null,null,null,null,null,null,null,null,null,null,null,null,null,null,null,null,null,null,null,null,null,{"$f":"IF(AL2450=0,0,AL2448*1000/AL2450)","v":0}]
[null,null,null,null,null,null,null,null,null,null,null,null,{"$f":"M2448 & \".V\"","v":"NATR.V"},"Объём","ед.",null,null,null,null,null,null,null,null,null,null,null,null,null,null,null,null,null,null,null,null,null,null,{"$f":"AM2450+AN2450","v":0}]
[null,null,null,null,null,null,null,null,null,null,null,null,"NAHDOX","натрий гидроокись","тыс.руб.",null,null,null,null,null,null,null,null,null,null,null,null,null,null,null,null,null,null,null,null,null,null,{"$f":"AM2451+AN2451","v":0},{"$f":"AM2452*AM2453/1000","v":0},{"$f":"AN2452*AN2453/1000","v":0}]
[null,null,null,null,null,null,null,null,null,null,null,null,{"$f":"M2451 & \".P\"","v":"NAHDOX.P"},"Цена за единицу","руб./ед.",null,null,null,null,null,null,null,null,null,null,null,null,null,null,null,null,null,null,null,null,null,null,{"$f":"IF(AL2453=0,0,AL2451*1000/AL2453)","v":0}]
[null,null,null,null,null,null,null,null,null,null,null,null,{"$f":"M2451 & \".V\"","v":"NAHDOX.V"},"Объём","ед.",null,null,null,null,null,null,null,null,null,null,null,null,null,null,null,null,null,null,null,null,null,null,{"$f":"AM2453+AN2453","v":0}]
[null,null,null,null,null,null,null,null,null,null,null,null,"NASLC","натрий салициловокислый","тыс.руб.",null,null,null,null,null,null,null,null,null,null,null,null,null,null,null,null,null,null,null,null,null,null,{"$f":"AM2454+AN2454","v":0},{"$f":"AM2455*AM2456/1000","v":0},{"$f":"AN2455*AN2456/1000","v":0}]
[null,null,null,null,null,null,null,null,null,null,null,null,{"$f":"M2454 & \".P\"","v":"NASLC.P"},"Цена за единицу","руб./ед.",null,null,null,null,null,null,null,null,null,null,null,null,null,null,null,null,null,null,null,null,null,null,{"$f":"IF(AL2456=0,0,AL2454*1000/AL2456)","v":0}]
[null,null,null,null,null,null,null,null,null,null,null,null,{"$f":"M2454 & \".V\"","v":"NASLC.V"},"Объём","ед.",null,null,null,null,null,null,null,null,null,null,null,null,null,null,null,null,null,null,null,null,null,null,{"$f":"AM2456+AN2456","v":0}]
[null,null,null,null,null,null,null,null,null,null,null,null,"NAS","натрий сернокислый","тыс.руб.",null,null,null,null,null,null,null,null,null,null,null,null,null,null,null,null,null,null,null,null,null,null,{"$f":"AM2457+AN2457","v":0},{"$f":"AM2458*AM2459/1000","v":0},{"$f":"AN2458*AN2459/1000","v":0}]
[null,null,null,null,null,null,null,null,null,null,null,null,{"$f":"M2457 & \".P\"","v":"NAS.P"},"Цена за единицу","руб./ед.",null,null,null,null,null,null,null,null,null,null,null,null,null,null,null,null,null,null,null,null,null,null,{"$f":"IF(AL2459=0,0,AL2457*1000/AL2459)","v":0}]
[null,null,null,null,null,null,null,null,null,null,null,null,{"$f":"M2457 & \".V\"","v":"NAS.V"},"Объём","ед.",null,null,null,null,null,null,null,null,null,null,null,null,null,null,null,null,null,null,null,null,null,null,{"$f":"AM2459+AN2459","v":0}]
[null,null,null,null,null,null,null,null,null,null,null,null,"NAC","натрий углекислый","тыс.руб.",null,null,null,null,null,null,null,null,null,null,null,null,null,null,null,null,null,null,null,null,null,null,{"$f":"AM2460+AN2460","v":0},{"$f":"AM2461*AM2462/1000","v":0},{"$f":"AN2461*AN2462/1000","v":0}]
[null,null,null,null,null,null,null,null,null,null,null,null,{"$f":"M2460 & \".P\"","v":"NAC.P"},"Цена за единицу","руб./ед.",null,null,null,null,null,null,null,null,null,null,null,null,null,null,null,null,null,null,null,null,null,null,{"$f":"IF(AL2462=0,0,AL2460*1000/AL2462)","v":0}]
[null,null,null,null,null,null,null,null,null,null,null,null,{"$f":"M2460 & \".V\"","v":"NAC.V"},"Объём","ед.",null,null,null,null,null,null,null,null,null,null,null,null,null,null,null,null,null,null,null,null,null,null,{"$f":"AM2462+AN2462","v":0}]
[null,null,null,null,null,null,null,null,null,null,null,null,"NAAC","натрий уксуснокислый","тыс.руб.",null,null,null,null,null,null,null,null,null,null,null,null,null,null,null,null,null,null,null,null,null,null,{"$f":"AM2463+AN2463","v":0},{"$f":"AM2464*AM2465/1000","v":0},{"$f":"AN2464*AN2465/1000","v":0}]
[null,null,null,null,null,null,null,null,null,null,null,null,{"$f":"M2463 & \".P\"","v":"NAAC.P"},"Цена за единицу","руб./ед.",null,null,null,null,null,null,null,null,null,null,null,null,null,null,null,null,null,null,null,null,null,null,{"$f":"IF(AL2465=0,0,AL2463*1000/AL2465)","v":0}]
[null,null,null,null,null,null,null,null,null,null,null,null,{"$f":"M2463 & \".V\"","v":"NAAC.V"},"Объём","ед.",null,null,null,null,null,null,null,null,null,null,null,null,null,null,null,null,null,null,null,null,null,null,{"$f":"AM2465+AN2465","v":0}]
[null,null,null,null,null,null,null,null,null,null,null,null,"NACL","натрий хлористый","тыс.руб.",null,null,null,null,null,null,null,null,null,null,null,null,null,null,null,null,null,null,null,null,null,null,{"$f":"AM2466+AN2466","v":0},{"$f":"AM2467*AM2468/1000","v":0},{"$f":"AN2467*AN2468/1000","v":0}]
[null,null,null,null,null,null,null,null,null,null,null,null,{"$f":"M2466 & \".P\"","v":"NACL.P"},"Цена за единицу","руб./ед.",null,null,null,null,null,null,null,null,null,null,null,null,null,null,null,null,null,null,null,null,null,null,{"$f":"IF(AL2468=0,0,AL2466*1000/AL2468)","v":0}]
[null,null,null,null,null,null,null,null,null,null,null,null,{"$f":"M2466 & \".V\"","v":"NACL.V"},"Объём","ед.",null,null,null,null,null,null,null,null,null,null,null,null,null,null,null,null,null,null,null,null,null,null,{"$f":"AM2468+AN2468","v":0}]
[null,null,null,null,null,null,null,null,null,null,null,null,"RGRS","реактив Грисса","тыс.руб.",null,null,null,null,null,null,null,null,null,null,null,null,null,null,null,null,null,null,null,null,null,null,{"$f":"AM2469+AN2469","v":0},{"$f":"AM2470*AM2471/1000","v":0},{"$f":"AN2470*AN2471/1000","v":0}]
[null,null,null,null,null,null,null,null,null,null,null,null,{"$f":"M2469 & \".P\"","v":"RGRS.P"},"Цена за единицу","руб./ед.",null,null,null,null,null,null,null,null,null,null,null,null,null,null,null,null,null,null,null,null,null,null,{"$f":"IF(AL2471=0,0,AL2469*1000/AL2471)","v":0}]
[null,null,null,null,null,null,null,null,null,null,null,null,{"$f":"M2469 & \".V\"","v":"RGRS.V"},"Объём","ед.",null,null,null,null,null,null,null,null,null,null,null,null,null,null,null,null,null,null,null,null,null,null,{"$f":"AM2471+AN2471","v":0}]
[null,null,null,null,null,null,null,null,null,null,null,null,"RNSL","реактив Несслера","тыс.руб.",null,null,null,null,null,null,null,null,null,null,null,null,null,null,null,null,null,null,null,null,null,null,{"$f":"AM2472+AN2472","v":0},{"$f":"AM2473*AM2474/1000","v":0},{"$f":"AN2473*AN2474/1000","v":0}]
[null,null,null,null,null,null,null,null,null,null,null,null,{"$f":"M2472 & \".P\"","v":"RNSL.P"},"Цена за единицу","руб./ед.",null,null,null,null,null,null,null,null,null,null,null,null,null,null,null,null,null,null,null,null,null,null,{"$f":"IF(AL2474=0,0,AL2472*1000/AL2474)","v":0}]
[null,null,null,null,null,null,null,null,null,null,null,null,{"$f":"M2472 & \".V\"","v":"RNSL.V"},"Объём","ед.",null,null,null,null,null,null,null,null,null,null,null,null,null,null,null,null,null,null,null,null,null,null,{"$f":"AM2474+AN2474","v":0}]
[null,null,null,null,null,null,null,null,null,null,null,null,"PBAC","свинец уксуснокислый","тыс.руб.",null,null,null,null,null,null,null,null,null,null,null,null,null,null,null,null,null,null,null,null,null,null,{"$f":"AM2475+AN2475","v":0},{"$f":"AM2476*AM2477/1000","v":0},{"$f":"AN2476*AN2477/1000","v":0}]
[null,null,null,null,null,null,null,null,null,null,null,null,{"$f":"M2475 & \".P\"","v":"PBAC.P"},"Цена за единицу","руб./ед.",null,null,null,null,null,null,null,null,null,null,null,null,null,null,null,null,null,null,null,null,null,null,{"$f":"IF(AL2477=0,0,AL2475*1000/AL2477)","v":0}]
[null,null,null,null,null,null,null,null,null,null,null,null,{"$f":"M2475 & \".V\"","v":"PBAC.V"},"Объём","ед.",null,null,null,null,null,null,null,null,null,null,null,null,null,null,null,null,null,null,null,null,null,null,{"$f":"AM2477+AN2477","v":0}]
[null,null,null,null,null,null,null,null,null,null,null,null,"AGN","серебро азотнокислое","тыс.руб.",null,null,null,null,null,null,null,null,null,null,null,null,null,null,null,null,null,null,null,null,null,null,{"$f":"AM2478+AN2478","v":0},{"$f":"AM2479*AM2480/1000","v":0},{"$f":"AN2479*AN2480/1000","v":0}]
[null,null,null,null,null,null,null,null,null,null,null,null,{"$f":"M2478 & \".P\"","v":"AGN.P"},"Цена за единицу","руб./ед.",null,null,null,null,null,null,null,null,null,null,null,null,null,null,null,null,null,null,null,null,null,null,{"$f":"IF(AL2480=0,0,AL2478*1000/AL2480)","v":0}]
[null,null,null,null,null,null,null,null,null,null,null,null,{"$f":"M2478 & \".V\"","v":"AGN.V"},"Объём","ед.",null,null,null,null,null,null,null,null,null,null,null,null,null,null,null,null,null,null,null,null,null,null,{"$f":"AM2480+AN2480","v":0}]
[null,null,null,null,null,null,null,null,null,null,null,null,"AGS","серебро сернокислое","тыс.руб.",null,null,null,null,null,null,null,null,null,null,null,null,null,null,null,null,null,null,null,null,null,null,{"$f":"AM2481+AN2481","v":0},{"$f":"AM2482*AM2483/1000","v":0},{"$f":"AN2482*AN2483/1000","v":0}]
[null,null,null,null,null,null,null,null,null,null,null,null,{"$f":"M2481 & \".P\"","v":"AGS.P"},"Цена за единицу","руб./ед.",null,null,null,null,null,null,null,null,null,null,null,null,null,null,null,null,null,null,null,null,null,null,{"$f":"IF(AL2483=0,0,AL2481*1000/AL2483)","v":0}]
[null,null,null,null,null,null,null,null,null,null,null,null,{"$f":"M2481 & \".V\"","v":"AGS.V"},"Объём","ед.",null,null,null,null,null,null,null,null,null,null,null,null,null,null,null,null,null,null,null,null,null,null,{"$f":"AM2483+AN2483","v":0}]
[null,null,null,null,null,null,null,null,null,null,null,null,"SODACA","сода кальцинированная","тыс.руб.",null,null,null,null,null,null,null,null,null,null,null,null,null,null,null,null,null,null,null,null,null,null,{"$f":"AM2484+AN2484","v":0},{"$f":"AM2485*AM2486/1000","v":0},{"$f":"AN2485*AN2486/1000","v":0}]
[null,null,null,null,null,null,null,null,null,null,null,null,{"$f":"M2484 & \".P\"","v":"SODACA.P"},"Цена за единицу","руб./ед.",null,null,null,null,null,null,null,null,null,null,null,null,null,null,null,null,null,null,null,null,null,null,{"$f":"IF(AL2486=0,0,AL2484*1000/AL2486)","v":0}]
[null,null,null,null,null,null,null,null,null,null,null,null,{"$f":"M2484 & \".V\"","v":"SODACA.V"},"Объём","ед.",null,null,null,null,null,null,null,null,null,null,null,null,null,null,null,null,null,null,null,null,null,null,{"$f":"AM2486+AN2486","v":0}]
[null,null,null,null,null,null,null,null,null,null,null,null,"SODACS","сода каустическая","тыс.руб.",null,null,null,null,null,null,null,null,null,null,null,null,null,null,null,null,null,null,null,null,null,null,{"$f":"AM2487+AN2487","v":0},{"$f":"AM2488*AM2489/1000","v":0},{"$f":"AN2488*AN2489/1000","v":0}]
[null,null,null,null,null,null,null,null,null,null,null,null,{"$f":"M2487 & \".P\"","v":"SODACS.P"},"Цена за единицу","руб./ед.",null,null,null,null,null,null,null,null,null,null,null,null,null,null,null,null,null,null,null,null,null,null,{"$f":"IF(AL2489=0,0,AL2487*1000/AL2489)","v":0}]
[null,null,null,null,null,null,null,null,null,null,null,null,{"$f":"M2487 & \".V\"","v":"SODACS.V"},"Объём","ед.",null,null,null,null,null,null,null,null,null,null,null,null,null,null,null,null,null,null,null,null,null,null,{"$f":"AM2489+AN2489","v":0}]
[null,null,null,null,null,null,null,null,null,null,null,null,"SALT1G","соль 1 сорт","тыс.руб.",null,null,null,null,null,null,null,null,null,null,null,null,null,null,null,null,null,null,null,null,null,null,{"$f":"AM2490+AN2490","v":0},{"$f":"AM2491*AM2492/1000","v":0},{"$f":"AN2491*AN2492/1000","v":0}]
[null,null,null,null,null,null,null,null,null,null,null,null,{"$f":"M2490 & \".P\"","v":"SALT1G.P"},"Цена за единицу","руб./ед.",null,null,null,null,null,null,null,null,null,null,null,null,null,null,null,null,null,null,null,null,null,null,{"$f":"IF(AL2492=0,0,AL2490*1000/AL2492)","v":0}]
[null,null,null,null,null,null,null,null,null,null,null,null,{"$f":"M2490 & \".V\"","v":"SALT1G.V"},"Объём","ед.",null,null,null,null,null,null,null,null,null,null,null,null,null,null,null,null,null,null,null,null,null,null,{"$f":"AM2492+AN2492","v":0}]
[null,null,null,null,null,null,null,null,null,null,null,null,"SALT","соль пищевая поваренная","тыс.руб.",null,null,null,null,null,null,null,null,null,null,null,null,null,null,null,null,null,null,null,null,null,null,{"$f":"AM2493+AN2493","v":0},{"$f":"AM2494*AM2495/1000","v":0},{"$f":"AN2494*AN2495/1000","v":0}]
[null,null,null,null,null,null,null,null,null,null,null,null,{"$f":"M2493 & \".P\"","v":"SALT.P"},"Цена за единицу","руб./ед.",null,null,null,null,null,null,null,null,null,null,null,null,null,null,null,null,null,null,null,null,null,null,{"$f":"IF(AL2495=0,0,AL2493*1000/AL2495)","v":0}]
[null,null,null,null,null,null,null,null,null,null,null,null,{"$f":"M2493 & \".V\"","v":"SALT.V"},"Объём","ед.",null,null,null,null,null,null,null,null,null,null,null,null,null,null,null,null,null,null,null,null,null,null,{"$f":"AM2495+AN2495","v":0}]
[null,null,null,null,null,null,null,null,null,null,null,null,"SALTPL","соль таблетированная","тыс.руб.",null,null,null,null,null,null,null,null,null,null,null,null,null,null,null,null,null,null,null,null,null,null,{"$f":"AM2496+AN2496","v":0},{"$f":"AM2497*AM2498/1000","v":0},{"$f":"AN2497*AN2498/1000","v":0}]
[null,null,null,null,null,null,null,null,null,null,null,null,{"$f":"M2496 & \".P\"","v":"SALTPL.P"},"Цена за единицу","руб./ед.",null,null,null,null,null,null,null,null,null,null,null,null,null,null,null,null,null,null,null,null,null,null,{"$f":"IF(AL2498=0,0,AL2496*1000/AL2498)","v":0}]
[null,null,null,null,null,null,null,null,null,null,null,null,{"$f":"M2496 & \".V\"","v":"SALTPL.V"},"Объём","ед.",null,null,null,null,null,null,null,null,null,null,null,null,null,null,null,null,null,null,null,null,null,null,{"$f":"AM2498+AN2498","v":0}]
[null,null,null,null,null,null,null,null,null,null,null,null,"SALTTH","соль техническая","тыс.руб.",null,null,null,null,null,null,null,null,null,null,null,null,null,null,null,null,null,null,null,null,null,null,{"$f":"AM2499+AN2499","v":0},{"$f":"AM2500*AM2501/1000","v":0},{"$f":"AN2500*AN2501/1000","v":0}]
[null,null,null,null,null,null,null,null,null,null,null,null,{"$f":"M2499 & \".P\"","v":"SALTTH.P"},"Цена за единицу","руб./ед.",null,null,null,null,null,null,null,null,null,null,null,null,null,null,null,null,null,null,null,null,null,null,{"$f":"IF(AL2501=0,0,AL2499*1000/AL2501)","v":0}]
[null,null,null,null,null,null,null,null,null,null,null,null,{"$f":"M2499 & \".V\"","v":"SALTTH.V"},"Объём","ед.",null,null,null,null,null,null,null,null,null,null,null,null,null,null,null,null,null,null,null,null,null,null,{"$f":"AM2501+AN2501","v":0}]
[null,null,null,null,null,null,null,null,null,null,null,null,"SALTEX","соль экстра","тыс.руб.",null,null,null,null,null,null,null,null,null,null,null,null,null,null,null,null,null,null,null,null,null,null,{"$f":"AM2502+AN2502","v":0},{"$f":"AM2503*AM2504/1000","v":0},{"$f":"AN2503*AN2504/1000","v":0}]
[null,null,null,null,null,null,null,null,null,null,null,null,{"$f":"M2502 & \".P\"","v":"SALTEX.P"},"Цена за единицу","руб./ед.",null,null,null,null,null,null,null,null,null,null,null,null,null,null,null,null,null,null,null,null,null,null,{"$f":"IF(AL2504=0,0,AL2502*1000/AL2504)","v":0}]
[null,null,null,null,null,null,null,null,null,null,null,null,{"$f":"M2502 & \".V\"","v":"SALTEX.V"},"Объём","ед.",null,null,null,null,null,null,null,null,null,null,null,null,null,null,null,null,null,null,null,null,null,null,{"$f":"AM2504+AN2504","v":0}]
[null,null,null,null,null,null,null,null,null,null,null,null,"C2H5OH","спирт","тыс.руб.",null,null,null,null,null,null,null,null,null,null,null,null,null,null,null,null,null,null,null,null,null,null,{"$f":"AM2505+AN2505","v":0},{"$f":"AM2506*AM2507/1000","v":0},{"$f":"AN2506*AN2507/1000","v":0}]
[null,null,null,null,null,null,null,null,null,null,null,null,{"$f":"M2505 & \".P\"","v":"C2H5OH.P"},"Цена за единицу","руб./ед.",null,null,null,null,null,null,null,null,null,null,null,null,null,null,null,null,null,null,null,null,null,null,{"$f":"IF(AL2507=0,0,AL2505*1000/AL2507)","v":0}]
[null,null,null,null,null,null,null,null,null,null,null,null,{"$f":"M2505 & \".V\"","v":"C2H5OH.V"},"Объём","ед.",null,null,null,null,null,null,null,null,null,null,null,null,null,null,null,null,null,null,null,null,null,null,{"$f":"AM2507+AN2507","v":0}]
[null,null,null,null,null,null,null,null,null,null,null,null,"SFAL1G","сульфат алюминия 1 сорт","тыс.руб.",null,null,null,null,null,null,null,null,null,null,null,null,null,null,null,null,null,null,null,null,null,null,{"$f":"AM2508+AN2508","v":0},{"$f":"AM2509*AM2510/1000","v":0},{"$f":"AN2509*AN2510/1000","v":0}]
[null,null,null,null,null,null,null,null,null,null,null,null,{"$f":"M2508 & \".P\"","v":"SFAL1G.P"},"Цена за единицу","руб./ед.",null,null,null,null,null,null,null,null,null,null,null,null,null,null,null,null,null,null,null,null,null,null,{"$f":"IF(AL2510=0,0,AL2508*1000/AL2510)","v":0}]
[null,null,null,null,null,null,null,null,null,null,null,null,{"$f":"M2508 & \".V\"","v":"SFAL1G.V"},"Объём","ед.",null,null,null,null,null,null,null,null,null,null,null,null,null,null,null,null,null,null,null,null,null,null,{"$f":"AM2510+AN2510","v":0}]
[null,null,null,null,null,null,null,null,null,null,null,null,"SFALLQD","сульфат алюминия жидкий","тыс.руб.",null,null,null,null,null,null,null,null,null,null,null,null,null,null,null,null,null,null,null,null,null,null,{"$f":"AM2511+AN2511","v":0},{"$f":"AM2512*AM2513/1000","v":0},{"$f":"AN2512*AN2513/1000","v":0}]
[null,null,null,null,null,null,null,null,null,null,null,null,{"$f":"M2511 & \".P\"","v":"SFALLQD.P"},"Цена за единицу","руб./ед.",null,null,null,null,null,null,null,null,null,null,null,null,null,null,null,null,null,null,null,null,null,null,{"$f":"IF(AL2513=0,0,AL2511*1000/AL2513)","v":0}]
[null,null,null,null,null,null,null,null,null,null,null,null,{"$f":"M2511 & \".V\"","v":"SFALLQD.V"},"Объём","ед.",null,null,null,null,null,null,null,null,null,null,null,null,null,null,null,null,null,null,null,null,null,null,{"$f":"AM2513+AN2513","v":0}]
[null,null,null,null,null,null,null,null,null,null,null,null,"SFALT","сульфат алюминия технический","тыс.руб.",null,null,null,null,null,null,null,null,null,null,null,null,null,null,null,null,null,null,null,null,null,null,{"$f":"AM2514+AN2514","v":0},{"$f":"AM2515*AM2516/1000","v":0},{"$f":"AN2515*AN2516/1000","v":0}]
[null,null,null,null,null,null,null,null,null,null,null,null,{"$f":"M2514 & \".P\"","v":"SFALT.P"},"Цена за единицу","руб./ед.",null,null,null,null,null,null,null,null,null,null,null,null,null,null,null,null,null,null,null,null,null,null,{"$f":"IF(AL2516=0,0,AL2514*1000/AL2516)","v":0}]
[null,null,null,null,null,null,null,null,null,null,null,null,{"$f":"M2514 & \".V\"","v":"SFALT.V"},"Объём","ед.",null,null,null,null,null,null,null,null,null,null,null,null,null,null,null,null,null,null,null,null,null,null,{"$f":"AM2516+AN2516","v":0}]
[null,null,null,null,null,null,null,null,null,null,null,null,"SFAMN","сульфат аммония","тыс.руб.",null,null,null,null,null,null,null,null,null,null,null,null,null,null,null,null,null,null,null,null,null,null,{"$f":"AM2517+AN2517","v":0},{"$f":"AM2518*AM2519/1000","v":0},{"$f":"AN2518*AN2519/1000","v":0}]
[null,null,null,null,null,null,null,null,null,null,null,null,{"$f":"M2517 & \".P\"","v":"SFAMN.P"},"Цена за единицу","руб./ед.",null,null,null,null,null,null,null,null,null,null,null,null,null,null,null,null,null,null,null,null,null,null,{"$f":"IF(AL2519=0,0,AL2517*1000/AL2519)","v":0}]
[null,null,null,null,null,null,null,null,null,null,null,null,{"$f":"M2517 & \".V\"","v":"SFAMN.V"},"Объём","ед.",null,null,null,null,null,null,null,null,null,null,null,null,null,null,null,null,null,null,null,null,null,null,{"$f":"AM2519+AN2519","v":0}]
[null,null,null,null,null,null,null,null,null,null,null,null,"TM","тиомочевина","тыс.руб.",null,null,null,null,null,null,null,null,null,null,null,null,null,null,null,null,null,null,null,null,null,null,{"$f":"AM2520+AN2520","v":0},{"$f":"AM2521*AM2522/1000","v":0},{"$f":"AN2521*AN2522/1000","v":0}]
[null,null,null,null,null,null,null,null,null,null,null,null,{"$f":"M2520 & \".P\"","v":"TM.P"},"Цена за единицу","руб./ед.",null,null,null,null,null,null,null,null,null,null,null,null,null,null,null,null,null,null,null,null,null,null,{"$f":"IF(AL2522=0,0,AL2520*1000/AL2522)","v":0}]
[null,null,null,null,null,null,null,null,null,null,null,null,{"$f":"M2520 & \".V\"","v":"TM.V"},"Объём","ед.",null,null,null,null,null,null,null,null,null,null,null,null,null,null,null,null,null,null,null,null,null,null,{"$f":"AM2522+AN2522","v":0}]
[null,null,null,null,null,null,null,null,null,null,null,null,"TSFNA","тиосульфат натрия","тыс.руб.",null,null,null,null,null,null,null,null,null,null,null,null,null,null,null,null,null,null,null,null,null,null,{"$f":"AM2523+AN2523","v":0},{"$f":"AM2524*AM2525/1000","v":0},{"$f":"AN2524*AN2525/1000","v":0}]
[null,null,null,null,null,null,null,null,null,null,null,null,{"$f":"M2523 & \".P\"","v":"TSFNA.P"},"Цена за единицу","руб./ед.",null,null,null,null,null,null,null,null,null,null,null,null,null,null,null,null,null,null,null,null,null,null,{"$f":"IF(AL2525=0,0,AL2523*1000/AL2525)","v":0}]
[null,null,null,null,null,null,null,null,null,null,null,null,{"$f":"M2523 & \".V\"","v":"TSFNA.V"},"Объём","ед.",null,null,null,null,null,null,null,null,null,null,null,null,null,null,null,null,null,null,null,null,null,null,{"$f":"AM2525+AN2525","v":0}]
[null,null,null,null,null,null,null,null,null,null,null,null,"CCL4","углерод четырёххлористый","тыс.руб.",null,null,null,null,null,null,null,null,null,null,null,null,null,null,null,null,null,null,null,null,null,null,{"$f":"AM2526+AN2526","v":0},{"$f":"AM2527*AM2528/1000","v":0},{"$f":"AN2527*AN2528/1000","v":0}]
[null,null,null,null,null,null,null,null,null,null,null,null,{"$f":"M2526 & \".P\"","v":"CCL4.P"},"Цена за единицу","руб./ед.",null,null,null,null,null,null,null,null,null,null,null,null,null,null,null,null,null,null,null,null,null,null,{"$f":"IF(AL2528=0,0,AL2526*1000/AL2528)","v":0}]
[null,null,null,null,null,null,null,null,null,null,null,null,{"$f":"M2526 & \".V\"","v":"CCL4.V"},"Объём","ед.",null,null,null,null,null,null,null,null,null,null,null,null,null,null,null,null,null,null,null,null,null,null,{"$f":"AM2528+AN2528","v":0}]
[null,null,null,null,null,null,null,null,null,null,null,null,"FFTLN","фенолфталеин","тыс.руб.",null,null,null,null,null,null,null,null,null,null,null,null,null,null,null,null,null,null,null,null,null,null,{"$f":"AM2529+AN2529","v":0},{"$f":"AM2530*AM2531/1000","v":0},{"$f":"AN2530*AN2531/1000","v":0}]
[null,null,null,null,null,null,null,null,null,null,null,null,{"$f":"M2529 & \".P\"","v":"FFTLN.P"},"Цена за единицу","руб./ед.",null,null,null,null,null,null,null,null,null,null,null,null,null,null,null,null,null,null,null,null,null,null,{"$f":"IF(AL2531=0,0,AL2529*1000/AL2531)","v":0}]
[null,null,null,null,null,null,null,null,null,null,null,null,{"$f":"M2529 & \".V\"","v":"FFTLN.V"},"Объём","ед.",null,null,null,null,null,null,null,null,null,null,null,null,null,null,null,null,null,null,null,null,null,null,{"$f":"AM2531+AN2531","v":0}]
[null,null,null,null,null,null,null,null,null,null,null,null,"CL","хлор","тыс.руб.",null,null,null,null,null,null,null,null,null,null,null,null,null,null,null,null,null,null,null,null,null,null,{"$f":"AM2532+AN2532","v":0},{"$f":"AM2533*AM2534/1000","v":0},{"$f":"AN2533*AN2534/1000","v":0}]
[null,null,null,null,null,null,null,null,null,null,null,null,{"$f":"M2532 & \".P\"","v":"CL.P"},"Цена за единицу","руб./ед.",null,null,null,null,null,null,null,null,null,null,null,null,null,null,null,null,null,null,null,null,null,null,{"$f":"IF(AL2534=0,0,AL2532*1000/AL2534)","v":0}]
[null,null,null,null,null,null,null,null,null,null,null,null,{"$f":"M2532 & \".V\"","v":"CL.V"},"Объём","ед.",null,null,null,null,null,null,null,null,null,null,null,null,null,null,null,null,null,null,null,null,null,null,{"$f":"AM2534+AN2534","v":0}]
[null,null,null,null,null,null,null,null,null,null,null,null,"CLLIQ","хлор жидкий","тыс.руб.",null,null,null,null,null,null,null,null,null,null,null,null,null,null,null,null,null,null,null,null,null,null,{"$f":"AM2535+AN2535","v":0},{"$f":"AM2536*AM2537/1000","v":0},{"$f":"AN2536*AN2537/1000","v":0}]
[null,null,null,null,null,null,null,null,null,null,null,null,{"$f":"M2535 & \".P\"","v":"CLLIQ.P"},"Цена за единицу","руб./ед.",null,null,null,null,null,null,null,null,null,null,null,null,null,null,null,null,null,null,null,null,null,null,{"$f":"IF(AL2537=0,0,AL2535*1000/AL2537)","v":0}]
[null,null,null,null,null,null,null,null,null,null,null,null,{"$f":"M2535 & \".V\"","v":"CLLIQ.V"},"Объём","ед.",null,null,null,null,null,null,null,null,null,null,null,null,null,null,null,null,null,null,null,null,null,null,{"$f":"AM2537+AN2537","v":0}]
[null,null,null,null,null,null,null,null,null,null,null,null,"CLAMN","хлорамин","тыс.руб.",null,null,null,null,null,null,null,null,null,null,null,null,null,null,null,null,null,null,null,null,null,null,{"$f":"AM2538+AN2538","v":0},{"$f":"AM2539*AM2540/1000","v":0},{"$f":"AN2539*AN2540/1000","v":0}]
[null,null,null,null,null,null,null,null,null,null,null,null,{"$f":"M2538 & \".P\"","v":"CLAMN.P"},"Цена за единицу","руб./ед.",null,null,null,null,null,null,null,null,null,null,null,null,null,null,null,null,null,null,null,null,null,null,{"$f":"IF(AL2540=0,0,AL2538*1000/AL2540)","v":0}]
[null,null,null,null,null,null,null,null,null,null,null,null,{"$f":"M2538 & \".V\"","v":"CLAMN.V"},"Объём","ед.",null,null,null,null,null,null,null,null,null,null,null,null,null,null,null,null,null,null,null,null,null,null,{"$f":"AM2540+AN2540","v":0}]
[null,null,null,null,null,null,null,null,null,null,null,null,"CLFRM","хлороформ","тыс.руб.",null,null,null,null,null,null,null,null,null,null,null,null,null,null,null,null,null,null,null,null,null,null,{"$f":"AM2541+AN2541","v":0},{"$f":"AM2542*AM2543/1000","v":0},{"$f":"AN2542*AN2543/1000","v":0}]
[null,null,null,null,null,null,null,null,null,null,null,null,{"$f":"M2541 & \".P\"","v":"CLFRM.P"},"Цена за единицу","руб./ед.",null,null,null,null,null,null,null,null,null,null,null,null,null,null,null,null,null,null,null,null,null,null,{"$f":"IF(AL2543=0,0,AL2541*1000/AL2543)","v":0}]
[null,null,null,null,null,null,null,null,null,null,null,null,{"$f":"M2541 & \".V\"","v":"CLFRM.V"},"Объём","ед.",null,null,null,null,null,null,null,null,null,null,null,null,null,null,null,null,null,null,null,null,null,null,{"$f":"AM2543+AN2543","v":0}]
[null,null,null,null,null,null,null,null,null,null,null,null,"ETHL","этиленгликоль","тыс.руб.",null,null,null,null,null,null,null,null,null,null,null,null,null,null,null,null,null,null,null,null,null,null,{"$f":"AM2544+AN2544","v":0},{"$f":"AM2545*AM2546/1000","v":0},{"$f":"AN2545*AN2546/1000","v":0}]
[null,null,null,null,null,null,null,null,null,null,null,null,{"$f":"M2544 & \".P\"","v":"ETHL.P"},"Цена за единицу","руб./ед.",null,null,null,null,null,null,null,null,null,null,null,null,null,null,null,null,null,null,null,null,null,null,{"$f":"IF(AL2546=0,0,AL2544*1000/AL2546)","v":0}]
[null,null,null,null,null,null,null,null,null,null,null,null,{"$f":"M2544 & \".V\"","v":"ETHL.V"},"Объём","ед.",null,null,null,null,null,null,null,null,null,null,null,null,null,null,null,null,null,null,null,null,null,null,{"$f":"AM2546+AN2546","v":0}]
[null,null,null,null,null,null,null,null,null,null,null,null,"OTH","прочие","тыс.руб.",null,null,null,null,null,null,null,null,null,null,null,null,null,null,null,null,null,null,null,null,null,null,{"$f":"AM2547+AN2547","v":0}]
[]
[]
[null,null,null,null,null,null,null,null,null,null,null,null,"OTH","Прочие","тыс.руб.",null,null,null,null,null,null,null,null,null,null,null,null,null,null,null,null,null,null,null,null,null,null,{"$f":"AM2550+AN2550","v":0}]
[]
[null,null,null,null,null,null,null,null,null,null,null,null,"21","Полезный отпуск продукции всего","тыс.куб.м",null,null,null,null,null,null,null,null,null,null,null,null,null,null,null,null,{"$f":"SUMIF(ХВС.РО!$AS$15:$AT$15,AF$15,ХВС.РО!$AS$240:$AT$240)","v":0},{"$f":"SUMIF(ХВС.РО!$AS$15:$AT$15,AG$15,ХВС.РО!$AS$240:$AT$240)","v":0},{"$f":"SUMIF(ХВС.РО!$AS$15:$AT$15,AH$15,ХВС.РО!$AS$240:$AT$240)","v":0}]
[]
[]
[]
[]
[]
[]
[]
[]
[]
[]
[]
[]
[]
[null,null,null,null,null,null,null,null,null,null,null,null,null,null,null,null,null,null,null,null,null,null,null,null,null,null,null,null,"VOTV_CALC_ADD_RANGE"]
[]
[]
[]
[null,null,null,null,null,null,null,null,null,null,null,null,null,null,null,null,null,null,null,null,null,null,null,null,null,null,null,null,12,6,6]
[]
[]
[null,null,null,null,null,null,null,null,null,null,null,null,null,null,null,null,null,null,null,null,null,null,null,null,null,null,null,null,"Y","I","II"]
[]
[]
[]
[null,null,null,null,null,null,null,null,null,null,null,null,null,null,null,null,null,null,null,null,null,null,null,null,null,null,null,null,"Год","I полугодие","II полугодие"]
[]
[null,null,null,null,null,null,null,null,null,null,null,null,null,null,null,null,null,null,null,null,null,null,null,null,null,null,null,null,{"$f":"AC2581 & \"_\" & AC2573","v":"0_Y"},{"$f":"AD2581 & \"_\" & AD2573","v":"0_I"},{"$f":"AE2581 & \"_\" & AE2573","v":"0_II"}]
[]
[null,null,null,null,null,null,null,null,null,null,null,null,null,null,null,null,null,null,null,null,null,null,null,null,null,null,null,null,{"$f":"AC2583","v":0},{"$f":"AC2583","v":0},{"$f":"AC2583","v":0}]
[null,null,null,null,null,null,null,null,null,null,null,null,null,null,null,null,null,null,null,null,null,null,null,null,null,null,null,null,"Удалить"]
[null,null,null,null,null,null,null,null,null,null,null,null,"№ п/п","Наименование показателя","Единица измерения"]
[]
[null,null,null,null,null,null,null,null,null,null,null,null,null,"Является ли организация плательщиком НДС",null,null,null,null,null,null,null,null,null,null,null,null,null,null,null,null,null,null,null,null,"VOTV_CALC_EMPTY_BASE_RANGE"]
[null,null,null,null,null,null,null,null,null,null,null,null,null,{"$f":"IF(CALC_IDENTIFIER=\"\",\"\",CALC_IDENTIFIER)","v":""},null,null,null,null,null,null,null,null,null,null,null,null,null,null,null,null,null,null,null,null,"VOTV_CALC_SINGLE_BASE_RANGE"]
[null,null,null,null,null,null,null,null,null,null,null,null,"1","Производственные расходы","тыс.руб.",null,null,null,null,null,null,null,null,null,null,null,null,null,null,null,null,{"$f":"AG2587+AH2587","v":0},{"$f":"SUM(AG2588,AG2592,AG2670,AG2671,AG2684,AG2685,AG2686,AG2691)","v":0},{"$f":"SUM(AH2588,AH2592,AH2670,AH2671,AH2684,AH2685,AH2686,AH2691)","v":0}]
[null,null,null,null,null,null,null,null,null,null,null,null,"1.1","Расходы на приобретение сырья и материалов и их хранение","тыс.руб.",null,null,null,null,null,null,null,null,null,null,null,null,null,null,null,null,0,{"$f":"SUM(AG2589,AG2590,AG2591)","v":0},{"$f":"SUM(AH2589,AH2590,AH2591)","v":0}]
[null,null,null,null,null,null,null,null,null,null,null,null,"1.1.1","Реагенты ","тыс.руб.",null,null,null,null,null,null,null,null,null,null,null,null,null,null,null,null,0,{"$f":"ВО.Р!AG$25","v":0},{"$f":"ВО.Р!AH$25","v":0}]
[null,null,null,null,null,null,null,null,null,null,null,null,"1.1.2","Горюче-смазочные материалы","тыс.руб.",null,null,null,null,null,null,null,null,null,null,null,null,null,null,null,null,0]
[null,null,null,null,null,null,null,null,null,null,null,null,"1.1.3","Материалы и малоценные основные средства","тыс.руб.",null,null,null,null,null,null,null,null,null,null,null,null,null,null,null,null,0]
[null,null,null,null,null,null,null,null,null,null,null,null,"1.2","Расходы на энергетические ресурсы и холодную воду","тыс.руб.",null,null,null,null,null,null,null,null,null,null,null,null,null,null,null,null,0,{"$f":"SUM(AG2593,AG2653,AG2654,AG2655,AG2660)","v":0},{"$f":"SUM(AH2593,AH2653,AH2654,AH2655,AH2660)","v":0}]
[null,null,null,null,null,null,null,null,null,null,null,null,"1.2.1","электроэнергия ","тыс.руб.",null,null,null,null,null,null,null,null,null,null,null,null,null,null,null,null,0,{"$f":"SUM(AG2635,AG2647,AG2641)","v":0},{"$f":"SUM(AH2635,AH2647,AH2641)","v":0}]
[null,null,null,null,null,null,null,null,null,null,null,null,"1.2.1.1","Объём покупной энергии"]
[null,null,null,null,null,null,null,null,null,null,null,null,"1.2.1.1.1","Объём покупной энергии по одноставочному тарифу","тыс.кВт*ч",null,null,null,null,null,null,null,null,null,null,null,null,null,null,null,null,{"$f":"SUM(AF2596:AF2600)","v":0},{"$f":"SUM(AG2596:AG2600)","v":0},{"$f":"SUM(AH2596:AH2600)","v":0}]
[null,null,null,null,null,null,null,null,null,null,null,null,"1.2.1.1.1.1","НН","тыс.кВт*ч",null,null,null,null,null,null,null,null,null,null,null,null,null,null,null,null,{"$f":"AG2596+AH2596","v":0}]
[null,null,null,null,null,null,null,null,null,null,null,null,"1.2.1.1.1.2","СН1","тыс.кВт*ч",null,null,null,null,null,null,null,null,null,null,null,null,null,null,null,null,{"$f":"AG2597+AH2597","v":0}]
[null,null,null,null,null,null,null,null,null,null,null,null,"1.2.1.1.1.3","СН2","тыс.кВт*ч",null,null,null,null,null,null,null,null,null,null,null,null,null,null,null,null,{"$f":"AG2598+AH2598","v":0}]
[null,null,null,null,null,null,null,null,null,null,null,null,"1.2.1.1.1.4","ВН","тыс.кВт*ч",null,null,null,null,null,null,null,null,null,null,null,null,null,null,null,null,{"$f":"AG2599+AH2599","v":0}]
[null,null,null,null,null,null,null,null,null,null,null,null,"1.2.1.1.1.5","без разбивки по напряжению","тыс.кВт*ч",null,null,null,null,null,null,null,null,null,null,null,null,null,null,null,null,{"$f":"AG2600+AH2600","v":0}]
[null,null,null,null,null,null,null,null,null,null,null,null,"1.2.1.1.2","Объём покупной электроэнергии по двухставочному тарифу"]
[null,null,null,null,null,null,null,null,null,null,null,null,"1.2.1.1.2.1","Мощность","МВт*мес",null,null,null,null,null,null,null,null,null,null,null,null,null,null,null,null,{"$f":"SUM(AF2603:AF2607)","v":0},{"$f":"SUM(AG2603:AG2607)","v":0},{"$f":"SUM(AH2603:AH2607)","v":0}]
[null,null,null,null,null,null,null,null,null,null,null,null,"1.2.1.1.2.1.1","НН","МВт*мес",null,null,null,null,null,null,null,null,null,null,null,null,null,null,null,null,{"$f":"AG2603+AH2603","v":0}]
[null,null,null,null,null,null,null,null,null,null,null,null,"1.2.1.1.2.1.2","СН1","МВт*мес",null,null,null,null,null,null,null,null,null,null,null,null,null,null,null,null,{"$f":"AG2604+AH2604","v":0}]
[null,null,null,null,null,null,null,null,null,null,null,null,"1.2.1.1.2.1.3","СН2","МВт*мес",null,null,null,null,null,null,null,null,null,null,null,null,null,null,null,null,{"$f":"AG2605+AH2605","v":0}]
[null,null,null,null,null,null,null,null,null,null,null,null,"1.2.1.1.2.1.4","ВН","МВт*мес",null,null,null,null,null,null,null,null,null,null,null,null,null,null,null,null,{"$f":"AG2606+AH2606","v":0}]
[null,null,null,null,null,null,null,null,null,null,null,null,"1.2.1.1.2.1.5","ГН","МВт*мес",null,null,null,null,null,null,null,null,null,null,null,null,null,null,null,null,{"$f":"AG2607+AH2607","v":0}]
[null,null,null,null,null,null,null,null,null,null,null,null,"1.2.1.1.2.2","Активная электроэнергия","тыс.кВт*ч",null,null,null,null,null,null,null,null,null,null,null,null,null,null,null,null,{"$f":"SUM(AF2609:AF2613)","v":0},{"$f":"SUM(AG2609:AG2613)","v":0},{"$f":"SUM(AH2609:AH2613)","v":0}]
[null,null,null,null,null,null,null,null,null,null,null,null,"1.2.1.1.2.2.1","НН","тыс.кВт*ч",null,null,null,null,null,null,null,null,null,null,null,null,null,null,null,null,{"$f":"AG2609+AH2609","v":0}]
[null,null,null,null,null,null,null,null,null,null,null,null,"1.2.1.1.2.2.2","СН1","тыс.кВт*ч",null,null,null,null,null,null,null,null,null,null,null,null,null,null,null,null,{"$f":"AG2610+AH2610","v":0}]
[null,null,null,null,null,null,null,null,null,null,null,null,"1.2.1.1.2.2.3","СН2","тыс.кВт*ч",null,null,null,null,null,null,null,null,null,null,null,null,null,null,null,null,{"$f":"AG2611+AH2611","v":0}]
[null,null,null,null,null,null,null,null,null,null,null,null,"1.2.1.1.2.2.4","ВН","тыс.кВт*ч",null,null,null,null,null,null,null,null,null,null,null,null,null,null,null,null,{"$f":"AG2612+AH2612","v":0}]
[null,null,null,null,null,null,null,null,null,null,null,null,"1.2.1.1.2.2.5","ГН","тыс.кВт*ч",null,null,null,null,null,null,null,null,null,null,null,null,null,null,null,null,{"$f":"AG2613+AH2613","v":0}]
[null,null,null,null,null,null,null,null,null,null,null,null,"1.2.1.2","Тариф на электроэнергию и мощность"]
[null,null,null,null,null,null,null,null,null,null,null,null,"1.2.1.2.1","по одноставочному тарифу"]
[null,null,null,null,null,null,null,null,null,null,null,null,"1.2.1.2.1.1","НН","руб./кВт*ч",null,null,null,null,null,null,null,null,null,null,null,null,null,null,null,null,{"$f":"IF(AF2596=0,0,AF2636/AF2596)","v":0}]
[null,null,null,null,null,null,null,null,null,null,null,null,"1.2.1.2.1.2","СН1","руб./кВт*ч",null,null,null,null,null,null,null,null,null,null,null,null,null,null,null,null,{"$f":"IF(AF2597=0,0,AF2637/AF2597)","v":0}]
[null,null,null,null,null,null,null,null,null,null,null,null,"1.2.1.2.1.3","СН2","руб./кВт*ч",null,null,null,null,null,null,null,null,null,null,null,null,null,null,null,null,{"$f":"IF(AF2598=0,0,AF2638/AF2598)","v":0}]
[null,null,null,null,null,null,null,null,null,null,null,null,"1.2.1.2.1.4","ВН","руб./кВт*ч",null,null,null,null,null,null,null,null,null,null,null,null,null,null,null,null,{"$f":"IF(AF2599=0,0,AF2639/AF2599)","v":0}]
[null,null,null,null,null,null,null,null,null,null,null,null,"1.2.1.2.1.5","без разбивки по напряжению","руб./кВт*ч",null,null,null,null,null,null,null,null,null,null,null,null,null,null,null,null,{"$f":"IF(AF2600=0,0,AF2640/AF2600)","v":0}]
[null,null,null,null,null,null,null,null,null,null,null,null,"1.2.1.2.1.6","Средний одноставочный тариф на электрическую энергию","руб./кВт*ч",null,null,null,null,null,null,null,null,null,null,null,null,null,null,null,null,{"$f":"IF(AF2595=0,0,AF2635/AF2595)","v":0},{"$f":"IF(AG2595=0,0,AG2635/AG2595)","v":0},{"$f":"IF(AH2595=0,0,AH2635/AH2595)","v":0}]
[null,null,null,null,null,null,null,null,null,null,null,null,"1.2.1.2.2","по двухставочному тарифу"]
[null,null,null,null,null,null,null,null,null,null,null,null,"1.2.1.2.2.1","ставка за мощность","руб./МВт*мес",null,null,null,null,null,null,null,null,null,null,null,null,null,null,null,null,{"$f":"IF(AF2602=0,0,(AF2624*AF2603+AF2625*AF2604+AF2626*AF2605+AF2627*AF2606+AF2628*AF2607)/AF2602)","v":0},{"$f":"IF(AG2602=0,0,(AG2624*AG2603+AG2625*AG2604+AG2626*AG2605+AG2627*AG2606+AG2628*AG2607)/AG2602)","v":0},{"$f":"IF(AH2602=0,0,(AH2624*AH2603+AH2625*AH2604+AH2626*AH2605+AH2627*AH2606+AH2628*AH2607)/AH2602)","v":0}]
[null,null,null,null,null,null,null,null,null,null,null,null,"1.2.1.2.2.1.1","НН","руб./МВт*мес",null,null,null,null,null,null,null,null,null,null,null,null,null,null,null,null,{"$f":"IF(AF2603=0,0,AF2642*1000/AF2603)","v":0}]
[null,null,null,null,null,null,null,null,null,null,null,null,"1.2.1.2.2.1.2","СН1","руб./МВт*мес",null,null,null,null,null,null,null,null,null,null,null,null,null,null,null,null,{"$f":"IF(AF2604=0,0,AF2643*1000/AF2604)","v":0}]
[null,null,null,null,null,null,null,null,null,null,null,null,"1.2.1.2.2.1.3","СН2","руб./МВт*мес",null,null,null,null,null,null,null,null,null,null,null,null,null,null,null,null,{"$f":"IF(AF2605=0,0,AF2644*1000/AF2605)","v":0}]
[null,null,null,null,null,null,null,null,null,null,null,null,"1.2.1.2.2.1.4","ВН","руб./МВт*мес",null,null,null,null,null,null,null,null,null,null,null,null,null,null,null,null,{"$f":"IF(AF2606=0,0,AF2645*1000/AF2606)","v":0}]
[null,null,null,null,null,null,null,null,null,null,null,null,"1.2.1.2.2.1.5","ГН","руб./МВт*мес",null,null,null,null,null,null,null,null,null,null,null,null,null,null,null,null,{"$f":"IF(AF2607=0,0,AF2646*1000/AF2607)","v":0}]
[null,null,null,null,null,null,null,null,null,null,null,null,"1.2.1.2.2.2","ставка за электроэнергию","руб./кВт*мес",null,null,null,null,null,null,null,null,null,null,null,null,null,null,null,null,{"$f":"IF(AF2608=0,0,(AF2630*AF2609+AF2631*AF2610+AF2632*AF2611+AF2633*AF2612+AF2634*AF2613)/AF2608)","v":0},{"$f":"IF(AG2608=0,0,(AG2630*AG2609+AG2631*AG2610+AG2632*AG2611+AG2633*AG2612+AG2634*AG2613)/AG2608)","v":0},{"$f":"IF(AH2608=0,0,(AH2630*AH2609+AH2631*AH2610+AH2632*AH2611+AH2633*AH2612+AH2634*AH2613)/AH2608)","v":0}]
[null,null,null,null,null,null,null,null,null,null,null,null,"1.2.1.2.2.2.1","НН","руб./кВт*мес",null,null,null,null,null,null,null,null,null,null,null,null,null,null,null,null,{"$f":"IF(AF2609=0,0,AF2648/AF2609)","v":0}]
[null,null,null,null,null,null,null,null,null,null,null,null,"1.2.1.2.2.2.2","СН1","руб./кВт*мес",null,null,null,null,null,null,null,null,null,null,null,null,null,null,null,null,{"$f":"IF(AF2610=0,0,AF2649/AF2610)","v":0}]
[null,null,null,null,null,null,null,null,null,null,null,null,"1.2.1.2.2.2.3","СН2","руб./кВт*мес",null,null,null,null,null,null,null,null,null,null,null,null,null,null,null,null,{"$f":"IF(AF2611=0,0,AF2650/AF2611)","v":0}]
[null,null,null,null,null,null,null,null,null,null,null,null,"1.2.1.2.2.2.4","ВН","руб./кВт*мес",null,null,null,null,null,null,null,null,null,null,null,null,null,null,null,null,{"$f":"IF(AF2612=0,0,AF2651/AF2612)","v":0}]
[null,null,null,null,null,null,null,null,null,null,null,null,"1.2.1.2.2.2.5","ГН","руб./кВт*мес",null,null,null,null,null,null,null,null,null,null,null,null,null,null,null,null,{"$f":"IF(AF2613=0,0,AF2652/AF2613)","v":0}]
[null,null,null,null,null,null,null,null,null,null,null,null,"1.2.1.3","Затраты на покупку энергии по одноставочному тарифу","тыс.руб.",null,null,null,null,null,null,null,null,null,null,null,null,null,null,null,null,{"$f":"AG2635+AH2635","v":0},{"$f":"SUM(AG2636:AG2640)","v":0},{"$f":"SUM(AH2636:AH2640)","v":0}]
[null,null,null,null,null,null,null,null,null,null,null,null,"1.2.1.3.1","НН","тыс.руб.",null,null,null,null,null,null,null,null,null,null,null,null,null,null,null,null,0,{"$f":"AG2596*AG2616","v":0},{"$f":"AH2596*AH2616","v":0}]
[null,null,null,null,null,null,null,null,null,null,null,null,"1.2.1.3.2","СН1","тыс.руб.",null,null,null,null,null,null,null,null,null,null,null,null,null,null,null,null,0,{"$f":"AG2597*AG2617","v":0},0]
[null,null,null,null,null,null,null,null,null,null,null,null,"1.2.1.3.3","СН2","тыс.руб.",null,null,null,null,null,null,null,null,null,null,null,null,null,null,null,null,0,0,0]
[null,null,null,null,null,null,null,null,null,null,null,null,"1.2.1.3.4","ВН","тыс.руб.",null,null,null,null,null,null,null,null,null,null,null,null,null,null,null,null,0,0,0]
[null,null,null,null,null,null,null,null,null,null,null,null,"1.2.1.3.5","без разбивки по напряжению","тыс.руб.",null,null,null,null,null,null,null,null,null,null,null,null,null,null,null,null,0,0,0]
[null,null,null,null,null,null,null,null,null,null,null,null,"1.2.1.4","Затраты на покупку мощности по двухставочному тарифу","тыс.руб.",null,null,null,null,null,null,null,null,null,null,null,null,null,null,null,null,0,{"$f":"SUM(AG2642:AG2646)","v":0},{"$f":"SUM(AH2642:AH2646)","v":0}]
[null,null,null,null,null,null,null,null,null,null,null,null,"1.2.1.4.1","НН","тыс.руб.",null,null,null,null,null,null,null,null,null,null,null,null,null,null,null,null,0,{"$f":"AG2603*AG2624/1000","v":0},{"$f":"AH2603*AH2624/1000","v":0}]
[null,null,null,null,null,null,null,null,null,null,null,null,"1.2.1.4.2","СН1","тыс.руб.",null,null,null,null,null,null,null,null,null,null,null,null,null,null,null,null,0,{"$f":"AG2604*AG2625/1000","v":0},0]
[null,null,null,null,null,null,null,null,null,null,null,null,"1.2.1.4.3","СН2","тыс.руб.",null,null,null,null,null,null,null,null,null,null,null,null,null,null,null,null,0,0,0]
[null,null,null,null,null,null,null,null,null,null,null,null,"1.2.1.4.4","ВН","тыс.руб.",null,null,null,null,null,null,null,null,null,null,null,null,null,null,null,null,0,0,0]
[null,null,null,null,null,null,null,null,null,null,null,null,"1.2.1.4.5","ГН","тыс.руб.",null,null,null,null,null,null,null,null,null,null,null,null,null,null,null,null,0,0,0]
[null,null,null,null,null,null,null,null,null,null,null,null,"1.2.1.5","Затраты на покупку энергии по двухставочному тарифу","тыс.руб.",null,null,null,null,null,null,null,null,null,null,null,null,null,null,null,null,0,{"$f":"SUM(AG2648:AG2652)","v":0},{"$f":"SUM(AH2648:AH2652)","v":0}]
[null,null,null,null,null,null,null,null,null,null,null,null,"1.2.1.5.1","НН","тыс.руб.",null,null,null,null,null,null,null,null,null,null,null,null,null,null,null,null,0,{"$f":"AG2609*AG2630","v":0},0]
[null,null,null,null,null,null,null,null,null,null,null,null,"1.2.1.5.2","СН1","тыс.руб.",null,null,null,null,null,null,null,null,null,null,null,null,null,null,null,null,0,0,0]
[null,null,null,null,null,null,null,null,null,null,null,null,"1.2.1.5.3","СН2","тыс.руб.",null,null,null,null,null,null,null,null,null,null,null,null,null,null,null,null,0,0,0]
[null,null,null,null,null,null,null,null,null,null,null,null,"1.2.1.5.4","ВН","тыс.руб.",null,null,null,null,null,null,null,null,null,null,null,null,null,null,null,null,0,0,0]
[null,null,null,null,null,null,null,null,null,null,null,null,"1.2.1.5.5","ГН","тыс.руб.",null,null,null,null,null,null,null,null,null,null,null,null,null,null,null,null,0,0,0]
[null,null,null,null,null,null,null,null,null,null,null,null,"1.2.2","теплоэнергия","тыс.руб.",null,null,null,null,null,null,null,null,null,null,null,null,null,null,null,null,0]
[null,null,null,null,null,null,null,null,null,null,null,null,"1.2.3","теплоноситель","тыс.руб.",null,null,null,null,null,null,null,null,null,null,null,null,null,null,null,null,0]
[null,null,null,null,null,null,null,null,null,null,null,null,"1.2.4","топливо","тыс.руб.",null,null,null,null,null,null,null,null,null,null,null,null,null,null,null,null,0]
[]
[]
[]
[]
[null,null,null,null,null,null,null,null,null,null,null,null,"1.2.5","холодная вода","тыс.руб.",null,null,null,null,null,null,null,null,null,null,null,null,null,null,null,null,{"$f":"AG2660+AH2660","v":0},{"$f":"AG2661*AG2662","v":0},{"$f":"AH2661*AH2662","v":0}]
[null,null,null,null,null,null,null,null,null,null,null,null,"1.2.5.1","цена","руб./куб.м",null,null,null,null,null,null,null,null,null,null,null,null,null,null,null,null,{"$f":"IF(AF2662=0,0,AF2660/AF2662)","v":0}]
[null,null,null,null,null,null,null,null,null,null,null,null,"1.2.5.2","объём","тыс.куб.м",null,null,null,null,null,null,null,null,null,null,null,null,null,null,null,null,{"$f":"AG2662+AH2662","v":0}]
[]
[]
[]
[]
[]
[]
[]
[null,null,null,null,null,null,null,null,null,null,null,null,"1.3","Расходы на оплату работ и услуг, выполняемые сторонними организациями и индивидуальными предпринимателями, связанные с эксплуатацией централизованных систем либо объектов в составе таких систем","тыс.руб.",null,null,null,null,null,null,null,null,null,null,null,null,null,null,null,null,{"$f":"AG2670+AH2670","v":0}]
[null,null,null,null,null,null,null,null,null,null,null,null,"1.4","Расходы на оплату труда и отчисления на социальные нужды основного производственного персонала, в том числе налоги и сборы ","тыс.руб.",null,null,null,null,null,null,null,null,null,null,null,null,null,null,null,null,{"$f":"AG2671+AH2671","v":0},{"$f":"SUM(AG2672,AG2683)","v":0},{"$f":"SUM(AH2672,AH2683)","v":0}]
[null,null,null,null,null,null,null,null,null,null,null,null,"1.4.1","Расходы на оплату труда производственного персонала","тыс.руб.",null,null,null,null,null,null,null,null,null,null,null,null,null,null,null,null,{"$f":"AG2672+AH2672","v":0}]
[null,null,null,null,null,null,null,null,null,null,null,null,"1.4.1.1","Численность (среднесписочная), принятая для расчёта","ед."]
[null,null,null,null,null,null,null,null,null,null,null,null,"1.4.1.2","Среднемесячная оплата труда основного производственного персонала","руб./мес.",null,null,null,null,null,null,null,null,null,null,null,null,null,null,null,null,{"$f":"IF(AF2673=0,0,AF2672/AF2673*1000/AF$6)","v":0},{"$f":"IF(AG2673=0,0,AG2672/AG2673*1000/AG$6)","v":0},{"$f":"IF(AH2673=0,0,AH2672/AH2673*1000/AH$6)","v":0}]
[null,null,null,null,null,null,null,null,null,null,null,null,"1.4.1.3","Фактическая численность основного производственного персонала, относимого на регулируемый вид деятельности","ед."]
[null,null,null,null,null,null,null,null,null,null,null,null,"1.4.1.4","Справочно: нормативная численность основного производственного персонала, относимого на регулируемый вид деятельности","ед."]
[null,null,null,null,null,null,null,null,null,null,null,null,"1.4.1.5","Тарифная ставка рабочего 1-го разряда","руб./мес."]
[null,null,null,null,null,null,null,null,null,null,null,null,"1.4.1.6","Индекс роста номинальной заработной платы"]
[null,null,null,null,null,null,null,null,null,null,null,null,"1.4.1.7","Тарифная ставка рабочего 1-го разряда с учётом дефлятора","руб./мес."]
[null,null,null,null,null,null,null,null,null,null,null,null,"1.4.1.8","Средний тарифный коэффициент"]
[null,null,null,null,null,null,null,null,null,null,null,null,"1.4.1.9","Среднемесячная тарифная ставка","руб./мес."]
[null,null,null,null,null,null,null,null,null,null,null,null,"1.4.1.10","Минимальный размер оплаты труда по отраслевому тарифному соглашению","руб./мес."]
[null,null,null,null,null,null,null,null,null,null,null,null,"1.4.2","Отчисления на социальные нужды производственного персонала, в том числе налоги и сборы","тыс.руб.",null,null,null,null,null,null,null,null,null,null,null,null,null,null,null,null,{"$f":"AG2683+AH2683","v":0}]
[null,null,null,null,null,null,null,null,null,null,null,null,"1.5","Расходы на уплату процентов по займам и кредитам, не учитываемые при определении налогооблагаемой базы налога на прибыль","тыс.руб.",null,null,null,null,null,null,null,null,null,null,null,null,null,null,null,null,0]
[null,null,null,null,null,null,null,null,null,null,null,null,"1.6","Общехозяйственные расходы","тыс.руб.",null,null,null,null,null,null,null,null,null,null,null,null,null,null,null,null,0]
[null,null,null,null,null,null,null,null,null,null,null,null,"1.7","Прочие производственные расходы","тыс.руб.",null,null,null,null,null,null,null,null,null,null,null,null,null,null,null,null,0,{"$f":"SUM(AG2687:AG2690)","v":0},{"$f":"SUM(AH2687:AH2690)","v":0}]
[null,null,null,null,null,null,null,null,null,null,null,null,"1.7.1","Расходы на амортизацию транспорта","тыс.руб.",null,null,null,null,null,null,null,null,null,null,null,null,null,null,null,null,0]
[null,null,null,null,null,null,null,null,null,null,null,null,{"$f":"IF(TEMPLATE_SPHERE_CODE=\"COLDVSNA\",\"1.7.2\",IF(TEMPLATE_SPHERE_CODE=\"VOTV\",\"1.7.2\",\"\"))","v":""},{"$f":"IF(TEMPLATE_SPHERE_CODE=\"COLDVSNA\",\"Контроль качества воды\",IF(TEMPLATE_SPHERE_CODE=\"VOTV\",\"Контроль сточных вод\",\"\"))","v":""},"тыс.руб.",null,null,null,null,null,null,null,null,null,null,null,null,null,null,null,null,0]
[null,null,null,null,null,null,null,null,null,null,null,null,"1.7.3","Расходы на аварийно-диспетчерское обслуживание","тыс.руб.",null,null,null,null,null,null,null,null,null,null,null,null,null,null,null,null,0]
[null,null,null,null,null,null,null,null,null,null,null,null,{"$f":"IF(TEMPLATE_SPHERE_CODE=\"COLDVSNA\",\"\",IF(TEMPLATE_SPHERE_CODE=\"VOTV\",\"1.7.4\",\"\"))","v":""},{"$f":"IF(TEMPLATE_SPHERE_CODE=\"COLDVSNA\",\"\",IF(TEMPLATE_SPHERE_CODE=\"VOTV\",\"Услуги по обращению с осадком сточных вод\",\"\"))","v":""},{"$f":"IF(TEMPLATE_SPHERE_CODE=\"COLDVSNA\",\"\",IF(TEMPLATE_SPHERE_CODE=\"VOTV\",\"тыс.руб.\",\"\"))","v":""}]
[null,null,null,null,null,null,null,null,null,null,null,null,"1.8","Цеховые расходы","тыс.руб.",null,null,null,null,null,null,null,null,null,null,null,null,null,null,null,null,{"$f":"AG2691+AH2691","v":0},{"$f":"SUM(AG2692:AG2695)","v":0},{"$f":"SUM(AH2692:AH2695)","v":0}]
[null,null,null,null,null,null,null,null,null,null,null,null,"1.8.1","Расходы на оплату труда цехового персонала","тыс.руб.",null,null,null,null,null,null,null,null,null,null,null,null,null,null,null,null,0]
[null,null,null,null,null,null,null,null,null,null,null,null,"1.8.2","Отчисления на социальные нужды цехового персонала, в том числе налоги и сборы","тыс.руб.",null,null,null,null,null,null,null,null,null,null,null,null,null,null,null,null,0]
[null,null,null,null,null,null,null,null,null,null,null,null,"1.8.3","Расходы на охрану труда","тыс.руб.",null,null,null,null,null,null,null,null,null,null,null,null,null,null,null,null,0]
[null,null,null,null,null,null,null,null,null,null,null,null,"1.8.4","Прочие","тыс.руб.",null,null,null,null,null,null,null,null,null,null,null,null,null,null,null,null,0]
[null,null,null,null,null,null,null,null,null,null,null,null,"2","Ремонтные расходы","тыс.руб.",null,null,null,null,null,null,null,null,null,null,null,null,null,null,null,null,0,{"$f":"SUM(AG2697,AG2699,AG2701)","v":0},{"$f":"SUM(AH2697,AH2699,AH2701)","v":0}]
[null,null,null,null,null,null,null,null,null,null,null,null,"2.1","Расходы на текущий ремонт централизованных систем водоснабжения и (или) водоотведения либо объектов, входящих в состав таких систем","тыс.руб.",null,null,null,null,null,null,null,null,null,null,null,null,null,null,null,null,0]
[null,null,null,null,null,null,null,null,null,null,null,null,"2.1.1","Справочно: расходы на текущий ремонт, предусмотренные производственной программой регулируемой организации","тыс.руб.",null,null,null,null,null,null,null,null,null,null,null,null,null,null,null,null,0]
[null,null,null,null,null,null,null,null,null,null,null,null,"2.2","Расходы на капитальный ремонт централизованных систем водоснабжения и (или водоотведения) либо объектов, входящих в состав таких систем","тыс.руб.",null,null,null,null,null,null,null,null,null,null,null,null,null,null,null,null,0]
[null,null,null,null,null,null,null,null,null,null,null,null,"2.2.1","Справочно: расходы на капитальный ремонт, предусмотренные производственной программой регулируемой организации","тыс.руб.",null,null,null,null,null,null,null,null,null,null,null,null,null,null,null,null,0]
[null,null,null,null,null,null,null,null,null,null,null,null,"2.3","Расходы на оплату труда и отчисления на социальные нужды ремонтного персонала, в том числе налоги и сборы","тыс.руб.",null,null,null,null,null,null,null,null,null,null,null,null,null,null,null,null,0,{"$f":"SUM(AG2702,AG2713)","v":0},{"$f":"SUM(AH2702,AH2713)","v":0}]
[null,null,null,null,null,null,null,null,null,null,null,null,"2.3.1","Расходы на оплату труда ремонтного персонала","тыс.руб.",null,null,null,null,null,null,null,null,null,null,null,null,null,null,null,null,0]
[null,null,null,null,null,null,null,null,null,null,null,null,"2.3.1.1","Численность (среднесписочная), принятая для расчёта","ед."]
[null,null,null,null,null,null,null,null,null,null,null,null,"2.3.1.2","Среднемесячная оплата труда ремонтного персонала","руб./мес.",null,null,null,null,null,null,null,null,null,null,null,null,null,null,null,null,{"$f":"IF(AF2703=0,0,AF2702/AF2703*1000/AF$6)","v":0},{"$f":"IF(AG2703=0,0,AG2702/AG2703*1000/AG$6)","v":0},{"$f":"IF(AH2703=0,0,AH2702/AH2703*1000/AH$6)","v":0}]
[null,null,null,null,null,null,null,null,null,null,null,null,"2.3.1.3","Фактическая численность ремонтного персонала, относимого на регулируемый вид деятельности","ед."]
[null,null,null,null,null,null,null,null,null,null,null,null,"2.3.1.4","Справочно: нормативная численность ремонтного персонала, относимого на регулируемый вид деятельности","ед."]
[null,null,null,null,null,null,null,null,null,null,null,null,"2.3.1.5","Тарифная ставка рабочего 1-го разряда","руб./мес."]
[null,null,null,null,null,null,null,null,null,null,null,null,"2.3.1.6","Индекс роста номинальной заработной платы"]
[null,null,null,null,null,null,null,null,null,null,null,null,"2.3.1.7","Тарифная ставка рабочего 1-го разряда с учётом дефлятора","руб./мес."]
[null,null,null,null,null,null,null,null,null,null,null,null,"2.3.1.8","Средний тарифный коэффициент"]
[null,null,null,null,null,null,null,null,null,null,null,null,"2.3.1.9","Среднемесячная тарифная ставка","руб./мес."]
[null,null,null,null,null,null,null,null,null,null,null,null,"2.3.1.10","Минимальный размер оплаты труда по отраслевому тарифному соглашению","руб./мес."]
[null,null,null,null,null,null,null,null,null,null,null,null,"2.3.2","Отчисления на социальные нужды ремонтного персонала, в том числе налоги и сборы","тыс.руб.",null,null,null,null,null,null,null,null,null,null,null,null,null,null,null,null,{"$f":"AG2713+AH2713","v":0}]
[null,null,null,null,null,null,null,null,null,null,null,null,3,"Административные расходы","тыс.руб.",null,null,null,null,null,null,null,null,null,null,null,null,null,null,null,null,0,{"$f":"SUM(AG2715,AG2722,AG2735,AG2736,AG2737,AG2738,AG2739)","v":0},{"$f":"SUM(AH2715,AH2722,AH2735,AH2736,AH2737,AH2738,AH2739)","v":0}]
[null,null,null,null,null,null,null,null,null,null,null,null,"3.1","Расходы на оплату работ и услуг, выполняемых сторонними организациями","тыс.руб.",null,null,null,null,null,null,null,null,null,null,null,null,null,null,null,null,0,{"$f":"SUM(AG2716:AG2721)","v":0},{"$f":"SUM(AH2716:AH2721)","v":0}]
[null,null,null,null,null,null,null,null,null,null,null,null,"3.1.1","услуги связи и интернет","тыс.руб.",null,null,null,null,null,null,null,null,null,null,null,null,null,null,null,null,0]
[null,null,null,null,null,null,null,null,null,null,null,null,"3.1.2","юридические услуги","тыс.руб.",null,null,null,null,null,null,null,null,null,null,null,null,null,null,null,null,0]
[null,null,null,null,null,null,null,null,null,null,null,null,"3.1.3","аудиторские услуги","тыс.руб.",null,null,null,null,null,null,null,null,null,null,null,null,null,null,null,null,0]
[null,null,null,null,null,null,null,null,null,null,null,null,"3.1.4","консультационные услуги","тыс.руб.",null,null,null,null,null,null,null,null,null,null,null,null,null,null,null,null,0]
[null,null,null,null,null,null,null,null,null,null,null,null,"3.1.5","услуги по вневедомственной охране объектов и территорий","тыс.руб.",null,null,null,null,null,null,null,null,null,null,null,null,null,null,null,null,0]
[null,null,null,null,null,null,null,null,null,null,null,null,"3.1.6","информационные услуги","тыс.руб.",null,null,null,null,null,null,null,null,null,null,null,null,null,null,null,null,0]
[null,null,null,null,null,null,null,null,null,null,null,null,"3.2","Расходы на оплату труда и отчисления на социальные нужды административно-управленческого персонала, в том числе налоги и сборы","тыс.руб.",null,null,null,null,null,null,null,null,null,null,null,null,null,null,null,null,0,{"$f":"SUM(AG2723,AG2734)","v":0},{"$f":"SUM(AH2723,AH2734)","v":0}]
[null,null,null,null,null,null,null,null,null,null,null,null,"3.2.1","Расходы на оплату труда административно-управленческого персонала","тыс.руб.",null,null,null,null,null,null,null,null,null,null,null,null,null,null,null,null,0]
[null,null,null,null,null,null,null,null,null,null,null,null,"3.2.1.1","Численность (среднесписочная), принятая для расчёта","ед."]
[null,null,null,null,null,null,null,null,null,null,null,null,"3.2.1.2","Среднемесячная оплата труда административно-управленческого персонала","руб./мес.",null,null,null,null,null,null,null,null,null,null,null,null,null,null,null,null,{"$f":"IF(AF2724=0,0,AF2723/AF2724*1000/AF$6)","v":0},{"$f":"IF(AG2724=0,0,AG2723/AG2724*1000/AG$6)","v":0},{"$f":"IF(AH2724=0,0,AH2723/AH2724*1000/AH$6)","v":0}]
[null,null,null,null,null,null,null,null,null,null,null,null,"3.2.1.3","Фактическая численность административно-управленческого персонала, относимого на регулируемый вид деятельности","ед."]
[null,null,null,null,null,null,null,null,null,null,null,null,"3.2.1.4","Справочно: нормативная численность административно-управленческого персонала, относимого на регулируемый вид деятельности","ед."]
[null,null,null,null,null,null,null,null,null,null,null,null,"3.2.1.5","Тарифная ставка рабочего 1-го разряда","руб./мес."]
[null,null,null,null,null,null,null,null,null,null,null,null,"3.2.1.6","Индекс роста номинальной заработной платы"]
[null,null,null,null,null,null,null,null,null,null,null,null,"3.2.1.7","Тарифная ставка рабочего 1-го разряда с учётом дефлятора","руб./мес."]
[null,null,null,null,null,null,null,null,null,null,null,null,"3.2.1.8","Средний тарифный коэффициент"]
[null,null,null,null,null,null,null,null,null,null,null,null,"3.2.1.9","Среднемесячная тарифная ставка","руб./мес."]
[null,null,null,null,null,null,null,null,null,null,null,null,"3.2.1.10","Минимальный размер оплаты труда по отраслевому тарифному соглашению","руб./мес."]
[null,null,null,null,null,null,null,null,null,null,null,null,"3.2.2","Отчисления на социальные нужды административно-управленческого персонала, в том числе налоги и сборы","тыс.руб.",null,null,null,null,null,null,null,null,null,null,null,null,null,null,null,null,{"$f":"AG2734+AH2734","v":0}]
[null,null,null,null,null,null,null,null,null,null,null,null,"3.3","Арендная плата, лизинговые платежи, не связанные с арендой (лизингом) централизованных систем водоснабжения и (или) водоотведения либо объектов, входящих в состав таких систем","тыс.руб.",null,null,null,null,null,null,null,null,null,null,null,null,null,null,null,null,0]
[null,null,null,null,null,null,null,null,null,null,null,null,"3.4","Служебные командировки","тыс.руб.",null,null,null,null,null,null,null,null,null,null,null,null,null,null,null,null,0]
[null,null,null,null,null,null,null,null,null,null,null,null,"3.5","Обучение персонала","тыс.руб.",null,null,null,null,null,null,null,null,null,null,null,null,null,null,null,null,0]
[null,null,null,null,null,null,null,null,null,null,null,null,"3.6","Страхование производственных объектов","тыс.руб.",null,null,null,null,null,null,null,null,null,null,null,null,null,null,null,null,0]
[null,null,null,null,null,null,null,null,null,null,null,null,"3.7","Прочие административные расходы","тыс.руб.",null,null,null,null,null,null,null,null,null,null,null,null,null,null,null,null,0]
[null,null,null,null,null,null,null,null,null,null,null,null,"3.7.1","Расходы на амортизацию непроизводственных активов","тыс.руб.",null,null,null,null,null,null,null,null,null,null,null,null,null,null,null,null,0]
[null,null,null,null,null,null,null,null,null,null,null,null,"3.7.2","Расходы по охране объектов и территорий","тыс.руб.",null,null,null,null,null,null,null,null,null,null,null,null,null,null,null,null,0]
[null,null,null,null,null,null,null,null,null,null,null,null,4,"Сбытовые расходы гарантирующих организаций","тыс.руб.",null,null,null,null,null,null,null,null,null,null,null,null,null,null,null,null,0]
[null,null,null,null,null,null,null,null,null,null,null,null,"4.1","Расходы по сомнительным долгам, в размере не более 2% НВВ","тыс.руб.",null,null,null,null,null,null,null,null,null,null,null,null,null,null,null,null,0]
[null,null,null,null,null,null,null,null,null,null,null,null,5,"Амортизация","тыс.руб.",null,null,null,null,null,null,null,null,null,null,null,null,null,null,null,null,0]
[null,null,null,null,null,null,null,null,null,null,null,null,"5.1","Амортизация основных средств и нематериальных активов, относимых к объектам централизованной системы водоснабжения и водоотведения","тыс.руб.",null,null,null,null,null,null,null,null,null,null,null,null,null,null,null,null,0]
[null,null,null,null,null,null,null,null,null,null,null,null,6,"Расходы на арендную плату, лизинговые платежи, концессионную плату, связанные с арендой (лизингом) централизованных систем водоснабжения и (или) водоотведения либо объектов, входящих в состав таких систем","тыс.руб.",null,null,null,null,null,null,null,null,null,null,null,null,null,null,null,null,0,{"$f":"SUM(AG2747,AG2751:AG2754)","v":0},{"$f":"SUM(AH2747,AH2751:AH2754)","v":0}]
[null,null,null,null,null,null,null,null,null,null,null,null,"6.1","Аренда имущества","тыс.руб.",null,null,null,null,null,null,null,null,null,null,null,null,null,null,null,null,0,{"$f":"SUM(AG2748:AG2750)","v":0},{"$f":"SUM(AH2748:AH2750)","v":0}]
[null,null,null,null,null,null,null,null,null,null,null,null,"6.1.1","Аренда объектов в государственной собственности","тыс.руб.",null,null,null,null,null,null,null,null,null,null,null,null,null,null,null,null,0]
[null,null,null,null,null,null,null,null,null,null,null,null,"6.1.2","Аренда объектов в муниципальной собственности","тыс.руб.",null,null,null,null,null,null,null,null,null,null,null,null,null,null,null,null,0]
[null,null,null,null,null,null,null,null,null,null,null,null,"6.1.3","Прочее","тыс.руб.",null,null,null,null,null,null,null,null,null,null,null,null,null,null,null,null,0]
[null,null,null,null,null,null,null,null,null,null,null,null,"6.2","Концессионная плата","тыс.руб.",null,null,null,null,null,null,null,null,null,null,null,null,null,null,null,null,0]
[null,null,null,null,null,null,null,null,null,null,null,null,"6.3","Лизинговые платежи","тыс.руб.",null,null,null,null,null,null,null,null,null,null,null,null,null,null,null,null,0]
[null,null,null,null,null,null,null,null,null,null,null,null,"6.4","Аренда земельных участков","тыс.руб.",null,null,null,null,null,null,null,null,null,null,null,null,null,null,null,null,0]
[null,null,null,null,null,null,null,null,null,null,null,null,"6.5","Иное","тыс.руб.",null,null,null,null,null,null,null,null,null,null,null,null,null,null,null,null,0]
[null,null,null,null,null,null,null,null,null,null,null,null,7,"Расходы, связанные с уплатой налогов и сборов, связанные с арендой (лизингом) централизованных систем водоснабжения и (или) водоотведения либо объектов, входящих в состав таких систем","тыс.руб.",null,null,null,null,null,null,null,null,null,null,null,null,null,null,null,null,0,{"$f":"SUM(AG2756:AG2762)","v":0},{"$f":"SUM(AH2756:AH2762)","v":0}]
[null,null,null,null,null,null,null,null,null,null,null,null,"7.1","Налог на прибыль","тыс.руб.",null,null,null,null,null,null,null,null,null,null,null,null,null,null,null,null,0]
[null,null,null,null,null,null,null,null,null,null,null,null,"7.2","Налог на имущество организаций","тыс.руб.",null,null,null,null,null,null,null,null,null,null,null,null,null,null,null,null,0]
[null,null,null,null,null,null,null,null,null,null,null,null,"7.3","Плата за негативное воздействие на окружающую среду","тыс.руб.",null,null,null,null,null,null,null,null,null,null,null,null,null,null,null,null,0]
[null,null,null,null,null,null,null,null,null,null,null,null,"7.4","Водный налог и плата за пользование водным объектом","тыс.руб.",null,null,null,null,null,null,null,null,null,null,null,null,null,null,null,null,0]
[null,null,null,null,null,null,null,null,null,null,null,null,"7.5","Земельный налог","тыс.руб.",null,null,null,null,null,null,null,null,null,null,null,null,null,null,null,null,0]
[null,null,null,null,null,null,null,null,null,null,null,null,"7.6","Транспортный налог","тыс.руб.",null,null,null,null,null,null,null,null,null,null,null,null,null,null,null,null,0]
[null,null,null,null,null,null,null,null,null,null,null,null,"7.7","Прочие налоги и сборы, за исключением налогов и сборов с фонда оплаты труда, учитываемых в составе производственных, ремонтных и административных расходов","тыс.руб.",null,null,null,null,null,null,null,null,null,null,null,null,null,null,null,null,0]
[null,null,null,null,null,null,null,null,null,null,null,null,"8","Расходы на оплату товаров (услуг, работ), приобретаемых у других организаций, осуществляющих регулируемые виды деятельности","тыс.руб.",null,null,null,null,null,null,null,null,null,null,null,null,null,null,null,null,0]
[null,null,null,null,null,null,null,null,null,null,null,null,"9","Расходы на обслуживание бесхозяйных сетей","тыс.руб.",null,null,null,null,null,null,null,null,null,null,null,null,null,null,null,null,0]
[null,null,null,null,null,null,null,null,null,null,null,null,"10","Прочие неподконтрольные расходы","тыс.руб.",null,null,null,null,null,null,null,null,null,null,null,null,null,null,null,null,0]
[]
[null,null,null,null,null,null,null,null,null,null,null,null,"РО","Итого расходы","тыс.руб.",null,null,null,null,null,null,null,null,null,null,null,null,null,null,null,null,{"$f":"SUM(AF2587,AF2696,AF2714,AF2742,AF2744,AF2746,AF2755,AF2763,AF2764,AF2765)","v":0},{"$f":"SUM(AG2587,AG2696,AG2714,AG2742,AG2744,AG2746,AG2755,AG2763,AG2764,AG2765)","v":0},{"$f":"SUM(AH2587,AH2696,AH2714,AH2742,AH2744,AH2746,AH2755,AH2763,AH2764,AH2765)","v":0}]
[]
[null,null,null,null,null,null,null,null,null,null,null,null,"РР","Итого расходы на реализацию","тыс.руб.",null,null,null,null,null,null,null,null,null,null,null,null,null,null,null,null,{"$f":"AG2769+AH2769","v":0},{"$f":"AG2767*AG$242","v":0},{"$f":"AH2767*AH$242","v":0}]
[]
[null,null,null,null,null,null,null,null,null,null,null,null,"У","Убыток","тыс.руб.",null,null,null,null,null,null,null,null,null,null,null,null,null,null,null,null,{"$f":"AG2771+AH2771","v":0}]
[null,null,null,null,null,null,null,null,null,null,null,null,"П","Прибыль","тыс.руб.",null,null,null,null,null,null,null,null,null,null,null,null,null,null,null,null,{"$f":"AG2772+AH2772","v":0},{"$f":"SUM(AG2774:AG2777)","v":0},{"$f":"SUM(AH2774:AH2777)","v":0}]
[]
[null,null,null,null,null,null,null,null,null,null,null,null,"П.1","Прибыль на развитие производства (капитальные вложения)","тыс.руб.",null,null,null,null,null,null,null,null,null,null,null,null,null,null,null,null,{"$f":"AG2774+AH2774","v":0}]
[null,null,null,null,null,null,null,null,null,null,null,null,"П.2","Прибыль на социальное развитие","тыс.руб.",null,null,null,null,null,null,null,null,null,null,null,null,null,null,null,null,{"$f":"AG2775+AH2775","v":0}]
[null,null,null,null,null,null,null,null,null,null,null,null,"П.3","Прибыль на поощрение","тыс.руб.",null,null,null,null,null,null,null,null,null,null,null,null,null,null,null,null,{"$f":"AG2776+AH2776","v":0}]
[null,null,null,null,null,null,null,null,null,null,null,null,"П.4","Прибыль на прочие цели","тыс.руб.",null,null,null,null,null,null,null,null,null,null,null,null,null,null,null,null,{"$f":"AG2777+AH2777","v":0}]
[]
[]
[]
[]
[]
[]
[]
[]
[null,null,null,null,null,null,null,null,null,null,null,null,"РП","Итого расходы с учётом расходов из прибыли","тыс.руб.",null,null,null,null,null,null,null,null,null,null,null,null,null,null,null,null,{"$f":"AG2786+AH2786","v":0},{"$f":"AG2767+AG2772","v":0},{"$f":"AH2767+AH2772","v":0}]
[]
[]
[]
[]
[]
[]
[]
[]
[]
[]
[]
[]
[]
[]
[]
[]
[]
[null,null,null,null,null,null,null,null,null,null,null,null,"UI.TOTAL","Полезный отпуск продукции всего:\n[БТр!п.3] - транспортировка\n[БПр!п.5.2] - производство","тыс.куб.м",null,null,null,null,null,null,null,null,null,null,null,null,null,null,null,null,{"$f":"AG2804+AH2804","v":0},{"$f":"SUMIF(ВО.БПр!$BA$131:$BA$132,AG$17 & \".0-\" & AG$9,ВО.БПр!$K$131:$K$132)/1000+SUMIF(ВО.БТр!$BA$131:$BA$132,AG$17 & \".0-\" & AG$9,ВО.БТр!$O$131:$O$132)/1000","v":0},{"$f":"SUMIF(ВО.БПр!$BA$131:$BA$132,AH$17 & \".0-\" & AH$9,ВО.БПр!$K$131:$K$132)/1000+SUMIF(ВО.БТр!$BA$131:$BA$132,AH$17 & \".0-\" & AH$9,ВО.БТр!$O$131:$O$132)/1000","v":0}]
[null,null,null,null,null,null,null,null,null,null,null,null,"UI.EC","Полезный отпуск на реализацию потребителям:\n[БТр!п.3.2:3.5] - транспортировка\n[БПр!п.5.2.2 + БПр!п.5.2.3] - производство","тыс.куб.м",null,null,null,null,null,null,null,null,null,null,null,null,null,null,null,null,{"$f":"AG2805+AH2805","v":0},{"$f":"SUMIF(ВО.БПр!$BA$131:$BA$132,AG$17 & \".0-\" & AG$9,ВО.БПр!$M$131:$M$132)/1000+SUMIF(ВО.БТр!$BA$131:$BA$132,AG$17 & \".0-\" & AG$9,ВО.БТр!$Q$131:$Q$132)/1000+SUMIF(ВО.БТр!$BA$131:$BA$132,AG$17 & \".0-\" & AG$9,ВО.БТр!$T$131:$T$132)/1000+SUMIF(ВО.БТр!$BA$131:$BA$132,AG$17 & \".0-\" & AG$9,ВО.БТр!$W$131:$W$132)/1000+SUMIF(ВО.БТр!$BA$131:$BA$132,AG$17 & \".0-\" & AG$9,ВО.БТр!$Z$131:$Z$132)/1000","v":0},{"$f":"SUMIF(ВО.БПр!$BA$131:$BA$132,AH$17 & \".0-\" & AH$9,ВО.БПр!$M$131:$M$132)/1000+SUMIF(ВО.БТр!$BA$131:$BA$132,AH$17 & \".0-\" & AH$9,ВО.БТр!$Q$131:$Q$132)/1000+SUMIF(ВО.БТр!$BA$131:$BA$132,AH$17 & \".0-\" & AH$9,ВО.БТр!$T$131:$T$132)/1000+SUMIF(ВО.БТр!$BA$131:$BA$132,AH$17 & \".0-\" & AH$9,ВО.БТр!$W$131:$W$132)/1000+SUMIF(ВО.БТр!$BA$131:$BA$132,AH$17 & \".0-\" & AH$9,ВО.БТр!$Z$131:$Z$132)/1000","v":0}]
[null,null,null,null,null,null,null,null,null,null,null,null,"UI.COEF","Коэффициент (доля) на реализацию потребителям",null,null,null,null,null,null,null,null,null,null,null,null,null,null,null,null,null,{"$f":"IF(AF2804=0,0,AF2805/AF2804)","v":0},{"$f":"IF(AG2804=0,0,AG2805/AG2804)","v":0},{"$f":"IF(AH2804=0,0,AH2805/AH2804)","v":0}]
[null,null,null,null,null,null,null,null,null,null,null,null,"UI.PURE.EC","Полезный отпуск на реализацию потребителям:\n[БТр!п.3.3:3.5] - транспортировка\n[БПр!п.5.2.3] - производство","тыс.куб.м",null,null,null,null,null,null,null,null,null,null,null,null,null,null,null,null,{"$f":"AG2807+AH2807","v":0},{"$f":"SUMIF(ВО.БПр!$BA$131:$BA$132,AG$17 & \".0-\" & AG$9,ВО.БПр!$N$131:$N$132)/1000+SUMIF(ВО.БПр!$BA$131:$BA$132,AG$17 & \".0-\" & AG$9,ВО.БПр!$Q$131:$Q$132)/1000+SUMIF(ВО.БПр!$BA$131:$BA$132,AG$17 & \".0-\" & AG$9,ВО.БПр!$T$131:$T$132)/1000+SUMIF(ВО.БТр!$BA$131:$BA$132,AG$17 & \".0-\" & AG$9,ВО.БТр!$T$131:$T$132)/1000+SUMIF(ВО.БТр!$BA$131:$BA$132,AG$17 & \".0-\" & AG$9,ВО.БТр!$W$131:$W$132)/1000+SUMIF(ВО.БТр!$BA$131:$BA$132,AG$17 & \".0-\" & AG$9,ВО.БТр!$Z$131:$Z$132)/1000","v":0},{"$f":"SUMIF(ВО.БПр!$BA$131:$BA$132,AH$17 & \".0-\" & AH$9,ВО.БПр!$N$131:$N$132)/1000+SUMIF(ВО.БПр!$BA$131:$BA$132,AH$17 & \".0-\" & AH$9,ВО.БПр!$Q$131:$Q$132)/1000+SUMIF(ВО.БПр!$BA$131:$BA$132,AH$17 & \".0-\" & AH$9,ВО.БПр!$T$131:$T$132)/1000+SUMIF(ВО.БТр!$BA$131:$BA$132,AH$17 & \".0-\" & AH$9,ВО.БТр!$T$131:$T$132)/1000+SUMIF(ВО.БТр!$BA$131:$BA$132,AH$17 & \".0-\" & AH$9,ВО.БТр!$W$131:$W$132)/1000+SUMIF(ВО.БТр!$BA$131:$BA$132,AH$17 & \".0-\" & AH$9,ВО.БТр!$Z$131:$Z$132)/1000","v":0}]
[]
[null,null,null,null,null,null,null,null,null,null,null,null,"UI.TTL",{"$f":"IF(TEMPLATE_SPHERE_CODE=\"COLDVSNA\",\"Объём отпуска воды\",IF(TEMPLATE_SPHERE_CODE=\"VOTV\",\"Объём сточных вод\",\"\"))","v":""},"тыс.куб.м",null,null,null,null,null,null,null,null,null,null,null,null,null,null,null,null,null,{"$f":"AG2804","v":0},{"$f":"AH2804","v":0}]
[]
[null,null,null,null,null,null,null,null,null,null,null,null,"PROFITABILITY","Рентабельность","%",null,null,null,null,null,null,null,null,null,null,null,null,null,null,null,null,{"$f":"IF(AF2767=0,0,(AF2772-AF2771)/AF2767*100)","v":0},{"$f":"IF(AG2767=0,0,(AG2772-AG2771)/AG2767*100)","v":0},{"$f":"IF(AH2767=0,0,(AH2772-AH2771)/AH2767*100)","v":0}]
[]
[null,null,null,null,null,null,null,null,null,null,null,null,"D","Справочно: результат деятельности в периоде регулирования","тыс.руб.",null,null,null,null,null,null,null,null,null,null,null,null,null,null,null,null,{"$f":"AG2813+AH2813","v":0},{"$f":"AG2814-(AG2769+AG2772-AG2771)","v":0},{"$f":"AH2814-(AH2769+AH2772-AH2771)","v":0}]
[null,null,null,null,null,null,null,null,null,null,null,null,{"$f":"M2813 & \".0.1\"","v":"D.0.1"},"Общий доход от реализации потребителям без учёта НДС, исходя из утверждённых тарифов","тыс.руб.",null,null,null,null,null,null,null,null,null,null,null,null,null,null,null,null,{"$f":"AG2814+AH2814","v":0},{"$f":"AG2816+AG2819+AG2822+AG2825+AG2828+AG2829","v":0},{"$f":"AH2816+AH2819+AH2822+AH2825+AH2828+AH2829","v":0}]
[null,null,null,null,null,null,null,null,null,null,null,null,{"$f":"M2813 & \".0.2\"","v":"D.0.2"},"Полезный отпуск продукции на реализацию потребителям","тыс.куб.м",null,null,null,null,null,null,null,null,null,null,null,null,null,null,null,null,{"$f":"AG2815+AH2815","v":0},{"$f":"AG2818+AG2821+AG2824+AG2827","v":0},{"$f":"AH2818+AH2821+AH2824+AH2827","v":0}]
[null,null,null,null,null,null,null,null,null,null,null,null,{"$f":"M2813 & \".1\"","v":"D.1"},"Организации-перепродавцы","тыс.руб.",null,null,null,null,null,null,null,null,null,null,null,null,null,null,null,null,{"$f":"AG2816+AH2816","v":0},{"$f":"AG2817*AG2818","v":0},{"$f":"AH2817*AH2818","v":0}]
[null,null,null,null,null,null,null,null,null,null,null,null,{"$f":"M2816 & \".1\"","v":"D.1.1"},"средневзвешенный тариф","руб./куб.м",null,null,null,null,null,null,null,null,null,null,null,null,null,null,null,null,{"$f":"IF(AF2818=0,0,AF2816/AF2818)","v":0}]
[null,null,null,null,null,null,null,null,null,null,null,null,{"$f":"M2816 & \".2\"","v":"D.1.2"},"объём","тыс.куб.м",null,null,null,null,null,null,null,null,null,null,null,null,null,null,null,null,{"$f":"AG2818+AH2818","v":0},{"$f":"SUMIF(ВО.БПр!$BA$131:$BA$132,AG$17 & \".0-\" & AG$9,ВО.БПр!$W$131:$W$132)/1000+SUMIF(ВО.БТр!$BA$131:$BA$132,AG$17 & \".0-\" & AG$9,ВО.БТр!$Q$131:$Q$132)/1000","v":0},{"$f":"SUMIF(ВО.БПр!$BA$131:$BA$132,AH$17 & \".0-\" & AH$9,ВО.БПр!$W$131:$W$132)/1000+SUMIF(ВО.БТр!$BA$131:$BA$132,AH$17 & \".0-\" & AH$9,ВО.БТр!$Q$131:$Q$132)/1000","v":0}]
[null,null,null,null,null,null,null,null,null,null,null,null,{"$f":"M2813 & \".2\"","v":"D.2"},"Бюджетные потребители","тыс.руб.",null,null,null,null,null,null,null,null,null,null,null,null,null,null,null,null,{"$f":"AG2819+AH2819","v":0},{"$f":"AG2820*AG2821","v":0},{"$f":"AH2820*AH2821","v":0}]
[null,null,null,null,null,null,null,null,null,null,null,null,{"$f":"M2819 & \".1\"","v":"D.2.1"},"средневзвешенный тариф","руб./куб.м",null,null,null,null,null,null,null,null,null,null,null,null,null,null,null,null,{"$f":"IF(AF2821=0,0,AF2819/AF2821)","v":0}]
[null,null,null,null,null,null,null,null,null,null,null,null,{"$f":"M2819 & \".2\"","v":"D.2.2"},"объём","тыс.куб.м",null,null,null,null,null,null,null,null,null,null,null,null,null,null,null,null,{"$f":"AG2821+AH2821","v":0},{"$f":"SUMIF(ВО.БПр!$BA$131:$BA$132,AG$17 & \".0-\" & AG$9,ВО.БПр!$N$131:$N$132)/1000+SUMIF(ВО.БТр!$BA$131:$BA$132,AG$17 & \".0-\" & AG$9,ВО.БТр!$T$131:$T$132)/1000","v":0},{"$f":"SUMIF(ВО.БПр!$BA$131:$BA$132,AH$17 & \".0-\" & AH$9,ВО.БПр!$N$131:$N$132)/1000+SUMIF(ВО.БТр!$BA$131:$BA$132,AH$17 & \".0-\" & AH$9,ВО.БТр!$T$131:$T$132)/1000","v":0}]
[null,null,null,null,null,null,null,null,null,null,null,null,{"$f":"M2813 & \".3\"","v":"D.3"},"Население","тыс.руб.",null,null,null,null,null,null,null,null,null,null,null,null,null,null,null,null,{"$f":"AG2822+AH2822","v":0},{"$f":"AG2823*AG2824","v":0},{"$f":"AH2823*AH2824","v":0}]
[null,null,null,null,null,null,null,null,null,null,null,null,{"$f":"M2822 & \".1\"","v":"D.3.1"},"средневзвешенный тариф","руб./куб.м",null,null,null,null,null,null,null,null,null,null,null,null,null,null,null,null,{"$f":"IF(AF2824=0,0,AF2822/AF2824)","v":0}]
[null,null,null,null,null,null,null,null,null,null,null,null,{"$f":"M2822 & \".2\"","v":"D.3.2"},"объём","тыс.куб.м",null,null,null,null,null,null,null,null,null,null,null,null,null,null,null,null,{"$f":"AG2824+AH2824","v":0},{"$f":"SUMIF(ВО.БПр!$BA$131:$BA$132,AG$17 & \".0-\" & AG$9,ВО.БПр!$Q$131:$Q$132)/1000+SUMIF(ВО.БТр!$BA$131:$BA$132,AG$17 & \".0-\" & AG$9,ВО.БТр!$W$131:$W$132)/1000","v":0},{"$f":"SUMIF(ВО.БПр!$BA$131:$BA$132,AH$17 & \".0-\" & AH$9,ВО.БПр!$Q$131:$Q$132)/1000+SUMIF(ВО.БТр!$BA$131:$BA$132,AH$17 & \".0-\" & AH$9,ВО.БТр!$W$131:$W$132)/1000","v":0}]
[null,null,null,null,null,null,null,null,null,null,null,null,{"$f":"M2813 & \".4\"","v":"D.4"},"Прочие","тыс.руб.",null,null,null,null,null,null,null,null,null,null,null,null,null,null,null,null,{"$f":"AG2825+AH2825","v":0},{"$f":"AG2826*AG2827","v":0},{"$f":"AH2826*AH2827","v":0}]
[null,null,null,null,null,null,null,null,null,null,null,null,{"$f":"M2825 & \".1\"","v":"D.4.1"},"средневзвешенный тариф","руб./куб.м",null,null,null,null,null,null,null,null,null,null,null,null,null,null,null,null,{"$f":"IF(AF2827=0,0,AF2825/AF2827)","v":0}]
[null,null,null,null,null,null,null,null,null,null,null,null,{"$f":"M2825 & \".2\"","v":"D.4.2"},"объём","тыс.куб.м",null,null,null,null,null,null,null,null,null,null,null,null,null,null,null,null,{"$f":"AG2827+AH2827","v":0},{"$f":"SUMIF(ВО.БПр!$BA$131:$BA$132,AG$17 & \".0-\" & AG$9,ВО.БПр!$T$131:$T$132)/1000+SUMIF(ВО.БТр!$BA$131:$BA$132,AG$17 & \".0-\" & AG$9,ВО.БТр!$Z$131:$Z$132)/1000","v":0},{"$f":"SUMIF(ВО.БПр!$BA$131:$BA$132,AH$17 & \".0-\" & AH$9,ВО.БПр!$T$131:$T$132)/1000+SUMIF(ВО.БТр!$BA$131:$BA$132,AH$17 & \".0-\" & AH$9,ВО.БТр!$Z$131:$Z$132)/1000","v":0}]
[null,null,null,null,null,null,null,null,null,null,null,null,{"$f":"M2813 & \".5\"","v":"D.5"},"Объём дотаций из всех уровней бюджета","тыс.руб.",null,null,null,null,null,null,null,null,null,null,null,null,null,null,null,null,{"$f":"AG2828+AH2828","v":0}]
[null,null,null,null,null,null,null,null,null,null,null,null,{"$f":"M2813 & \".6\"","v":"D.6"},"Доходы, полученные сверх реализации по утверждённым тарифам","тыс.руб.",null,null,null,null,null,null,null,null,null,null,null,null,null,null,null,null,{"$f":"AG2829+AH2829","v":0}]
[]
[]
[]
[]
[]
[]
[null,null,null,null,null,null,null,null,null,null,null,null,null,"Дополнительные показатели"]
[null,null,null,null,null,null,null,null,null,null,null,null,null,"Производство"]
[null,null,null,null,null,null,null,null,null,null,null,null,null,{"$f":"\"Стоимость основных средств, относимых на источники производства (приём) \" & RESOURCE_IDENTIFIER","v":"Стоимость основных средств, относимых на источники производства (приём) "},"тыс.руб."]
[null,null,null,null,null,null,null,null,null,null,null,null,null,{"$f":"\"Количество \" & TEMPLATE_SPHERE_OKK_SOURCE","v":"Количество "},"ед."]
[null,null,null,null,null,null,null,null,null,null,null,null,null,"Износ основных средств","%"]
[null,null,null,null,null,null,null,null,null,null,null,null,null,"Очистка"]
[null,null,null,null,null,null,null,null,null,null,null,null,null,{"$f":"\"Стоимость основных средств, относимых на системы / сооружения для очистки \" & RESOURCE_IDENTIFIER","v":"Стоимость основных средств, относимых на системы / сооружения для очистки "},"тыс.руб."]
[null,null,null,null,null,null,null,null,null,null,null,null,null,"Учёт технологий обработки осадка","Индекс группы"]
[null,null,null,null,null,null,null,null,null,null,null,null,null,"Собственная очистка сточных вод","Индекс группы"]
[null,null,null,null,null,null,null,null,null,null,null,null,null,"Износ основных средств","%"]
[null,null,null,null,null,null,null,null,null,null,null,null,null,"Транспортировка"]
[null,null,null,null,null,null,null,null,null,null,null,null,null,"Стоимость основных средств, относимых на транспортировку стоков","тыс.руб."]
[null,null,null,null,null,null,null,null,null,null,null,null,null,"Протяженность сетей","км"]
[null,null,null,null,null,null,null,null,null,null,null,null,null,"Протяженность сетей, подлежащих замене (износ 100%)","км"]
[null,null,null,null,null,null,null,null,null,null,null,null,null,"Сбыт"]
[null,null,null,null,null,null,null,null,null,null,null,null,null,"Полезный отпуск (приём стоков) от наиболее крупного единичного потребителя","тыс.куб.м"]
[null,null,null,null,null,null,null,null,null,null,null,null,null,"Численность обслуживаемого населения","чел."]
[null,null,null,null,null,null,null,null,null,null,null,null,null,"Количество абонентов","тыс.ед."]
[]
[]
[]
[]
[]
[]
[]
[]
[]
[]
[]
[null,null,null,null,null,null,null,null,null,null,null,null,null,null,null,null,null,null,null,null,null,null,null,null,null,null,null,null,"VOTV_REAGENT_ADD_RANGE"]
[]
[]
[]
[null,null,null,null,null,null,null,null,null,null,null,null,null,null,null,null,null,null,null,null,null,null,null,null,null,null,null,null,12,6,6]
[]
[]
[null,null,null,null,null,null,null,null,null,null,null,null,null,null,null,null,null,null,null,null,null,null,null,null,null,null,null,null,"Y","I","II"]
[]
[]
[]
[null,null,null,null,null,null,null,null,null,null,null,null,null,null,null,null,null,null,null,null,null,null,null,null,null,null,null,null,"Год","I полугодие","II полугодие"]
[]
[null,null,null,null,null,null,null,null,null,null,null,null,null,null,null,null,null,null,null,null,null,null,null,null,null,null,null,null,{"$f":"AC2880 & \"_\" & AC2872","v":"0_Y"},{"$f":"AD2880 & \"_\" & AD2872","v":"0_I"},{"$f":"AE2880 & \"_\" & AE2872","v":"0_II"}]
[]
[null,null,null,null,null,null,null,null,null,null,null,null,null,null,null,null,null,null,null,null,null,null,null,null,null,null,null,null,{"$f":"AC2882","v":0},{"$f":"AC2882","v":0},{"$f":"AC2882","v":0}]
[null,null,null,null,null,null,null,null,null,null,null,null,null,null,null,null,null,null,null,null,null,null,null,null,null,null,null,null,"Удалить"]
[null,null,null,null,null,null,null,null,null,null,null,null,"№ п/п","Наименование показателя","Единица измерения",null,null,null,null,null,null,null,null,null,null,null,null,null,null,null,null,null,null,null,null,null,null,null,null,null,null,null,null,null,null,null,null,null,null,null,null,null,null,null,null,null,null,null,null,null,null,null,null,null,null,null,null,null,null,null,null,null,null,null,null,null,"VOTV_REAGENT_ONE_RANGE"]
[null,null,null,null,null,null,null,null,null,null,null,null,null,null,null,null,null,null,null,null,null,null,null,null,null,null,null,null,null,null,null,null,null,null,null,null,null,null,null,null,null,null,null,null,null,null,"VOTV_REAGENT_EMPTY_BASE_RANGE",null,null,null,null,null,null,null,null,null,null,null,null,null,null,null,null,null,null,null,null,null,null,null,null,null,null,null,null,null,"VOTV_REAGENT_NO_ONE_RANGE"]
[null,null,null,null,null,null,null,null,null,null,null,null,null,"Является ли организация плательщиком НДС",null,null,null,null,null,null,null,null,null,null,null,null,null,null,null,null,null,null,null,null,null,null,null,null,null,null,null,null,null,null,null,null,"VOTV_REAGENT_SINGLE_BASE_RANGE",null,null,null,null,null,null,null,null,null,null,null,null,null,null,null,null,null,null,null,null,null,null,null,null,null,null,null,null,null,"VOTV_REAGENT_OTH_RANGE"]
[null,null,null,null,null,null,null,null,null,null,null,null,null,{"$f":"IF(CALC_IDENTIFIER=\"\",\"\",CALC_IDENTIFIER)","v":""},null,null,null,null,null,null,null,null,null,null,null,null,null,null,null,null,null,null,null,null,null,null,null,null,null,null,null,null,null,null,null,null,"VOTV_REAGENT_TEMPLATE_RANGE",null,null,null,null,null,null,null,null,null,null,null,null,null,null,"VOTV_REAGENT_EMPTY_TEMPLATE_RANGE",null,null,null,null,null,null,null,null,null,null,null,null,null,null,"VOTV_REAGENT_NO_OTH_RANGE"]
[]
[]
[null,null,null,null,null,null,null,null,null,null,null,null,"1.1.1","Итого","тыс.руб.",null,null,null,null,null,null,null,null,null,null,null,null,null,null,null,null,{"$f":"AG2888+AH2888","v":0},{"$f":"SUM(AG2890,AG2909,AG2919,AG3164)","v":0},{"$f":"SUM(AH2890,AH2909,AH2919,AH3164)","v":0},null,null,null,{"$f":"AM2888+AN2888","v":0},{"$f":"SUM(AM2890,AM2909,AM2919,AM3164)","v":0},{"$f":"SUM(AN2890,AN2909,AN2919,AN3164)","v":0},{"$f":"AP2888+AQ2888","v":0},{"$f":"SUM(AP2890,AP2909,AP2919,AP3164)","v":0},{"$f":"SUM(AQ2890,AQ2909,AQ2919,AQ3164)","v":0}]
[]
[null,null,null,null,null,null,null,null,null,null,null,null,"COAG","Коагулянты","тыс.руб.",null,null,null,null,null,null,null,null,null,null,null,null,null,null,null,null,{"$f":"AG2890+AH2890","v":0},{"$f":"SUM(AG2892,AG2895,AG2898,AG2901,AG2904,AG2907)","v":0},{"$f":"SUM(AH2892,AH2895,AH2898,AH2901,AH2904,AH2907)","v":0},null,null,null,{"$f":"AM2890+AN2890","v":0},{"$f":"SUM(AM2892,AM2895,AM2898,AM2901,AM2904,AM2907)","v":0},{"$f":"SUM(AN2892,AN2895,AN2898,AN2901,AN2904,AN2907)","v":0},{"$f":"AP2890+AQ2890","v":0},{"$f":"SUM(AP2892,AP2895,AP2898,AP2901,AP2904,AP2907)","v":0},{"$f":"SUM(AQ2892,AQ2895,AQ2898,AQ2901,AQ2904,AQ2907)","v":0}]
[]
[null,null,null,null,null,null,null,null,null,null,null,null,"HDSFAL","гидроксохлоросульфат алюминия (коагулянт смешанного типа)","тыс.руб.",null,null,null,null,null,null,null,null,null,null,null,null,null,null,null,null,null,null,null,null,null,null,{"$f":"AM2892+AN2892","v":0},{"$f":"AM2893*AM2894/1000","v":0},{"$f":"AN2893*AN2894/1000","v":0}]
[null,null,null,null,null,null,null,null,null,null,null,null,{"$f":"M2892 & \".P\"","v":"HDSFAL.P"},"Цена за единицу","руб./ед.",null,null,null,null,null,null,null,null,null,null,null,null,null,null,null,null,null,null,null,null,null,null,{"$f":"IF(AL2894=0,0,AL2892*1000/AL2894)","v":0}]
[null,null,null,null,null,null,null,null,null,null,null,null,{"$f":"M2892 & \".V\"","v":"HDSFAL.V"},"Объём","ед.",null,null,null,null,null,null,null,null,null,null,null,null,null,null,null,null,null,null,null,null,null,null,{"$f":"AM2894+AN2894","v":0}]
[null,null,null,null,null,null,null,null,null,null,null,null,"FES","железный купорос","тыс.руб.",null,null,null,null,null,null,null,null,null,null,null,null,null,null,null,null,null,null,null,null,null,null,{"$f":"AM2895+AN2895","v":0},{"$f":"AM2896*AM2897/1000","v":0},{"$f":"AN2896*AN2897/1000","v":0}]
[null,null,null,null,null,null,null,null,null,null,null,null,{"$f":"M2895 & \".P\"","v":"FES.P"},"Цена за единицу","руб./ед.",null,null,null,null,null,null,null,null,null,null,null,null,null,null,null,null,null,null,null,null,null,null,{"$f":"IF(AL2897=0,0,AL2895*1000/AL2897)","v":0}]
[null,null,null,null,null,null,null,null,null,null,null,null,{"$f":"M2895 & \".V\"","v":"FES.V"},"Объём","ед.",null,null,null,null,null,null,null,null,null,null,null,null,null,null,null,null,null,null,null,null,null,null,{"$f":"AM2897+AN2897","v":0}]
[null,null,null,null,null,null,null,null,null,null,null,null,"OXCLAL","оксихлорид алюминия","тыс.руб.",null,null,null,null,null,null,null,null,null,null,null,null,null,null,null,null,null,null,null,null,null,null,{"$f":"AM2898+AN2898","v":0},{"$f":"AM2899*AM2900/1000","v":0},{"$f":"AN2899*AN2900/1000","v":0}]
[null,null,null,null,null,null,null,null,null,null,null,null,{"$f":"M2898 & \".P\"","v":"OXCLAL.P"},"Цена за единицу","руб./ед.",null,null,null,null,null,null,null,null,null,null,null,null,null,null,null,null,null,null,null,null,null,null,{"$f":"IF(AL2900=0,0,AL2898*1000/AL2900)","v":0}]
[null,null,null,null,null,null,null,null,null,null,null,null,{"$f":"M2898 & \".V\"","v":"OXCLAL.V"},"Объём","ед.",null,null,null,null,null,null,null,null,null,null,null,null,null,null,null,null,null,null,null,null,null,null,{"$f":"AM2900+AN2900","v":0}]
[null,null,null,null,null,null,null,null,null,null,null,null,"PLOXCLAL","полиоксихлорид алюминия ","тыс.руб.",null,null,null,null,null,null,null,null,null,null,null,null,null,null,null,null,null,null,null,null,null,null,{"$f":"AM2901+AN2901","v":0},{"$f":"AM2902*AM2903/1000","v":0},{"$f":"AN2902*AN2903/1000","v":0}]
[null,null,null,null,null,null,null,null,null,null,null,null,{"$f":"M2901 & \".P\"","v":"PLOXCLAL.P"},"Цена за единицу","руб./ед.",null,null,null,null,null,null,null,null,null,null,null,null,null,null,null,null,null,null,null,null,null,null,{"$f":"IF(AL2903=0,0,AL2901*1000/AL2903)","v":0}]
[null,null,null,null,null,null,null,null,null,null,null,null,{"$f":"M2901 & \".V\"","v":"PLOXCLAL.V"},"Объём","ед.",null,null,null,null,null,null,null,null,null,null,null,null,null,null,null,null,null,null,null,null,null,null,{"$f":"AM2903+AN2903","v":0}]
[null,null,null,null,null,null,null,null,null,null,null,null,"SFAL","сульфат алюминия ","тыс.руб.",null,null,null,null,null,null,null,null,null,null,null,null,null,null,null,null,null,null,null,null,null,null,{"$f":"AM2904+AN2904","v":0},{"$f":"AM2905*AM2906/1000","v":0},{"$f":"AN2905*AN2906/1000","v":0}]
[null,null,null,null,null,null,null,null,null,null,null,null,{"$f":"M2904 & \".P\"","v":"SFAL.P"},"Цена за единицу","руб./ед.",null,null,null,null,null,null,null,null,null,null,null,null,null,null,null,null,null,null,null,null,null,null,{"$f":"IF(AL2906=0,0,AL2904*1000/AL2906)","v":0}]
[null,null,null,null,null,null,null,null,null,null,null,null,{"$f":"M2904 & \".V\"","v":"SFAL.V"},"Объём","ед.",null,null,null,null,null,null,null,null,null,null,null,null,null,null,null,null,null,null,null,null,null,null,{"$f":"AM2906+AN2906","v":0}]
[null,null,null,null,null,null,null,null,null,null,null,null,"OTH","прочие","тыс.руб.",null,null,null,null,null,null,null,null,null,null,null,null,null,null,null,null,null,null,null,null,null,null,{"$f":"AM2907+AN2907","v":0}]
[]
[null,null,null,null,null,null,null,null,null,null,null,null,"FLOC","Флокулянты","тыс.руб.",null,null,null,null,null,null,null,null,null,null,null,null,null,null,null,null,{"$f":"AG2909+AH2909","v":0},{"$f":"SUM(AG2911,AG2914,AG2917)","v":0},{"$f":"SUM(AH2911,AH2914,AH2917)","v":0},null,null,null,{"$f":"AM2909+AN2909","v":0},{"$f":"SUM(AM2911,AM2914,AM2917)","v":0},{"$f":"SUM(AN2911,AN2914,AN2917)","v":0},{"$f":"AP2909+AQ2909","v":0},{"$f":"SUM(AP2911,AP2914,AP2917)","v":0},{"$f":"SUM(AQ2911,AQ2914,AQ2917)","v":0}]
[]
[null,null,null,null,null,null,null,null,null,null,null,null,"MGFLK","Магнафлок","тыс.руб.",null,null,null,null,null,null,null,null,null,null,null,null,null,null,null,null,null,null,null,null,null,null,{"$f":"AM2911+AN2911","v":0},{"$f":"AM2912*AM2913/1000","v":0},{"$f":"AN2912*AN2913/1000","v":0}]
[null,null,null,null,null,null,null,null,null,null,null,null,{"$f":"M2911 & \".P\"","v":"MGFLK.P"},"Цена за единицу","руб./ед.",null,null,null,null,null,null,null,null,null,null,null,null,null,null,null,null,null,null,null,null,null,null,{"$f":"IF(AL2913=0,0,AL2911*1000/AL2913)","v":0}]
[null,null,null,null,null,null,null,null,null,null,null,null,{"$f":"M2911 & \".V\"","v":"MGFLK.V"},"Объём","ед.",null,null,null,null,null,null,null,null,null,null,null,null,null,null,null,null,null,null,null,null,null,null,{"$f":"AM2913+AN2913","v":0}]
[null,null,null,null,null,null,null,null,null,null,null,null,"PRSTL","Праестол","тыс.руб.",null,null,null,null,null,null,null,null,null,null,null,null,null,null,null,null,null,null,null,null,null,null,{"$f":"AM2914+AN2914","v":0},{"$f":"AM2915*AM2916/1000","v":0},{"$f":"AN2915*AN2916/1000","v":0}]
[null,null,null,null,null,null,null,null,null,null,null,null,{"$f":"M2914 & \".P\"","v":"PRSTL.P"},"Цена за единицу","руб./ед.",null,null,null,null,null,null,null,null,null,null,null,null,null,null,null,null,null,null,null,null,null,null,{"$f":"IF(AL2916=0,0,AL2914*1000/AL2916)","v":0}]
[null,null,null,null,null,null,null,null,null,null,null,null,{"$f":"M2914 & \".V\"","v":"PRSTL.V"},"Объём","ед.",null,null,null,null,null,null,null,null,null,null,null,null,null,null,null,null,null,null,null,null,null,null,{"$f":"AM2916+AN2916","v":0}]
[null,null,null,null,null,null,null,null,null,null,null,null,"OTH","прочие","тыс.руб.",null,null,null,null,null,null,null,null,null,null,null,null,null,null,null,null,null,null,null,null,null,null,{"$f":"AM2917+AN2917","v":0}]
[]
[null,null,null,null,null,null,null,null,null,null,null,null,"REAG","Реагенты","тыс.руб.",null,null,null,null,null,null,null,null,null,null,null,null,null,null,null,null,{"$f":"AG2919+AH2919","v":0},{"$f":"SUMIF(ВО.Р!$AO$57:$AO$299,ВО.Р!$AO$56,ВО.Р!AG$57:AG$299)","v":0},{"$f":"SUMIF(ВО.Р!$AO$57:$AO$299,ВО.Р!$AO$56,ВО.Р!AH$57:AH$299)","v":0},null,null,null,{"$f":"AM2919+AN2919","v":0},{"$f":"SUMIF(ВО.Р!$AO$57:$AO$299,ВО.Р!$AO$56,ВО.Р!AM$57:AM$299)","v":0},{"$f":"SUMIF(ВО.Р!$AO$57:$AO$299,ВО.Р!$AO$56,ВО.Р!AN$57:AN$299)","v":0},{"$f":"AP2919+AQ2919","v":0},{"$f":"SUMIF(ВО.Р!$AO$57:$AO$299,ВО.Р!$AO$56,ВО.Р!AP$57:AP$299)","v":0},{"$f":"SUMIF(ВО.Р!$AO$57:$AO$299,ВО.Р!$AO$56,ВО.Р!AQ$57:AQ$299)","v":0}]
[]
[null,null,null,null,null,null,null,null,null,null,null,null,"AGRP","агар питательный","тыс.руб.",null,null,null,null,null,null,null,null,null,null,null,null,null,null,null,null,null,null,null,null,null,null,{"$f":"AM2921+AN2921","v":0},{"$f":"AM2922*AM2923/1000","v":0},{"$f":"AN2922*AN2923/1000","v":0}]
[null,null,null,null,null,null,null,null,null,null,null,null,{"$f":"M2921 & \".P\"","v":"AGRP.P"},"Цена за единицу","руб./ед.",null,null,null,null,null,null,null,null,null,null,null,null,null,null,null,null,null,null,null,null,null,null,{"$f":"IF(AL2923=0,0,AL2921*1000/AL2923)","v":0}]
[null,null,null,null,null,null,null,null,null,null,null,null,{"$f":"M2921 & \".V\"","v":"AGRP.V"},"Объём","ед.",null,null,null,null,null,null,null,null,null,null,null,null,null,null,null,null,null,null,null,null,null,null,{"$f":"AM2923+AN2923","v":0}]
[null,null,null,null,null,null,null,null,null,null,null,null,"AGRE","агар Эндо","тыс.руб.",null,null,null,null,null,null,null,null,null,null,null,null,null,null,null,null,null,null,null,null,null,null,{"$f":"AM2924+AN2924","v":0},{"$f":"AM2925*AM2926/1000","v":0},{"$f":"AN2925*AN2926/1000","v":0}]
[null,null,null,null,null,null,null,null,null,null,null,null,{"$f":"M2924 & \".P\"","v":"AGRE.P"},"Цена за единицу","руб./ед.",null,null,null,null,null,null,null,null,null,null,null,null,null,null,null,null,null,null,null,null,null,null,{"$f":"IF(AL2926=0,0,AL2924*1000/AL2926)","v":0}]
[null,null,null,null,null,null,null,null,null,null,null,null,{"$f":"M2924 & \".V\"","v":"AGRE.V"},"Объём","ед.",null,null,null,null,null,null,null,null,null,null,null,null,null,null,null,null,null,null,null,null,null,null,{"$f":"AM2926+AN2926","v":0}]
[null,null,null,null,null,null,null,null,null,null,null,null,"ALOX","алюминий окись","тыс.руб.",null,null,null,null,null,null,null,null,null,null,null,null,null,null,null,null,null,null,null,null,null,null,{"$f":"AM2927+AN2927","v":0},{"$f":"AM2928*AM2929/1000","v":0},{"$f":"AN2928*AN2929/1000","v":0}]
[null,null,null,null,null,null,null,null,null,null,null,null,{"$f":"M2927 & \".P\"","v":"ALOX.P"},"Цена за единицу","руб./ед.",null,null,null,null,null,null,null,null,null,null,null,null,null,null,null,null,null,null,null,null,null,null,{"$f":"IF(AL2929=0,0,AL2927*1000/AL2929)","v":0}]
[null,null,null,null,null,null,null,null,null,null,null,null,{"$f":"M2927 & \".V\"","v":"ALOX.V"},"Объём","ед.",null,null,null,null,null,null,null,null,null,null,null,null,null,null,null,null,null,null,null,null,null,null,{"$f":"AM2929+AN2929","v":0}]
[null,null,null,null,null,null,null,null,null,null,null,null,"ALS","алюминий сернокислый","тыс.руб.",null,null,null,null,null,null,null,null,null,null,null,null,null,null,null,null,null,null,null,null,null,null,{"$f":"AM2930+AN2930","v":0},{"$f":"AM2931*AM2932/1000","v":0},{"$f":"AN2931*AN2932/1000","v":0}]
[null,null,null,null,null,null,null,null,null,null,null,null,{"$f":"M2930 & \".P\"","v":"ALS.P"},"Цена за единицу","руб./ед.",null,null,null,null,null,null,null,null,null,null,null,null,null,null,null,null,null,null,null,null,null,null,{"$f":"IF(AL2932=0,0,AL2930*1000/AL2932)","v":0}]
[null,null,null,null,null,null,null,null,null,null,null,null,{"$f":"M2930 & \".V\"","v":"ALS.V"},"Объём","ед.",null,null,null,null,null,null,null,null,null,null,null,null,null,null,null,null,null,null,null,null,null,null,{"$f":"AM2932+AN2932","v":0}]
[null,null,null,null,null,null,null,null,null,null,null,null,"AM","аммиак","тыс.руб.",null,null,null,null,null,null,null,null,null,null,null,null,null,null,null,null,null,null,null,null,null,null,{"$f":"AM2933+AN2933","v":0},{"$f":"AM2934*AM2935/1000","v":0},{"$f":"AN2934*AN2935/1000","v":0}]
[null,null,null,null,null,null,null,null,null,null,null,null,{"$f":"M2933 & \".P\"","v":"AM.P"},"Цена за единицу","руб./ед.",null,null,null,null,null,null,null,null,null,null,null,null,null,null,null,null,null,null,null,null,null,null,{"$f":"IF(AL2935=0,0,AL2933*1000/AL2935)","v":0}]
[null,null,null,null,null,null,null,null,null,null,null,null,{"$f":"M2933 & \".V\"","v":"AM.V"},"Объём","ед.",null,null,null,null,null,null,null,null,null,null,null,null,null,null,null,null,null,null,null,null,null,null,{"$f":"AM2935+AN2935","v":0}]
[null,null,null,null,null,null,null,null,null,null,null,null,"AMW","аммиачная вода","тыс.руб.",null,null,null,null,null,null,null,null,null,null,null,null,null,null,null,null,null,null,null,null,null,null,{"$f":"AM2936+AN2936","v":0},{"$f":"AM2937*AM2938/1000","v":0},{"$f":"AN2937*AN2938/1000","v":0}]
[null,null,null,null,null,null,null,null,null,null,null,null,{"$f":"M2936 & \".P\"","v":"AMW.P"},"Цена за единицу","руб./ед.",null,null,null,null,null,null,null,null,null,null,null,null,null,null,null,null,null,null,null,null,null,null,{"$f":"IF(AL2938=0,0,AL2936*1000/AL2938)","v":0}]
[null,null,null,null,null,null,null,null,null,null,null,null,{"$f":"M2936 & \".V\"","v":"AMW.V"},"Объём","ед.",null,null,null,null,null,null,null,null,null,null,null,null,null,null,null,null,null,null,null,null,null,null,{"$f":"AM2938+AN2938","v":0}]
[null,null,null,null,null,null,null,null,null,null,null,null,"AMN","аммоний","тыс.руб.",null,null,null,null,null,null,null,null,null,null,null,null,null,null,null,null,null,null,null,null,null,null,{"$f":"AM2939+AN2939","v":0},{"$f":"AM2940*AM2941/1000","v":0},{"$f":"AN2940*AN2941/1000","v":0}]
[null,null,null,null,null,null,null,null,null,null,null,null,{"$f":"M2939 & \".P\"","v":"AMN.P"},"Цена за единицу","руб./ед.",null,null,null,null,null,null,null,null,null,null,null,null,null,null,null,null,null,null,null,null,null,null,{"$f":"IF(AL2941=0,0,AL2939*1000/AL2941)","v":0}]
[null,null,null,null,null,null,null,null,null,null,null,null,{"$f":"M2939 & \".V\"","v":"AMN.V"},"Объём","ед.",null,null,null,null,null,null,null,null,null,null,null,null,null,null,null,null,null,null,null,null,null,null,{"$f":"AM2941+AN2941","v":0}]
[null,null,null,null,null,null,null,null,null,null,null,null,"AMNCL","аммоний хлористый","тыс.руб.",null,null,null,null,null,null,null,null,null,null,null,null,null,null,null,null,null,null,null,null,null,null,{"$f":"AM2942+AN2942","v":0},{"$f":"AM2943*AM2944/1000","v":0},{"$f":"AN2943*AN2944/1000","v":0}]
[null,null,null,null,null,null,null,null,null,null,null,null,{"$f":"M2942 & \".P\"","v":"AMNCL.P"},"Цена за единицу","руб./ед.",null,null,null,null,null,null,null,null,null,null,null,null,null,null,null,null,null,null,null,null,null,null,{"$f":"IF(AL2944=0,0,AL2942*1000/AL2944)","v":0}]
[null,null,null,null,null,null,null,null,null,null,null,null,{"$f":"M2942 & \".V\"","v":"AMNCL.V"},"Объём","ед.",null,null,null,null,null,null,null,null,null,null,null,null,null,null,null,null,null,null,null,null,null,null,{"$f":"AM2944+AN2944","v":0}]
[null,null,null,null,null,null,null,null,null,null,null,null,"BACL","барий хлористый","тыс.руб.",null,null,null,null,null,null,null,null,null,null,null,null,null,null,null,null,null,null,null,null,null,null,{"$f":"AM2945+AN2945","v":0},{"$f":"AM2946*AM2947/1000","v":0},{"$f":"AN2946*AN2947/1000","v":0}]
[null,null,null,null,null,null,null,null,null,null,null,null,{"$f":"M2945 & \".P\"","v":"BACL.P"},"Цена за единицу","руб./ед.",null,null,null,null,null,null,null,null,null,null,null,null,null,null,null,null,null,null,null,null,null,null,{"$f":"IF(AL2947=0,0,AL2945*1000/AL2947)","v":0}]
[null,null,null,null,null,null,null,null,null,null,null,null,{"$f":"M2945 & \".V\"","v":"BACL.V"},"Объём","ед.",null,null,null,null,null,null,null,null,null,null,null,null,null,null,null,null,null,null,null,null,null,null,{"$f":"AM2947+AN2947","v":0}]
[null,null,null,null,null,null,null,null,null,null,null,null,"BIOX","биоксимин","тыс.руб.",null,null,null,null,null,null,null,null,null,null,null,null,null,null,null,null,null,null,null,null,null,null,{"$f":"AM2948+AN2948","v":0},{"$f":"AM2949*AM2950/1000","v":0},{"$f":"AN2949*AN2950/1000","v":0}]
[null,null,null,null,null,null,null,null,null,null,null,null,{"$f":"M2948 & \".P\"","v":"BIOX.P"},"Цена за единицу","руб./ед.",null,null,null,null,null,null,null,null,null,null,null,null,null,null,null,null,null,null,null,null,null,null,{"$f":"IF(AL2950=0,0,AL2948*1000/AL2950)","v":0}]
[null,null,null,null,null,null,null,null,null,null,null,null,{"$f":"M2948 & \".V\"","v":"BIOX.V"},"Объём","ед.",null,null,null,null,null,null,null,null,null,null,null,null,null,null,null,null,null,null,null,null,null,null,{"$f":"AM2950+AN2950","v":0}]
[null,null,null,null,null,null,null,null,null,null,null,null,"BRFNL","бромфеноловый синий","тыс.руб.",null,null,null,null,null,null,null,null,null,null,null,null,null,null,null,null,null,null,null,null,null,null,{"$f":"AM2951+AN2951","v":0},{"$f":"AM2952*AM2953/1000","v":0},{"$f":"AN2952*AN2953/1000","v":0}]
[null,null,null,null,null,null,null,null,null,null,null,null,{"$f":"M2951 & \".P\"","v":"BRFNL.P"},"Цена за единицу","руб./ед.",null,null,null,null,null,null,null,null,null,null,null,null,null,null,null,null,null,null,null,null,null,null,{"$f":"IF(AL2953=0,0,AL2951*1000/AL2953)","v":0}]
[null,null,null,null,null,null,null,null,null,null,null,null,{"$f":"M2951 & \".V\"","v":"BRFNL.V"},"Объём","ед.",null,null,null,null,null,null,null,null,null,null,null,null,null,null,null,null,null,null,null,null,null,null,{"$f":"AM2953+AN2953","v":0}]
[null,null,null,null,null,null,null,null,null,null,null,null,"HDOX","водорода перекись","тыс.руб.",null,null,null,null,null,null,null,null,null,null,null,null,null,null,null,null,null,null,null,null,null,null,{"$f":"AM2954+AN2954","v":0},{"$f":"AM2955*AM2956/1000","v":0},{"$f":"AN2955*AN2956/1000","v":0}]
[null,null,null,null,null,null,null,null,null,null,null,null,{"$f":"M2954 & \".P\"","v":"HDOX.P"},"Цена за единицу","руб./ед.",null,null,null,null,null,null,null,null,null,null,null,null,null,null,null,null,null,null,null,null,null,null,{"$f":"IF(AL2956=0,0,AL2954*1000/AL2956)","v":0}]
[null,null,null,null,null,null,null,null,null,null,null,null,{"$f":"M2954 & \".V\"","v":"HDOX.V"},"Объём","ед.",null,null,null,null,null,null,null,null,null,null,null,null,null,null,null,null,null,null,null,null,null,null,{"$f":"AM2956+AN2956","v":0}]
[null,null,null,null,null,null,null,null,null,null,null,null,"GEXN","гексан","тыс.руб.",null,null,null,null,null,null,null,null,null,null,null,null,null,null,null,null,null,null,null,null,null,null,{"$f":"AM2957+AN2957","v":0},{"$f":"AM2958*AM2959/1000","v":0},{"$f":"AN2958*AN2959/1000","v":0}]
[null,null,null,null,null,null,null,null,null,null,null,null,{"$f":"M2957 & \".P\"","v":"GEXN.P"},"Цена за единицу","руб./ед.",null,null,null,null,null,null,null,null,null,null,null,null,null,null,null,null,null,null,null,null,null,null,{"$f":"IF(AL2959=0,0,AL2957*1000/AL2959)","v":0}]
[null,null,null,null,null,null,null,null,null,null,null,null,{"$f":"M2957 & \".V\"","v":"GEXN.V"},"Объём","ед.",null,null,null,null,null,null,null,null,null,null,null,null,null,null,null,null,null,null,null,null,null,null,{"$f":"AM2959+AN2959","v":0}]
[null,null,null,null,null,null,null,null,null,null,null,null,"HDOXCL","гидроксиламин солянокислый","тыс.руб.",null,null,null,null,null,null,null,null,null,null,null,null,null,null,null,null,null,null,null,null,null,null,{"$f":"AM2960+AN2960","v":0},{"$f":"AM2961*AM2962/1000","v":0},{"$f":"AN2961*AN2962/1000","v":0}]
[null,null,null,null,null,null,null,null,null,null,null,null,{"$f":"M2960 & \".P\"","v":"HDOXCL.P"},"Цена за единицу","руб./ед.",null,null,null,null,null,null,null,null,null,null,null,null,null,null,null,null,null,null,null,null,null,null,{"$f":"IF(AL2962=0,0,AL2960*1000/AL2962)","v":0}]
[null,null,null,null,null,null,null,null,null,null,null,null,{"$f":"M2960 & \".V\"","v":"HDOXCL.V"},"Объём","ед.",null,null,null,null,null,null,null,null,null,null,null,null,null,null,null,null,null,null,null,null,null,null,{"$f":"AM2962+AN2962","v":0}]
[null,null,null,null,null,null,null,null,null,null,null,null,"HDCLCA","гидрохлорид кальция","тыс.руб.",null,null,null,null,null,null,null,null,null,null,null,null,null,null,null,null,null,null,null,null,null,null,{"$f":"AM2963+AN2963","v":0},{"$f":"AM2964*AM2965/1000","v":0},{"$f":"AN2964*AN2965/1000","v":0}]
[null,null,null,null,null,null,null,null,null,null,null,null,{"$f":"M2963 & \".P\"","v":"HDCLCA.P"},"Цена за единицу","руб./ед.",null,null,null,null,null,null,null,null,null,null,null,null,null,null,null,null,null,null,null,null,null,null,{"$f":"IF(AL2965=0,0,AL2963*1000/AL2965)","v":0}]
[null,null,null,null,null,null,null,null,null,null,null,null,{"$f":"M2963 & \".V\"","v":"HDCLCA.V"},"Объём","ед.",null,null,null,null,null,null,null,null,null,null,null,null,null,null,null,null,null,null,null,null,null,null,{"$f":"AM2965+AN2965","v":0}]
[null,null,null,null,null,null,null,null,null,null,null,null,"HPCLCA","гипохлорит кальция","тыс.руб.",null,null,null,null,null,null,null,null,null,null,null,null,null,null,null,null,null,null,null,null,null,null,{"$f":"AM2966+AN2966","v":0},{"$f":"AM2967*AM2968/1000","v":0},{"$f":"AN2967*AN2968/1000","v":0}]
[null,null,null,null,null,null,null,null,null,null,null,null,{"$f":"M2966 & \".P\"","v":"HPCLCA.P"},"Цена за единицу","руб./ед.",null,null,null,null,null,null,null,null,null,null,null,null,null,null,null,null,null,null,null,null,null,null,{"$f":"IF(AL2968=0,0,AL2966*1000/AL2968)","v":0}]
[null,null,null,null,null,null,null,null,null,null,null,null,{"$f":"M2966 & \".V\"","v":"HPCLCA.V"},"Объём","ед.",null,null,null,null,null,null,null,null,null,null,null,null,null,null,null,null,null,null,null,null,null,null,{"$f":"AM2968+AN2968","v":0}]
[null,null,null,null,null,null,null,null,null,null,null,null,"HPCLNA","гипохлорит натрия","тыс.руб.",null,null,null,null,null,null,null,null,null,null,null,null,null,null,null,null,null,null,null,null,null,null,{"$f":"AM2969+AN2969","v":0},{"$f":"AM2970*AM2971/1000","v":0},{"$f":"AN2970*AN2971/1000","v":0}]
[null,null,null,null,null,null,null,null,null,null,null,null,{"$f":"M2969 & \".P\"","v":"HPCLNA.P"},"Цена за единицу","руб./ед.",null,null,null,null,null,null,null,null,null,null,null,null,null,null,null,null,null,null,null,null,null,null,{"$f":"IF(AL2971=0,0,AL2969*1000/AL2971)","v":0}]
[null,null,null,null,null,null,null,null,null,null,null,null,{"$f":"M2969 & \".V\"","v":"HPCLNA.V"},"Объём","ед.",null,null,null,null,null,null,null,null,null,null,null,null,null,null,null,null,null,null,null,null,null,null,{"$f":"AM2971+AN2971","v":0}]
[null,null,null,null,null,null,null,null,null,null,null,null,"GLC","глицерин","тыс.руб.",null,null,null,null,null,null,null,null,null,null,null,null,null,null,null,null,null,null,null,null,null,null,{"$f":"AM2972+AN2972","v":0},{"$f":"AM2973*AM2974/1000","v":0},{"$f":"AN2973*AN2974/1000","v":0}]
[null,null,null,null,null,null,null,null,null,null,null,null,{"$f":"M2972 & \".P\"","v":"GLC.P"},"Цена за единицу","руб./ед.",null,null,null,null,null,null,null,null,null,null,null,null,null,null,null,null,null,null,null,null,null,null,{"$f":"IF(AL2974=0,0,AL2972*1000/AL2974)","v":0}]
[null,null,null,null,null,null,null,null,null,null,null,null,{"$f":"M2972 & \".V\"","v":"GLC.V"},"Объём","ед.",null,null,null,null,null,null,null,null,null,null,null,null,null,null,null,null,null,null,null,null,null,null,{"$f":"AM2974+AN2974","v":0}]
[null,null,null,null,null,null,null,null,null,null,null,null,"DFNLCD","дифенилкарбазид","тыс.руб.",null,null,null,null,null,null,null,null,null,null,null,null,null,null,null,null,null,null,null,null,null,null,{"$f":"AM2975+AN2975","v":0},{"$f":"AM2976*AM2977/1000","v":0},{"$f":"AN2976*AN2977/1000","v":0}]
[null,null,null,null,null,null,null,null,null,null,null,null,{"$f":"M2975 & \".P\"","v":"DFNLCD.P"},"Цена за единицу","руб./ед.",null,null,null,null,null,null,null,null,null,null,null,null,null,null,null,null,null,null,null,null,null,null,{"$f":"IF(AL2977=0,0,AL2975*1000/AL2977)","v":0}]
[null,null,null,null,null,null,null,null,null,null,null,null,{"$f":"M2975 & \".V\"","v":"DFNLCD.V"},"Объём","ед.",null,null,null,null,null,null,null,null,null,null,null,null,null,null,null,null,null,null,null,null,null,null,{"$f":"AM2977+AN2977","v":0}]
[null,null,null,null,null,null,null,null,null,null,null,null,"DFNLCN","дифенилкарбазон","тыс.руб.",null,null,null,null,null,null,null,null,null,null,null,null,null,null,null,null,null,null,null,null,null,null,{"$f":"AM2978+AN2978","v":0},{"$f":"AM2979*AM2980/1000","v":0},{"$f":"AN2979*AN2980/1000","v":0}]
[null,null,null,null,null,null,null,null,null,null,null,null,{"$f":"M2978 & \".P\"","v":"DFNLCN.P"},"Цена за единицу","руб./ед.",null,null,null,null,null,null,null,null,null,null,null,null,null,null,null,null,null,null,null,null,null,null,{"$f":"IF(AL2980=0,0,AL2978*1000/AL2980)","v":0}]
[null,null,null,null,null,null,null,null,null,null,null,null,{"$f":"M2978 & \".V\"","v":"DFNLCN.V"},"Объём","ед.",null,null,null,null,null,null,null,null,null,null,null,null,null,null,null,null,null,null,null,null,null,null,{"$f":"AM2980+AN2980","v":0}]
[null,null,null,null,null,null,null,null,null,null,null,null,"FES","железо сернокислое","тыс.руб.",null,null,null,null,null,null,null,null,null,null,null,null,null,null,null,null,null,null,null,null,null,null,{"$f":"AM2981+AN2981","v":0},{"$f":"AM2982*AM2983/1000","v":0},{"$f":"AN2982*AN2983/1000","v":0}]
[null,null,null,null,null,null,null,null,null,null,null,null,{"$f":"M2981 & \".P\"","v":"FES.P"},"Цена за единицу","руб./ед.",null,null,null,null,null,null,null,null,null,null,null,null,null,null,null,null,null,null,null,null,null,null,{"$f":"IF(AL2983=0,0,AL2981*1000/AL2983)","v":0}]
[null,null,null,null,null,null,null,null,null,null,null,null,{"$f":"M2981 & \".V\"","v":"FES.V"},"Объём","ед.",null,null,null,null,null,null,null,null,null,null,null,null,null,null,null,null,null,null,null,null,null,null,{"$f":"AM2983+AN2983","v":0}]
[null,null,null,null,null,null,null,null,null,null,null,null,"FECL","железо трёххлористое","тыс.руб.",null,null,null,null,null,null,null,null,null,null,null,null,null,null,null,null,null,null,null,null,null,null,{"$f":"AM2984+AN2984","v":0},{"$f":"AM2985*AM2986/1000","v":0},{"$f":"AN2985*AN2986/1000","v":0}]
[null,null,null,null,null,null,null,null,null,null,null,null,{"$f":"M2984 & \".P\"","v":"FECL.P"},"Цена за единицу","руб./ед.",null,null,null,null,null,null,null,null,null,null,null,null,null,null,null,null,null,null,null,null,null,null,{"$f":"IF(AL2986=0,0,AL2984*1000/AL2986)","v":0}]
[null,null,null,null,null,null,null,null,null,null,null,null,{"$f":"M2984 & \".V\"","v":"FECL.V"},"Объём","ед.",null,null,null,null,null,null,null,null,null,null,null,null,null,null,null,null,null,null,null,null,null,null,{"$f":"AM2986+AN2986","v":0}]
[null,null,null,null,null,null,null,null,null,null,null,null,"LIMENP","известь негашёная (порошок)","тыс.руб.",null,null,null,null,null,null,null,null,null,null,null,null,null,null,null,null,null,null,null,null,null,null,{"$f":"AM2987+AN2987","v":0},{"$f":"AM2988*AM2989/1000","v":0},{"$f":"AN2988*AN2989/1000","v":0}]
[null,null,null,null,null,null,null,null,null,null,null,null,{"$f":"M2987 & \".P\"","v":"LIMENP.P"},"Цена за единицу","руб./ед.",null,null,null,null,null,null,null,null,null,null,null,null,null,null,null,null,null,null,null,null,null,null,{"$f":"IF(AL2989=0,0,AL2987*1000/AL2989)","v":0}]
[null,null,null,null,null,null,null,null,null,null,null,null,{"$f":"M2987 & \".V\"","v":"LIMENP.V"},"Объём","ед.",null,null,null,null,null,null,null,null,null,null,null,null,null,null,null,null,null,null,null,null,null,null,{"$f":"AM2989+AN2989","v":0}]
[null,null,null,null,null,null,null,null,null,null,null,null,"LIMENH","известь негашёная гидратная","тыс.руб.",null,null,null,null,null,null,null,null,null,null,null,null,null,null,null,null,null,null,null,null,null,null,{"$f":"AM2990+AN2990","v":0},{"$f":"AM2991*AM2992/1000","v":0},{"$f":"AN2991*AN2992/1000","v":0}]
[null,null,null,null,null,null,null,null,null,null,null,null,{"$f":"M2990 & \".P\"","v":"LIMENH.P"},"Цена за единицу","руб./ед.",null,null,null,null,null,null,null,null,null,null,null,null,null,null,null,null,null,null,null,null,null,null,{"$f":"IF(AL2992=0,0,AL2990*1000/AL2992)","v":0}]
[null,null,null,null,null,null,null,null,null,null,null,null,{"$f":"M2990 & \".V\"","v":"LIMENH.V"},"Объём","ед.",null,null,null,null,null,null,null,null,null,null,null,null,null,null,null,null,null,null,null,null,null,null,{"$f":"AM2992+AN2992","v":0}]
[null,null,null,null,null,null,null,null,null,null,null,null,"LIMECL","известь хлорная","тыс.руб.",null,null,null,null,null,null,null,null,null,null,null,null,null,null,null,null,null,null,null,null,null,null,{"$f":"AM2993+AN2993","v":0},{"$f":"AM2994*AM2995/1000","v":0},{"$f":"AN2994*AN2995/1000","v":0}]
[null,null,null,null,null,null,null,null,null,null,null,null,{"$f":"M2993 & \".P\"","v":"LIMECL.P"},"Цена за единицу","руб./ед.",null,null,null,null,null,null,null,null,null,null,null,null,null,null,null,null,null,null,null,null,null,null,{"$f":"IF(AL2995=0,0,AL2993*1000/AL2995)","v":0}]
[null,null,null,null,null,null,null,null,null,null,null,null,{"$f":"M2993 & \".V\"","v":"LIMECL.V"},"Объём","ед.",null,null,null,null,null,null,null,null,null,null,null,null,null,null,null,null,null,null,null,null,null,null,{"$f":"AM2995+AN2995","v":0}]
[null,null,null,null,null,null,null,null,null,null,null,null,"KN","калий азотнокислый","тыс.руб.",null,null,null,null,null,null,null,null,null,null,null,null,null,null,null,null,null,null,null,null,null,null,{"$f":"AM2996+AN2996","v":0},{"$f":"AM2997*AM2998/1000","v":0},{"$f":"AN2997*AN2998/1000","v":0}]
[null,null,null,null,null,null,null,null,null,null,null,null,{"$f":"M2996 & \".P\"","v":"KN.P"},"Цена за единицу","руб./ед.",null,null,null,null,null,null,null,null,null,null,null,null,null,null,null,null,null,null,null,null,null,null,{"$f":"IF(AL2998=0,0,AL2996*1000/AL2998)","v":0}]
[null,null,null,null,null,null,null,null,null,null,null,null,{"$f":"M2996 & \".V\"","v":"KN.V"},"Объём","ед.",null,null,null,null,null,null,null,null,null,null,null,null,null,null,null,null,null,null,null,null,null,null,{"$f":"AM2998+AN2998","v":0}]
[null,null,null,null,null,null,null,null,null,null,null,null,"KCR","калий двухромовокислый","тыс.руб.",null,null,null,null,null,null,null,null,null,null,null,null,null,null,null,null,null,null,null,null,null,null,{"$f":"AM2999+AN2999","v":0},{"$f":"AM3000*AM3001/1000","v":0},{"$f":"AN3000*AN3001/1000","v":0}]
[null,null,null,null,null,null,null,null,null,null,null,null,{"$f":"M2999 & \".P\"","v":"KCR.P"},"Цена за единицу","руб./ед.",null,null,null,null,null,null,null,null,null,null,null,null,null,null,null,null,null,null,null,null,null,null,{"$f":"IF(AL3001=0,0,AL2999*1000/AL3001)","v":0}]
[null,null,null,null,null,null,null,null,null,null,null,null,{"$f":"M2999 & \".V\"","v":"KCR.V"},"Объём","ед.",null,null,null,null,null,null,null,null,null,null,null,null,null,null,null,null,null,null,null,null,null,null,{"$f":"AM3001+AN3001","v":0}]
[null,null,null,null,null,null,null,null,null,null,null,null,"KI","калий йодистый","тыс.руб.",null,null,null,null,null,null,null,null,null,null,null,null,null,null,null,null,null,null,null,null,null,null,{"$f":"AM3002+AN3002","v":0},{"$f":"AM3003*AM3004/1000","v":0},{"$f":"AN3003*AN3004/1000","v":0}]
[null,null,null,null,null,null,null,null,null,null,null,null,{"$f":"M3002 & \".P\"","v":"KI.P"},"Цена за единицу","руб./ед.",null,null,null,null,null,null,null,null,null,null,null,null,null,null,null,null,null,null,null,null,null,null,{"$f":"IF(AL3004=0,0,AL3002*1000/AL3004)","v":0}]
[null,null,null,null,null,null,null,null,null,null,null,null,{"$f":"M3002 & \".V\"","v":"KI.V"},"Объём","ед.",null,null,null,null,null,null,null,null,null,null,null,null,null,null,null,null,null,null,null,null,null,null,{"$f":"AM3004+AN3004","v":0}]
[null,null,null,null,null,null,null,null,null,null,null,null,"KMN","калий марганцевокислый","тыс.руб.",null,null,null,null,null,null,null,null,null,null,null,null,null,null,null,null,null,null,null,null,null,null,{"$f":"AM3005+AN3005","v":0},{"$f":"AM3006*AM3007/1000","v":0},{"$f":"AN3006*AN3007/1000","v":0}]
[null,null,null,null,null,null,null,null,null,null,null,null,{"$f":"M3005 & \".P\"","v":"KMN.P"},"Цена за единицу","руб./ед.",null,null,null,null,null,null,null,null,null,null,null,null,null,null,null,null,null,null,null,null,null,null,{"$f":"IF(AL3007=0,0,AL3005*1000/AL3007)","v":0}]
[null,null,null,null,null,null,null,null,null,null,null,null,{"$f":"M3005 & \".V\"","v":"KMN.V"},"Объём","ед.",null,null,null,null,null,null,null,null,null,null,null,null,null,null,null,null,null,null,null,null,null,null,{"$f":"AM3007+AN3007","v":0}]
[null,null,null,null,null,null,null,null,null,null,null,null,"KP","калий фосфорнокислый","тыс.руб.",null,null,null,null,null,null,null,null,null,null,null,null,null,null,null,null,null,null,null,null,null,null,{"$f":"AM3008+AN3008","v":0},{"$f":"AM3009*AM3010/1000","v":0},{"$f":"AN3009*AN3010/1000","v":0}]
[null,null,null,null,null,null,null,null,null,null,null,null,{"$f":"M3008 & \".P\"","v":"KP.P"},"Цена за единицу","руб./ед.",null,null,null,null,null,null,null,null,null,null,null,null,null,null,null,null,null,null,null,null,null,null,{"$f":"IF(AL3010=0,0,AL3008*1000/AL3010)","v":0}]
[null,null,null,null,null,null,null,null,null,null,null,null,{"$f":"M3008 & \".V\"","v":"KP.V"},"Объём","ед.",null,null,null,null,null,null,null,null,null,null,null,null,null,null,null,null,null,null,null,null,null,null,{"$f":"AM3010+AN3010","v":0}]
[null,null,null,null,null,null,null,null,null,null,null,null,"HCL","калий хлористый","тыс.руб.",null,null,null,null,null,null,null,null,null,null,null,null,null,null,null,null,null,null,null,null,null,null,{"$f":"AM3011+AN3011","v":0},{"$f":"AM3012*AM3013/1000","v":0},{"$f":"AN3012*AN3013/1000","v":0}]
[null,null,null,null,null,null,null,null,null,null,null,null,{"$f":"M3011 & \".P\"","v":"HCL.P"},"Цена за единицу","руб./ед.",null,null,null,null,null,null,null,null,null,null,null,null,null,null,null,null,null,null,null,null,null,null,{"$f":"IF(AL3013=0,0,AL3011*1000/AL3013)","v":0}]
[null,null,null,null,null,null,null,null,null,null,null,null,{"$f":"M3011 & \".V\"","v":"HCL.V"},"Объём","ед.",null,null,null,null,null,null,null,null,null,null,null,null,null,null,null,null,null,null,null,null,null,null,{"$f":"AM3013+AN3013","v":0}]
[null,null,null,null,null,null,null,null,null,null,null,null,"KNA","калий-натрий виннокислый","тыс.руб.",null,null,null,null,null,null,null,null,null,null,null,null,null,null,null,null,null,null,null,null,null,null,{"$f":"AM3014+AN3014","v":0},{"$f":"AM3015*AM3016/1000","v":0},{"$f":"AN3015*AN3016/1000","v":0}]
[null,null,null,null,null,null,null,null,null,null,null,null,{"$f":"M3014 & \".P\"","v":"KNA.P"},"Цена за единицу","руб./ед.",null,null,null,null,null,null,null,null,null,null,null,null,null,null,null,null,null,null,null,null,null,null,{"$f":"IF(AL3016=0,0,AL3014*1000/AL3016)","v":0}]
[null,null,null,null,null,null,null,null,null,null,null,null,{"$f":"M3014 & \".V\"","v":"KNA.V"},"Объём","ед.",null,null,null,null,null,null,null,null,null,null,null,null,null,null,null,null,null,null,null,null,null,null,{"$f":"AM3016+AN3016","v":0}]
[null,null,null,null,null,null,null,null,null,null,null,null,"CAC","кальций углекислый","тыс.руб.",null,null,null,null,null,null,null,null,null,null,null,null,null,null,null,null,null,null,null,null,null,null,{"$f":"AM3017+AN3017","v":0},{"$f":"AM3018*AM3019/1000","v":0},{"$f":"AN3018*AN3019/1000","v":0}]
[null,null,null,null,null,null,null,null,null,null,null,null,{"$f":"M3017 & \".P\"","v":"CAC.P"},"Цена за единицу","руб./ед.",null,null,null,null,null,null,null,null,null,null,null,null,null,null,null,null,null,null,null,null,null,null,{"$f":"IF(AL3019=0,0,AL3017*1000/AL3019)","v":0}]
[null,null,null,null,null,null,null,null,null,null,null,null,{"$f":"M3017 & \".V\"","v":"CAC.V"},"Объём","ед.",null,null,null,null,null,null,null,null,null,null,null,null,null,null,null,null,null,null,null,null,null,null,{"$f":"AM3019+AN3019","v":0}]
[null,null,null,null,null,null,null,null,null,null,null,null,"CACL","кальций хлористый","тыс.руб.",null,null,null,null,null,null,null,null,null,null,null,null,null,null,null,null,null,null,null,null,null,null,{"$f":"AM3020+AN3020","v":0},{"$f":"AM3021*AM3022/1000","v":0},{"$f":"AN3021*AN3022/1000","v":0}]
[null,null,null,null,null,null,null,null,null,null,null,null,{"$f":"M3020 & \".P\"","v":"CACL.P"},"Цена за единицу","руб./ед.",null,null,null,null,null,null,null,null,null,null,null,null,null,null,null,null,null,null,null,null,null,null,{"$f":"IF(AL3022=0,0,AL3020*1000/AL3022)","v":0}]
[null,null,null,null,null,null,null,null,null,null,null,null,{"$f":"M3020 & \".V\"","v":"CACL.V"},"Объём","ед.",null,null,null,null,null,null,null,null,null,null,null,null,null,null,null,null,null,null,null,null,null,null,{"$f":"AM3022+AN3022","v":0}]
[null,null,null,null,null,null,null,null,null,null,null,null,"CAHPCL","кальция гипохлорит","тыс.руб.",null,null,null,null,null,null,null,null,null,null,null,null,null,null,null,null,null,null,null,null,null,null,{"$f":"AM3023+AN3023","v":0},{"$f":"AM3024*AM3025/1000","v":0},{"$f":"AN3024*AN3025/1000","v":0}]
[null,null,null,null,null,null,null,null,null,null,null,null,{"$f":"M3023 & \".P\"","v":"CAHPCL.P"},"Цена за единицу","руб./ед.",null,null,null,null,null,null,null,null,null,null,null,null,null,null,null,null,null,null,null,null,null,null,{"$f":"IF(AL3025=0,0,AL3023*1000/AL3025)","v":0}]
[null,null,null,null,null,null,null,null,null,null,null,null,{"$f":"M3023 & \".V\"","v":"CAHPCL.V"},"Объём","ед.",null,null,null,null,null,null,null,null,null,null,null,null,null,null,null,null,null,null,null,null,null,null,{"$f":"AM3025+AN3025","v":0}]
[null,null,null,null,null,null,null,null,null,null,null,null,"SAND","кварцевый песок","тыс.руб.",null,null,null,null,null,null,null,null,null,null,null,null,null,null,null,null,null,null,null,null,null,null,{"$f":"AM3026+AN3026","v":0},{"$f":"AM3027*AM3028/1000","v":0},{"$f":"AN3027*AN3028/1000","v":0}]
[null,null,null,null,null,null,null,null,null,null,null,null,{"$f":"M3026 & \".P\"","v":"SAND.P"},"Цена за единицу","руб./ед.",null,null,null,null,null,null,null,null,null,null,null,null,null,null,null,null,null,null,null,null,null,null,{"$f":"IF(AL3028=0,0,AL3026*1000/AL3028)","v":0}]
[null,null,null,null,null,null,null,null,null,null,null,null,{"$f":"M3026 & \".V\"","v":"SAND.V"},"Объём","ед.",null,null,null,null,null,null,null,null,null,null,null,null,null,null,null,null,null,null,null,null,null,null,{"$f":"AM3028+AN3028","v":0}]
[null,null,null,null,null,null,null,null,null,null,null,null,"ACIDN","кислота азотная","тыс.руб.",null,null,null,null,null,null,null,null,null,null,null,null,null,null,null,null,null,null,null,null,null,null,{"$f":"AM3029+AN3029","v":0},{"$f":"AM3030*AM3031/1000","v":0},{"$f":"AN3030*AN3031/1000","v":0}]
[null,null,null,null,null,null,null,null,null,null,null,null,{"$f":"M3029 & \".P\"","v":"ACIDN.P"},"Цена за единицу","руб./ед.",null,null,null,null,null,null,null,null,null,null,null,null,null,null,null,null,null,null,null,null,null,null,{"$f":"IF(AL3031=0,0,AL3029*1000/AL3031)","v":0}]
[null,null,null,null,null,null,null,null,null,null,null,null,{"$f":"M3029 & \".V\"","v":"ACIDN.V"},"Объём","ед.",null,null,null,null,null,null,null,null,null,null,null,null,null,null,null,null,null,null,null,null,null,null,{"$f":"AM3031+AN3031","v":0}]
[null,null,null,null,null,null,null,null,null,null,null,null,"ACIDA","кислота аскорбиновая","тыс.руб.",null,null,null,null,null,null,null,null,null,null,null,null,null,null,null,null,null,null,null,null,null,null,{"$f":"AM3032+AN3032","v":0},{"$f":"AM3033*AM3034/1000","v":0},{"$f":"AN3033*AN3034/1000","v":0}]
[null,null,null,null,null,null,null,null,null,null,null,null,{"$f":"M3032 & \".P\"","v":"ACIDA.P"},"Цена за единицу","руб./ед.",null,null,null,null,null,null,null,null,null,null,null,null,null,null,null,null,null,null,null,null,null,null,{"$f":"IF(AL3034=0,0,AL3032*1000/AL3034)","v":0}]
[null,null,null,null,null,null,null,null,null,null,null,null,{"$f":"M3032 & \".V\"","v":"ACIDA.V"},"Объём","ед.",null,null,null,null,null,null,null,null,null,null,null,null,null,null,null,null,null,null,null,null,null,null,{"$f":"AM3034+AN3034","v":0}]
[null,null,null,null,null,null,null,null,null,null,null,null,"ACIDL","кислота лимонная","тыс.руб.",null,null,null,null,null,null,null,null,null,null,null,null,null,null,null,null,null,null,null,null,null,null,{"$f":"AM3035+AN3035","v":0},{"$f":"AM3036*AM3037/1000","v":0},{"$f":"AN3036*AN3037/1000","v":0}]
[null,null,null,null,null,null,null,null,null,null,null,null,{"$f":"M3035 & \".P\"","v":"ACIDL.P"},"Цена за единицу","руб./ед.",null,null,null,null,null,null,null,null,null,null,null,null,null,null,null,null,null,null,null,null,null,null,{"$f":"IF(AL3037=0,0,AL3035*1000/AL3037)","v":0}]
[null,null,null,null,null,null,null,null,null,null,null,null,{"$f":"M3035 & \".V\"","v":"ACIDL.V"},"Объём","ед.",null,null,null,null,null,null,null,null,null,null,null,null,null,null,null,null,null,null,null,null,null,null,{"$f":"AM3037+AN3037","v":0}]
[null,null,null,null,null,null,null,null,null,null,null,null,"AURIN","кислота розоловая (аурин)","тыс.руб.",null,null,null,null,null,null,null,null,null,null,null,null,null,null,null,null,null,null,null,null,null,null,{"$f":"AM3038+AN3038","v":0},{"$f":"AM3039*AM3040/1000","v":0},{"$f":"AN3039*AN3040/1000","v":0}]
[null,null,null,null,null,null,null,null,null,null,null,null,{"$f":"M3038 & \".P\"","v":"AURIN.P"},"Цена за единицу","руб./ед.",null,null,null,null,null,null,null,null,null,null,null,null,null,null,null,null,null,null,null,null,null,null,{"$f":"IF(AL3040=0,0,AL3038*1000/AL3040)","v":0}]
[null,null,null,null,null,null,null,null,null,null,null,null,{"$f":"M3038 & \".V\"","v":"AURIN.V"},"Объём","ед.",null,null,null,null,null,null,null,null,null,null,null,null,null,null,null,null,null,null,null,null,null,null,{"$f":"AM3040+AN3040","v":0}]
[null,null,null,null,null,null,null,null,null,null,null,null,"ACIDS","кислота серная","тыс.руб.",null,null,null,null,null,null,null,null,null,null,null,null,null,null,null,null,null,null,null,null,null,null,{"$f":"AM3041+AN3041","v":0},{"$f":"AM3042*AM3043/1000","v":0},{"$f":"AN3042*AN3043/1000","v":0}]
[null,null,null,null,null,null,null,null,null,null,null,null,{"$f":"M3041 & \".P\"","v":"ACIDS.P"},"Цена за единицу","руб./ед.",null,null,null,null,null,null,null,null,null,null,null,null,null,null,null,null,null,null,null,null,null,null,{"$f":"IF(AL3043=0,0,AL3041*1000/AL3043)","v":0}]
[null,null,null,null,null,null,null,null,null,null,null,null,{"$f":"M3041 & \".V\"","v":"ACIDS.V"},"Объём","ед.",null,null,null,null,null,null,null,null,null,null,null,null,null,null,null,null,null,null,null,null,null,null,{"$f":"AM3043+AN3043","v":0}]
[null,null,null,null,null,null,null,null,null,null,null,null,"ADIDCL","кислота соляная","тыс.руб.",null,null,null,null,null,null,null,null,null,null,null,null,null,null,null,null,null,null,null,null,null,null,{"$f":"AM3044+AN3044","v":0},{"$f":"AM3045*AM3046/1000","v":0},{"$f":"AN3045*AN3046/1000","v":0}]
[null,null,null,null,null,null,null,null,null,null,null,null,{"$f":"M3044 & \".P\"","v":"ADIDCL.P"},"Цена за единицу","руб./ед.",null,null,null,null,null,null,null,null,null,null,null,null,null,null,null,null,null,null,null,null,null,null,{"$f":"IF(AL3046=0,0,AL3044*1000/AL3046)","v":0}]
[null,null,null,null,null,null,null,null,null,null,null,null,{"$f":"M3044 & \".V\"","v":"ADIDCL.V"},"Объём","ед.",null,null,null,null,null,null,null,null,null,null,null,null,null,null,null,null,null,null,null,null,null,null,{"$f":"AM3046+AN3046","v":0}]
[null,null,null,null,null,null,null,null,null,null,null,null,"ACIDAC","кислота уксусная","тыс.руб.",null,null,null,null,null,null,null,null,null,null,null,null,null,null,null,null,null,null,null,null,null,null,{"$f":"AM3047+AN3047","v":0},{"$f":"AM3048*AM3049/1000","v":0},{"$f":"AN3048*AN3049/1000","v":0}]
[null,null,null,null,null,null,null,null,null,null,null,null,{"$f":"M3047 & \".P\"","v":"ACIDAC.P"},"Цена за единицу","руб./ед.",null,null,null,null,null,null,null,null,null,null,null,null,null,null,null,null,null,null,null,null,null,null,{"$f":"IF(AL3049=0,0,AL3047*1000/AL3049)","v":0}]
[null,null,null,null,null,null,null,null,null,null,null,null,{"$f":"M3047 & \".V\"","v":"ACIDAC.V"},"Объём","ед.",null,null,null,null,null,null,null,null,null,null,null,null,null,null,null,null,null,null,null,null,null,null,{"$f":"AM3049+AN3049","v":0}]
[null,null,null,null,null,null,null,null,null,null,null,null,"ACIDOX","кислота щавелевая","тыс.руб.",null,null,null,null,null,null,null,null,null,null,null,null,null,null,null,null,null,null,null,null,null,null,{"$f":"AM3050+AN3050","v":0},{"$f":"AM3051*AM3052/1000","v":0},{"$f":"AN3051*AN3052/1000","v":0}]
[null,null,null,null,null,null,null,null,null,null,null,null,{"$f":"M3050 & \".P\"","v":"ACIDOX.P"},"Цена за единицу","руб./ед.",null,null,null,null,null,null,null,null,null,null,null,null,null,null,null,null,null,null,null,null,null,null,{"$f":"IF(AL3052=0,0,AL3050*1000/AL3052)","v":0}]
[null,null,null,null,null,null,null,null,null,null,null,null,{"$f":"M3050 & \".V\"","v":"ACIDOX.V"},"Объём","ед.",null,null,null,null,null,null,null,null,null,null,null,null,null,null,null,null,null,null,null,null,null,null,{"$f":"AM3052+AN3052","v":0}]
[null,null,null,null,null,null,null,null,null,null,null,null,"STARCH","крахмал","тыс.руб.",null,null,null,null,null,null,null,null,null,null,null,null,null,null,null,null,null,null,null,null,null,null,{"$f":"AM3053+AN3053","v":0},{"$f":"AM3054*AM3055/1000","v":0},{"$f":"AN3054*AN3055/1000","v":0}]
[null,null,null,null,null,null,null,null,null,null,null,null,{"$f":"M3053 & \".P\"","v":"STARCH.P"},"Цена за единицу","руб./ед.",null,null,null,null,null,null,null,null,null,null,null,null,null,null,null,null,null,null,null,null,null,null,{"$f":"IF(AL3055=0,0,AL3053*1000/AL3055)","v":0}]
[null,null,null,null,null,null,null,null,null,null,null,null,{"$f":"M3053 & \".V\"","v":"STARCH.V"},"Объём","ед.",null,null,null,null,null,null,null,null,null,null,null,null,null,null,null,null,null,null,null,null,null,null,{"$f":"AM3055+AN3055","v":0}]
[null,null,null,null,null,null,null,null,null,null,null,null,"LANTN","лантан азотнокислый","тыс.руб.",null,null,null,null,null,null,null,null,null,null,null,null,null,null,null,null,null,null,null,null,null,null,{"$f":"AM3056+AN3056","v":0},{"$f":"AM3057*AM3058/1000","v":0},{"$f":"AN3057*AN3058/1000","v":0}]
[null,null,null,null,null,null,null,null,null,null,null,null,{"$f":"M3056 & \".P\"","v":"LANTN.P"},"Цена за единицу","руб./ед.",null,null,null,null,null,null,null,null,null,null,null,null,null,null,null,null,null,null,null,null,null,null,{"$f":"IF(AL3058=0,0,AL3056*1000/AL3058)","v":0}]
[null,null,null,null,null,null,null,null,null,null,null,null,{"$f":"M3056 & \".V\"","v":"LANTN.V"},"Объём","ед.",null,null,null,null,null,null,null,null,null,null,null,null,null,null,null,null,null,null,null,null,null,null,{"$f":"AM3058+AN3058","v":0}]
[null,null,null,null,null,null,null,null,null,null,null,null,"MGS","магний сернокислый","тыс.руб.",null,null,null,null,null,null,null,null,null,null,null,null,null,null,null,null,null,null,null,null,null,null,{"$f":"AM3059+AN3059","v":0},{"$f":"AM3060*AM3061/1000","v":0},{"$f":"AN3060*AN3061/1000","v":0}]
[null,null,null,null,null,null,null,null,null,null,null,null,{"$f":"M3059 & \".P\"","v":"MGS.P"},"Цена за единицу","руб./ед.",null,null,null,null,null,null,null,null,null,null,null,null,null,null,null,null,null,null,null,null,null,null,{"$f":"IF(AL3061=0,0,AL3059*1000/AL3061)","v":0}]
[null,null,null,null,null,null,null,null,null,null,null,null,{"$f":"M3059 & \".V\"","v":"MGS.V"},"Объём","ед.",null,null,null,null,null,null,null,null,null,null,null,null,null,null,null,null,null,null,null,null,null,null,{"$f":"AM3061+AN3061","v":0}]
[null,null,null,null,null,null,null,null,null,null,null,null,"NATR","натр едкий","тыс.руб.",null,null,null,null,null,null,null,null,null,null,null,null,null,null,null,null,null,null,null,null,null,null,{"$f":"AM3062+AN3062","v":0},{"$f":"AM3063*AM3064/1000","v":0},{"$f":"AN3063*AN3064/1000","v":0}]
[null,null,null,null,null,null,null,null,null,null,null,null,{"$f":"M3062 & \".P\"","v":"NATR.P"},"Цена за единицу","руб./ед.",null,null,null,null,null,null,null,null,null,null,null,null,null,null,null,null,null,null,null,null,null,null,{"$f":"IF(AL3064=0,0,AL3062*1000/AL3064)","v":0}]
[null,null,null,null,null,null,null,null,null,null,null,null,{"$f":"M3062 & \".V\"","v":"NATR.V"},"Объём","ед.",null,null,null,null,null,null,null,null,null,null,null,null,null,null,null,null,null,null,null,null,null,null,{"$f":"AM3064+AN3064","v":0}]
[null,null,null,null,null,null,null,null,null,null,null,null,"NAHDOX","натрий гидроокись","тыс.руб.",null,null,null,null,null,null,null,null,null,null,null,null,null,null,null,null,null,null,null,null,null,null,{"$f":"AM3065+AN3065","v":0},{"$f":"AM3066*AM3067/1000","v":0},{"$f":"AN3066*AN3067/1000","v":0}]
[null,null,null,null,null,null,null,null,null,null,null,null,{"$f":"M3065 & \".P\"","v":"NAHDOX.P"},"Цена за единицу","руб./ед.",null,null,null,null,null,null,null,null,null,null,null,null,null,null,null,null,null,null,null,null,null,null,{"$f":"IF(AL3067=0,0,AL3065*1000/AL3067)","v":0}]
[null,null,null,null,null,null,null,null,null,null,null,null,{"$f":"M3065 & \".V\"","v":"NAHDOX.V"},"Объём","ед.",null,null,null,null,null,null,null,null,null,null,null,null,null,null,null,null,null,null,null,null,null,null,{"$f":"AM3067+AN3067","v":0}]
[null,null,null,null,null,null,null,null,null,null,null,null,"NASLC","натрий салициловокислый","тыс.руб.",null,null,null,null,null,null,null,null,null,null,null,null,null,null,null,null,null,null,null,null,null,null,{"$f":"AM3068+AN3068","v":0},{"$f":"AM3069*AM3070/1000","v":0},{"$f":"AN3069*AN3070/1000","v":0}]
[null,null,null,null,null,null,null,null,null,null,null,null,{"$f":"M3068 & \".P\"","v":"NASLC.P"},"Цена за единицу","руб./ед.",null,null,null,null,null,null,null,null,null,null,null,null,null,null,null,null,null,null,null,null,null,null,{"$f":"IF(AL3070=0,0,AL3068*1000/AL3070)","v":0}]
[null,null,null,null,null,null,null,null,null,null,null,null,{"$f":"M3068 & \".V\"","v":"NASLC.V"},"Объём","ед.",null,null,null,null,null,null,null,null,null,null,null,null,null,null,null,null,null,null,null,null,null,null,{"$f":"AM3070+AN3070","v":0}]
[null,null,null,null,null,null,null,null,null,null,null,null,"NAS","натрий сернокислый","тыс.руб.",null,null,null,null,null,null,null,null,null,null,null,null,null,null,null,null,null,null,null,null,null,null,{"$f":"AM3071+AN3071","v":0},{"$f":"AM3072*AM3073/1000","v":0},{"$f":"AN3072*AN3073/1000","v":0}]
[null,null,null,null,null,null,null,null,null,null,null,null,{"$f":"M3071 & \".P\"","v":"NAS.P"},"Цена за единицу","руб./ед.",null,null,null,null,null,null,null,null,null,null,null,null,null,null,null,null,null,null,null,null,null,null,{"$f":"IF(AL3073=0,0,AL3071*1000/AL3073)","v":0}]
[null,null,null,null,null,null,null,null,null,null,null,null,{"$f":"M3071 & \".V\"","v":"NAS.V"},"Объём","ед.",null,null,null,null,null,null,null,null,null,null,null,null,null,null,null,null,null,null,null,null,null,null,{"$f":"AM3073+AN3073","v":0}]
[null,null,null,null,null,null,null,null,null,null,null,null,"NAC","натрий углекислый","тыс.руб.",null,null,null,null,null,null,null,null,null,null,null,null,null,null,null,null,null,null,null,null,null,null,{"$f":"AM3074+AN3074","v":0},{"$f":"AM3075*AM3076/1000","v":0},{"$f":"AN3075*AN3076/1000","v":0}]
[null,null,null,null,null,null,null,null,null,null,null,null,{"$f":"M3074 & \".P\"","v":"NAC.P"},"Цена за единицу","руб./ед.",null,null,null,null,null,null,null,null,null,null,null,null,null,null,null,null,null,null,null,null,null,null,{"$f":"IF(AL3076=0,0,AL3074*1000/AL3076)","v":0}]
[null,null,null,null,null,null,null,null,null,null,null,null,{"$f":"M3074 & \".V\"","v":"NAC.V"},"Объём","ед.",null,null,null,null,null,null,null,null,null,null,null,null,null,null,null,null,null,null,null,null,null,null,{"$f":"AM3076+AN3076","v":0}]
[null,null,null,null,null,null,null,null,null,null,null,null,"NAAC","натрий уксуснокислый","тыс.руб.",null,null,null,null,null,null,null,null,null,null,null,null,null,null,null,null,null,null,null,null,null,null,{"$f":"AM3077+AN3077","v":0},{"$f":"AM3078*AM3079/1000","v":0},{"$f":"AN3078*AN3079/1000","v":0}]
[null,null,null,null,null,null,null,null,null,null,null,null,{"$f":"M3077 & \".P\"","v":"NAAC.P"},"Цена за единицу","руб./ед.",null,null,null,null,null,null,null,null,null,null,null,null,null,null,null,null,null,null,null,null,null,null,{"$f":"IF(AL3079=0,0,AL3077*1000/AL3079)","v":0}]
[null,null,null,null,null,null,null,null,null,null,null,null,{"$f":"M3077 & \".V\"","v":"NAAC.V"},"Объём","ед.",null,null,null,null,null,null,null,null,null,null,null,null,null,null,null,null,null,null,null,null,null,null,{"$f":"AM3079+AN3079","v":0}]
[null,null,null,null,null,null,null,null,null,null,null,null,"NACL","натрий хлористый","тыс.руб.",null,null,null,null,null,null,null,null,null,null,null,null,null,null,null,null,null,null,null,null,null,null,{"$f":"AM3080+AN3080","v":0},{"$f":"AM3081*AM3082/1000","v":0},{"$f":"AN3081*AN3082/1000","v":0}]
[null,null,null,null,null,null,null,null,null,null,null,null,{"$f":"M3080 & \".P\"","v":"NACL.P"},"Цена за единицу","руб./ед.",null,null,null,null,null,null,null,null,null,null,null,null,null,null,null,null,null,null,null,null,null,null,{"$f":"IF(AL3082=0,0,AL3080*1000/AL3082)","v":0}]
[null,null,null,null,null,null,null,null,null,null,null,null,{"$f":"M3080 & \".V\"","v":"NACL.V"},"Объём","ед.",null,null,null,null,null,null,null,null,null,null,null,null,null,null,null,null,null,null,null,null,null,null,{"$f":"AM3082+AN3082","v":0}]
[null,null,null,null,null,null,null,null,null,null,null,null,"RGRS","реактив Грисса","тыс.руб.",null,null,null,null,null,null,null,null,null,null,null,null,null,null,null,null,null,null,null,null,null,null,{"$f":"AM3083+AN3083","v":0},{"$f":"AM3084*AM3085/1000","v":0},{"$f":"AN3084*AN3085/1000","v":0}]
[null,null,null,null,null,null,null,null,null,null,null,null,{"$f":"M3083 & \".P\"","v":"RGRS.P"},"Цена за единицу","руб./ед.",null,null,null,null,null,null,null,null,null,null,null,null,null,null,null,null,null,null,null,null,null,null,{"$f":"IF(AL3085=0,0,AL3083*1000/AL3085)","v":0}]
[null,null,null,null,null,null,null,null,null,null,null,null,{"$f":"M3083 & \".V\"","v":"RGRS.V"},"Объём","ед.",null,null,null,null,null,null,null,null,null,null,null,null,null,null,null,null,null,null,null,null,null,null,{"$f":"AM3085+AN3085","v":0}]
[null,null,null,null,null,null,null,null,null,null,null,null,"RNSL","реактив Несслера","тыс.руб.",null,null,null,null,null,null,null,null,null,null,null,null,null,null,null,null,null,null,null,null,null,null,{"$f":"AM3086+AN3086","v":0},{"$f":"AM3087*AM3088/1000","v":0},{"$f":"AN3087*AN3088/1000","v":0}]
[null,null,null,null,null,null,null,null,null,null,null,null,{"$f":"M3086 & \".P\"","v":"RNSL.P"},"Цена за единицу","руб./ед.",null,null,null,null,null,null,null,null,null,null,null,null,null,null,null,null,null,null,null,null,null,null,{"$f":"IF(AL3088=0,0,AL3086*1000/AL3088)","v":0}]
[null,null,null,null,null,null,null,null,null,null,null,null,{"$f":"M3086 & \".V\"","v":"RNSL.V"},"Объём","ед.",null,null,null,null,null,null,null,null,null,null,null,null,null,null,null,null,null,null,null,null,null,null,{"$f":"AM3088+AN3088","v":0}]
[null,null,null,null,null,null,null,null,null,null,null,null,"PBAC","свинец уксуснокислый","тыс.руб.",null,null,null,null,null,null,null,null,null,null,null,null,null,null,null,null,null,null,null,null,null,null,{"$f":"AM3089+AN3089","v":0},{"$f":"AM3090*AM3091/1000","v":0},{"$f":"AN3090*AN3091/1000","v":0}]
[null,null,null,null,null,null,null,null,null,null,null,null,{"$f":"M3089 & \".P\"","v":"PBAC.P"},"Цена за единицу","руб./ед.",null,null,null,null,null,null,null,null,null,null,null,null,null,null,null,null,null,null,null,null,null,null,{"$f":"IF(AL3091=0,0,AL3089*1000/AL3091)","v":0}]
[null,null,null,null,null,null,null,null,null,null,null,null,{"$f":"M3089 & \".V\"","v":"PBAC.V"},"Объём","ед.",null,null,null,null,null,null,null,null,null,null,null,null,null,null,null,null,null,null,null,null,null,null,{"$f":"AM3091+AN3091","v":0}]
[null,null,null,null,null,null,null,null,null,null,null,null,"AGN","серебро азотнокислое","тыс.руб.",null,null,null,null,null,null,null,null,null,null,null,null,null,null,null,null,null,null,null,null,null,null,{"$f":"AM3092+AN3092","v":0},{"$f":"AM3093*AM3094/1000","v":0},{"$f":"AN3093*AN3094/1000","v":0}]
[null,null,null,null,null,null,null,null,null,null,null,null,{"$f":"M3092 & \".P\"","v":"AGN.P"},"Цена за единицу","руб./ед.",null,null,null,null,null,null,null,null,null,null,null,null,null,null,null,null,null,null,null,null,null,null,{"$f":"IF(AL3094=0,0,AL3092*1000/AL3094)","v":0}]
[null,null,null,null,null,null,null,null,null,null,null,null,{"$f":"M3092 & \".V\"","v":"AGN.V"},"Объём","ед.",null,null,null,null,null,null,null,null,null,null,null,null,null,null,null,null,null,null,null,null,null,null,{"$f":"AM3094+AN3094","v":0}]
[null,null,null,null,null,null,null,null,null,null,null,null,"AGS","серебро сернокислое","тыс.руб.",null,null,null,null,null,null,null,null,null,null,null,null,null,null,null,null,null,null,null,null,null,null,{"$f":"AM3095+AN3095","v":0},{"$f":"AM3096*AM3097/1000","v":0},{"$f":"AN3096*AN3097/1000","v":0}]
[null,null,null,null,null,null,null,null,null,null,null,null,{"$f":"M3095 & \".P\"","v":"AGS.P"},"Цена за единицу","руб./ед.",null,null,null,null,null,null,null,null,null,null,null,null,null,null,null,null,null,null,null,null,null,null,{"$f":"IF(AL3097=0,0,AL3095*1000/AL3097)","v":0}]
[null,null,null,null,null,null,null,null,null,null,null,null,{"$f":"M3095 & \".V\"","v":"AGS.V"},"Объём","ед.",null,null,null,null,null,null,null,null,null,null,null,null,null,null,null,null,null,null,null,null,null,null,{"$f":"AM3097+AN3097","v":0}]
[null,null,null,null,null,null,null,null,null,null,null,null,"SODACA","сода кальцинированная","тыс.руб.",null,null,null,null,null,null,null,null,null,null,null,null,null,null,null,null,null,null,null,null,null,null,{"$f":"AM3098+AN3098","v":0},{"$f":"AM3099*AM3100/1000","v":0},{"$f":"AN3099*AN3100/1000","v":0}]
[null,null,null,null,null,null,null,null,null,null,null,null,{"$f":"M3098 & \".P\"","v":"SODACA.P"},"Цена за единицу","руб./ед.",null,null,null,null,null,null,null,null,null,null,null,null,null,null,null,null,null,null,null,null,null,null,{"$f":"IF(AL3100=0,0,AL3098*1000/AL3100)","v":0}]
[null,null,null,null,null,null,null,null,null,null,null,null,{"$f":"M3098 & \".V\"","v":"SODACA.V"},"Объём","ед.",null,null,null,null,null,null,null,null,null,null,null,null,null,null,null,null,null,null,null,null,null,null,{"$f":"AM3100+AN3100","v":0}]
[null,null,null,null,null,null,null,null,null,null,null,null,"SODACS","сода каустическая","тыс.руб.",null,null,null,null,null,null,null,null,null,null,null,null,null,null,null,null,null,null,null,null,null,null,{"$f":"AM3101+AN3101","v":0},{"$f":"AM3102*AM3103/1000","v":0},{"$f":"AN3102*AN3103/1000","v":0}]
[null,null,null,null,null,null,null,null,null,null,null,null,{"$f":"M3101 & \".P\"","v":"SODACS.P"},"Цена за единицу","руб./ед.",null,null,null,null,null,null,null,null,null,null,null,null,null,null,null,null,null,null,null,null,null,null,{"$f":"IF(AL3103=0,0,AL3101*1000/AL3103)","v":0}]
[null,null,null,null,null,null,null,null,null,null,null,null,{"$f":"M3101 & \".V\"","v":"SODACS.V"},"Объём","ед.",null,null,null,null,null,null,null,null,null,null,null,null,null,null,null,null,null,null,null,null,null,null,{"$f":"AM3103+AN3103","v":0}]
[null,null,null,null,null,null,null,null,null,null,null,null,"SALT1G","соль 1 сорт","тыс.руб.",null,null,null,null,null,null,null,null,null,null,null,null,null,null,null,null,null,null,null,null,null,null,{"$f":"AM3104+AN3104","v":0},{"$f":"AM3105*AM3106/1000","v":0},{"$f":"AN3105*AN3106/1000","v":0}]
[null,null,null,null,null,null,null,null,null,null,null,null,{"$f":"M3104 & \".P\"","v":"SALT1G.P"},"Цена за единицу","руб./ед.",null,null,null,null,null,null,null,null,null,null,null,null,null,null,null,null,null,null,null,null,null,null,{"$f":"IF(AL3106=0,0,AL3104*1000/AL3106)","v":0}]
[null,null,null,null,null,null,null,null,null,null,null,null,{"$f":"M3104 & \".V\"","v":"SALT1G.V"},"Объём","ед.",null,null,null,null,null,null,null,null,null,null,null,null,null,null,null,null,null,null,null,null,null,null,{"$f":"AM3106+AN3106","v":0}]
[null,null,null,null,null,null,null,null,null,null,null,null,"SALT","соль пищевая поваренная","тыс.руб.",null,null,null,null,null,null,null,null,null,null,null,null,null,null,null,null,null,null,null,null,null,null,{"$f":"AM3107+AN3107","v":0},{"$f":"AM3108*AM3109/1000","v":0},{"$f":"AN3108*AN3109/1000","v":0}]
[null,null,null,null,null,null,null,null,null,null,null,null,{"$f":"M3107 & \".P\"","v":"SALT.P"},"Цена за единицу","руб./ед.",null,null,null,null,null,null,null,null,null,null,null,null,null,null,null,null,null,null,null,null,null,null,{"$f":"IF(AL3109=0,0,AL3107*1000/AL3109)","v":0}]
[null,null,null,null,null,null,null,null,null,null,null,null,{"$f":"M3107 & \".V\"","v":"SALT.V"},"Объём","ед.",null,null,null,null,null,null,null,null,null,null,null,null,null,null,null,null,null,null,null,null,null,null,{"$f":"AM3109+AN3109","v":0}]
[null,null,null,null,null,null,null,null,null,null,null,null,"SALTPL","соль таблетированная","тыс.руб.",null,null,null,null,null,null,null,null,null,null,null,null,null,null,null,null,null,null,null,null,null,null,{"$f":"AM3110+AN3110","v":0},{"$f":"AM3111*AM3112/1000","v":0},{"$f":"AN3111*AN3112/1000","v":0}]
[null,null,null,null,null,null,null,null,null,null,null,null,{"$f":"M3110 & \".P\"","v":"SALTPL.P"},"Цена за единицу","руб./ед.",null,null,null,null,null,null,null,null,null,null,null,null,null,null,null,null,null,null,null,null,null,null,{"$f":"IF(AL3112=0,0,AL3110*1000/AL3112)","v":0}]
[null,null,null,null,null,null,null,null,null,null,null,null,{"$f":"M3110 & \".V\"","v":"SALTPL.V"},"Объём","ед.",null,null,null,null,null,null,null,null,null,null,null,null,null,null,null,null,null,null,null,null,null,null,{"$f":"AM3112+AN3112","v":0}]
[null,null,null,null,null,null,null,null,null,null,null,null,"SALTTH","соль техническая","тыс.руб.",null,null,null,null,null,null,null,null,null,null,null,null,null,null,null,null,null,null,null,null,null,null,{"$f":"AM3113+AN3113","v":0},{"$f":"AM3114*AM3115/1000","v":0},{"$f":"AN3114*AN3115/1000","v":0}]
[null,null,null,null,null,null,null,null,null,null,null,null,{"$f":"M3113 & \".P\"","v":"SALTTH.P"},"Цена за единицу","руб./ед.",null,null,null,null,null,null,null,null,null,null,null,null,null,null,null,null,null,null,null,null,null,null,{"$f":"IF(AL3115=0,0,AL3113*1000/AL3115)","v":0}]
[null,null,null,null,null,null,null,null,null,null,null,null,{"$f":"M3113 & \".V\"","v":"SALTTH.V"},"Объём","ед.",null,null,null,null,null,null,null,null,null,null,null,null,null,null,null,null,null,null,null,null,null,null,{"$f":"AM3115+AN3115","v":0}]
[null,null,null,null,null,null,null,null,null,null,null,null,"SALTEX","соль экстра","тыс.руб.",null,null,null,null,null,null,null,null,null,null,null,null,null,null,null,null,null,null,null,null,null,null,{"$f":"AM3116+AN3116","v":0},{"$f":"AM3117*AM3118/1000","v":0},{"$f":"AN3117*AN3118/1000","v":0}]
[null,null,null,null,null,null,null,null,null,null,null,null,{"$f":"M3116 & \".P\"","v":"SALTEX.P"},"Цена за единицу","руб./ед.",null,null,null,null,null,null,null,null,null,null,null,null,null,null,null,null,null,null,null,null,null,null,{"$f":"IF(AL3118=0,0,AL3116*1000/AL3118)","v":0}]
[null,null,null,null,null,null,null,null,null,null,null,null,{"$f":"M3116 & \".V\"","v":"SALTEX.V"},"Объём","ед.",null,null,null,null,null,null,null,null,null,null,null,null,null,null,null,null,null,null,null,null,null,null,{"$f":"AM3118+AN3118","v":0}]
[null,null,null,null,null,null,null,null,null,null,null,null,"C2H5OH","спирт","тыс.руб.",null,null,null,null,null,null,null,null,null,null,null,null,null,null,null,null,null,null,null,null,null,null,{"$f":"AM3119+AN3119","v":0},{"$f":"AM3120*AM3121/1000","v":0},{"$f":"AN3120*AN3121/1000","v":0}]
[null,null,null,null,null,null,null,null,null,null,null,null,{"$f":"M3119 & \".P\"","v":"C2H5OH.P"},"Цена за единицу","руб./ед.",null,null,null,null,null,null,null,null,null,null,null,null,null,null,null,null,null,null,null,null,null,null,{"$f":"IF(AL3121=0,0,AL3119*1000/AL3121)","v":0}]
[null,null,null,null,null,null,null,null,null,null,null,null,{"$f":"M3119 & \".V\"","v":"C2H5OH.V"},"Объём","ед.",null,null,null,null,null,null,null,null,null,null,null,null,null,null,null,null,null,null,null,null,null,null,{"$f":"AM3121+AN3121","v":0}]
[null,null,null,null,null,null,null,null,null,null,null,null,"SFAL1G","сульфат алюминия 1 сорт","тыс.руб.",null,null,null,null,null,null,null,null,null,null,null,null,null,null,null,null,null,null,null,null,null,null,{"$f":"AM3122+AN3122","v":0},{"$f":"AM3123*AM3124/1000","v":0},{"$f":"AN3123*AN3124/1000","v":0}]
[null,null,null,null,null,null,null,null,null,null,null,null,{"$f":"M3122 & \".P\"","v":"SFAL1G.P"},"Цена за единицу","руб./ед.",null,null,null,null,null,null,null,null,null,null,null,null,null,null,null,null,null,null,null,null,null,null,{"$f":"IF(AL3124=0,0,AL3122*1000/AL3124)","v":0}]
[null,null,null,null,null,null,null,null,null,null,null,null,{"$f":"M3122 & \".V\"","v":"SFAL1G.V"},"Объём","ед.",null,null,null,null,null,null,null,null,null,null,null,null,null,null,null,null,null,null,null,null,null,null,{"$f":"AM3124+AN3124","v":0}]
[null,null,null,null,null,null,null,null,null,null,null,null,"SFALLQD","сульфат алюминия жидкий","тыс.руб.",null,null,null,null,null,null,null,null,null,null,null,null,null,null,null,null,null,null,null,null,null,null,{"$f":"AM3125+AN3125","v":0},{"$f":"AM3126*AM3127/1000","v":0},{"$f":"AN3126*AN3127/1000","v":0}]
[null,null,null,null,null,null,null,null,null,null,null,null,{"$f":"M3125 & \".P\"","v":"SFALLQD.P"},"Цена за единицу","руб./ед.",null,null,null,null,null,null,null,null,null,null,null,null,null,null,null,null,null,null,null,null,null,null,{"$f":"IF(AL3127=0,0,AL3125*1000/AL3127)","v":0}]
[null,null,null,null,null,null,null,null,null,null,null,null,{"$f":"M3125 & \".V\"","v":"SFALLQD.V"},"Объём","ед.",null,null,null,null,null,null,null,null,null,null,null,null,null,null,null,null,null,null,null,null,null,null,{"$f":"AM3127+AN3127","v":0}]
[null,null,null,null,null,null,null,null,null,null,null,null,"SFALT","сульфат алюминия технический","тыс.руб.",null,null,null,null,null,null,null,null,null,null,null,null,null,null,null,null,null,null,null,null,null,null,{"$f":"AM3128+AN3128","v":0},{"$f":"AM3129*AM3130/1000","v":0},{"$f":"AN3129*AN3130/1000","v":0}]
[null,null,null,null,null,null,null,null,null,null,null,null,{"$f":"M3128 & \".P\"","v":"SFALT.P"},"Цена за единицу","руб./ед.",null,null,null,null,null,null,null,null,null,null,null,null,null,null,null,null,null,null,null,null,null,null,{"$f":"IF(AL3130=0,0,AL3128*1000/AL3130)","v":0}]
[null,null,null,null,null,null,null,null,null,null,null,null,{"$f":"M3128 & \".V\"","v":"SFALT.V"},"Объём","ед.",null,null,null,null,null,null,null,null,null,null,null,null,null,null,null,null,null,null,null,null,null,null,{"$f":"AM3130+AN3130","v":0}]
[null,null,null,null,null,null,null,null,null,null,null,null,"SFAMN","сульфат аммония","тыс.руб.",null,null,null,null,null,null,null,null,null,null,null,null,null,null,null,null,null,null,null,null,null,null,{"$f":"AM3131+AN3131","v":0},{"$f":"AM3132*AM3133/1000","v":0},{"$f":"AN3132*AN3133/1000","v":0}]
[null,null,null,null,null,null,null,null,null,null,null,null,{"$f":"M3131 & \".P\"","v":"SFAMN.P"},"Цена за единицу","руб./ед.",null,null,null,null,null,null,null,null,null,null,null,null,null,null,null,null,null,null,null,null,null,null,{"$f":"IF(AL3133=0,0,AL3131*1000/AL3133)","v":0}]
[null,null,null,null,null,null,null,null,null,null,null,null,{"$f":"M3131 & \".V\"","v":"SFAMN.V"},"Объём","ед.",null,null,null,null,null,null,null,null,null,null,null,null,null,null,null,null,null,null,null,null,null,null,{"$f":"AM3133+AN3133","v":0}]
[null,null,null,null,null,null,null,null,null,null,null,null,"TM","тиомочевина","тыс.руб.",null,null,null,null,null,null,null,null,null,null,null,null,null,null,null,null,null,null,null,null,null,null,{"$f":"AM3134+AN3134","v":0},{"$f":"AM3135*AM3136/1000","v":0},{"$f":"AN3135*AN3136/1000","v":0}]
[null,null,null,null,null,null,null,null,null,null,null,null,{"$f":"M3134 & \".P\"","v":"TM.P"},"Цена за единицу","руб./ед.",null,null,null,null,null,null,null,null,null,null,null,null,null,null,null,null,null,null,null,null,null,null,{"$f":"IF(AL3136=0,0,AL3134*1000/AL3136)","v":0}]
[null,null,null,null,null,null,null,null,null,null,null,null,{"$f":"M3134 & \".V\"","v":"TM.V"},"Объём","ед.",null,null,null,null,null,null,null,null,null,null,null,null,null,null,null,null,null,null,null,null,null,null,{"$f":"AM3136+AN3136","v":0}]
[null,null,null,null,null,null,null,null,null,null,null,null,"TSFNA","тиосульфат натрия","тыс.руб.",null,null,null,null,null,null,null,null,null,null,null,null,null,null,null,null,null,null,null,null,null,null,{"$f":"AM3137+AN3137","v":0},{"$f":"AM3138*AM3139/1000","v":0},{"$f":"AN3138*AN3139/1000","v":0}]
[null,null,null,null,null,null,null,null,null,null,null,null,{"$f":"M3137 & \".P\"","v":"TSFNA.P"},"Цена за единицу","руб./ед.",null,null,null,null,null,null,null,null,null,null,null,null,null,null,null,null,null,null,null,null,null,null,{"$f":"IF(AL3139=0,0,AL3137*1000/AL3139)","v":0}]
[null,null,null,null,null,null,null,null,null,null,null,null,{"$f":"M3137 & \".V\"","v":"TSFNA.V"},"Объём","ед.",null,null,null,null,null,null,null,null,null,null,null,null,null,null,null,null,null,null,null,null,null,null,{"$f":"AM3139+AN3139","v":0}]
[null,null,null,null,null,null,null,null,null,null,null,null,"CCL4","углерод четырёххлористый","тыс.руб.",null,null,null,null,null,null,null,null,null,null,null,null,null,null,null,null,null,null,null,null,null,null,{"$f":"AM3140+AN3140","v":0},{"$f":"AM3141*AM3142/1000","v":0},{"$f":"AN3141*AN3142/1000","v":0}]
[null,null,null,null,null,null,null,null,null,null,null,null,{"$f":"M3140 & \".P\"","v":"CCL4.P"},"Цена за единицу","руб./ед.",null,null,null,null,null,null,null,null,null,null,null,null,null,null,null,null,null,null,null,null,null,null,{"$f":"IF(AL3142=0,0,AL3140*1000/AL3142)","v":0}]
[null,null,null,null,null,null,null,null,null,null,null,null,{"$f":"M3140 & \".V\"","v":"CCL4.V"},"Объём","ед.",null,null,null,null,null,null,null,null,null,null,null,null,null,null,null,null,null,null,null,null,null,null,{"$f":"AM3142+AN3142","v":0}]
[null,null,null,null,null,null,null,null,null,null,null,null,"FFTLN","фенолфталеин","тыс.руб.",null,null,null,null,null,null,null,null,null,null,null,null,null,null,null,null,null,null,null,null,null,null,{"$f":"AM3143+AN3143","v":0},{"$f":"AM3144*AM3145/1000","v":0},{"$f":"AN3144*AN3145/1000","v":0}]
[null,null,null,null,null,null,null,null,null,null,null,null,{"$f":"M3143 & \".P\"","v":"FFTLN.P"},"Цена за единицу","руб./ед.",null,null,null,null,null,null,null,null,null,null,null,null,null,null,null,null,null,null,null,null,null,null,{"$f":"IF(AL3145=0,0,AL3143*1000/AL3145)","v":0}]
[null,null,null,null,null,null,null,null,null,null,null,null,{"$f":"M3143 & \".V\"","v":"FFTLN.V"},"Объём","ед.",null,null,null,null,null,null,null,null,null,null,null,null,null,null,null,null,null,null,null,null,null,null,{"$f":"AM3145+AN3145","v":0}]
[null,null,null,null,null,null,null,null,null,null,null,null,"CL","хлор","тыс.руб.",null,null,null,null,null,null,null,null,null,null,null,null,null,null,null,null,null,null,null,null,null,null,{"$f":"AM3146+AN3146","v":0},{"$f":"AM3147*AM3148/1000","v":0},{"$f":"AN3147*AN3148/1000","v":0}]
[null,null,null,null,null,null,null,null,null,null,null,null,{"$f":"M3146 & \".P\"","v":"CL.P"},"Цена за единицу","руб./ед.",null,null,null,null,null,null,null,null,null,null,null,null,null,null,null,null,null,null,null,null,null,null,{"$f":"IF(AL3148=0,0,AL3146*1000/AL3148)","v":0}]
[null,null,null,null,null,null,null,null,null,null,null,null,{"$f":"M3146 & \".V\"","v":"CL.V"},"Объём","ед.",null,null,null,null,null,null,null,null,null,null,null,null,null,null,null,null,null,null,null,null,null,null,{"$f":"AM3148+AN3148","v":0}]
[null,null,null,null,null,null,null,null,null,null,null,null,"CLLIQ","хлор жидкий","тыс.руб.",null,null,null,null,null,null,null,null,null,null,null,null,null,null,null,null,null,null,null,null,null,null,{"$f":"AM3149+AN3149","v":0},{"$f":"AM3150*AM3151/1000","v":0},{"$f":"AN3150*AN3151/1000","v":0}]
[null,null,null,null,null,null,null,null,null,null,null,null,{"$f":"M3149 & \".P\"","v":"CLLIQ.P"},"Цена за единицу","руб./ед.",null,null,null,null,null,null,null,null,null,null,null,null,null,null,null,null,null,null,null,null,null,null,{"$f":"IF(AL3151=0,0,AL3149*1000/AL3151)","v":0}]
[null,null,null,null,null,null,null,null,null,null,null,null,{"$f":"M3149 & \".V\"","v":"CLLIQ.V"},"Объём","ед.",null,null,null,null,null,null,null,null,null,null,null,null,null,null,null,null,null,null,null,null,null,null,{"$f":"AM3151+AN3151","v":0}]
[null,null,null,null,null,null,null,null,null,null,null,null,"CLAMN","хлорамин","тыс.руб.",null,null,null,null,null,null,null,null,null,null,null,null,null,null,null,null,null,null,null,null,null,null,{"$f":"AM3152+AN3152","v":0},{"$f":"AM3153*AM3154/1000","v":0},{"$f":"AN3153*AN3154/1000","v":0}]
[null,null,null,null,null,null,null,null,null,null,null,null,{"$f":"M3152 & \".P\"","v":"CLAMN.P"},"Цена за единицу","руб./ед.",null,null,null,null,null,null,null,null,null,null,null,null,null,null,null,null,null,null,null,null,null,null,{"$f":"IF(AL3154=0,0,AL3152*1000/AL3154)","v":0}]
[null,null,null,null,null,null,null,null,null,null,null,null,{"$f":"M3152 & \".V\"","v":"CLAMN.V"},"Объём","ед.",null,null,null,null,null,null,null,null,null,null,null,null,null,null,null,null,null,null,null,null,null,null,{"$f":"AM3154+AN3154","v":0}]
[null,null,null,null,null,null,null,null,null,null,null,null,"CLFRM","хлороформ","тыс.руб.",null,null,null,null,null,null,null,null,null,null,null,null,null,null,null,null,null,null,null,null,null,null,{"$f":"AM3155+AN3155","v":0},{"$f":"AM3156*AM3157/1000","v":0},{"$f":"AN3156*AN3157/1000","v":0}]
[null,null,null,null,null,null,null,null,null,null,null,null,{"$f":"M3155 & \".P\"","v":"CLFRM.P"},"Цена за единицу","руб./ед.",null,null,null,null,null,null,null,null,null,null,null,null,null,null,null,null,null,null,null,null,null,null,{"$f":"IF(AL3157=0,0,AL3155*1000/AL3157)","v":0}]
[null,null,null,null,null,null,null,null,null,null,null,null,{"$f":"M3155 & \".V\"","v":"CLFRM.V"},"Объём","ед.",null,null,null,null,null,null,null,null,null,null,null,null,null,null,null,null,null,null,null,null,null,null,{"$f":"AM3157+AN3157","v":0}]
[null,null,null,null,null,null,null,null,null,null,null,null,"ETHL","этиленгликоль","тыс.руб.",null,null,null,null,null,null,null,null,null,null,null,null,null,null,null,null,null,null,null,null,null,null,{"$f":"AM3158+AN3158","v":0},{"$f":"AM3159*AM3160/1000","v":0},{"$f":"AN3159*AN3160/1000","v":0}]
[null,null,null,null,null,null,null,null,null,null,null,null,{"$f":"M3158 & \".P\"","v":"ETHL.P"},"Цена за единицу","руб./ед.",null,null,null,null,null,null,null,null,null,null,null,null,null,null,null,null,null,null,null,null,null,null,{"$f":"IF(AL3160=0,0,AL3158*1000/AL3160)","v":0}]
[null,null,null,null,null,null,null,null,null,null,null,null,{"$f":"M3158 & \".V\"","v":"ETHL.V"},"Объём","ед.",null,null,null,null,null,null,null,null,null,null,null,null,null,null,null,null,null,null,null,null,null,null,{"$f":"AM3160+AN3160","v":0}]
[null,null,null,null,null,null,null,null,null,null,null,null,"OTH","прочие","тыс.руб.",null,null,null,null,null,null,null,null,null,null,null,null,null,null,null,null,null,null,null,null,null,null,{"$f":"AM3161+AN3161","v":0}]
[]
[]
[null,null,null,null,null,null,null,null,null,null,null,null,"OTH","Прочие","тыс.руб.",null,null,null,null,null,null,null,null,null,null,null,null,null,null,null,null,null,null,null,null,null,null,{"$f":"AM3164+AN3164","v":0}]
[]
[null,null,null,null,null,null,null,null,null,null,null,null,"21","Полезный отпуск продукции всего","тыс.куб.м",null,null,null,null,null,null,null,null,null,null,null,null,null,null,null,null,{"$f":"SUMIF(ВО.РО!$AS$15:$AT$15,AF$15,ВО.РО!$AS$240:$AT$240)","v":0},{"$f":"SUMIF(ВО.РО!$AS$15:$AT$15,AG$15,ВО.РО!$AS$240:$AT$240)","v":0},{"$f":"SUMIF(ВО.РО!$AS$15:$AT$15,AH$15,ВО.РО!$AS$240:$AT$240)","v":0}]

{"sheet":"REESTR_ORG","index":9,"n_rows":0,"n_cols":0,"rows_kept":0,"cut":false,"hidden":true,"merged":[]}

{"sheet":"REESTR_SOURCE","index":10,"n_rows":0,"n_cols":0,"rows_kept":0,"cut":false,"hidden":true,"merged":[]}

{"sheet":"ТС.БПр","index":11,"n_rows":132,"n_cols":83,"rows_kept":132,"cut":false,"hidden":true,"merged":[[121,47,122,47],[121,43,122,43],[120,38,122,38],[120,41,122,41],[121,17,122,17],[120,40,122,40],[121,32,122,32],[121,35,122,35],[121,33,122,33],[121,30,122,30],[120,39,122,39],[120,42,120,44],[130,67,130,81],[121,42,122,42],[121,44,122,44],[121,45,122,45],[120,46,120,49],[121,49,122,49],[121,48,122,48],[121,46,122,46],[121,34,122,34],[120,12,120,21],[120,22,120,37],[121,37,122,37],[121,31,122,31],[121,13,122,13],[121,22,122,22],[121,36,122,36],[121,20,122,20],[121,29,122,29],[121,19,122,19],[127,6,128,6],[125,6,126,6],[120,9,122,9],[120,10,122,10],[121,14,121,16],[120,6,122,6],[120,11,122,11],[120,8,122,8],[121,12,122,12],[56,6,57,6],[58,2,70,2],[121,18,122,18],[121,28,122,28],[121,24,122,24],[121,25,122,25],[121,26,122,26],[121,27,122,27],[121,23,122,23],[121,21,122,21],[120,5,122,5],[120,7,122,7],[0,1,27,1],[0,5,1,5],[0,6,1,6],[2,2,14,2],[15,2,27,2],[71,2,83,2],[56,1,83,1],[56,5,57,5]]}
[null,null,{"$f":"F3","v":"0.0"},"-",null,{"$f":"B1","v":0},null,null,null,null,null,null,null,null,null,null,null,null,null,null,null,null,null,null,null,null,null,null,null,null,null,null,null,null,null,null,null,null,null,null,null,null,null,null,null,null,null,null,null,null,null,null,"TOTAL_ORG"]
[]
[null,null,null,null,null,{"$f":"F1 & \".0\"","v":"0.0"},"год",null,null,null,null,null,null,null,null,null,null,null,null,null,null,null,null,null,null,null,null,null,null,null,null,null,null,null,null,null,null,null,null,null,null,null,null,null,null,null,null,null,null,null,null,null,"TOTAL_ORG_YEAR"]
[null,null,null,null,null,{"$f":"F1 & \".1\"","v":"0.1"},"январь",null,null,null,null,null,null,null,null,null,null,null,null,null,null,null,null,null,null,null,null,null,null,null,null,null,null,null,null,null,null,null,null,null,null,null,null,null,null,null,null,null,null,null,null,null,{"$f":"C1 & \"-I\"","v":"0.0-I"}]
[null,null,null,null,null,{"$f":"F1 & \".2\"","v":"0.2"},"февраль",null,null,null,null,null,null,null,null,null,null,null,null,null,null,null,null,null,null,null,null,null,null,null,null,null,null,null,null,null,null,null,null,null,null,null,null,null,null,null,null,null,null,null,null,null,{"$f":"C1 & \"-I\"","v":"0.0-I"}]
[null,null,null,null,null,{"$f":"F1 & \".3\"","v":"0.3"},"март",null,null,null,null,null,null,null,null,null,null,null,null,null,null,null,null,null,null,null,null,null,null,null,null,null,null,null,null,null,null,null,null,null,null,null,null,null,null,null,null,null,null,null,null,null,{"$f":"C1 & \"-I\"","v":"0.0-I"}]
[null,null,null,null,null,{"$f":"F1 & \".4\"","v":"0.4"},"апрель",null,null,null,null,null,null,null,null,null,null,null,null,null,null,null,null,null,null,null,null,null,null,null,null,null,null,null,null,null,null,null,null,null,null,null,null,null,null,null,null,null,null,null,null,null,{"$f":"C1 & \"-I\"","v":"0.0-I"}]
[null,null,null,null,null,{"$f":"F1 & \".5\"","v":"0.5"},"май",null,null,null,null,null,null,null,null,null,null,null,null,null,null,null,null,null,null,null,null,null,null,null,null,null,null,null,null,null,null,null,null,null,null,null,null,null,null,null,null,null,null,null,null,null,{"$f":"C1 & \"-I\"","v":"0.0-I"}]
[null,null,null,null,null,{"$f":"F1 & \".6\"","v":"0.6"},"июнь",null,null,null,null,null,null,null,null,null,null,null,null,null,null,null,null,null,null,null,null,null,null,null,null,null,null,null,null,null,null,null,null,null,null,null,null,null,null,null,null,null,null,null,null,null,{"$f":"C1 & \"-I\"","v":"0.0-I"}]
[null,null,null,null,null,{"$f":"F1 & \".7\"","v":"0.7"},"июль",null,null,null,null,null,null,null,null,null,null,null,null,null,null,null,null,null,null,null,null,null,null,null,null,null,null,null,null,null,null,null,null,null,null,null,null,null,null,null,null,null,null,null,null,null,{"$f":"C1 & \"-II\"","v":"0.0-II"}]
[null,null,null,null,null,{"$f":"F1 & \".8\"","v":"0.8"},"август",null,null,null,null,null,null,null,null,null,null,null,null,null,null,null,null,null,null,null,null,null,null,null,null,null,null,null,null,null,null,null,null,null,null,null,null,null,null,null,null,null,null,null,null,null,{"$f":"C1 & \"-II\"","v":"0.0-II"}]
[null,null,null,null,null,{"$f":"F1 & \".9\"","v":"0.9"},"сентябрь",null,null,null,null,null,null,null,null,null,null,null,null,null,null,null,null,null,null,null,null,null,null,null,null,null,null,null,null,null,null,null,null,null,null,null,null,null,null,null,null,null,null,null,null,null,{"$f":"C1 & \"-II\"","v":"0.0-II"}]
[null,null,null,null,null,{"$f":"F1 & \".10\"","v":"0.10"},"октябрь",null,null,null,null,null,null,null,null,null,null,null,null,null,null,null,null,null,null,null,null,null,null,null,null,null,null,null,null,null,null,null,null,null,null,null,null,null,null,null,null,null,null,null,null,null,{"$f":"C1 & \"-II\"","v":"0.0-II"}]
[null,null,null,null,null,{"$f":"F1 & \".11\"","v":"0.11"},"ноябрь",null,null,null,null,null,null,null,null,null,null,null,null,null,null,null,null,null,null,null,null,null,null,null,null,null,null,null,null,null,null,null,null,null,null,null,null,null,null,null,null,null,null,null,null,null,{"$f":"C1 & \"-II\"","v":"0.0-II"}]
[null,null,null,null,null,{"$f":"F1 & \".12\"","v":"0.12"},"декабрь",null,null,null,null,null,null,null,null,null,null,null,null,null,null,null,null,null,null,null,null,null,null,null,null,null,null,null,null,null,null,null,null,null,null,null,null,null,null,null,null,null,null,null,null,null,{"$f":"C1 & \"-II\"","v":"0.0-II"}]
[]
[]
[]
[]
[]
[]
[]
[]
[]
[]
[]
[]
[]
[]
[]
[]
[]
[]
[]
[]
[]
[]
[]
[]
[]
[]
[]
[]
[]
[]
[]
[]
[]
[]
[]
[]
[]
[]
[]
[]
[]
["TBD",null,{"$f":"F59","v":"0.0"},"-",null,{"$f":"B57","v":0},null,{"$f":"H59","v":0},{"$f":"I59","v":0},{"$f":"A57","v":"TBD"},{"$f":"K59","v":0},{"$f":"L59","v":0},{"$f":"M59","v":0},null,{"$f":"O59","v":0},0,0,0,0,0,0,{"$f":"V59","v":0},0,0,0,0,0,0,0,0,{"$f":"AE59","v":0},0,0,0,0,0,0,0,{"$f":"AM59","v":0},{"$f":"AN59","v":0},{"$f":"AO59","v":0},null,{"$f":"AQ59","v":0},0,0,0,0,0,0,0,null,null,"TOTAL_ORG"]
[]
[null,null,null,null,null,{"$f":"F57 & \".0\"","v":"0.0"},"год",{"$f":"SUMIF('Список объектов'!$R$15:$R$16,$F59,'Список объектов'!$S$15:$S$16)","v":0},{"$f":"SUMIF('Список объектов'!$R$15:$R$16,$F59,'Список объектов'!$T$15:$T$16)","v":0},{"$f":"J57","v":"TBD"},{"$f":"L59+M59-V59+AM59-W59-AE59","v":0},null,{"$f":"SUM(O59,R59:T59,U59,V59)","v":0},null,{"$f":"SUM(O60:O71)","v":0},0,0,0,0,0,{"$f":"SUM(U60:U71)","v":0},{"$f":"SUM(V60:V71)","v":0},{"$f":"SUM(X59:Z59)","v":0},null,null,null,{"$f":"SUM(AB59:AD59)","v":0},null,null,null,{"$f":"SUM(AF59:AH59)","v":0},null,null,null,{"$f":"SUM(AJ59:AL59)","v":0},null,null,null,{"$f":"AN59+AO59","v":0},null,{"$f":"SUM(AO60:AO71)","v":0},null,{"$f":"SUM(AQ60:AQ71)","v":0},0,0,0,0,0,0,0,null,null,"TOTAL_ORG_YEAR",null,null,null,null,null,null,null,null,null,null,null,null,null,null,{"$f":"SUM($U60:$U71)+SUM($AT60:$AT71)","v":0},{"$f":"SUM($R60:$R71)+SUM($AV60:$AV71)","v":0},{"$f":"SUM($S60:$S71)+SUM($AW60:$AW71)","v":0},{"$f":"SUM($T60:$T71)+SUM($AX60:$AX71)","v":0},null,{"$f":"SUM($U60:$U71)+SUM($AT60:$AT71)","v":0},{"$f":"SUM($R60:$R71)+SUM($AV60:$AV71)","v":0},{"$f":"SUM($S60:$S71)+SUM($AW60:$AW71)","v":0},{"$f":"SUM($T60:$T71)+SUM($AX60:$AX71)","v":0},null,null,null,null,null,null,{"$f":"M59-V59+AO59","v":0}]
[null,null,null,null,null,{"$f":"F57 & \".1\"","v":"0.1"},"январь",null,null,{"$f":"IF(OFFSET('Список территорий'!CJ$15,$F57,0)=\"a\",\"Y\",\"N\")","v":"N"},null,null,0,null,{"$f":"SUM(P60:Q60)","v":0},null,null,null,null,null,null,null,null,null,null,null,null,null,null,null,null,null,null,null,null,null,null,null,null,null,{"$f":"SUM(AQ60,AT60,AU60)","v":0},null,{"$f":"SUM(AR60:AS60)","v":0},null,null,null,{"$f":"SUM(AV60:AX60)","v":0},null,null,null,null,null,{"$f":"C57 & \"-I\"","v":"0.0-I"},null,null,null,null,null,null,null,null,null,null,null,null,null,null,{"$f":"SUM($U60:$U65)+SUM($AT60:$AT65)","v":0},{"$f":"SUM($R60:$R65)+SUM($AV60:$AV65)","v":0},{"$f":"SUM($S60:$S65)+SUM($AW60:$AW65)","v":0},{"$f":"SUM($T60:$T65)+SUM($AX60:$AX65)","v":0},null,{"$f":"SUM($U60:$U65)+SUM($AT60:$AT65)","v":0},{"$f":"SUM($R60:$R65)+SUM($AV60:$AV65)","v":0},{"$f":"SUM($S60:$S65)+SUM($AW60:$AW65)","v":0},{"$f":"SUM($T60:$T65)+SUM($AX60:$AX65)","v":0}]
[null,null,null,null,null,{"$f":"F57 & \".2\"","v":"0.2"},"февраль",null,null,{"$f":"IF(OFFSET('Список территорий'!CK$15,$F57,0)=\"a\",\"Y\",\"N\")","v":"N"},null,null,0,null,{"$f":"SUM(P61:Q61)","v":0},null,null,null,null,null,null,null,null,null,null,null,null,null,null,null,null,null,null,null,null,null,null,null,null,null,0,null,{"$f":"SUM(AR61:AS61)","v":0},null,null,null,0,null,null,null,null,null,{"$f":"C57 & \"-I\"","v":"0.0-I"}]
[null,null,null,null,null,{"$f":"F57 & \".3\"","v":"0.3"},"март",null,null,{"$f":"IF(OFFSET('Список территорий'!CL$15,$F57,0)=\"a\",\"Y\",\"N\")","v":"N"},null,null,0,null,0,null,null,null,null,null,null,null,null,null,null,null,null,null,null,null,null,null,null,null,null,null,null,null,null,null,0,null,0,null,null,null,0,null,null,null,null,null,{"$f":"C57 & \"-I\"","v":"0.0-I"}]
[null,null,null,null,null,{"$f":"F57 & \".4\"","v":"0.4"},"апрель",null,null,{"$f":"IF(OFFSET('Список территорий'!CM$15,$F57,0)=\"a\",\"Y\",\"N\")","v":"N"},null,null,0,null,0,null,null,null,null,null,null,null,null,null,null,null,null,null,null,null,null,null,null,null,null,null,null,null,null,null,0,null,0,null,null,null,0,null,null,null,null,null,{"$f":"C57 & \"-I\"","v":"0.0-I"}]
[null,null,null,null,null,{"$f":"F57 & \".5\"","v":"0.5"},"май",null,null,{"$f":"IF(OFFSET('Список территорий'!CN$15,$F57,0)=\"a\",\"Y\",\"N\")","v":"N"},null,null,0,null,0,null,null,null,null,null,null,null,null,null,null,null,null,null,null,null,null,null,null,null,null,null,null,null,null,null,0,null,0,null,null,null,0,null,null,null,null,null,{"$f":"C57 & \"-I\"","v":"0.0-I"}]
[null,null,null,null,null,{"$f":"F57 & \".6\"","v":"0.6"},"июнь",null,null,{"$f":"IF(OFFSET('Список территорий'!CO$15,$F57,0)=\"a\",\"Y\",\"N\")","v":"N"},null,null,0,null,0,null,null,null,null,null,null,null,null,null,null,null,null,null,null,null,null,null,null,null,null,null,null,null,null,null,0,null,0,null,null,null,0,null,null,null,null,null,{"$f":"C57 & \"-I\"","v":"0.0-I"}]
[null,null,null,null,null,{"$f":"F57 & \".7\"","v":"0.7"},"июль",null,null,{"$f":"IF(OFFSET('Список территорий'!CP$15,$F57,0)=\"a\",\"Y\",\"N\")","v":"N"},null,null,0,null,0,null,null,null,null,null,null,null,null,null,null,null,null,null,null,null,null,null,null,null,null,null,null,null,null,null,0,null,0,null,null,null,0,null,null,null,null,null,{"$f":"C57 & \"-II\"","v":"0.0-II"},null,null,null,null,null,null,null,null,null,null,null,null,null,null,{"$f":"SUM($U66:$U71)+SUM($AT66:$AT71)","v":0},{"$f":"SUM($R66:$R71)+SUM($AV66:$AV71)","v":0},{"$f":"SUM($S66:$S71)+SUM($AW66:$AW71)","v":0},{"$f":"SUM($T66:$T71)+SUM($AX66:$AX71)","v":0},null,{"$f":"SUM($U66:$U71)+SUM($AT66:$AT71)","v":0},{"$f":"SUM($R66:$R71)+SUM($AV66:$AV71)","v":0},{"$f":"SUM($S66:$S71)+SUM($AW66:$AW71)","v":0},{"$f":"SUM($T66:$T71)+SUM($AX66:$AX71)","v":0}]
[null,null,null,null,null,{"$f":"F57 & \".8\"","v":"0.8"},"август",null,null,{"$f":"IF(OFFSET('Список территорий'!CQ$15,$F57,0)=\"a\",\"Y\",\"N\")","v":"N"},null,null,0,null,0,null,null,null,null,null,null,null,null,null,null,null,null,null,null,null,null,null,null,null,null,null,null,null,null,null,0,null,0,null,null,null,0,null,null,null,null,null,{"$f":"C57 & \"-II\"","v":"0.0-II"}]
[null,null,null,null,null,{"$f":"F57 & \".9\"","v":"0.9"},"сентябрь",null,null,{"$f":"IF(OFFSET('Список территорий'!CR$15,$F57,0)=\"a\",\"Y\",\"N\")","v":"N"},null,null,0,null,0,null,null,null,null,null,null,null,null,null,null,null,null,null,null,null,null,null,null,null,null,null,null,null,null,null,0,null,0,null,null,null,0,null,null,null,null,null,{"$f":"C57 & \"-II\"","v":"0.0-II"}]
[null,null,null,null,null,{"$f":"F57 & \".10\"","v":"0.10"},"октябрь",null,null,{"$f":"IF(OFFSET('Список территорий'!CS$15,$F57,0)=\"a\",\"Y\",\"N\")","v":"N"},null,null,0,null,0,null,null,null,null,null,null,null,null,null,null,null,null,null,null,null,null,null,null,null,null,null,null,null,null,null,0,null,0,null,null,null,0,null,null,null,null,null,{"$f":"C57 & \"-II\"","v":"0.0-II"}]
[null,null,null,null,null,{"$f":"F57 & \".11\"","v":"0.11"},"ноябрь",null,null,{"$f":"IF(OFFSET('Список территорий'!CT$15,$F57,0)=\"a\",\"Y\",\"N\")","v":"N"},null,null,0,null,0,null,null,null,null,null,null,null,null,null,null,null,null,null,null,null,null,null,null,null,null,null,null,null,null,null,0,null,0,null,null,null,0,null,null,null,null,null,{"$f":"C57 & \"-II\"","v":"0.0-II"}]
[null,null,null,null,null,{"$f":"F57 & \".12\"","v":"0.12"},"декабрь",null,null,{"$f":"IF(OFFSET('Список территорий'!CU$15,$F57,0)=\"a\",\"Y\",\"N\")","v":"N"},null,null,0,null,0,null,null,null,null,null,null,null,null,null,null,null,null,null,null,null,null,null,null,null,null,null,null,null,null,null,0,null,0,null,null,null,0,null,null,null,null,null,{"$f":"C57 & \"-II\"","v":"0.0-II"}]
[]
[]
[]
[]
[]
[]
[]
[]
[]
[]
[]
[]
[]
[]
[]
[]
[]
[]
[]
[]
[]
[]
[]
[]
[]
[]
[]
[]
[]
[]
[]
[]
[]
[]
[]
[]
[]
[]
[]
[]
[]
[]
[]
[]
[]
[]
[]
[null,null,null,null,null,{"$f":"\"Баланс \" & TEMPLATE_SPHERE & \" (производство)\"","v":"Баланс  (производство)"}]
[null,null,null,null,null,"Гкал"]
[null,null,null,null,null,"№ п/п","Субъект баланса","Установленная тепловая мощность, Гкал/час","Подключённая (фактическая) тепловая нагрузка, Гкал/час","Вид(-ы) теплоносителя(-ей)","Выработка","Собственные нужды источника тепла","Отпуск с коллекторов",null,null,null,null,null,null,null,null,null,"Покупная энергия",null,null,null,null,null,null,null,null,null,null,null,null,null,null,null,"Отпуск в сеть","Потери в сетях","Полезный отпуск, всего",null,"Полезный отпуск на нужды предприятия",null,null,"Полезный отпуск организациям-перепродавцам","Полезный отпуск по группам потребителей"]
[null,null,null,null,null,null,null,null,null,null,null,null,"Всего",null,"На технологические нужды предприятия",null,null,"Бюджетные потребители","Население","Прочие потребители","Организации-перепродавцы","В собственную тепловую сеть","С коллекторов, всего","от станций с мощностью производства >= 25 МВт","от станций с мощностью производства < 25 МВт","от котельных","в том числе покупка потерь с коллекторов","от станций с мощностью производства >= 25 МВт","от станций с мощностью производства < 25 МВт","от котельных","Из тепловой сети, всего","от станций с мощностью производства >= 25 МВт","от станций с мощностью производства < 25 МВт","от котельных (некомбинированная выработка)","в том числе покупка потерь из тепловой сети","от станций с мощностью производства >= 25 МВт","от станций с мощностью производства < 25 МВт","от котельных (некомбинированная выработка)",null,null,null,null,"Всего","На собственное производство","На хозяйственные нужды","Всего","Всего","Финансируемые из бюджетов всех уровней","Население","Прочие"]
[null,null,null,null,null,null,null,null,null,null,null,null,null,null,"Всего","На собственное производство","На хозяйственные нужды"]
[null,null,null,null,null,null,"А","IC","CL","Б","1","2","3",null,"3.1","3.1.1","3.1.2","3.2","3.3","3.4","3.5","3.6","4.1","4.1.1","4.1.2","4.1.3","4.2","4.2.1","4.2.2","4.2.3","4.3","4.3.1","4.3.2","4.3.3","4.4","4.4.1","4.4.2","4.4.3","5","5.1","5.2",null,"5.2.1","5.2.1.1","5.2.1.2","5.2.2","5.2.3","5.2.3.1","5.2.3.2","5.2.3.3",null,null,null,null,null,null,null,null,null,null,null,null,null,null,null,null,null,"RESELLERS_I","BUDGET_I","POPULATION_I","OTHERS_I","OWN_I","RESELLERS_II","BUDGET_II","POPULATION_II","OTHERS_II","OWN_II",null,null,null,null,null,"BPR_vs_BTR"]
[]
[null,null,null,"-",null,{"$f":"IF(TEMPLATE_SPHERE_CODE=\"COLDVSNA\",\"0.1.P\",\"0.1\")","v":"0.1"},"Всего по организации",null,null,null,{"$f":"SUMIF($BA131:$BA132,$BA126,K131:K132)","v":0},{"$f":"SUMIF($BA131:$BA132,$BA126,L131:L132)","v":0},{"$f":"SUMIF($BA131:$BA132,$BA126,M131:M132)","v":0},null,{"$f":"SUMIF($BA131:$BA132,$BA126,O131:O132)","v":0},0,0,0,0,0,0,0,0,0,0,{"$f":"SUMIF($BA131:$BA132,$BA126,Z131:Z132)","v":0},{"$f":"SUMIF($BA131:$BA132,$BA126,AA131:AA132)","v":0},{"$f":"SUMIF($BA131:$BA132,$BA126,AB131:AB132)","v":0},{"$f":"SUMIF($BA131:$BA132,$BA126,AC131:AC132)","v":0},{"$f":"SUMIF($BA131:$BA132,$BA126,AD131:AD132)","v":0},{"$f":"SUMIF($BA131:$BA132,$BA126,AE131:AE132)","v":0},0,0,0,0,0,0,0,0,0,0,null,{"$f":"SUMIF($BA131:$BA132,$BA126,AQ131:AQ132)","v":0},0,0,0,0,0,0,0,null,null,"TOTAL_ORG_YEAR"]
[null,null,null,null,null,{"$f":"IF(TEMPLATE_SPHERE_CODE=\"COLDVSNA\",\"0.1.T\",\"\")","v":""}]
[]
[]
[]
[null,0,null,null,null,null,null,null,null,null,null,null,null,null,null,null,null,null,null,null,null,null,null,null,null,null,null,null,null,null,null,null,null,null,null,null,null,null,null,null,null,null,null,null,null,null,null,null,null,null,null,null,null,null,null,null,null,null,null,null,null,null,null,null,null,null,null,"Сумма объёмов по периодам (I, II)",null,null,null,null,null,null,null,null,null,null,null,null,null,null,"Общий объём производства для сравнения с БТр (нельзя передать больше, чем произведено)"]
[null,null,null,null,null,null,"Добавить"]

{"sheet":"ТС.БТр","index":12,"n_rows":132,"n_cols":103,"rows_kept":132,"cut":false,"hidden":true,"merged":[[71,2,83,2],[56,6,57,6],[119,10,122,10],[0,1,27,1],[2,2,14,2],[15,2,27,2],[0,6,1,6],[0,5,1,5],[119,9,122,9],[119,7,122,7],[56,1,83,1],[58,2,70,2],[119,5,122,5],[121,13,122,13],[121,14,122,14],[120,18,122,18],[119,6,122,6],[56,5,57,5],[119,11,122,11],[119,12,119,19],[127,6,128,6],[125,6,126,6],[120,17,122,17],[130,67,130,76],[120,16,122,16],[121,15,122,15],[120,13,120,15],[120,12,122,12],[119,8,122,8],[120,19,122,19]]}
[null,null,{"$f":"F3","v":"0.0"},"-",null,{"$f":"B1","v":0},null,null,null,null,null,null,null,null,null,null,null,null,null,null,null,null,null,null,null,null,null,null,null,null,null,null,null,null,null,null,null,null,null,null,null,null,null,null,null,null,null,null,null,null,null,null,"TOTAL_ORG"]
[]
[null,null,null,null,null,{"$f":"F1 & \".0\"","v":"0.0"},"год",null,null,null,null,null,null,null,null,null,null,null,null,null,null,null,null,null,null,null,null,null,null,null,null,null,null,null,null,null,null,null,null,null,null,null,null,null,null,null,null,null,null,null,null,null,"TOTAL_ORG_YEAR",{"$f":"C1 & \".YEAR\"","v":"0.0.YEAR"},null,null,null,null,null,null,null,null,null,null,null,null,null,{"$f":"SUM($Q4:$Q15)","v":0},{"$f":"SUM($R4:$R15)","v":0},{"$f":"SUM($S4:$S15)","v":0},{"$f":"SUM($T4:$T15)","v":0},{"$f":"SUM($N4:$N15)","v":0},{"$f":"SUM($Q4:$Q15)","v":0},{"$f":"SUM($R4:$R15)","v":0},{"$f":"SUM($S4:$S15)","v":0},{"$f":"SUM($T4:$T15)","v":0},{"$f":"SUM($N4:$N15)","v":0},null,null,null,null,null,{"$f":"SUM($Q4:$Q9)","v":0},{"$f":"SUM($R4:$R9)","v":0},{"$f":"SUM($S4:$S9)","v":0},{"$f":"SUM($T4:$T9)","v":0},{"$f":"SUM($N4:$N9)","v":0},{"$f":"SUM($Q10:$Q15)","v":0},{"$f":"SUM($R10:$R15)","v":0},{"$f":"SUM($S10:$S15)","v":0},{"$f":"SUM($T10:$T15)","v":0},{"$f":"SUM($N10:$N15)","v":0}]
[null,null,null,null,null,{"$f":"F1 & \".1\"","v":"0.1"},"январь",null,null,null,null,null,null,null,null,null,null,null,null,null,null,null,null,null,null,null,null,null,null,null,null,null,null,null,null,null,null,null,null,null,null,null,null,null,null,null,null,null,null,null,null,null,{"$f":"C1 & \"-I\"","v":"0.0-I"},null,null,null,null,null,null,null,null,null,null,null,null,null,null,null,null,null,null,null,null,null,null,null,null,null,null,null,null,null,null,null,null,null,null,null,null,null,null,null,null,null,null,null,null,{"$f":"IF(OR(BP3=0,CE3=0,BP3=\"\"),0,CE3/BP3)","v":0},{"$f":"IF(OR(BQ3=0,CF3=0,BQ3=\"\"),0,CF3/BQ3)","v":0},{"$f":"IF(OR(BR3=0,CG3=0,BR3=\"\"),0,CG3/BR3)","v":0},{"$f":"IF(OR(BS3=0,CH3=0,BS3=\"\"),0,CH3/BS3)","v":0},{"$f":"IF(OR(BT3=0,CI3=0,BT3=\"\"),0,CI3/BT3)","v":0},{"$f":"IF(OR(SUM(BP3:BT3)=0,SUM(CE3:CI3)=0),0,SUM(CE3:CI3)/SUM(BP3:BT3))","v":0}]
[null,null,null,null,null,{"$f":"F1 & \".2\"","v":"0.2"},"февраль",null,null,null,null,null,null,null,null,null,null,null,null,null,null,null,null,null,null,null,null,null,null,null,null,null,null,null,null,null,null,null,null,null,null,null,null,null,null,null,null,null,null,null,null,null,{"$f":"C1 & \"-I\"","v":"0.0-I"}]
[null,null,null,null,null,{"$f":"F1 & \".3\"","v":"0.3"},"март",null,null,null,null,null,null,null,null,null,null,null,null,null,null,null,null,null,null,null,null,null,null,null,null,null,null,null,null,null,null,null,null,null,null,null,null,null,null,null,null,null,null,null,null,null,{"$f":"C1 & \"-I\"","v":"0.0-I"}]
[null,null,null,null,null,{"$f":"F1 & \".4\"","v":"0.4"},"апрель",null,null,null,null,null,null,null,null,null,null,null,null,null,null,null,null,null,null,null,null,null,null,null,null,null,null,null,null,null,null,null,null,null,null,null,null,null,null,null,null,null,null,null,null,null,{"$f":"C1 & \"-I\"","v":"0.0-I"}]
[null,null,null,null,null,{"$f":"F1 & \".5\"","v":"0.5"},"май",null,null,null,null,null,null,null,null,null,null,null,null,null,null,null,null,null,null,null,null,null,null,null,null,null,null,null,null,null,null,null,null,null,null,null,null,null,null,null,null,null,null,null,null,null,{"$f":"C1 & \"-I\"","v":"0.0-I"}]
[null,null,null,null,null,{"$f":"F1 & \".6\"","v":"0.6"},"июнь",null,null,null,null,null,null,null,null,null,null,null,null,null,null,null,null,null,null,null,null,null,null,null,null,null,null,null,null,null,null,null,null,null,null,null,null,null,null,null,null,null,null,null,null,null,{"$f":"C1 & \"-I\"","v":"0.0-I"}]
[null,null,null,null,null,{"$f":"F1 & \".7\"","v":"0.7"},"июль",null,null,null,null,null,null,null,null,null,null,null,null,null,null,null,null,null,null,null,null,null,null,null,null,null,null,null,null,null,null,null,null,null,null,null,null,null,null,null,null,null,null,null,null,null,{"$f":"C1 & \"-II\"","v":"0.0-II"},null,null,null,null,null,null,null,null,null,null,null,null,null,null,null,null,null,null,null,null,null,null,null,null,null,null,null,null,null,null,null,null,null,null,null,null,null,null,null,null,null,null,null,null,{"$f":"IF(OR(BU3=0,CJ3=0,BU3=\"\"),0,CJ3/BU3)","v":0},{"$f":"IF(OR(BV3=0,CK3=0,BV3=\"\"),0,CK3/BV3)","v":0},{"$f":"IF(OR(BW3=0,CL3=0,BW3=\"\"),0,CL3/BW3)","v":0},{"$f":"IF(OR(BX3=0,CM3=0,BX3=\"\"),0,CM3/BX3)","v":0},{"$f":"IF(OR(BY3=0,CN3=0,BY3=\"\"),0,CN3/BY3)","v":0},{"$f":"IF(OR(SUM(BU3:BY3)=0,SUM(CJ3:CN3)=0),0,SUM(CJ3:CN3)/SUM(BU3:BY3))","v":0}]
[null,null,null,null,null,{"$f":"F1 & \".8\"","v":"0.8"},"август",null,null,null,null,null,null,null,null,null,null,null,null,null,null,null,null,null,null,null,null,null,null,null,null,null,null,null,null,null,null,null,null,null,null,null,null,null,null,null,null,null,null,null,null,null,{"$f":"C1 & \"-II\"","v":"0.0-II"}]
[null,null,null,null,null,{"$f":"F1 & \".9\"","v":"0.9"},"сентябрь",null,null,null,null,null,null,null,null,null,null,null,null,null,null,null,null,null,null,null,null,null,null,null,null,null,null,null,null,null,null,null,null,null,null,null,null,null,null,null,null,null,null,null,null,null,{"$f":"C1 & \"-II\"","v":"0.0-II"}]
[null,null,null,null,null,{"$f":"F1 & \".10\"","v":"0.10"},"октябрь",null,null,null,null,null,null,null,null,null,null,null,null,null,null,null,null,null,null,null,null,null,null,null,null,null,null,null,null,null,null,null,null,null,null,null,null,null,null,null,null,null,null,null,null,null,{"$f":"C1 & \"-II\"","v":"0.0-II"}]
[null,null,null,null,null,{"$f":"F1 & \".11\"","v":"0.11"},"ноябрь",null,null,null,null,null,null,null,null,null,null,null,null,null,null,null,null,null,null,null,null,null,null,null,null,null,null,null,null,null,null,null,null,null,null,null,null,null,null,null,null,null,null,null,null,null,{"$f":"C1 & \"-II\"","v":"0.0-II"}]
[null,null,null,null,null,{"$f":"F1 & \".12\"","v":"0.12"},"декабрь",null,null,null,null,null,null,null,null,null,null,null,null,null,null,null,null,null,null,null,null,null,null,null,null,null,null,null,null,null,null,null,null,null,null,null,null,null,null,null,null,null,null,null,null,null,{"$f":"C1 & \"-II\"","v":"0.0-II"}]
[]
[]
[]
[]
[]
[]
[]
[]
[]
[]
[]
[]
[]
[]
[]
[]
[]
[]
[]
[]
[]
[]
[]
[]
[]
[]
[]
[]
[]
[]
[]
[]
[]
[]
[]
[]
[]
[]
[]
[]
[]
["TBD",null,{"$f":"F59","v":"0.0"},"-",null,{"$f":"B57","v":0},null,{"$f":"H59","v":0},{"$f":"I59","v":0},{"$f":"A57","v":"TBD"},{"$f":"K59","v":0},0,0,0,0,0,0,0,0,0,null,null,null,null,null,null,null,null,null,null,null,null,null,null,null,null,null,null,null,null,null,null,null,null,null,null,null,null,null,null,null,null,"TOTAL_ORG"]
[]
[null,null,null,null,null,{"$f":"F57 & \".0\"","v":"0.0"},"год",{"$f":"SUMIF('Список объектов'!$R$15:$R$16,$F59,'Список объектов'!$W$15:$W$16)","v":0},{"$f":"SUMIF('Список объектов'!$R$15:$R$16,$F59,'Список объектов'!$X$15:$X$16)","v":0},{"$f":"J57","v":"TBD"},null,null,{"$f":"SUM(N59,Q59,R59:T59)","v":0},{"$f":"SUM(N60:N71)","v":0},0,0,0,0,0,0,null,null,null,null,null,null,null,null,null,null,null,null,null,null,null,null,null,null,null,null,null,null,null,null,null,null,null,null,null,null,null,null,"TOTAL_ORG_YEAR",{"$f":"C57 & \".YEAR\"","v":"0.0.YEAR"},null,null,null,null,null,null,null,null,null,null,null,null,null,{"$f":"SUM($Q60:$Q71)","v":0},{"$f":"SUM($R60:$R71)","v":0},{"$f":"SUM($S60:$S71)","v":0},{"$f":"SUM($T60:$T71)","v":0},{"$f":"SUM($N60:$N71)","v":0},{"$f":"SUM($Q60:$Q71)","v":0},{"$f":"SUM($R60:$R71)","v":0},{"$f":"SUM($S60:$S71)","v":0},{"$f":"SUM($T60:$T71)","v":0},{"$f":"SUM($N60:$N71)","v":0},null,null,null,null,null,{"$f":"SUM($Q60:$Q65)","v":0},{"$f":"SUM($R60:$R65)","v":0},{"$f":"SUM($S60:$S65)","v":0},{"$f":"SUM($T60:$T65)","v":0},{"$f":"SUM($N60:$N65)","v":0},{"$f":"SUM($Q66:$Q71)","v":0},{"$f":"SUM($R66:$R71)","v":0},{"$f":"SUM($S66:$S71)","v":0},{"$f":"SUM($T66:$T71)","v":0},{"$f":"SUM($N66:$N71)","v":0}]
[null,null,null,null,null,{"$f":"F57 & \".1\"","v":"0.1"},"январь",null,null,{"$f":"IF(OFFSET('Список территорий'!CJ$15,$F57,0)=\"a\",\"Y\",\"N\")","v":"N"},null,null,0,{"$f":"SUM(O60:P60)","v":0},null,null,null,null,null,null,null,null,null,null,null,null,null,null,null,null,null,null,null,null,null,null,null,null,null,null,null,null,null,null,null,null,null,null,null,null,null,null,{"$f":"C57 & \"-I\"","v":"0.0-I"},null,null,null,null,null,null,null,null,null,null,null,null,null,null,{"$f":"SUM($Q60:$Q65)","v":0},{"$f":"SUM($R60:$R65)","v":0},{"$f":"SUM($S60:$S65)","v":0},{"$f":"SUM($T60:$T65)","v":0},{"$f":"SUM($N60:$N65)","v":0},{"$f":"SUM($Q60:$Q65)","v":0},{"$f":"SUM($R60:$R65)","v":0},{"$f":"SUM($S60:$S65)","v":0},{"$f":"SUM($T60:$T65)","v":0},{"$f":"SUM($N60:$N65)","v":0},null,null,null,null,null,null,null,null,null,null,null,null,null,null,null,null,null,null,null,null,{"$f":"IF(OR(BP59=0,CE59=0,BP59=\"\"),0,CE59/BP59)","v":0},{"$f":"IF(OR(BQ59=0,CF59=0,BQ59=\"\"),0,CF59/BQ59)","v":0},{"$f":"IF(OR(BR59=0,CG59=0,BR59=\"\"),0,CG59/BR59)","v":0},{"$f":"IF(OR(BS59=0,CH59=0,BS59=\"\"),0,CH59/BS59)","v":0},{"$f":"IF(OR(BT59=0,CI59=0,BT59=\"\"),0,CI59/BT59)","v":0},{"$f":"IF(OR(SUM(BP59:BT59)=0,SUM(CE59:CI59)=0),0,SUM(CE59:CI59)/SUM(BP59:BT59))","v":0}]
[null,null,null,null,null,{"$f":"F57 & \".2\"","v":"0.2"},"февраль",null,null,{"$f":"IF(OFFSET('Список территорий'!CK$15,$F57,0)=\"a\",\"Y\",\"N\")","v":"N"},null,null,0,{"$f":"SUM(O61:P61)","v":0},null,null,null,null,null,null,null,null,null,null,null,null,null,null,null,null,null,null,null,null,null,null,null,null,null,null,null,null,null,null,null,null,null,null,null,null,null,null,{"$f":"C57 & \"-I\"","v":"0.0-I"}]
[null,null,null,null,null,{"$f":"F57 & \".3\"","v":"0.3"},"март",null,null,{"$f":"IF(OFFSET('Список территорий'!CL$15,$F57,0)=\"a\",\"Y\",\"N\")","v":"N"},null,null,0,0,null,null,null,null,null,null,null,null,null,null,null,null,null,null,null,null,null,null,null,null,null,null,null,null,null,null,null,null,null,null,null,null,null,null,null,null,null,null,{"$f":"C57 & \"-I\"","v":"0.0-I"}]
[null,null,null,null,null,{"$f":"F57 & \".4\"","v":"0.4"},"апрель",null,null,{"$f":"IF(OFFSET('Список территорий'!CM$15,$F57,0)=\"a\",\"Y\",\"N\")","v":"N"},null,null,0,0,null,null,null,null,null,null,null,null,null,null,null,null,null,null,null,null,null,null,null,null,null,null,null,null,null,null,null,null,null,null,null,null,null,null,null,null,null,null,{"$f":"C57 & \"-I\"","v":"0.0-I"}]
[null,null,null,null,null,{"$f":"F57 & \".5\"","v":"0.5"},"май",null,null,{"$f":"IF(OFFSET('Список территорий'!CN$15,$F57,0)=\"a\",\"Y\",\"N\")","v":"N"},null,null,0,0,null,null,null,null,null,null,null,null,null,null,null,null,null,null,null,null,null,null,null,null,null,null,null,null,null,null,null,null,null,null,null,null,null,null,null,null,null,null,{"$f":"C57 & \"-I\"","v":"0.0-I"}]
[null,null,null,null,null,{"$f":"F57 & \".6\"","v":"0.6"},"июнь",null,null,{"$f":"IF(OFFSET('Список территорий'!CO$15,$F57,0)=\"a\",\"Y\",\"N\")","v":"N"},null,null,0,0,null,null,null,null,null,null,null,null,null,null,null,null,null,null,null,null,null,null,null,null,null,null,null,null,null,null,null,null,null,null,null,null,null,null,null,null,null,null,{"$f":"C57 & \"-I\"","v":"0.0-I"}]
[null,null,null,null,null,{"$f":"F57 & \".7\"","v":"0.7"},"июль",null,null,{"$f":"IF(OFFSET('Список территорий'!CP$15,$F57,0)=\"a\",\"Y\",\"N\")","v":"N"},null,null,0,0,null,null,null,null,null,null,null,null,null,null,null,null,null,null,null,null,null,null,null,null,null,null,null,null,null,null,null,null,null,null,null,null,null,null,null,null,null,null,{"$f":"C57 & \"-II\"","v":"0.0-II"},null,null,null,null,null,null,null,null,null,null,null,null,null,null,{"$f":"SUM($Q66:$Q71)","v":0},{"$f":"SUM($R66:$R71)","v":0},{"$f":"SUM($S66:$S71)","v":0},{"$f":"SUM($T66:$T71)","v":0},{"$f":"SUM($N66:$N71)","v":0},{"$f":"SUM($Q66:$Q71)","v":0},{"$f":"SUM($R66:$R71)","v":0},{"$f":"SUM($S66:$S71)","v":0},{"$f":"SUM($T66:$T71)","v":0},{"$f":"SUM($N66:$N71)","v":0},null,null,null,null,null,null,null,null,null,null,null,null,null,null,null,null,null,null,null,null,{"$f":"IF(OR(BU59=0,CJ59=0,BU59=\"\"),0,CJ59/BU59)","v":0},{"$f":"IF(OR(BV59=0,CK59=0,BV59=\"\"),0,CK59/BV59)","v":0},{"$f":"IF(OR(BW59=0,CL59=0,BW59=\"\"),0,CL59/BW59)","v":0},{"$f":"IF(OR(BX59=0,CM59=0,BX59=\"\"),0,CM59/BX59)","v":0},{"$f":"IF(OR(BY59=0,CN59=0,BY59=\"\"),0,CN59/BY59)","v":0},{"$f":"IF(OR(SUM(BU59:BY59)=0,SUM(CJ59:CN59)=0),0,SUM(CJ59:CN59)/SUM(BU59:BY59))","v":0}]
[null,null,null,null,null,{"$f":"F57 & \".8\"","v":"0.8"},"август",null,null,{"$f":"IF(OFFSET('Список территорий'!CQ$15,$F57,0)=\"a\",\"Y\",\"N\")","v":"N"},null,null,0,0,null,null,null,null,null,null,null,null,null,null,null,null,null,null,null,null,null,null,null,null,null,null,null,null,null,null,null,null,null,null,null,null,null,null,null,null,null,null,{"$f":"C57 & \"-II\"","v":"0.0-II"}]
[null,null,null,null,null,{"$f":"F57 & \".9\"","v":"0.9"},"сентябрь",null,null,{"$f":"IF(OFFSET('Список территорий'!CR$15,$F57,0)=\"a\",\"Y\",\"N\")","v":"N"},null,null,0,0,null,null,null,null,null,null,null,null,null,null,null,null,null,null,null,null,null,null,null,null,null,null,null,null,null,null,null,null,null,null,null,null,null,null,null,null,null,null,{"$f":"C57 & \"-II\"","v":"0.0-II"}]
[null,null,null,null,null,{"$f":"F57 & \".10\"","v":"0.10"},"октябрь",null,null,{"$f":"IF(OFFSET('Список территорий'!CS$15,$F57,0)=\"a\",\"Y\",\"N\")","v":"N"},null,null,0,0,null,null,null,null,null,null,null,null,null,null,null,null,null,null,null,null,null,null,null,null,null,null,null,null,null,null,null,null,null,null,null,null,null,null,null,null,null,null,{"$f":"C57 & \"-II\"","v":"0.0-II"}]
[null,null,null,null,null,{"$f":"F57 & \".11\"","v":"0.11"},"ноябрь",null,null,{"$f":"IF(OFFSET('Список территорий'!CT$15,$F57,0)=\"a\",\"Y\",\"N\")","v":"N"},null,null,0,0,null,null,null,null,null,null,null,null,null,null,null,null,null,null,null,null,null,null,null,null,null,null,null,null,null,null,null,null,null,null,null,null,null,null,null,null,null,null,{"$f":"C57 & \"-II\"","v":"0.0-II"}]
[null,null,null,null,null,{"$f":"F57 & \".12\"","v":"0.12"},"декабрь",null,null,{"$f":"IF(OFFSET('Список территорий'!CU$15,$F57,0)=\"a\",\"Y\",\"N\")","v":"N"},null,null,0,0,null,null,null,null,null,null,null,null,null,null,null,null,null,null,null,null,null,null,null,null,null,null,null,null,null,null,null,null,null,null,null,null,null,null,null,null,null,null,{"$f":"C57 & \"-II\"","v":"0.0-II"}]
[]
[]
[]
[]
[]
[]
[]
[]
[]
[]
[]
[]
[]
[]
[]
[]
[]
[]
[]
[]
[]
[]
[]
[]
[]
[]
[]
[]
[]
[]
[]
[]
[]
[]
[]
[]
[]
[]
[]
[]
[]
[]
[]
[]
[]
[]
[null,null,null,null,null,{"$f":"\"Баланс \" & TEMPLATE_SPHERE & \" (транспортировка)\"","v":"Баланс  (транспортировка)"}]
[null,null,null,null,null,"Гкал"]
[null,null,null,null,null,"№ п/п","Субъект баланса","Установленная тепловая мощность, Гкал/час","Подключённая (фактическая) тепловая нагрузка, Гкал/час","Вид(-ы) теплоносителя(-ей)","Принято тепловой энергии для передачи (транспортировки)","Потери","Отпуск тепловой энергии"]
[null,null,null,null,null,null,null,null,null,null,null,null,"Всего","Передано на нужды организации",null,null,"Энерго-снабжающие организации","Бюджетные потребители","Население","Прочие потребители"]
[null,null,null,null,null,null,null,null,null,null,null,null,null,"Всего","На собственное производство","На хозяйственные нужды"]
[]
[null,null,null,null,null,null,"А","IC","CL","Б",1,2,"3","3.1","3.1.1","3.1.2","3.2","3.3","3.4","3.5",null,null,null,null,null,null,null,null,null,null,null,null,null,null,null,null,null,null,null,null,null,null,null,null,null,null,null,null,null,null,null,null,null,null,null,null,null,null,null,null,null,null,null,null,null,null,null,"RESELLERS_I","BUDGET_I","POPULATION_I","OTHERS_I","OWN_I","RESELLERS_II","BUDGET_II","POPULATION_II","OTHERS_II","OWN_II"]
[]
[null,null,null,"-",null,{"$f":"IF(TEMPLATE_SPHERE_CODE=\"COLDVSNA\",\"0.1.P\",\"0.1\")","v":"0.1"},"Всего по организации",null,null,null,{"$f":"SUMIF($BA131:$BA132,$BA126,K131:K132)","v":0},0,0,0,0,0,0,0,0,0,null,null,null,null,null,null,null,null,null,null,null,null,null,null,null,null,null,null,null,null,null,null,null,null,null,null,null,null,null,null,null,null,"TOTAL_ORG_YEAR"]
[null,null,null,null,null,{"$f":"IF(TEMPLATE_SPHERE_CODE=\"COLDVSNA\",\"0.1.T\",\"\")","v":""}]
[]
[]
[]
[null,0,null,null,null,null,null,null,null,null,null,null,null,null,null,null,null,null,null,null,null,null,null,null,null,null,null,null,null,null,null,null,null,null,null,null,null,null,null,null,null,null,null,null,null,null,null,null,null,null,null,null,null,null,null,null,null,null,null,null,null,null,null,null,null,null,null,"Сумма объёмов по периодам (I, II)"]
[null,null,null,null,null,null,"Добавить"]

{"sheet":"ТС.РО","index":13,"n_rows":411,"n_cols":46,"rows_kept":411,"cut":false,"hidden":true,"merged":[[12,38,13,39],[13,41,13,43],[18,38,19,38],[18,39,19,39],[18,40,19,40],[18,41,19,43]]}
[]
[]
[]
[]
[]
[null,null,null,null,null,null,null,null,null,null,null,null,null,null,null,null,null,null,null,null,null,null,null,null,null,null,null,null,null,null,null,null,null,null,null,null,null,null,null,null,null,12,6,6]
[]
[]
[null,null,null,null,null,null,null,null,null,null,null,null,null,null,null,null,null,null,null,null,null,null,null,null,null,null,null,null,null,null,null,null,null,null,null,null,null,null,null,null,null,"Y","I","II"]
[null,null,null,null,null,null,null,null,null,null,null,null,null,null,null,null,null,null,null,null,null,null,null,null,null,null,null,null,null,null,null,null,null,null,null,null,null,null,null,null,null,null,null,null,"START","END"]
[]
[null,null,null,null,null,null,null,null,null,null,null,null,null,null,null,null,null,null,null,null,null,null,null,null,null,null,null,null,null,null,null,null,null,null,null,null,null,null,null,"Необходимо указывать значения по полугодиям (6 и 6 месяцев)"]
["FULL_MODE",null,null,null,null,null,null,null,null,null,null,null,null,null,null,null,null,null,null,null,null,null,null,null,null,null,null,null,null,null,null,null,null,null,null,null,null,null,"Расходы организации",null,"Период","Год","I полугодие","II полугодие"]
[]
[]
[]
[]
[null,null,null,null,null,null,null,null,null,null,null,null,null,null,null,null,null,null,null,null,null,null,null,null,null,null,null,null,null,null,null,null,null,null,null,null,null,null,null,null,null,null,null,null,null,"Добавить"]
[null,null,null,null,null,null,null,null,null,null,null,null,null,null,null,null,null,null,null,null,null,null,null,null,null,null,null,null,null,null,null,null,null,null,null,null,null,null,"№ п/п","Наименование показателя","Единица измерения","Всего по организации",null,null,0]
[]
[null,null,null,null,null,null,null,null,null,null,null,null,null,null,null,null,null,null,null,null,null,null,null,null,null,null,null,null,null,null,null,null,null,null,null,null,null,null,null,"Является ли организация плательщиком НДС"]
[]
[]
[]
[]
[]
[]
[]
[]
[]
[]
[]
[]
[]
[]
[null,null,null,null,null,null,null,null,null,null,null,null,null,null,null,null,null,null,null,null,null,null,null,null,null,null,null,null,null,null,null,null,null,null,null,null,null,null,"4","Стоимость натурального топлива с учётом транспортировки (перевозки) (топливо на технологические цели)","тыс.руб.",{"$f":"SUMIF($AS$9:$AT$9,AP$9,$AS36:$AT36)","v":0},0,0]
[null,null,null,null,null,null,null,null,null,null,null,null,null,null,null,null,null,null,null,null,null,null,null,null,null,null,null,null,null,null,null,null,null,null,null,null,null,null,"4.NG","Газ природный","тыс.руб.",0,0,0]
[null,null,null,null,null,null,null,null,null,null,null,null,null,null,null,null,null,null,null,null,null,null,null,null,null,null,null,null,null,null,null,null,null,null,null,null,null,null,"4.NGL","Газ лимитный","тыс.руб.",0,0,0]
[null,null,null,null,null,null,null,null,null,null,null,null,null,null,null,null,null,null,null,null,null,null,null,null,null,null,null,null,null,null,null,null,null,null,null,null,null,null,"4.NGU","Газ сверхлимитный","тыс.руб.",0,0,0]
[null,null,null,null,null,null,null,null,null,null,null,null,null,null,null,null,null,null,null,null,null,null,null,null,null,null,null,null,null,null,null,null,null,null,null,null,null,null,"4.NGC","Газ коммерческий","тыс.руб.",0,0,0]
[null,null,null,null,null,null,null,null,null,null,null,null,null,null,null,null,null,null,null,null,null,null,null,null,null,null,null,null,null,null,null,null,null,null,null,null,null,null,"4.GBL","Газ доменный","тыс.руб.",0,0,0]
[null,null,null,null,null,null,null,null,null,null,null,null,null,null,null,null,null,null,null,null,null,null,null,null,null,null,null,null,null,null,null,null,null,null,null,null,null,null,"4.GCK","Газ коксовый","тыс.руб.",0,0,0]
[null,null,null,null,null,null,null,null,null,null,null,null,null,null,null,null,null,null,null,null,null,null,null,null,null,null,null,null,null,null,null,null,null,null,null,null,null,null,"4.GOA","Газ нефтяной (попутный)","тыс.руб.",0,0,0]
[null,null,null,null,null,null,null,null,null,null,null,null,null,null,null,null,null,null,null,null,null,null,null,null,null,null,null,null,null,null,null,null,null,null,null,null,null,null,"4.DSG","Газ сухой отбензиненный","тыс.руб.",0,0,0]
[null,null,null,null,null,null,null,null,null,null,null,null,null,null,null,null,null,null,null,null,null,null,null,null,null,null,null,null,null,null,null,null,null,null,null,null,null,null,"4.GCN","Газовый конденсат","тыс.руб.",0,0,0]
[null,null,null,null,null,null,null,null,null,null,null,null,null,null,null,null,null,null,null,null,null,null,null,null,null,null,null,null,null,null,null,null,null,null,null,null,null,null,"4.LNG","Газ сжиженный","тыс.руб.",0,0,0]
[null,null,null,null,null,null,null,null,null,null,null,null,null,null,null,null,null,null,null,null,null,null,null,null,null,null,null,null,null,null,null,null,null,null,null,null,null,null,"4.DSL","Дизельное топливо","тыс.руб.",0,0,0]
[null,null,null,null,null,null,null,null,null,null,null,null,null,null,null,null,null,null,null,null,null,null,null,null,null,null,null,null,null,null,null,null,null,null,null,null,null,null,"4.DSLA","А (арктическое)","тыс.руб.",0,0,0]
[null,null,null,null,null,null,null,null,null,null,null,null,null,null,null,null,null,null,null,null,null,null,null,null,null,null,null,null,null,null,null,null,null,null,null,null,null,null,"4.DSLW","З (зимнее)","тыс.руб.",0,0,0]
[null,null,null,null,null,null,null,null,null,null,null,null,null,null,null,null,null,null,null,null,null,null,null,null,null,null,null,null,null,null,null,null,null,null,null,null,null,null,"4.DSLS","Л (летнее)","тыс.руб.",0,0,0]
[null,null,null,null,null,null,null,null,null,null,null,null,null,null,null,null,null,null,null,null,null,null,null,null,null,null,null,null,null,null,null,null,null,null,null,null,null,null,"4.DSLO","Е (межсезонное)","тыс.руб.",0,0,0]
[null,null,null,null,null,null,null,null,null,null,null,null,null,null,null,null,null,null,null,null,null,null,null,null,null,null,null,null,null,null,null,null,null,null,null,null,null,null,"4.MST","Мазут","тыс.руб.",0,0,0]
[null,null,null,null,null,null,null,null,null,null,null,null,null,null,null,null,null,null,null,null,null,null,null,null,null,null,null,null,null,null,null,null,null,null,null,null,null,null,"4.MSTM40","М-40","тыс.руб.",0,0,0]
[null,null,null,null,null,null,null,null,null,null,null,null,null,null,null,null,null,null,null,null,null,null,null,null,null,null,null,null,null,null,null,null,null,null,null,null,null,null,"4.MSTM100","М-100","тыс.руб.",0,0,0]
[null,null,null,null,null,null,null,null,null,null,null,null,null,null,null,null,null,null,null,null,null,null,null,null,null,null,null,null,null,null,null,null,null,null,null,null,null,null,"4.MSTM200","М-200","тыс.руб.",0,0,0]
[null,null,null,null,null,null,null,null,null,null,null,null,null,null,null,null,null,null,null,null,null,null,null,null,null,null,null,null,null,null,null,null,null,null,null,null,null,null,"4.MSTT","мазут марки \"Т\"","тыс.руб.",{"$f":"SUMIF($AS$9:$AT$9,AP$9,$AS56:$AT56)","v":0},0,0]
[null,null,null,null,null,null,null,null,null,null,null,null,null,null,null,null,null,null,null,null,null,null,null,null,null,null,null,null,null,null,null,null,null,null,null,null,null,null,"4.MSTF5","Ф-5","тыс.руб.",0,0,0]
[null,null,null,null,null,null,null,null,null,null,null,null,null,null,null,null,null,null,null,null,null,null,null,null,null,null,null,null,null,null,null,null,null,null,null,null,null,null,"4.MSTF12","Ф-12","тыс.руб.",0,0,0]
[null,null,null,null,null,null,null,null,null,null,null,null,null,null,null,null,null,null,null,null,null,null,null,null,null,null,null,null,null,null,null,null,null,null,null,null,null,null,"4.OIL","Нефть","тыс.руб.",0,0,0]
[null,null,null,null,null,null,null,null,null,null,null,null,null,null,null,null,null,null,null,null,null,null,null,null,null,null,null,null,null,null,null,null,null,null,null,null,null,null,"4.COA","Уголь","тыс.руб.",0,0,0]
[null,null,null,null,null,null,null,null,null,null,null,null,null,null,null,null,null,null,null,null,null,null,null,null,null,null,null,null,null,null,null,null,null,null,null,null,null,null,"4.COAA","Уголь антрацит","тыс.руб.",0,0,0]
[null,null,null,null,null,null,null,null,null,null,null,null,null,null,null,null,null,null,null,null,null,null,null,null,null,null,null,null,null,null,null,null,null,null,null,null,null,null,"4.COAB","Уголь бурый","тыс.руб.",0,0,0]
[null,null,null,null,null,null,null,null,null,null,null,null,null,null,null,null,null,null,null,null,null,null,null,null,null,null,null,null,null,null,null,null,null,null,null,null,null,null,"4.COAG","Уголь газовый","тыс.руб.",0,0,0]
[null,null,null,null,null,null,null,null,null,null,null,null,null,null,null,null,null,null,null,null,null,null,null,null,null,null,null,null,null,null,null,null,null,null,null,null,null,null,"4.COALF","Уголь длиннопламенный","тыс.руб.",0,0,0]
[null,null,null,null,null,null,null,null,null,null,null,null,null,null,null,null,null,null,null,null,null,null,null,null,null,null,null,null,null,null,null,null,null,null,null,null,null,null,"4.COAF","Уголь жирный","тыс.руб.",0,0,0]
[null,null,null,null,null,null,null,null,null,null,null,null,null,null,null,null,null,null,null,null,null,null,null,null,null,null,null,null,null,null,null,null,null,null,null,null,null,null,"4.COAC","Уголь коксовый","тыс.руб.",0,0,0]
[null,null,null,null,null,null,null,null,null,null,null,null,null,null,null,null,null,null,null,null,null,null,null,null,null,null,null,null,null,null,null,null,null,null,null,null,null,null,"4.COASC","Уголь отощённо-спекающийся","тыс.руб.",0,0,0]
[null,null,null,null,null,null,null,null,null,null,null,null,null,null,null,null,null,null,null,null,null,null,null,null,null,null,null,null,null,null,null,null,null,null,null,null,null,null,"4.COAWC","Уголь слабоспекающийся","тыс.руб.",0,0,0]
[null,null,null,null,null,null,null,null,null,null,null,null,null,null,null,null,null,null,null,null,null,null,null,null,null,null,null,null,null,null,null,null,null,null,null,null,null,null,"4.COAS","Уголь тощий","тыс.руб.",0,0,0]
[null,null,null,null,null,null,null,null,null,null,null,null,null,null,null,null,null,null,null,null,null,null,null,null,null,null,null,null,null,null,null,null,null,null,null,null,null,null,"4.ENR","Энергия","тыс.руб.",0,0,0]
[null,null,null,null,null,null,null,null,null,null,null,null,null,null,null,null,null,null,null,null,null,null,null,null,null,null,null,null,null,null,null,null,null,null,null,null,null,null,"4.PWR","Заявленная мощность","тыс.руб.",0,0,0]
[null,null,null,null,null,null,null,null,null,null,null,null,null,null,null,null,null,null,null,null,null,null,null,null,null,null,null,null,null,null,null,null,null,null,null,null,null,null,"4.CWD","Уголь древесный","тыс.руб.",0,0,0]
[null,null,null,null,null,null,null,null,null,null,null,null,null,null,null,null,null,null,null,null,null,null,null,null,null,null,null,null,null,null,null,null,null,null,null,null,null,null,"4.WDS","Дрова","тыс.руб.",0,0,0]
[null,null,null,null,null,null,null,null,null,null,null,null,null,null,null,null,null,null,null,null,null,null,null,null,null,null,null,null,null,null,null,null,null,null,null,null,null,null,"4.PLT","Пеллеты","тыс.руб.",0,0,0]
[null,null,null,null,null,null,null,null,null,null,null,null,null,null,null,null,null,null,null,null,null,null,null,null,null,null,null,null,null,null,null,null,null,null,null,null,null,null,"4.SAW","Опилки","тыс.руб.",0,0,0]
[null,null,null,null,null,null,null,null,null,null,null,null,null,null,null,null,null,null,null,null,null,null,null,null,null,null,null,null,null,null,null,null,null,null,null,null,null,null,"4.PEA","Торф","тыс.руб.",0,0,0]
[null,null,null,null,null,null,null,null,null,null,null,null,null,null,null,null,null,null,null,null,null,null,null,null,null,null,null,null,null,null,null,null,null,null,null,null,null,null,"4.SHL","Сланцы","тыс.руб.",0,0,0]
[null,null,null,null,null,null,null,null,null,null,null,null,null,null,null,null,null,null,null,null,null,null,null,null,null,null,null,null,null,null,null,null,null,null,null,null,null,null,"4.STF","Печное бытовое топливо","тыс.руб.",0,0,0]
[null,null,null,null,null,null,null,null,null,null,null,null,null,null,null,null,null,null,null,null,null,null,null,null,null,null,null,null,null,null,null,null,null,null,null,null,null,null,"4.OTH","Прочие виды топлива","тыс.руб.",0,0,0]
[]
[]
[]
[]
[]
[]
[]
[]
[]
[]
[null,null,null,null,null,null,null,null,null,null,null,null,null,null,null,null,null,null,null,null,null,null,null,null,null,null,null,null,null,null,null,null,null,null,null,null,null,null,"5","Энергия, в том числе ","тыс.руб.",{"$f":"SUMIF($AS$9:$AT$9,AP$9,$AS90:$AT90)","v":0},0,0]
[null,null,null,null,null,null,null,null,null,null,null,null,null,null,null,null,null,null,null,null,null,null,null,null,null,null,null,null,null,null,null,null,null,null,null,null,null,null,"5.1","энергия (покупная энергия) на технологические цели ","тыс.руб.",0,0,0]
[null,null,null,null,null,null,null,null,null,null,null,null,null,null,null,null,null,null,null,null,null,null,null,null,null,null,null,null,null,null,null,null,null,null,null,null,null,null,"5.1.1","затраты на покупную тепловую энергию ","тыс.руб.",0,0,0]
[null,null,null,null,null,null,null,null,null,null,null,null,null,null,null,null,null,null,null,null,null,null,null,null,null,null,null,null,null,null,null,null,null,null,null,null,null,null,{"$f":"AM92 & \".1\"","v":"5.1.1.1"},"С коллекторов, всего","тыс.руб.",0,0,0]
[null,null,null,null,null,null,null,null,null,null,null,null,null,null,null,null,null,null,null,null,null,null,null,null,null,null,null,null,null,null,null,null,null,null,null,null,null,null,{"$f":"AM92 & \".1.1\"","v":"5.1.1.1.1"},"от станций с мощностью производства >= 25 МВт","тыс.руб.",0,0,0]
[null,null,null,null,null,null,null,null,null,null,null,null,null,null,null,null,null,null,null,null,null,null,null,null,null,null,null,null,null,null,null,null,null,null,null,null,null,null,{"$f":"AM92 & \".1.1.0.1\"","v":"5.1.1.1.1.0.1"},"объём ТЭ","тыс. Гкал",0,0,0]
[null,null,null,null,null,null,null,null,null,null,null,null,null,null,null,null,null,null,null,null,null,null,null,null,null,null,null,null,null,null,null,null,null,null,null,null,null,null,{"$f":"AM92 & \".1.1.0.2\"","v":"5.1.1.1.1.0.2"},"цена ТЭ","руб./Гкал",{"$f":"IF(AP95=0,0,AP94/AP95)","v":0},{"$f":"IF(AQ95=0,0,AQ94/AQ95)","v":0},{"$f":"IF(AR95=0,0,AR94/AR95)","v":0}]
[]
[null,null,null,null,null,null,null,null,null,null,null,null,null,null,null,null,null,null,null,null,null,null,null,null,null,null,null,null,null,null,null,null,null,null,null,null,null,null,{"$f":"AM92 & \".1.2\"","v":"5.1.1.1.2"},"от станций с мощностью производства < 25 МВт","тыс.руб.",{"$f":"SUMIF($AS$9:$AT$9,AP$9,$AS98:$AT98)","v":0},0,0]
[null,null,null,null,null,null,null,null,null,null,null,null,null,null,null,null,null,null,null,null,null,null,null,null,null,null,null,null,null,null,null,null,null,null,null,null,null,null,{"$f":"AM92 & \".1.2.0.1\"","v":"5.1.1.1.2.0.1"},"объём ТЭ","тыс. Гкал",0,0,0]
[null,null,null,null,null,null,null,null,null,null,null,null,null,null,null,null,null,null,null,null,null,null,null,null,null,null,null,null,null,null,null,null,null,null,null,null,null,null,{"$f":"AM92 & \".1.2.0.2\"","v":"5.1.1.1.2.0.2"},"цена ТЭ","руб./Гкал",{"$f":"IF(AP99=0,0,AP98/AP99)","v":0},{"$f":"IF(AQ99=0,0,AQ98/AQ99)","v":0},{"$f":"IF(AR99=0,0,AR98/AR99)","v":0}]
[]
[null,null,null,null,null,null,null,null,null,null,null,null,null,null,null,null,null,null,null,null,null,null,null,null,null,null,null,null,null,null,null,null,null,null,null,null,null,null,{"$f":"AM92 & \".1.3\"","v":"5.1.1.1.3"},"от котельных","тыс.руб.",{"$f":"SUMIF($AS$9:$AT$9,AP$9,$AS102:$AT102)","v":0},0,0]
[null,null,null,null,null,null,null,null,null,null,null,null,null,null,null,null,null,null,null,null,null,null,null,null,null,null,null,null,null,null,null,null,null,null,null,null,null,null,{"$f":"AM92 & \".1.3.0.1\"","v":"5.1.1.1.3.0.1"},"объём ТЭ","тыс. Гкал",0,0,0]
[null,null,null,null,null,null,null,null,null,null,null,null,null,null,null,null,null,null,null,null,null,null,null,null,null,null,null,null,null,null,null,null,null,null,null,null,null,null,{"$f":"AM92 & \".1.3.0.2\"","v":"5.1.1.1.3.0.2"},"цена ТЭ","руб./Гкал",{"$f":"IF(AP103=0,0,AP102/AP103)","v":0},{"$f":"IF(AQ103=0,0,AQ102/AQ103)","v":0},{"$f":"IF(AR103=0,0,AR102/AR103)","v":0}]
[null,null,null,null,null,null,null,null,null,null,null,null,null,null,null,null,null,null,null,null,null,null,null,null,null,null,null,null,null,null,null,null,null,null,null,null,null,null,{"$f":"AM92 & \".2\"","v":"5.1.1.2"},"в том числе покупка потерь с коллекторов","тыс.руб.",{"$f":"SUMIF($AS$9:$AT$9,AP$9,$AS105:$AT105)","v":0},0,0]
[null,null,null,null,null,null,null,null,null,null,null,null,null,null,null,null,null,null,null,null,null,null,null,null,null,null,null,null,null,null,null,null,null,null,null,null,null,null,{"$f":"AM92 & \".2.1\"","v":"5.1.1.2.1"},"от станций с мощностью производства >= 25 МВт","тыс.руб.",0,0,0]
[null,null,null,null,null,null,null,null,null,null,null,null,null,null,null,null,null,null,null,null,null,null,null,null,null,null,null,null,null,null,null,null,null,null,null,null,null,null,{"$f":"AM92 & \".2.2\"","v":"5.1.1.2.2"},"от станций с мощностью производства < 25 МВт","тыс.руб.",0,0,0]
[null,null,null,null,null,null,null,null,null,null,null,null,null,null,null,null,null,null,null,null,null,null,null,null,null,null,null,null,null,null,null,null,null,null,null,null,null,null,{"$f":"AM92 & \".2.3\"","v":"5.1.1.2.3"},"от котельных","тыс.руб."]
[null,null,null,null,null,null,null,null,null,null,null,null,null,null,null,null,null,null,null,null,null,null,null,null,null,null,null,null,null,null,null,null,null,null,null,null,null,null,{"$f":"AM92 & \".3\"","v":"5.1.1.3"},"Из тепловой сети, всего","тыс.руб.",{"$f":"SUMIF($AS$9:$AT$9,AP$9,$AS109:$AT109)","v":0},0,0]
[null,null,null,null,null,null,null,null,null,null,null,null,null,null,null,null,null,null,null,null,null,null,null,null,null,null,null,null,null,null,null,null,null,null,null,null,null,null,{"$f":"AM92 & \".3.1\"","v":"5.1.1.3.1"},"от станций с мощностью производства >= 25 МВт","тыс.руб.",0,0,0]
[null,null,null,null,null,null,null,null,null,null,null,null,null,null,null,null,null,null,null,null,null,null,null,null,null,null,null,null,null,null,null,null,null,null,null,null,null,null,{"$f":"AM92 & \".3.1.0.1\"","v":"5.1.1.3.1.0.1"},"объём ТЭ","тыс. Гкал",0,0,0]
[null,null,null,null,null,null,null,null,null,null,null,null,null,null,null,null,null,null,null,null,null,null,null,null,null,null,null,null,null,null,null,null,null,null,null,null,null,null,{"$f":"AM92 & \".3.1.0.2\"","v":"5.1.1.3.1.0.2"},"цена ТЭ","руб./Гкал",{"$f":"IF(AP111=0,0,AP110/AP111)","v":0},{"$f":"IF(AQ111=0,0,AQ110/AQ111)","v":0},{"$f":"IF(AR111=0,0,AR110/AR111)","v":0}]
[]
[null,null,null,null,null,null,null,null,null,null,null,null,null,null,null,null,null,null,null,null,null,null,null,null,null,null,null,null,null,null,null,null,null,null,null,null,null,null,{"$f":"AM92 & \".3.2\"","v":"5.1.1.3.2"},"от станций с мощностью производства < 25 МВт","тыс.руб.",{"$f":"SUMIF($AS$9:$AT$9,AP$9,$AS114:$AT114)","v":0},0,0]
[null,null,null,null,null,null,null,null,null,null,null,null,null,null,null,null,null,null,null,null,null,null,null,null,null,null,null,null,null,null,null,null,null,null,null,null,null,null,{"$f":"AM92 & \".3.2.0.1\"","v":"5.1.1.3.2.0.1"},"объём ТЭ","тыс. Гкал",0,0,0]
[null,null,null,null,null,null,null,null,null,null,null,null,null,null,null,null,null,null,null,null,null,null,null,null,null,null,null,null,null,null,null,null,null,null,null,null,null,null,{"$f":"AM92 & \".3.2.0.2\"","v":"5.1.1.3.2.0.2"},"цена ТЭ","руб./Гкал",{"$f":"IF(AP115=0,0,AP114/AP115)","v":0},{"$f":"IF(AQ115=0,0,AQ114/AQ115)","v":0},{"$f":"IF(AR115=0,0,AR114/AR115)","v":0}]
[]
[null,null,null,null,null,null,null,null,null,null,null,null,null,null,null,null,null,null,null,null,null,null,null,null,null,null,null,null,null,null,null,null,null,null,null,null,null,null,{"$f":"AM92 & \".3.3\"","v":"5.1.1.3.3"},"от котельных (некомбинированная выработка)","тыс.руб.",{"$f":"SUMIF($AS$9:$AT$9,AP$9,$AS118:$AT118)","v":0},0,0]
[null,null,null,null,null,null,null,null,null,null,null,null,null,null,null,null,null,null,null,null,null,null,null,null,null,null,null,null,null,null,null,null,null,null,null,null,null,null,{"$f":"AM92 & \".3.3.0.1\"","v":"5.1.1.3.3.0.1"},"объём ТЭ","тыс. Гкал",0,0,0]
[null,null,null,null,null,null,null,null,null,null,null,null,null,null,null,null,null,null,null,null,null,null,null,null,null,null,null,null,null,null,null,null,null,null,null,null,null,null,{"$f":"AM92 & \".3.3.0.2\"","v":"5.1.1.3.3.0.2"},"цена ТЭ","руб./Гкал",{"$f":"IF(AP119=0,0,AP118/AP119)","v":0},{"$f":"IF(AQ119=0,0,AQ118/AQ119)","v":0},{"$f":"IF(AR119=0,0,AR118/AR119)","v":0}]
[]
[null,null,null,null,null,null,null,null,null,null,null,null,null,null,null,null,null,null,null,null,null,null,null,null,null,null,null,null,null,null,null,null,null,null,null,null,null,null,{"$f":"AM92 & \".4\"","v":"5.1.1.4"},"в том числе покупка потерь из тепловой сети","тыс.руб.",{"$f":"SUMIF($AS$9:$AT$9,AP$9,$AS122:$AT122)","v":0},0,0]
[null,null,null,null,null,null,null,null,null,null,null,null,null,null,null,null,null,null,null,null,null,null,null,null,null,null,null,null,null,null,null,null,null,null,null,null,null,null,{"$f":"AM92 & \".4.1\"","v":"5.1.1.4.1"},"от станций с мощностью производства >= 25 МВт","тыс.руб.",0,0,0]
[null,null,null,null,null,null,null,null,null,null,null,null,null,null,null,null,null,null,null,null,null,null,null,null,null,null,null,null,null,null,null,null,null,null,null,null,null,null,{"$f":"AM92 & \".4.2\"","v":"5.1.1.4.2"},"от станций с мощностью производства < 25 МВт","тыс.руб.",0,0,0]
[null,null,null,null,null,null,null,null,null,null,null,null,null,null,null,null,null,null,null,null,null,null,null,null,null,null,null,null,null,null,null,null,null,null,null,null,null,null,{"$f":"AM92 & \".4.3\"","v":"5.1.1.4.3"},"от котельных (некомбинированная выработка)","тыс.руб.",0,0,0]
[null,null,null,null,null,null,null,null,null,null,null,null,null,null,null,null,null,null,null,null,null,null,null,null,null,null,null,null,null,null,null,null,null,null,null,null,null,null,"5.1.2","затраты на оплату услуг по передаче тепловой энергии","тыс.руб.",0,0,0]
[null,null,null,null,null,null,null,null,null,null,null,null,null,null,null,null,null,null,null,null,null,null,null,null,null,null,null,null,null,null,null,null,null,null,null,null,null,null,"5.1.3","затраты на покупную электрическую энергию, по уровням напряжения:","тыс.руб.",0,0,0]
[null,null,null,null,null,null,null,null,null,null,null,null,null,null,null,null,null,null,null,null,null,null,null,null,null,null,null,null,null,null,null,null,null,null,null,null,null,null,"5.1.3.0.1","объём энергии","тыс.кВт*ч",0,0,0]
[null,null,null,null,null,null,null,null,null,null,null,null,null,null,null,null,null,null,null,null,null,null,null,null,null,null,null,null,null,null,null,null,null,null,null,null,null,null,"5.1.3.0.2","объём заявленной мощности","МВт",0,0,0]
[null,null,null,null,null,null,null,null,null,null,null,null,null,null,null,null,null,null,null,null,null,null,null,null,null,null,null,null,null,null,null,null,null,null,null,null,null,null,"5.1.3.1.1","энергия НН (0,4 кВ и ниже)","тыс.руб.",0,0,0]
[null,null,null,null,null,null,null,null,null,null,null,null,null,null,null,null,null,null,null,null,null,null,null,null,null,null,null,null,null,null,null,null,null,null,null,null,null,null,"5.1.3.1.1.1","тариф на энергию","руб./кВт*ч",{"$f":"IF(AP132=0,0,AP130/AP132)","v":0},{"$f":"IF(AQ132=0,0,AQ130/AQ132)","v":0},{"$f":"IF(AR132=0,0,AR130/AR132)","v":0}]
[null,null,null,null,null,null,null,null,null,null,null,null,null,null,null,null,null,null,null,null,null,null,null,null,null,null,null,null,null,null,null,null,null,null,null,null,null,null,"5.1.3.1.1.2","объём энергии","тыс.кВт*ч",{"$f":"SUMIF($AS$9:$AT$9,AP$9,$AS132:$AT132)","v":0},0,0]
[null,null,null,null,null,null,null,null,null,null,null,null,null,null,null,null,null,null,null,null,null,null,null,null,null,null,null,null,null,null,null,null,null,null,null,null,null,null,"5.1.3.1.2","заявленная мощность по НН (0,4 кВ и ниже)","тыс.руб.",0,0,0]
[null,null,null,null,null,null,null,null,null,null,null,null,null,null,null,null,null,null,null,null,null,null,null,null,null,null,null,null,null,null,null,null,null,null,null,null,null,null,"5.1.3.1.2.1","тариф на заявленную мощность","руб./кВт*мес",{"$f":"IF(AP135=0,0,AP133/AP135)","v":0},{"$f":"IF(AQ135=0,0,AQ133/AQ135)","v":0},{"$f":"IF(AR135=0,0,AR133/AR135)","v":0}]
[null,null,null,null,null,null,null,null,null,null,null,null,null,null,null,null,null,null,null,null,null,null,null,null,null,null,null,null,null,null,null,null,null,null,null,null,null,null,"5.1.3.1.2.2","годовой объём мощности","МВт",{"$f":"SUMIF($AS$9:$AT$9,AP$9,$AS135:$AT135)","v":0},0,0]
[null,null,null,null,null,null,null,null,null,null,null,null,null,null,null,null,null,null,null,null,null,null,null,null,null,null,null,null,null,null,null,null,null,null,null,null,null,null,"5.1.3.2.1","энергия СН 2 (1-20 кВ)","тыс.руб.",0,0,0]
[null,null,null,null,null,null,null,null,null,null,null,null,null,null,null,null,null,null,null,null,null,null,null,null,null,null,null,null,null,null,null,null,null,null,null,null,null,null,"5.1.3.2.1.1","тариф на энергию","руб./кВт*ч",{"$f":"IF(AP138=0,0,AP136/AP138)","v":0},{"$f":"IF(AQ138=0,0,AQ136/AQ138)","v":0},{"$f":"IF(AR138=0,0,AR136/AR138)","v":0}]
[null,null,null,null,null,null,null,null,null,null,null,null,null,null,null,null,null,null,null,null,null,null,null,null,null,null,null,null,null,null,null,null,null,null,null,null,null,null,"5.1.3.2.1.2","объём энергии","тыс.кВт*ч",{"$f":"SUMIF($AS$9:$AT$9,AP$9,$AS138:$AT138)","v":0},0,0]
[null,null,null,null,null,null,null,null,null,null,null,null,null,null,null,null,null,null,null,null,null,null,null,null,null,null,null,null,null,null,null,null,null,null,null,null,null,null,"5.1.3.2.2","заявленная мощность по СН 2 (1-20 кВ)","тыс.руб.",0,0,0]
[null,null,null,null,null,null,null,null,null,null,null,null,null,null,null,null,null,null,null,null,null,null,null,null,null,null,null,null,null,null,null,null,null,null,null,null,null,null,"5.1.3.2.2.1","тариф на заявленную мощность","руб./кВт*мес",{"$f":"IF(AP141=0,0,AP139/AP141)","v":0},{"$f":"IF(AQ141=0,0,AQ139/AQ141)","v":0},{"$f":"IF(AR141=0,0,AR139/AR141)","v":0}]
[null,null,null,null,null,null,null,null,null,null,null,null,null,null,null,null,null,null,null,null,null,null,null,null,null,null,null,null,null,null,null,null,null,null,null,null,null,null,"5.1.3.2.2.2","годовой объём мощности","МВт",{"$f":"SUMIF($AS$9:$AT$9,AP$9,$AS141:$AT141)","v":0},0,0]
[null,null,null,null,null,null,null,null,null,null,null,null,null,null,null,null,null,null,null,null,null,null,null,null,null,null,null,null,null,null,null,null,null,null,null,null,null,null,"5.1.3.3.1","энергия СН 1 (35 кВ)","тыс.руб.",0,0,0]
[null,null,null,null,null,null,null,null,null,null,null,null,null,null,null,null,null,null,null,null,null,null,null,null,null,null,null,null,null,null,null,null,null,null,null,null,null,null,"5.1.3.3.1.1","тариф на энергию","руб./кВт*ч",{"$f":"IF(AP144=0,0,AP142/AP144)","v":0},{"$f":"IF(AQ144=0,0,AQ142/AQ144)","v":0},{"$f":"IF(AR144=0,0,AR142/AR144)","v":0}]
[null,null,null,null,null,null,null,null,null,null,null,null,null,null,null,null,null,null,null,null,null,null,null,null,null,null,null,null,null,null,null,null,null,null,null,null,null,null,"5.1.3.3.1.2","объём энергии","тыс.кВт*ч",{"$f":"SUMIF($AS$9:$AT$9,AP$9,$AS144:$AT144)","v":0},0,0]
[null,null,null,null,null,null,null,null,null,null,null,null,null,null,null,null,null,null,null,null,null,null,null,null,null,null,null,null,null,null,null,null,null,null,null,null,null,null,"5.1.3.3.2","заявленная мощность по СН 1 (35 кВ)","тыс.руб.",0,0,0]
[null,null,null,null,null,null,null,null,null,null,null,null,null,null,null,null,null,null,null,null,null,null,null,null,null,null,null,null,null,null,null,null,null,null,null,null,null,null,"5.1.3.3.2.1","тариф на заявленную мощность","руб./кВт*мес",{"$f":"IF(AP147=0,0,AP145/AP147)","v":0},{"$f":"IF(AQ147=0,0,AQ145/AQ147)","v":0},{"$f":"IF(AR147=0,0,AR145/AR147)","v":0}]
[null,null,null,null,null,null,null,null,null,null,null,null,null,null,null,null,null,null,null,null,null,null,null,null,null,null,null,null,null,null,null,null,null,null,null,null,null,null,"5.1.3.3.2.2","годовой объём мощности","МВт",{"$f":"SUMIF($AS$9:$AT$9,AP$9,$AS147:$AT147)","v":0},0,0]
[null,null,null,null,null,null,null,null,null,null,null,null,null,null,null,null,null,null,null,null,null,null,null,null,null,null,null,null,null,null,null,null,null,null,null,null,null,null,"5.1.3.4.1","энергия ВН (110 кВ и выше)","тыс.руб.",0,0,0]
[null,null,null,null,null,null,null,null,null,null,null,null,null,null,null,null,null,null,null,null,null,null,null,null,null,null,null,null,null,null,null,null,null,null,null,null,null,null,"5.1.3.4.1.1","тариф на энергию","руб./кВт*ч",{"$f":"IF(AP150=0,0,AP148/AP150)","v":0},{"$f":"IF(AQ150=0,0,AQ148/AQ150)","v":0},{"$f":"IF(AR150=0,0,AR148/AR150)","v":0}]
[null,null,null,null,null,null,null,null,null,null,null,null,null,null,null,null,null,null,null,null,null,null,null,null,null,null,null,null,null,null,null,null,null,null,null,null,null,null,"5.1.3.4.1.2","объём энергии","тыс.кВт*ч",{"$f":"SUMIF($AS$9:$AT$9,AP$9,$AS150:$AT150)","v":0},0,0]
[null,null,null,null,null,null,null,null,null,null,null,null,null,null,null,null,null,null,null,null,null,null,null,null,null,null,null,null,null,null,null,null,null,null,null,null,null,null,"5.1.3.4.2","заявленная мощность по ВН (110 кВ и выше)","тыс.руб.",0,0,0]
[null,null,null,null,null,null,null,null,null,null,null,null,null,null,null,null,null,null,null,null,null,null,null,null,null,null,null,null,null,null,null,null,null,null,null,null,null,null,"5.1.3.4.2.1","тариф на заявленную мощность","руб./кВт*мес",{"$f":"IF(AP153=0,0,AP151/AP153)","v":0},{"$f":"IF(AQ153=0,0,AQ151/AQ153)","v":0},{"$f":"IF(AR153=0,0,AR151/AR153)","v":0}]
[null,null,null,null,null,null,null,null,null,null,null,null,null,null,null,null,null,null,null,null,null,null,null,null,null,null,null,null,null,null,null,null,null,null,null,null,null,null,"5.1.3.4.2.2","годовой объём мощности","МВт",{"$f":"SUMIF($AS$9:$AT$9,AP$9,$AS153:$AT153)","v":0},0,0]
[null,null,null,null,null,null,null,null,null,null,null,null,null,null,null,null,null,null,null,null,null,null,null,null,null,null,null,null,null,null,null,null,null,null,null,null,null,null,"5.2","энергия на хозяйственные нужды ","тыс.руб.",0,0,0]
[null,null,null,null,null,null,null,null,null,null,null,null,null,null,null,null,null,null,null,null,null,null,null,null,null,null,null,null,null,null,null,null,null,null,null,null,null,null,"5.2.1","тепловая энергия ","тыс.руб.",0,0,0]
[null,null,null,null,null,null,null,null,null,null,null,null,null,null,null,null,null,null,null,null,null,null,null,null,null,null,null,null,null,null,null,null,null,null,null,null,null,null,{"$f":"AM155 & \".1\"","v":"5.2.1.1"},"С коллекторов, всего","тыс.руб.",0,0,0]
[null,null,null,null,null,null,null,null,null,null,null,null,null,null,null,null,null,null,null,null,null,null,null,null,null,null,null,null,null,null,null,null,null,null,null,null,null,null,{"$f":"AM155 & \".1.1\"","v":"5.2.1.1.1"},"от станций с мощностью производства >= 25 МВт","тыс.руб.",0,0,0]
[null,null,null,null,null,null,null,null,null,null,null,null,null,null,null,null,null,null,null,null,null,null,null,null,null,null,null,null,null,null,null,null,null,null,null,null,null,null,{"$f":"AM155 & \".1.1.0.1\"","v":"5.2.1.1.1.0.1"},"объём ТЭ","тыс. Гкал",0,0,0]
[null,null,null,null,null,null,null,null,null,null,null,null,null,null,null,null,null,null,null,null,null,null,null,null,null,null,null,null,null,null,null,null,null,null,null,null,null,null,{"$f":"AM155 & \".1.1.0.2\"","v":"5.2.1.1.1.0.2"},"цена ТЭ","руб./Гкал",{"$f":"IF(AP158=0,0,AP157/AP158)","v":0},{"$f":"IF(AQ158=0,0,AQ157/AQ158)","v":0},{"$f":"IF(AR158=0,0,AR157/AR158)","v":0}]
[]
[null,null,null,null,null,null,null,null,null,null,null,null,null,null,null,null,null,null,null,null,null,null,null,null,null,null,null,null,null,null,null,null,null,null,null,null,null,null,{"$f":"AM155 & \".1.2\"","v":"5.2.1.1.2"},"от станций с мощностью производства < 25 МВт","тыс.руб.",{"$f":"SUMIF($AS$9:$AT$9,AP$9,$AS161:$AT161)","v":0},0,0]
[null,null,null,null,null,null,null,null,null,null,null,null,null,null,null,null,null,null,null,null,null,null,null,null,null,null,null,null,null,null,null,null,null,null,null,null,null,null,{"$f":"AM155 & \".1.2.0.1\"","v":"5.2.1.1.2.0.1"},"объём ТЭ","тыс. Гкал",0,0,0]
[null,null,null,null,null,null,null,null,null,null,null,null,null,null,null,null,null,null,null,null,null,null,null,null,null,null,null,null,null,null,null,null,null,null,null,null,null,null,{"$f":"AM155 & \".1.2.0.2\"","v":"5.2.1.1.2.0.2"},"цена ТЭ","руб./Гкал",{"$f":"IF(AP162=0,0,AP161/AP162)","v":0},{"$f":"IF(AQ162=0,0,AQ161/AQ162)","v":0},{"$f":"IF(AR162=0,0,AR161/AR162)","v":0}]
[]
[null,null,null,null,null,null,null,null,null,null,null,null,null,null,null,null,null,null,null,null,null,null,null,null,null,null,null,null,null,null,null,null,null,null,null,null,null,null,{"$f":"AM155 & \".1.3\"","v":"5.2.1.1.3"},"от котельных","тыс.руб.",{"$f":"SUMIF($AS$9:$AT$9,AP$9,$AS165:$AT165)","v":0},0,0]
[null,null,null,null,null,null,null,null,null,null,null,null,null,null,null,null,null,null,null,null,null,null,null,null,null,null,null,null,null,null,null,null,null,null,null,null,null,null,{"$f":"AM155 & \".1.3.0.1\"","v":"5.2.1.1.3.0.1"},"объём ТЭ","тыс. Гкал",0,0,0]
[null,null,null,null,null,null,null,null,null,null,null,null,null,null,null,null,null,null,null,null,null,null,null,null,null,null,null,null,null,null,null,null,null,null,null,null,null,null,{"$f":"AM155 & \".1.3.0.2\"","v":"5.2.1.1.3.0.2"},"цена ТЭ","руб./Гкал",{"$f":"IF(AP166=0,0,AP165/AP166)","v":0},{"$f":"IF(AQ166=0,0,AQ165/AQ166)","v":0},{"$f":"IF(AR166=0,0,AR165/AR166)","v":0}]
[null,null,null,null,null,null,null,null,null,null,null,null,null,null,null,null,null,null,null,null,null,null,null,null,null,null,null,null,null,null,null,null,null,null,null,null,null,null,{"$f":"AM155 & \".2\"","v":"5.2.1.2"},"в том числе покупка потерь с коллекторов","тыс.руб.",{"$f":"SUMIF($AS$9:$AT$9,AP$9,$AS168:$AT168)","v":0},0,0]
[null,null,null,null,null,null,null,null,null,null,null,null,null,null,null,null,null,null,null,null,null,null,null,null,null,null,null,null,null,null,null,null,null,null,null,null,null,null,{"$f":"AM155 & \".2.1\"","v":"5.2.1.2.1"},"от станций с мощностью производства >= 25 МВт","тыс.руб.",0,0,0]
[null,null,null,null,null,null,null,null,null,null,null,null,null,null,null,null,null,null,null,null,null,null,null,null,null,null,null,null,null,null,null,null,null,null,null,null,null,null,{"$f":"AM155 & \".2.2\"","v":"5.2.1.2.2"},"от станций с мощностью производства < 25 МВт","тыс.руб.",0,0,0]
[null,null,null,null,null,null,null,null,null,null,null,null,null,null,null,null,null,null,null,null,null,null,null,null,null,null,null,null,null,null,null,null,null,null,null,null,null,null,{"$f":"AM155 & \".2.3\"","v":"5.2.1.2.3"},"от котельных","тыс.руб."]
[null,null,null,null,null,null,null,null,null,null,null,null,null,null,null,null,null,null,null,null,null,null,null,null,null,null,null,null,null,null,null,null,null,null,null,null,null,null,{"$f":"AM155 & \".3\"","v":"5.2.1.3"},"Из тепловой сети, всего","тыс.руб.",{"$f":"SUMIF($AS$9:$AT$9,AP$9,$AS172:$AT172)","v":0},0,0]
[null,null,null,null,null,null,null,null,null,null,null,null,null,null,null,null,null,null,null,null,null,null,null,null,null,null,null,null,null,null,null,null,null,null,null,null,null,null,{"$f":"AM155 & \".3.1\"","v":"5.2.1.3.1"},"от станций с мощностью производства >= 25 МВт","тыс.руб.",0,0,0]
[null,null,null,null,null,null,null,null,null,null,null,null,null,null,null,null,null,null,null,null,null,null,null,null,null,null,null,null,null,null,null,null,null,null,null,null,null,null,{"$f":"AM155 & \".3.1.0.1\"","v":"5.2.1.3.1.0.1"},"объём ТЭ","тыс. Гкал",0,0,0]
[null,null,null,null,null,null,null,null,null,null,null,null,null,null,null,null,null,null,null,null,null,null,null,null,null,null,null,null,null,null,null,null,null,null,null,null,null,null,{"$f":"AM155 & \".3.1.0.2\"","v":"5.2.1.3.1.0.2"},"цена ТЭ","руб./Гкал",{"$f":"IF(AP174=0,0,AP173/AP174)","v":0},{"$f":"IF(AQ174=0,0,AQ173/AQ174)","v":0},{"$f":"IF(AR174=0,0,AR173/AR174)","v":0}]
[]
[null,null,null,null,null,null,null,null,null,null,null,null,null,null,null,null,null,null,null,null,null,null,null,null,null,null,null,null,null,null,null,null,null,null,null,null,null,null,{"$f":"AM155 & \".3.2\"","v":"5.2.1.3.2"},"от станций с мощностью производства < 25 МВт","тыс.руб.",{"$f":"SUMIF($AS$9:$AT$9,AP$9,$AS177:$AT177)","v":0},0,0]
[null,null,null,null,null,null,null,null,null,null,null,null,null,null,null,null,null,null,null,null,null,null,null,null,null,null,null,null,null,null,null,null,null,null,null,null,null,null,{"$f":"AM155 & \".3.2.0.1\"","v":"5.2.1.3.2.0.1"},"объём ТЭ","тыс. Гкал",0,0,0]
[null,null,null,null,null,null,null,null,null,null,null,null,null,null,null,null,null,null,null,null,null,null,null,null,null,null,null,null,null,null,null,null,null,null,null,null,null,null,{"$f":"AM155 & \".3.2.0.2\"","v":"5.2.1.3.2.0.2"},"цена ТЭ","руб./Гкал",{"$f":"IF(AP178=0,0,AP177/AP178)","v":0},{"$f":"IF(AQ178=0,0,AQ177/AQ178)","v":0},{"$f":"IF(AR178=0,0,AR177/AR178)","v":0}]
[]
[null,null,null,null,null,null,null,null,null,null,null,null,null,null,null,null,null,null,null,null,null,null,null,null,null,null,null,null,null,null,null,null,null,null,null,null,null,null,{"$f":"AM155 & \".3.3\"","v":"5.2.1.3.3"},"от котельных (некомбинированная выработка)","тыс.руб.",{"$f":"SUMIF($AS$9:$AT$9,AP$9,$AS181:$AT181)","v":0},0,0]
[null,null,null,null,null,null,null,null,null,null,null,null,null,null,null,null,null,null,null,null,null,null,null,null,null,null,null,null,null,null,null,null,null,null,null,null,null,null,{"$f":"AM155 & \".3.3.0.1\"","v":"5.2.1.3.3.0.1"},"объём ТЭ","тыс. Гкал",0,0,0]
[null,null,null,null,null,null,null,null,null,null,null,null,null,null,null,null,null,null,null,null,null,null,null,null,null,null,null,null,null,null,null,null,null,null,null,null,null,null,{"$f":"AM155 & \".3.3.0.2\"","v":"5.2.1.3.3.0.2"},"цена ТЭ","руб./Гкал",{"$f":"IF(AP182=0,0,AP181/AP182)","v":0},{"$f":"IF(AQ182=0,0,AQ181/AQ182)","v":0},{"$f":"IF(AR182=0,0,AR181/AR182)","v":0}]
[]
[null,null,null,null,null,null,null,null,null,null,null,null,null,null,null,null,null,null,null,null,null,null,null,null,null,null,null,null,null,null,null,null,null,null,null,null,null,null,{"$f":"AM155 & \".4\"","v":"5.2.1.4"},"в том числе покупка потерь из тепловой сети","тыс.руб.",{"$f":"SUMIF($AS$9:$AT$9,AP$9,$AS185:$AT185)","v":0},0,0]
[null,null,null,null,null,null,null,null,null,null,null,null,null,null,null,null,null,null,null,null,null,null,null,null,null,null,null,null,null,null,null,null,null,null,null,null,null,null,{"$f":"AM155 & \".4.1\"","v":"5.2.1.4.1"},"от станций с мощностью производства >= 25 МВт","тыс.руб.",0,0,0]
[null,null,null,null,null,null,null,null,null,null,null,null,null,null,null,null,null,null,null,null,null,null,null,null,null,null,null,null,null,null,null,null,null,null,null,null,null,null,{"$f":"AM155 & \".4.2\"","v":"5.2.1.4.2"},"от станций с мощностью производства < 25 МВт","тыс.руб.",0,0,0]
[null,null,null,null,null,null,null,null,null,null,null,null,null,null,null,null,null,null,null,null,null,null,null,null,null,null,null,null,null,null,null,null,null,null,null,null,null,null,{"$f":"AM155 & \".4.3\"","v":"5.2.1.4.3"},"от котельных (некомбинированная выработка)","тыс.руб.",0,0,0]
[null,null,null,null,null,null,null,null,null,null,null,null,null,null,null,null,null,null,null,null,null,null,null,null,null,null,null,null,null,null,null,null,null,null,null,null,null,null,"5.2.2","электрическая энергия ","тыс.руб.",0,0,0]
[null,null,null,null,null,null,null,null,null,null,null,null,null,null,null,null,null,null,null,null,null,null,null,null,null,null,null,null,null,null,null,null,null,null,null,null,null,null,"5.2.2.0.1","объём энергии","тыс.кВт*ч",0,0,0]
[null,null,null,null,null,null,null,null,null,null,null,null,null,null,null,null,null,null,null,null,null,null,null,null,null,null,null,null,null,null,null,null,null,null,null,null,null,null,"5.2.2.0.2","объём заявленной мощности","МВт",0,0,0]
[null,null,null,null,null,null,null,null,null,null,null,null,null,null,null,null,null,null,null,null,null,null,null,null,null,null,null,null,null,null,null,null,null,null,null,null,null,null,"5.2.2.1.1","энергия НН (0,4 кВ и ниже)","тыс.руб.",0,0,0]
[null,null,null,null,null,null,null,null,null,null,null,null,null,null,null,null,null,null,null,null,null,null,null,null,null,null,null,null,null,null,null,null,null,null,null,null,null,null,"5.2.2.1.1.1","тариф на энергию","руб./кВт*ч",{"$f":"IF(AP194=0,0,AP192/AP194)","v":0},{"$f":"IF(AQ194=0,0,AQ192/AQ194)","v":0},{"$f":"IF(AR194=0,0,AR192/AR194)","v":0}]
[null,null,null,null,null,null,null,null,null,null,null,null,null,null,null,null,null,null,null,null,null,null,null,null,null,null,null,null,null,null,null,null,null,null,null,null,null,null,"5.2.2.1.1.2","объём энергии","тыс.кВт*ч",{"$f":"SUMIF($AS$9:$AT$9,AP$9,$AS194:$AT194)","v":0},0,0]
[null,null,null,null,null,null,null,null,null,null,null,null,null,null,null,null,null,null,null,null,null,null,null,null,null,null,null,null,null,null,null,null,null,null,null,null,null,null,"5.2.2.1.2","заявленная мощность по НН (0,4 кВ и ниже)","тыс.руб.",0,0,0]
[null,null,null,null,null,null,null,null,null,null,null,null,null,null,null,null,null,null,null,null,null,null,null,null,null,null,null,null,null,null,null,null,null,null,null,null,null,null,"5.2.2.1.2.1","тариф на заявленную мощность","руб./кВт*мес",{"$f":"IF(AP197=0,0,AP195/AP197)","v":0},{"$f":"IF(AQ197=0,0,AQ195/AQ197)","v":0},{"$f":"IF(AR197=0,0,AR195/AR197)","v":0}]
[null,null,null,null,null,null,null,null,null,null,null,null,null,null,null,null,null,null,null,null,null,null,null,null,null,null,null,null,null,null,null,null,null,null,null,null,null,null,"5.2.2.1.2.2","годовой объём мощности","МВт",{"$f":"SUMIF($AS$9:$AT$9,AP$9,$AS197:$AT197)","v":0},0,0]
[null,null,null,null,null,null,null,null,null,null,null,null,null,null,null,null,null,null,null,null,null,null,null,null,null,null,null,null,null,null,null,null,null,null,null,null,null,null,"5.2.2.2.1","энергия СН 2 (1-20 кВ)","тыс.руб.",0,0,0]
[null,null,null,null,null,null,null,null,null,null,null,null,null,null,null,null,null,null,null,null,null,null,null,null,null,null,null,null,null,null,null,null,null,null,null,null,null,null,"5.2.2.2.1.1","тариф на энергию","руб./кВт*ч",{"$f":"IF(AP200=0,0,AP198/AP200)","v":0},{"$f":"IF(AQ200=0,0,AQ198/AQ200)","v":0},{"$f":"IF(AR200=0,0,AR198/AR200)","v":0}]
[null,null,null,null,null,null,null,null,null,null,null,null,null,null,null,null,null,null,null,null,null,null,null,null,null,null,null,null,null,null,null,null,null,null,null,null,null,null,"5.2.2.2.1.2","объём энергии","тыс.кВт*ч",{"$f":"SUMIF($AS$9:$AT$9,AP$9,$AS200:$AT200)","v":0},0,0]
[null,null,null,null,null,null,null,null,null,null,null,null,null,null,null,null,null,null,null,null,null,null,null,null,null,null,null,null,null,null,null,null,null,null,null,null,null,null,"5.2.2.2.2","заявленная мощность по СН 2 (1-20 кВ)","тыс.руб.",0,0,0]
[null,null,null,null,null,null,null,null,null,null,null,null,null,null,null,null,null,null,null,null,null,null,null,null,null,null,null,null,null,null,null,null,null,null,null,null,null,null,"5.2.2.2.2.1","тариф на заявленную мощность","руб./кВт*мес",{"$f":"IF(AP203=0,0,AP201/AP203)","v":0},{"$f":"IF(AQ203=0,0,AQ201/AQ203)","v":0},{"$f":"IF(AR203=0,0,AR201/AR203)","v":0}]
[null,null,null,null,null,null,null,null,null,null,null,null,null,null,null,null,null,null,null,null,null,null,null,null,null,null,null,null,null,null,null,null,null,null,null,null,null,null,"5.2.2.2.2.2","годовой объём мощности","МВт",{"$f":"SUMIF($AS$9:$AT$9,AP$9,$AS203:$AT203)","v":0},0,0]
[null,null,null,null,null,null,null,null,null,null,null,null,null,null,null,null,null,null,null,null,null,null,null,null,null,null,null,null,null,null,null,null,null,null,null,null,null,null,"5.2.2.3.1","энергия СН 1 (35 кВ)","тыс.руб.",0,0,0]
[null,null,null,null,null,null,null,null,null,null,null,null,null,null,null,null,null,null,null,null,null,null,null,null,null,null,null,null,null,null,null,null,null,null,null,null,null,null,"5.2.2.3.1.1","тариф на энергию","руб./кВт*ч",{"$f":"IF(AP206=0,0,AP204/AP206)","v":0},{"$f":"IF(AQ206=0,0,AQ204/AQ206)","v":0},{"$f":"IF(AR206=0,0,AR204/AR206)","v":0}]
[null,null,null,null,null,null,null,null,null,null,null,null,null,null,null,null,null,null,null,null,null,null,null,null,null,null,null,null,null,null,null,null,null,null,null,null,null,null,"5.2.2.3.1.2","объём энергии","тыс.кВт*ч",{"$f":"SUMIF($AS$9:$AT$9,AP$9,$AS206:$AT206)","v":0},0,0]
[null,null,null,null,null,null,null,null,null,null,null,null,null,null,null,null,null,null,null,null,null,null,null,null,null,null,null,null,null,null,null,null,null,null,null,null,null,null,"5.2.2.3.2","заявленная мощность по СН 1 (35 кВ)","тыс.руб.",0,0,0]
[null,null,null,null,null,null,null,null,null,null,null,null,null,null,null,null,null,null,null,null,null,null,null,null,null,null,null,null,null,null,null,null,null,null,null,null,null,null,"5.2.2.3.2.1","тариф на заявленную мощность","руб./кВт*мес",{"$f":"IF(AP209=0,0,AP207/AP209)","v":0},{"$f":"IF(AQ209=0,0,AQ207/AQ209)","v":0},{"$f":"IF(AR209=0,0,AR207/AR209)","v":0}]
[null,null,null,null,null,null,null,null,null,null,null,null,null,null,null,null,null,null,null,null,null,null,null,null,null,null,null,null,null,null,null,null,null,null,null,null,null,null,"5.2.2.3.2.2","годовой объём мощности","МВт",{"$f":"SUMIF($AS$9:$AT$9,AP$9,$AS209:$AT209)","v":0},0,0]
[null,null,null,null,null,null,null,null,null,null,null,null,null,null,null,null,null,null,null,null,null,null,null,null,null,null,null,null,null,null,null,null,null,null,null,null,null,null,"5.2.2.4.1","энергия ВН (110 кВ и выше)","тыс.руб.",0,0,0]
[null,null,null,null,null,null,null,null,null,null,null,null,null,null,null,null,null,null,null,null,null,null,null,null,null,null,null,null,null,null,null,null,null,null,null,null,null,null,"5.2.2.4.1.1","тариф на энергию","руб./кВт*ч",{"$f":"IF(AP212=0,0,AP210/AP212)","v":0},{"$f":"IF(AQ212=0,0,AQ210/AQ212)","v":0},{"$f":"IF(AR212=0,0,AR210/AR212)","v":0}]
[null,null,null,null,null,null,null,null,null,null,null,null,null,null,null,null,null,null,null,null,null,null,null,null,null,null,null,null,null,null,null,null,null,null,null,null,null,null,"5.2.2.4.1.2","объём энергии","тыс.кВт*ч",{"$f":"SUMIF($AS$9:$AT$9,AP$9,$AS212:$AT212)","v":0},0,0]
[null,null,null,null,null,null,null,null,null,null,null,null,null,null,null,null,null,null,null,null,null,null,null,null,null,null,null,null,null,null,null,null,null,null,null,null,null,null,"5.2.2.4.2","заявленная мощность по ВН (110 кВ и выше)","тыс.руб.",0,0,0]
[null,null,null,null,null,null,null,null,null,null,null,null,null,null,null,null,null,null,null,null,null,null,null,null,null,null,null,null,null,null,null,null,null,null,null,null,null,null,"5.2.2.4.2.1","тариф на заявленную мощность","руб./кВт*мес",{"$f":"IF(AP215=0,0,AP213/AP215)","v":0},{"$f":"IF(AQ215=0,0,AQ213/AQ215)","v":0},{"$f":"IF(AR215=0,0,AR213/AR215)","v":0}]
[null,null,null,null,null,null,null,null,null,null,null,null,null,null,null,null,null,null,null,null,null,null,null,null,null,null,null,null,null,null,null,null,null,null,null,null,null,null,"5.2.2.4.2.2","годовой объём мощности","МВт",{"$f":"SUMIF($AS$9:$AT$9,AP$9,$AS215:$AT215)","v":0},0,0]
[null,null,null,null,null,null,null,null,null,null,null,null,null,null,null,null,null,null,null,null,null,null,null,null,null,null,null,null,null,null,null,null,null,null,null,null,null,null,"6","Затраты на оплату труда ","тыс.руб.",0,0,0]
[null,null,null,null,null,null,null,null,null,null,null,null,null,null,null,null,null,null,null,null,null,null,null,null,null,null,null,null,null,null,null,null,null,null,null,null,null,null,"6.0.1","Справочно: среднемесячная оплата труда в целом по организации","руб./мес.",null,{"$f":"IF(AQ218=0,0,(1000*AQ216/AQ218)/AQ$6)","v":0},{"$f":"IF(AR218=0,0,(1000*AR216/AR218)/AR$6)","v":0}]
[null,null,null,null,null,null,null,null,null,null,null,null,null,null,null,null,null,null,null,null,null,null,null,null,null,null,null,null,null,null,null,null,null,null,null,null,null,null,"6.0.2","Справочно: численность персонала в целом по организации","ед.",null,{"$f":"SUMIF($AS$9:$AT$9,AQ$9,$AS218:$AT218)","v":0},{"$f":"SUMIF($AS$9:$AT$9,AR$9,$AS218:$AT218)","v":0}]
[null,null,null,null,null,null,null,null,null,null,null,null,null,null,null,null,null,null,null,null,null,null,null,null,null,null,null,null,null,null,null,null,null,null,null,null,null,null,{"$f":"AM218 & \".1\"","v":"6.0.2.1"},"Справочно: нормативная численность персонала в целом по организации","ед.",null,{"$f":"SUMIF($AS$9:$AT$9,AQ$9,$AS219:$AT219)","v":0},{"$f":"SUMIF($AS$9:$AT$9,AR$9,$AS219:$AT219)","v":0}]
[null,null,null,null,null,null,null,null,null,null,null,null,null,null,null,null,null,null,null,null,null,null,null,null,null,null,null,null,null,null,null,null,null,null,null,null,null,null,{"$f":"AM218 & \".2\"","v":"6.0.2.2"},"Отношение фактической численности персонала к нормативной","%",null,{"$f":"IF(AQ219=0,0,AQ218/AQ219*100)","v":0},{"$f":"IF(AR219=0,0,AR218/AR219*100)","v":0}]
[null,null,null,null,null,null,null,null,null,null,null,null,null,null,null,null,null,null,null,null,null,null,null,null,null,null,null,null,null,null,null,null,null,null,null,null,null,null,"6.0.3","Справочно: минимальный размер оплаты труда в целом по организации","руб./мес."]
[null,null,null,null,null,null,null,null,null,null,null,null,null,null,null,null,null,null,null,null,null,null,null,null,null,null,null,null,null,null,null,null,null,null,null,null,null,null,"6.1","оплата труда основных производственных рабочих","тыс.руб.",{"$f":"SUMIF($AS$9:$AT$9,AP$9,$AS222:$AT222)","v":0},{"$f":"SUMIF($AS$9:$AT$9,AQ$9,$AS222:$AT222)","v":0},{"$f":"SUMIF($AS$9:$AT$9,AR$9,$AS222:$AT222)","v":0}]
[null,null,null,null,null,null,null,null,null,null,null,null,null,null,null,null,null,null,null,null,null,null,null,null,null,null,null,null,null,null,null,null,null,null,null,null,null,null,"6.1.1","среднемесячная оплата труда основных производственных рабочих","руб./мес.",null,{"$f":"IF(AQ224=0,0,(1000*AQ222/AQ224)/AQ$6)","v":0},{"$f":"IF(AR224=0,0,(1000*AR222/AR224)/AR$6)","v":0}]
[null,null,null,null,null,null,null,null,null,null,null,null,null,null,null,null,null,null,null,null,null,null,null,null,null,null,null,null,null,null,null,null,null,null,null,null,null,null,"6.1.2","численность основного производственного персонала, относимого на регулируемый вид деятельности","ед.",null,{"$f":"SUMIF($AS$9:$AT$9,AQ$9,$AS224:$AT224)","v":0},{"$f":"SUMIF($AS$9:$AT$9,AR$9,$AS224:$AT224)","v":0}]
[null,null,null,null,null,null,null,null,null,null,null,null,null,null,null,null,null,null,null,null,null,null,null,null,null,null,null,null,null,null,null,null,null,null,null,null,null,null,{"$f":"AM224 & \".0\"","v":"6.1.2.0"},{"$f":"\"справочно: нормативная \" & AN224","v":"справочно: нормативная численность основного производственного персонала, относимого на регулируемый вид деятельности"},"ед.",null,{"$f":"SUMIF($AS$9:$AT$9,AQ$9,$AS225:$AT225)","v":0},{"$f":"SUMIF($AS$9:$AT$9,AR$9,$AS225:$AT225)","v":0}]
[null,null,null,null,null,null,null,null,null,null,null,null,null,null,null,null,null,null,null,null,null,null,null,null,null,null,null,null,null,null,null,null,null,null,null,null,null,null,"6.1.3","Тарифная ставка рабочего 1-го разряда","руб./мес."]
[null,null,null,null,null,null,null,null,null,null,null,null,null,null,null,null,null,null,null,null,null,null,null,null,null,null,null,null,null,null,null,null,null,null,null,null,null,null,"6.1.4","Базовая тарифная ставка рабочего 1-го разряда","руб./мес."]
[null,null,null,null,null,null,null,null,null,null,null,null,null,null,null,null,null,null,null,null,null,null,null,null,null,null,null,null,null,null,null,null,null,null,null,null,null,null,"6.1.5","Минимальная тарифная ставка рабочего 1-го разряда","руб./мес."]
[null,null,null,null,null,null,null,null,null,null,null,null,null,null,null,null,null,null,null,null,null,null,null,null,null,null,null,null,null,null,null,null,null,null,null,null,null,null,"6.2","оплата труда ремонтного персонала","тыс.руб.",{"$f":"SUMIF($AS$9:$AT$9,AP$9,$AS229:$AT229)","v":0},{"$f":"SUMIF($AS$9:$AT$9,AQ$9,$AS229:$AT229)","v":0},{"$f":"SUMIF($AS$9:$AT$9,AR$9,$AS229:$AT229)","v":0}]
[null,null,null,null,null,null,null,null,null,null,null,null,null,null,null,null,null,null,null,null,null,null,null,null,null,null,null,null,null,null,null,null,null,null,null,null,null,null,"6.2.1","среднемесячная оплата труда ремонтного персонала","руб./мес.",null,{"$f":"IF(AQ231=0,0,(1000*AQ229/AQ231)/AQ$6)","v":0},{"$f":"IF(AR231=0,0,(1000*AR229/AR231)/AR$6)","v":0}]
[null,null,null,null,null,null,null,null,null,null,null,null,null,null,null,null,null,null,null,null,null,null,null,null,null,null,null,null,null,null,null,null,null,null,null,null,null,null,"6.2.2","численность ремонтного персонала, относимого на регулируемый вид деятельности","ед.",null,{"$f":"SUMIF($AS$9:$AT$9,AQ$9,$AS231:$AT231)","v":0},{"$f":"SUMIF($AS$9:$AT$9,AR$9,$AS231:$AT231)","v":0}]
[null,null,null,null,null,null,null,null,null,null,null,null,null,null,null,null,null,null,null,null,null,null,null,null,null,null,null,null,null,null,null,null,null,null,null,null,null,null,{"$f":"AM231 & \".0\"","v":"6.2.2.0"},{"$f":"\"справочно: нормативная \" & AN231","v":"справочно: нормативная численность ремонтного персонала, относимого на регулируемый вид деятельности"},"ед.",null,{"$f":"SUMIF($AS$9:$AT$9,AQ$9,$AS232:$AT232)","v":0},{"$f":"SUMIF($AS$9:$AT$9,AR$9,$AS232:$AT232)","v":0}]
[null,null,null,null,null,null,null,null,null,null,null,null,null,null,null,null,null,null,null,null,null,null,null,null,null,null,null,null,null,null,null,null,null,null,null,null,null,null,"6.2.3","Тарифная ставка рабочего 1-го разряда","руб./мес."]
[null,null,null,null,null,null,null,null,null,null,null,null,null,null,null,null,null,null,null,null,null,null,null,null,null,null,null,null,null,null,null,null,null,null,null,null,null,null,"6.2.4","Базовая тарифная ставка рабочего 1-го разряда","руб./мес."]
[null,null,null,null,null,null,null,null,null,null,null,null,null,null,null,null,null,null,null,null,null,null,null,null,null,null,null,null,null,null,null,null,null,null,null,null,null,null,"6.2.5","Минимальная тарифная ставка рабочего 1-го разряда","руб./мес."]
[null,null,null,null,null,null,null,null,null,null,null,null,null,null,null,null,null,null,null,null,null,null,null,null,null,null,null,null,null,null,null,null,null,null,null,null,null,null,"6.3","оплата труда цехового персонала","тыс.руб.",{"$f":"SUMIF($AS$9:$AT$9,AP$9,$AS236:$AT236)","v":0},{"$f":"SUMIF($AS$9:$AT$9,AQ$9,$AS236:$AT236)","v":0},{"$f":"SUMIF($AS$9:$AT$9,AR$9,$AS236:$AT236)","v":0}]
[null,null,null,null,null,null,null,null,null,null,null,null,null,null,null,null,null,null,null,null,null,null,null,null,null,null,null,null,null,null,null,null,null,null,null,null,null,null,"6.3.1","среднемесячная оплата труда цехового персонала","руб./мес.",null,{"$f":"IF(AQ238=0,0,(1000*AQ236/AQ238)/AQ$6)","v":0},{"$f":"IF(AR238=0,0,(1000*AR236/AR238)/AR$6)","v":0}]
[null,null,null,null,null,null,null,null,null,null,null,null,null,null,null,null,null,null,null,null,null,null,null,null,null,null,null,null,null,null,null,null,null,null,null,null,null,null,"6.3.2","численность цехового персонала, относимого на регулируемый вид деятельности","ед.",null,{"$f":"SUMIF($AS$9:$AT$9,AQ$9,$AS238:$AT238)","v":0},0]
[null,null,null,null,null,null,null,null,null,null,null,null,null,null,null,null,null,null,null,null,null,null,null,null,null,null,null,null,null,null,null,null,null,null,null,null,null,null,{"$f":"AM238 & \".0\"","v":"6.3.2.0"},{"$f":"\"справочно: нормативная \" & AN238","v":"справочно: нормативная численность цехового персонала, относимого на регулируемый вид деятельности"},"ед.",null,0,0]
[null,null,null,null,null,null,null,null,null,null,null,null,null,null,null,null,null,null,null,null,null,null,null,null,null,null,null,null,null,null,null,null,null,null,null,null,null,null,"6.4","оплата труда АУП","тыс.руб.",{"$f":"SUMIF($AS$9:$AT$9,AP$9,$AS240:$AT240)","v":0},0,0]
[null,null,null,null,null,null,null,null,null,null,null,null,null,null,null,null,null,null,null,null,null,null,null,null,null,null,null,null,null,null,null,null,null,null,null,null,null,null,"6.4.1","среднемесячная оплата труда АУП","руб./мес.",null,{"$f":"IF(AQ242=0,0,(1000*AQ240/AQ242)/AQ$6)","v":0},{"$f":"IF(AR242=0,0,(1000*AR240/AR242)/AR$6)","v":0}]
[null,null,null,null,null,null,null,null,null,null,null,null,null,null,null,null,null,null,null,null,null,null,null,null,null,null,null,null,null,null,null,null,null,null,null,null,null,null,"6.4.2","численность АУП, относимого на регулируемый вид деятельности","ед.",null,{"$f":"SUMIF($AS$9:$AT$9,AQ$9,$AS242:$AT242)","v":0},0]
[null,null,null,null,null,null,null,null,null,null,null,null,null,null,null,null,null,null,null,null,null,null,null,null,null,null,null,null,null,null,null,null,null,null,null,null,null,null,{"$f":"AM242 & \".0\"","v":"6.4.2.0"},{"$f":"\"справочно: нормативная \" & AN242","v":"справочно: нормативная численность АУП, относимого на регулируемый вид деятельности"},"ед.",null,0,0]
[null,null,null,null,null,null,null,null,null,null,null,null,null,null,null,null,null,null,null,null,null,null,null,null,null,null,null,null,null,null,null,null,null,null,null,null,null,null,"6.5","оплата труда прочего персонала, относимого на регулируемый вид деятельности","тыс.руб.",{"$f":"SUMIF($AS$9:$AT$9,AP$9,$AS244:$AT244)","v":0},0,0]
[null,null,null,null,null,null,null,null,null,null,null,null,null,null,null,null,null,null,null,null,null,null,null,null,null,null,null,null,null,null,null,null,null,null,null,null,null,null,"6.5.1","среднемесячная оплата труда прочего персонала, относимого на регулируемый вид деятельности","руб./мес.",null,{"$f":"IF(AQ246=0,0,(1000*AQ244/AQ246)/AQ$6)","v":0},{"$f":"IF(AR246=0,0,(1000*AR244/AR246)/AR$6)","v":0}]
[null,null,null,null,null,null,null,null,null,null,null,null,null,null,null,null,null,null,null,null,null,null,null,null,null,null,null,null,null,null,null,null,null,null,null,null,null,null,"6.5.2","численность прочего персонала, относимого на регулируемый вид деятельности","ед.",null,{"$f":"SUMIF($AS$9:$AT$9,AQ$9,$AS246:$AT246)","v":0},0]
[null,null,null,null,null,null,null,null,null,null,null,null,null,null,null,null,null,null,null,null,null,null,null,null,null,null,null,null,null,null,null,null,null,null,null,null,null,null,{"$f":"AM246 & \".0\"","v":"6.5.2.0"},{"$f":"\"справочно: нормативная \" & AN246","v":"справочно: нормативная численность прочего персонала, относимого на регулируемый вид деятельности"},"ед.",null,0,0]
[null,null,null,null,null,null,null,null,null,null,null,null,null,null,null,null,null,null,null,null,null,null,null,null,null,null,null,null,null,null,null,null,null,null,null,null,null,null,"7","Отчисления на социальные нужды, в том числе ","тыс.руб.",{"$f":"SUMIF($AS$9:$AT$9,AP$9,$AS248:$AT248)","v":0},0,0]
[null,null,null,null,null,null,null,null,null,null,null,null,null,null,null,null,null,null,null,null,null,null,null,null,null,null,null,null,null,null,null,null,null,null,null,null,null,null,"7.0","процент отчислений на социальные нужды","%"]
[null,null,null,null,null,null,null,null,null,null,null,null,null,null,null,null,null,null,null,null,null,null,null,null,null,null,null,null,null,null,null,null,null,null,null,null,null,null,"7.1","отчисления на соц. нужды от заработной платы основных производственных рабочих","тыс.руб.",{"$f":"SUMIF($AS$9:$AT$9,AP$9,$AS250:$AT250)","v":0},0,0]
[null,null,null,null,null,null,null,null,null,null,null,null,null,null,null,null,null,null,null,null,null,null,null,null,null,null,null,null,null,null,null,null,null,null,null,null,null,null,"7.2","отчисления на соц. нужды от заработной платы ремонтного персонала","тыс.руб.",0,0,0]
[null,null,null,null,null,null,null,null,null,null,null,null,null,null,null,null,null,null,null,null,null,null,null,null,null,null,null,null,null,null,null,null,null,null,null,null,null,null,"7.3","отчисления на соц. нужды от заработной платы цехового персонала","тыс.руб.",0,0,0]
[null,null,null,null,null,null,null,null,null,null,null,null,null,null,null,null,null,null,null,null,null,null,null,null,null,null,null,null,null,null,null,null,null,null,null,null,null,null,"7.4","отчисления на соц. нужды от заработной платы АУП","тыс.руб.",0,0,0]
[null,null,null,null,null,null,null,null,null,null,null,null,null,null,null,null,null,null,null,null,null,null,null,null,null,null,null,null,null,null,null,null,null,null,null,null,null,null,"7.5","отчисления на соц. нужды от заработной платы прочего персонала","тыс.руб.",0,0,0]
[]
[null,null,null,null,null,null,null,null,null,null,null,null,null,null,null,null,null,null,null,null,null,null,null,null,null,null,null,null,null,null,null,null,null,null,null,null,null,null,"8","Холодная вода","тыс.руб.",{"$f":"SUMIF($AS$9:$AT$9,AP$9,$AS256:$AT256)","v":0},{"$f":"SUMIF($AS$9:$AT$9,AQ$9,$AS256:$AT256)","v":0},{"$f":"SUMIF($AS$9:$AT$9,AR$9,$AS256:$AT256)","v":0}]
[null,null,null,null,null,null,null,null,null,null,null,null,null,null,null,null,null,null,null,null,null,null,null,null,null,null,null,null,null,null,null,null,null,null,null,null,null,null,"8.1","Цена","руб./куб.м"]
[null,null,null,null,null,null,null,null,null,null,null,null,null,null,null,null,null,null,null,null,null,null,null,null,null,null,null,null,null,null,null,null,null,null,null,null,null,null,"8.2","Объём","тыс.куб.м",{"$f":"SUMIF($AS$9:$AT$9,AP$9,$AS258:$AT258)","v":0},0,0]
[null,null,null,null,null,null,null,null,null,null,null,null,null,null,null,null,null,null,null,null,null,null,null,null,null,null,null,null,null,null,null,null,null,null,null,null,null,null,"9","Водоотведение","тыс.руб.",0,0,0]
[null,null,null,null,null,null,null,null,null,null,null,null,null,null,null,null,null,null,null,null,null,null,null,null,null,null,null,null,null,null,null,null,null,null,null,null,null,null,"9.1","Цена","руб./куб.м"]
[null,null,null,null,null,null,null,null,null,null,null,null,null,null,null,null,null,null,null,null,null,null,null,null,null,null,null,null,null,null,null,null,null,null,null,null,null,null,"9.2","Объём","тыс.куб.м",{"$f":"SUMIF($AS$9:$AT$9,AP$9,$AS261:$AT261)","v":0},0,0]
[null,null,null,null,null,null,null,null,null,null,null,null,null,null,null,null,null,null,null,null,null,null,null,null,null,null,null,null,null,null,null,null,null,null,null,null,null,null,"10","Теплоноситель","тыс.руб.",0,0,0]
[null,null,null,null,null,null,null,null,null,null,null,null,null,null,null,null,null,null,null,null,null,null,null,null,null,null,null,null,null,null,null,null,null,null,null,null,null,null,"11","Расходы, связанные с созданием нормативных запасов топлива","тыс.руб.",0,0,0]
[]
[null,null,null,null,null,null,null,null,null,null,null,null,null,null,null,null,null,null,null,null,null,null,null,null,null,null,null,null,null,null,null,null,null,null,null,null,null,null,"12","Расходы на приобретение сырья и материалов","тыс.руб.",{"$f":"SUMIF($AS$9:$AT$9,AP$9,$AS265:$AT265)","v":0},0,0]
[null,null,null,null,null,null,null,null,null,null,null,null,null,null,null,null,null,null,null,null,null,null,null,null,null,null,null,null,null,null,null,null,null,null,null,null,null,null,{"$f":"AM265 & \".1\"","v":"12.1"},"Реагенты, фильтрующие и ионообменные материалы для водоподготовки","тыс.руб.",0,0,0]
[null,null,null,null,null,null,null,null,null,null,null,null,null,null,null,null,null,null,null,null,null,null,null,null,null,null,null,null,null,null,null,null,null,null,null,null,null,null,{"$f":"AM265 & \".2\"","v":"12.2"},"ГСМ","тыс.руб.",0,0,0]
[null,null,null,null,null,null,null,null,null,null,null,null,null,null,null,null,null,null,null,null,null,null,null,null,null,null,null,null,null,null,null,null,null,null,null,null,null,null,{"$f":"AM265 & \".3\"","v":"12.3"},"На текущий и капитальный ремонт","тыс.руб.",0,0,0]
[null,null,null,null,null,null,null,null,null,null,null,null,null,null,null,null,null,null,null,null,null,null,null,null,null,null,null,null,null,null,null,null,null,null,null,null,null,null,{"$f":"AM265 & \".4\"","v":"12.4"},"На текущее содержание и техническое обслуживание","тыс.руб.",0,0,0]
[null,null,null,null,null,null,null,null,null,null,null,null,null,null,null,null,null,null,null,null,null,null,null,null,null,null,null,null,null,null,null,null,null,null,null,null,null,null,{"$f":"AM265 & \".5\"","v":"12.5"},"Специальная одежда","тыс.руб.",0,0,0]
[null,null,null,null,null,null,null,null,null,null,null,null,null,null,null,null,null,null,null,null,null,null,null,null,null,null,null,null,null,null,null,null,null,null,null,null,null,null,{"$f":"AM265 & \".6\"","v":"12.6"},"Хозяйственный инвентарь и другие вспомогательные материалы","тыс.руб.",0,0,0]
[null,null,null,null,null,null,null,null,null,null,null,null,null,null,null,null,null,null,null,null,null,null,null,null,null,null,null,null,null,null,null,null,null,null,null,null,null,null,{"$f":"AM265 & \".7\"","v":"12.7"},"Прочие расходы","тыс.руб.",0,0,0]
[null,null,null,null,null,null,null,null,null,null,null,null,null,null,null,null,null,null,null,null,null,null,null,null,null,null,null,null,null,null,null,null,null,null,null,null,null,null,"13","Ремонт основных средств, выполняемый подрядным способом","тыс.руб.",0,0,0]
[null,null,null,null,null,null,null,null,null,null,null,null,null,null,null,null,null,null,null,null,null,null,null,null,null,null,null,null,null,null,null,null,null,null,null,null,null,null,"14","Расходы на оплату работ и услуг производственного характера, выполняемых по договорам со сторонними организациями","тыс.руб.",0,0,0]
[null,null,null,null,null,null,null,null,null,null,null,null,null,null,null,null,null,null,null,null,null,null,null,null,null,null,null,null,null,null,null,null,null,null,null,null,null,null,{"$f":"AM274 & \".1\"","v":"14.1"},"транспортные услуги","тыс.руб.",0,0,0]
[null,null,null,null,null,null,null,null,null,null,null,null,null,null,null,null,null,null,null,null,null,null,null,null,null,null,null,null,null,null,null,null,null,null,null,null,null,null,{"$f":"AM274 & \".2\"","v":"14.2"},"работы по техническому регламенту","тыс.руб.",0,0,0]
[null,null,null,null,null,null,null,null,null,null,null,null,null,null,null,null,null,null,null,null,null,null,null,null,null,null,null,null,null,null,null,null,null,null,null,null,null,null,{"$f":"AM274 & \".3\"","v":"14.3"},"прочие услуги вспомогательных производств","тыс.руб.",0,0,0]
[null,null,null,null,null,null,null,null,null,null,null,null,null,null,null,null,null,null,null,null,null,null,null,null,null,null,null,null,null,null,null,null,null,null,null,null,null,null,{"$f":"AM274 & \".4\"","v":"14.4"},"иные работы и услуги производственного характера","тыс.руб.",0,0,0]
[null,null,null,null,null,null,null,null,null,null,null,null,null,null,null,null,null,null,null,null,null,null,null,null,null,null,null,null,null,null,null,null,null,null,null,null,null,null,"15","Расходы на оплату иных работ и услуг, выполняемых по договорам с организациями, включая:","тыс.руб.",0,0,0]
[null,null,null,null,null,null,null,null,null,null,null,null,null,null,null,null,null,null,null,null,null,null,null,null,null,null,null,null,null,null,null,null,null,null,null,null,null,null,{"$f":"AM279 & \".1\"","v":"15.1"},"услуги связи","тыс.руб.",0,0,0]
[null,null,null,null,null,null,null,null,null,null,null,null,null,null,null,null,null,null,null,null,null,null,null,null,null,null,null,null,null,null,null,null,null,null,null,null,null,null,{"$f":"AM279 & \".2\"","v":"15.2"},"услуги вневедомственной охраны ","тыс.руб.",0,0,0]
[null,null,null,null,null,null,null,null,null,null,null,null,null,null,null,null,null,null,null,null,null,null,null,null,null,null,null,null,null,null,null,null,null,null,null,null,null,null,{"$f":"AM279 & \".3\"","v":"15.3"},"коммунальные услуги ","тыс.руб.",0,0,0]
[null,null,null,null,null,null,null,null,null,null,null,null,null,null,null,null,null,null,null,null,null,null,null,null,null,null,null,null,null,null,null,null,null,null,null,null,null,null,{"$f":"AM279 & \".4\"","v":"15.4"},"расходы на консультационные услуги","тыс.руб.",0,0,0]
[null,null,null,null,null,null,null,null,null,null,null,null,null,null,null,null,null,null,null,null,null,null,null,null,null,null,null,null,null,null,null,null,null,null,null,null,null,null,{"$f":"AM279 & \".5\"","v":"15.5"},"расходы на юридические услуги","тыс.руб.",0,0,0]
[null,null,null,null,null,null,null,null,null,null,null,null,null,null,null,null,null,null,null,null,null,null,null,null,null,null,null,null,null,null,null,null,null,null,null,null,null,null,{"$f":"AM279 & \".6\"","v":"15.6"},"расходы на информационные услуги","тыс.руб.",0,0,0]
[null,null,null,null,null,null,null,null,null,null,null,null,null,null,null,null,null,null,null,null,null,null,null,null,null,null,null,null,null,null,null,null,null,null,null,null,null,null,{"$f":"AM279 & \".7\"","v":"15.7"},"расходы на аудиторские услуги","тыс.руб.",0,0,0]
[null,null,null,null,null,null,null,null,null,null,null,null,null,null,null,null,null,null,null,null,null,null,null,null,null,null,null,null,null,null,null,null,null,null,null,null,null,null,{"$f":"AM279 & \".8\"","v":"15.8"},"услуги по стратегическому управлению организацией","тыс.руб.",0,0,0]
[null,null,null,null,null,null,null,null,null,null,null,null,null,null,null,null,null,null,null,null,null,null,null,null,null,null,null,null,null,null,null,null,null,null,null,null,null,null,{"$f":"AM279 & \".9\"","v":"15.9"},"расходы по подготовке и освоению производства (пуско-наладочные работы)","тыс.руб.",0,0,0]
[null,null,null,null,null,null,null,null,null,null,null,null,null,null,null,null,null,null,null,null,null,null,null,null,null,null,null,null,null,null,null,null,null,null,null,null,null,null,{"$f":"AM279 & \".10\"","v":"15.10"},"целевые средства на НИОКР","тыс.руб.",0,0,0]
[null,null,null,null,null,null,null,null,null,null,null,null,null,null,null,null,null,null,null,null,null,null,null,null,null,null,null,null,null,null,null,null,null,null,null,null,null,null,{"$f":"AM279 & \".11\"","v":"15.11"},"средства на необязательное (дополнительное) страхование","тыс.руб.",0,0,0]
[null,null,null,null,null,null,null,null,null,null,null,null,null,null,null,null,null,null,null,null,null,null,null,null,null,null,null,null,null,null,null,null,null,null,null,null,null,null,{"$f":"AM279 & \".12\"","v":"15.12"},"иные работы и услуги","тыс.руб.",0,0,0]
[]
[null,null,null,null,null,null,null,null,null,null,null,null,null,null,null,null,null,null,null,null,null,null,null,null,null,null,null,null,null,null,null,null,null,null,null,null,null,null,"RENT","Аренда имущества","тыс.руб.",{"$f":"SUMIF($AS$9:$AT$9,AP$9,$AS293:$AT293)","v":0},0,0]
[null,null,null,null,null,null,null,null,null,null,null,null,null,null,null,null,null,null,null,null,null,null,null,null,null,null,null,null,null,null,null,null,null,null,null,null,null,null,"RENT.1","Аренда объектов в государственной собственности","тыс.руб.",0,0,0]
[null,null,null,null,null,null,null,null,null,null,null,null,null,null,null,null,null,null,null,null,null,null,null,null,null,null,null,null,null,null,null,null,null,null,null,null,null,null,"RENT.2","Аренда объектов в муниципальной собственности","тыс.руб.",0,0,0]
[null,null,null,null,null,null,null,null,null,null,null,null,null,null,null,null,null,null,null,null,null,null,null,null,null,null,null,null,null,null,null,null,null,null,null,null,null,null,"RENT.3","Прочее","тыс.руб.",0,0,0]
[null,null,null,null,null,null,null,null,null,null,null,null,null,null,null,null,null,null,null,null,null,null,null,null,null,null,null,null,null,null,null,null,null,null,null,null,null,null,"16","Расходы на служебные командировки","тыс.руб.",0,0,0]
[null,null,null,null,null,null,null,null,null,null,null,null,null,null,null,null,null,null,null,null,null,null,null,null,null,null,null,null,null,null,null,null,null,null,null,null,null,null,"17","Расходы на обучение персонала","тыс.руб.",0,0,0]
[null,null,null,null,null,null,null,null,null,null,null,null,null,null,null,null,null,null,null,null,null,null,null,null,null,null,null,null,null,null,null,null,null,null,null,null,null,null,"18","Расходы на вывод из эксплуатации (в том числе на консервацию) и вывод из консервации","тыс.руб.",0,0,0]
[null,null,null,null,null,null,null,null,null,null,null,null,null,null,null,null,null,null,null,null,null,null,null,null,null,null,null,null,null,null,null,null,null,null,null,null,null,null,"19","Услуги банков","тыс.руб.",0,0,0]
[null,null,null,null,null,null,null,null,null,null,null,null,null,null,null,null,null,null,null,null,null,null,null,null,null,null,null,null,null,null,null,null,null,null,null,null,null,null,"20","Прочие операционные расходы","тыс.руб.",0,0,0]
[null,null,null,null,null,null,null,null,null,null,null,null,null,null,null,null,null,null,null,null,null,null,null,null,null,null,null,null,null,null,null,null,null,null,null,null,null,null,{"$f":"AM301 & \".1\"","v":"20.1"},"Общехозяйственные расходы","тыс.руб.",0,0,0]
[null,null,null,null,null,null,null,null,null,null,null,null,null,null,null,null,null,null,null,null,null,null,null,null,null,null,null,null,null,null,null,null,null,null,null,null,null,null,{"$f":"AM301 & \".2\"","v":"20.2"},"Иные расходы","тыс.руб.",0,0,0]
[null,null,null,null,null,null,null,null,null,null,null,null,null,null,null,null,null,null,null,null,null,null,null,null,null,null,null,null,null,null,null,null,null,null,null,null,null,null,"21","Расходы на оплату услуг, оказываемых организациями, осуществляющими регулируемые виды деятельности","тыс.руб.",0,0,0]
[null,null,null,null,null,null,null,null,null,null,null,null,null,null,null,null,null,null,null,null,null,null,null,null,null,null,null,null,null,null,null,null,null,null,null,null,null,null,"22","Арендная плата","тыс.руб.",0,0,0]
[null,null,null,null,null,null,null,null,null,null,null,null,null,null,null,null,null,null,null,null,null,null,null,null,null,null,null,null,null,null,null,null,null,null,null,null,null,null,{"$f":"AM305 & \".1\"","v":"22.1"},"аренда производственных объектов","тыс.руб.",0,0,0]
[null,null,null,null,null,null,null,null,null,null,null,null,null,null,null,null,null,null,null,null,null,null,null,null,null,null,null,null,null,null,null,null,null,null,null,null,null,null,{"$f":"AM305 & \".2\"","v":"22.2"},"аренда непроизводственных объектов","тыс.руб.",0,0,0]
[null,null,null,null,null,null,null,null,null,null,null,null,null,null,null,null,null,null,null,null,null,null,null,null,null,null,null,null,null,null,null,null,null,null,null,null,null,null,"23","Концессионная плата","тыс.руб.",0,0,0]
[null,null,null,null,null,null,null,null,null,null,null,null,null,null,null,null,null,null,null,null,null,null,null,null,null,null,null,null,null,null,null,null,null,null,null,null,null,null,"24","Лизинговый платеж","тыс.руб.",0,0,0]
[null,null,null,null,null,null,null,null,null,null,null,null,null,null,null,null,null,null,null,null,null,null,null,null,null,null,null,null,null,null,null,null,null,null,null,null,null,null,{"$f":"AM309 & \".1\"","v":"24.1"},"лизинг производственных объектов","тыс.руб.",0,0,0]
[null,null,null,null,null,null,null,null,null,null,null,null,null,null,null,null,null,null,null,null,null,null,null,null,null,null,null,null,null,null,null,null,null,null,null,null,null,null,{"$f":"AM309 & \".2\"","v":"24.2"},"лизинг непроизводственных объектов (без перехода права собственности на предмет лизинга к лизингополучателю)","тыс.руб.",0,0,0]
[null,null,null,null,null,null,null,null,null,null,null,null,null,null,null,null,null,null,null,null,null,null,null,null,null,null,null,null,null,null,null,null,null,null,null,null,null,null,{"$f":"AM309 & \".3\"","v":"24.3"},"лизинг непроизводственных объектов  (с переходом права собственности на предмет лизинга к лизингополучателю)","тыс.руб.",0,0,0]
[null,null,null,null,null,null,null,null,null,null,null,null,null,null,null,null,null,null,null,null,null,null,null,null,null,null,null,null,null,null,null,null,null,null,null,null,null,null,"25","Расходы на уплату налогов, сборов и других обязательных платежей, в том числе:","тыс.руб.",{"$f":"SUMIF($AS$9:$AT$9,AP$9,$AS313:$AT313)","v":0},0,0]
[null,null,null,null,null,null,null,null,null,null,null,null,null,null,null,null,null,null,null,null,null,null,null,null,null,null,null,null,null,null,null,null,null,null,null,null,null,null,{"$f":"AM313 & \".1\"","v":"25.1"},"плата за выбросы и сбросы загрязняющих веществ в окружающую среду, размещение отходов и другие виды негативного воздействия на окружающую среду в пределах установленных нормативов и (или) лимитов","тыс.руб.",0,0,0]
[null,null,null,null,null,null,null,null,null,null,null,null,null,null,null,null,null,null,null,null,null,null,null,null,null,null,null,null,null,null,null,null,null,null,null,null,null,null,{"$f":"AM313 & \".2\"","v":"25.2"},"расходы на обязательное страхование","тыс.руб.",0,0,0]
[null,null,null,null,null,null,null,null,null,null,null,null,null,null,null,null,null,null,null,null,null,null,null,null,null,null,null,null,null,null,null,null,null,null,null,null,null,null,{"$f":"AM313 & \".3\"","v":"25.3"},"иные расходы","тыс.руб.",0,0,0]
[null,null,null,null,null,null,null,null,null,null,null,null,null,null,null,null,null,null,null,null,null,null,null,null,null,null,null,null,null,null,null,null,null,null,null,null,null,null,{"$f":"AM313 & \".4\"","v":"25.4"},"уплата налогов, всего","тыс.руб.",0,0,0]
[null,null,null,null,null,null,null,null,null,null,null,null,null,null,null,null,null,null,null,null,null,null,null,null,null,null,null,null,null,null,null,null,null,null,null,null,null,null,{"$f":"AM317 & \".1\"","v":"25.4.1"},"налог на имущество организаций","тыс.руб.",0,0,0]
[null,null,null,null,null,null,null,null,null,null,null,null,null,null,null,null,null,null,null,null,null,null,null,null,null,null,null,null,null,null,null,null,null,null,null,null,null,null,{"$f":"AM317 & \".2\"","v":"25.4.2"},"земельный налог","тыс.руб.",0,0,0]
[null,null,null,null,null,null,null,null,null,null,null,null,null,null,null,null,null,null,null,null,null,null,null,null,null,null,null,null,null,null,null,null,null,null,null,null,null,null,{"$f":"AM317 & \".3\"","v":"25.4.3"},"транспортный налог","тыс.руб.",0,0,0]
[null,null,null,null,null,null,null,null,null,null,null,null,null,null,null,null,null,null,null,null,null,null,null,null,null,null,null,null,null,null,null,null,null,null,null,null,null,null,{"$f":"AM317 & \".4\"","v":"25.4.4"},"водный налог","тыс.руб.",0,0,0]
[null,null,null,null,null,null,null,null,null,null,null,null,null,null,null,null,null,null,null,null,null,null,null,null,null,null,null,null,null,null,null,null,null,null,null,null,null,null,{"$f":"AM317 & \".5\"","v":"25.4.5"},"прочие налоги","тыс.руб.",0,0,0]
[null,null,null,null,null,null,null,null,null,null,null,null,null,null,null,null,null,null,null,null,null,null,null,null,null,null,null,null,null,null,null,null,null,null,null,null,null,null,"26","Расходы по сомнительным долгам","тыс.руб.",0,0,0]
[null,null,null,null,null,null,null,null,null,null,null,null,null,null,null,null,null,null,null,null,null,null,null,null,null,null,null,null,null,null,null,null,null,null,null,null,null,null,"27","Амортизация основных средств и нематериальных активов","тыс.руб.",0,0,0]
[null,null,null,null,null,null,null,null,null,null,null,null,null,null,null,null,null,null,null,null,null,null,null,null,null,null,null,null,null,null,null,null,null,null,null,null,null,null,{"$f":"AM324 & \".1\"","v":"27.1"},"Амортизация производственного оборудования","тыс.руб.",0,0,0]
[null,null,null,null,null,null,null,null,null,null,null,null,null,null,null,null,null,null,null,null,null,null,null,null,null,null,null,null,null,null,null,null,null,null,null,null,null,null,{"$f":"AM324 & \".2\"","v":"27.2"},"Амортизация иных основных средств и нематериальных активов","тыс.руб.",0,0,0]
[null,null,null,null,null,null,null,null,null,null,null,null,null,null,null,null,null,null,null,null,null,null,null,null,null,null,null,null,null,null,null,null,null,null,null,null,null,null,"28","Расходы на выплаты по договорам займа и кредитным договорам, включая проценты по ним","тыс.руб.",0,0,0]
[null,null,null,null,null,null,null,null,null,null,null,null,null,null,null,null,null,null,null,null,null,null,null,null,null,null,null,null,null,null,null,null,null,null,null,null,null,null,"29","Прочие неподконтрольные расходы","тыс.руб.",0,0,0]
[null,null,null,null,null,null,null,null,null,null,null,null,null,null,null,null,null,null,null,null,null,null,null,null,null,null,null,null,null,null,null,null,null,null,null,null,null,null,"30","Налог на прибыль","тыс.руб.",0,0,0]
[]
[null,null,null,null,null,null,null,null,null,null,null,null,null,null,null,null,null,null,null,null,null,null,null,null,null,null,null,null,null,null,null,null,null,null,null,null,null,null,"РО","Итого расходы","тыс.руб.",{"$f":"SUMIF($AS$9:$AT$9,AP$9,$AS331:$AT331)","v":0},{"$f":"SUMIF($AS$9:$AT$9,AQ$9,$AS331:$AT331)","v":0},{"$f":"SUMIF($AS$9:$AT$9,AR$9,$AS331:$AT331)","v":0}]
[]
[null,null,null,null,null,null,null,null,null,null,null,null,null,null,null,null,null,null,null,null,null,null,null,null,null,null,null,null,null,null,null,null,null,null,null,null,null,null,"РР","Итого расходы на реализацию","тыс.руб.",{"$f":"SUMIF($AS$9:$AT$9,AP$9,$AS333:$AT333)","v":0},{"$f":"SUMIF($AS$9:$AT$9,AQ$9,$AS333:$AT333)","v":0},{"$f":"SUMIF($AS$9:$AT$9,AR$9,$AS333:$AT333)","v":0}]
[]
[null,null,null,null,null,null,null,null,null,null,null,null,null,null,null,null,null,null,null,null,null,null,null,null,null,null,null,null,null,null,null,null,null,null,null,null,null,null,"У","Убыток","тыс.руб.",{"$f":"SUMIF($AS$9:$AT$9,AP$9,$AS335:$AT335)","v":0},0,0]
[null,null,null,null,null,null,null,null,null,null,null,null,null,null,null,null,null,null,null,null,null,null,null,null,null,null,null,null,null,null,null,null,null,null,null,null,null,null,"П","Прибыль","тыс.руб.",0,0,0]
[]
[null,null,null,null,null,null,null,null,null,null,null,null,null,null,null,null,null,null,null,null,null,null,null,null,null,null,null,null,null,null,null,null,null,null,null,null,null,null,"П.1","Прибыль на развитие производства (капитальные вложения)","тыс.руб.",{"$f":"SUMIF($AS$9:$AT$9,AP$9,$AS338:$AT338)","v":0},0,0]
[null,null,null,null,null,null,null,null,null,null,null,null,null,null,null,null,null,null,null,null,null,null,null,null,null,null,null,null,null,null,null,null,null,null,null,null,null,null,"П.2","Прибыль на социальное развитие","тыс.руб.",0,0,0]
[null,null,null,null,null,null,null,null,null,null,null,null,null,null,null,null,null,null,null,null,null,null,null,null,null,null,null,null,null,null,null,null,null,null,null,null,null,null,"П.3","Прибыль на поощрение","тыс.руб.",0,0,0]
[null,null,null,null,null,null,null,null,null,null,null,null,null,null,null,null,null,null,null,null,null,null,null,null,null,null,null,null,null,null,null,null,null,null,null,null,null,null,"П.4","Прибыль на прочие цели","тыс.руб.",0,0,0]
[]
[]
[]
[]
[]
[]
[]
[]
[null,null,null,null,null,null,null,null,null,null,null,null,null,null,null,null,null,null,null,null,null,null,null,null,null,null,null,null,null,null,null,null,null,null,null,null,null,null,"РП","Итого расходы с учётом расходов из прибыли","тыс.руб.",{"$f":"SUMIF($AS$9:$AT$9,AP$9,$AS350:$AT350)","v":0},{"$f":"SUMIF($AS$9:$AT$9,AQ$9,$AS350:$AT350)","v":0},{"$f":"SUMIF($AS$9:$AT$9,AR$9,$AS350:$AT350)","v":0}]
[]
[]
[]
[]
[]
[]
[]
[]
[]
[]
[]
[]
[]
[]
[]
[]
[]
[]
[]
[null,null,null,null,null,null,null,null,null,null,null,null,null,null,null,null,null,null,null,null,null,null,null,null,null,null,null,null,null,null,null,null,null,null,null,null,null,null,"UI.TOTAL","Полезный отпуск продукции всего:\n[БТр!п.3] - транспортировка\n[БПр!п.3 - БПр!п.3.1.2 - БПр!п.3.6 + БПр!п.5.2] - производство","Гкал",{"$f":"SUMIF($AS$9:$AT$9,AP$9,$AS370:$AT370)","v":0},0,0]
[null,null,null,null,null,null,null,null,null,null,null,null,null,null,null,null,null,null,null,null,null,null,null,null,null,null,null,null,null,null,null,null,null,null,null,null,null,null,"UI.EC","Полезный отпуск продукции на реализацию потребителям:\n[БТр!п.3.2:3.5] - транспортировка\n[БПр!п.3.2:3.5 + БПр!п.5.2.2 + БПр!п.5.2.3] - производство","Гкал",0,0,0]
[null,null,null,null,null,null,null,null,null,null,null,null,null,null,null,null,null,null,null,null,null,null,null,null,null,null,null,null,null,null,null,null,null,null,null,null,null,null,"UI.COEF","Коэффициент (доля) на реализацию потребителям",null,{"$f":"IF(AP370=0,0,AP371/AP370)","v":0},{"$f":"IF(AQ370=0,0,AQ371/AQ370)","v":0},{"$f":"IF(AR370=0,0,AR371/AR370)","v":0}]
[null,null,null,null,null,null,null,null,null,null,null,null,null,null,null,null,null,null,null,null,null,null,null,null,null,null,null,null,null,null,null,null,null,null,null,null,null,null,"UI.PURE.EC","Полезный отпуск продукции на реализацию потребителям без учёта перепродажи:\n[БТр!п.3.3:3.5] - транспортировка\n[БПр!п.3.2:3.4 + БПр!п.5.2.3] - производство","Гкал",{"$f":"SUMIF($AS$9:$AT$9,AP$9,$AS373:$AT373)","v":0},{"$f":"SUMIF($AS$9:$AT$9,AQ$9,$AS373:$AT373)","v":0},{"$f":"SUMIF($AS$9:$AT$9,AR$9,$AS373:$AT373)","v":0}]
[]
[null,null,null,null,null,null,null,null,null,null,null,null,null,null,null,null,null,null,null,null,null,null,null,null,null,null,null,null,null,null,null,null,null,null,null,null,null,null,"PROFITABILITY","Рентабельность","%",{"$f":"IF(AP331=0,0,(AP336-AP335)/AP331*100)","v":0},{"$f":"IF(AQ331=0,0,(AQ336-AQ335)/AQ331*100)","v":0},{"$f":"IF(AR331=0,0,(AR336-AR335)/AR331*100)","v":0}]
[null,null,null,null,null,null,null,null,null,null,null,null,null,null,null,null,null,null,null,null,null,null,null,null,null,null,null,null,null,null,null,null,null,null,null,null,null,null,null,"Подстановка тарифов I и II полугодий одновременно","a"]
[null,null,null,null,null,null,null,null,null,null,null,null,null,null,null,null,null,null,null,null,null,null,null,null,null,null,null,null,null,null,null,null,null,null,null,null,null,null,"D","Справочно: результат деятельности в периоде регулирования","тыс.руб.",{"$f":"SUMIF($AS$9:$AT$9,AP$9,$AS377:$AT377)","v":0},0,0]
[null,null,null,null,null,null,null,null,null,null,null,null,null,null,null,null,null,null,null,null,null,null,null,null,null,null,null,null,null,null,null,null,null,null,null,null,null,null,{"$f":"AM377 & \".0.1\"","v":"D.0.1"},"Общий доход от реализации потребителям без учёта НДС, исходя из утверждённых тарифов","тыс.руб.",0,0,0]
[null,null,null,null,null,null,null,null,null,null,null,null,null,null,null,null,null,null,null,null,null,null,null,null,null,null,null,null,null,null,null,null,null,null,null,null,null,null,{"$f":"AM377 & \".0.2\"","v":"D.0.2"},"Полезный отпуск продукции на реализацию потребителям","Гкал",0,0,0]
[null,null,null,null,null,null,null,null,null,null,null,null,null,null,null,null,null,null,null,null,null,null,null,null,null,null,null,null,null,null,null,null,null,null,null,null,null,null,{"$f":"AM377 & \".1\"","v":"D.1"},"Организации-перепродавцы / энергоснабжающие организации","тыс.руб.",0,0,0]
[null,null,null,null,null,null,null,null,null,null,null,null,null,null,null,null,null,null,null,null,null,null,null,null,null,null,null,null,null,null,null,null,null,null,null,null,null,null,{"$f":"AM380 & \".1\"","v":"D.1.1"},"средневзвешенный тариф","руб./Гкал",{"$f":"IF(AP382=0,0,AP380*1000/AP382)","v":0},{"$f":"IF(AQ382=0,0,AQ380*1000/AQ382)","v":0},{"$f":"IF(AR382=0,0,AR380*1000/AR382)","v":0}]
[null,null,null,null,null,null,null,null,null,null,null,null,null,null,null,null,null,null,null,null,null,null,null,null,null,null,null,null,null,null,null,null,null,null,null,null,null,null,{"$f":"AM380 & \".2\"","v":"D.1.2"},"объём","Гкал",{"$f":"SUMIF($AS$9:$AT$9,AP$9,$AS382:$AT382)","v":0},0,0]
[null,null,null,null,null,null,null,null,null,null,null,null,null,null,null,null,null,null,null,null,null,null,null,null,null,null,null,null,null,null,null,null,null,null,null,null,null,null,{"$f":"AM377 & \".2\"","v":"D.2"},"Бюджетные потребители","тыс.руб.",0,0,0]
[null,null,null,null,null,null,null,null,null,null,null,null,null,null,null,null,null,null,null,null,null,null,null,null,null,null,null,null,null,null,null,null,null,null,null,null,null,null,{"$f":"AM383 & \".1\"","v":"D.2.1"},"средневзвешенный тариф","руб./Гкал",{"$f":"IF(AP385=0,0,AP383*1000/AP385)","v":0},{"$f":"IF(AQ385=0,0,AQ383*1000/AQ385)","v":0},{"$f":"IF(AR385=0,0,AR383*1000/AR385)","v":0}]
[null,null,null,null,null,null,null,null,null,null,null,null,null,null,null,null,null,null,null,null,null,null,null,null,null,null,null,null,null,null,null,null,null,null,null,null,null,null,{"$f":"AM383 & \".2\"","v":"D.2.2"},"объём","Гкал",{"$f":"SUMIF($AS$9:$AT$9,AP$9,$AS385:$AT385)","v":0},0,0]
[null,null,null,null,null,null,null,null,null,null,null,null,null,null,null,null,null,null,null,null,null,null,null,null,null,null,null,null,null,null,null,null,null,null,null,null,null,null,{"$f":"AM377 & \".3\"","v":"D.3"},"Население","тыс.руб.",0,0,0]
[null,null,null,null,null,null,null,null,null,null,null,null,null,null,null,null,null,null,null,null,null,null,null,null,null,null,null,null,null,null,null,null,null,null,null,null,null,null,{"$f":"AM386 & \".1\"","v":"D.3.1"},"средневзвешенный тариф","руб./Гкал",{"$f":"IF(AP388=0,0,AP386*1000/AP388)","v":0},{"$f":"IF(AQ388=0,0,AQ386*1000/AQ388)","v":0},{"$f":"IF(AR388=0,0,AR386*1000/AR388)","v":0}]
[null,null,null,null,null,null,null,null,null,null,null,null,null,null,null,null,null,null,null,null,null,null,null,null,null,null,null,null,null,null,null,null,null,null,null,null,null,null,{"$f":"AM386 & \".2\"","v":"D.3.2"},"объём","Гкал",{"$f":"SUMIF($AS$9:$AT$9,AP$9,$AS388:$AT388)","v":0},0,0]
[null,null,null,null,null,null,null,null,null,null,null,null,null,null,null,null,null,null,null,null,null,null,null,null,null,null,null,null,null,null,null,null,null,null,null,null,null,null,{"$f":"AM377 & \".4\"","v":"D.4"},"Прочие","тыс.руб.",0,0,0]
[null,null,null,null,null,null,null,null,null,null,null,null,null,null,null,null,null,null,null,null,null,null,null,null,null,null,null,null,null,null,null,null,null,null,null,null,null,null,{"$f":"AM389 & \".1\"","v":"D.4.1"},"средневзвешенный тариф","руб./Гкал",{"$f":"IF(AP391=0,0,AP389*1000/AP391)","v":0},{"$f":"IF(AQ391=0,0,AQ389*1000/AQ391)","v":0},{"$f":"IF(AR391=0,0,AR389*1000/AR391)","v":0}]
[null,null,null,null,null,null,null,null,null,null,null,null,null,null,null,null,null,null,null,null,null,null,null,null,null,null,null,null,null,null,null,null,null,null,null,null,null,null,{"$f":"AM389 & \".2\"","v":"D.4.2"},"объём","Гкал",{"$f":"SUMIF($AS$9:$AT$9,AP$9,$AS391:$AT391)","v":0},0,0]
[null,null,null,null,null,null,null,null,null,null,null,null,null,null,null,null,null,null,null,null,null,null,null,null,null,null,null,null,null,null,null,null,null,null,null,null,null,null,{"$f":"AM377 & \".5\"","v":"D.5"},"Объём дотаций из всех уровней бюджета","тыс.руб.",0,0,0]
[null,null,null,null,null,null,null,null,null,null,null,null,null,null,null,null,null,null,null,null,null,null,null,null,null,null,null,null,null,null,null,null,null,null,null,null,null,null,{"$f":"AM377 & \".6\"","v":"D.6"},"Доходы, полученные сверх реализации по утверждённым тарифам","тыс.руб.",0,0,0]
[]
[]
[]
[]
[]
[]
[null,null,null,null,null,null,null,null,null,null,null,null,null,null,null,null,null,null,null,null,null,null,null,null,null,null,null,null,null,null,null,null,null,null,null,null,null,null,null,"Дополнительные показатели"]
[null,null,null,null,null,null,null,null,null,null,null,null,null,null,null,null,null,null,null,null,null,null,null,null,null,null,null,null,null,null,null,null,null,null,null,null,null,null,null,"Производство"]
[null,null,null,null,null,null,null,null,null,null,null,null,null,null,null,null,null,null,null,null,null,null,null,null,null,null,null,null,null,null,null,null,null,null,null,null,null,null,null,{"$f":"\"Стоимость основных средств, относимых на источники производства \" & RESOURCE_IDENTIFIER","v":"Стоимость основных средств, относимых на источники производства "},"тыс.руб."]
[null,null,null,null,null,null,null,null,null,null,null,null,null,null,null,null,null,null,null,null,null,null,null,null,null,null,null,null,null,null,null,null,null,null,null,null,null,null,null,"Износ основных средств","%"]
[null,null,null,null,null,null,null,null,null,null,null,null,null,null,null,null,null,null,null,null,null,null,null,null,null,null,null,null,null,null,null,null,null,null,null,null,null,null,null,"Передача"]
[null,null,null,null,null,null,null,null,null,null,null,null,null,null,null,null,null,null,null,null,null,null,null,null,null,null,null,null,null,null,null,null,null,null,null,null,null,null,null,{"$f":"\"Стоимость основных средств, относимых на передачу \" & RESOURCE_IDENTIFIER","v":"Стоимость основных средств, относимых на передачу "},"тыс.руб."]
[null,null,null,null,null,null,null,null,null,null,null,null,null,null,null,null,null,null,null,null,null,null,null,null,null,null,null,null,null,null,null,null,null,null,null,null,null,null,null,"Протяженность сетей (в двухтрубном исчислении)","км"]
[null,null,null,null,null,null,null,null,null,null,null,null,null,null,null,null,null,null,null,null,null,null,null,null,null,null,null,null,null,null,null,null,null,null,null,null,null,null,null,"Протяженность сетей, подлежащих замене (износ 100%)","км"]
[null,null,null,null,null,null,null,null,null,null,null,null,null,null,null,null,null,null,null,null,null,null,null,null,null,null,null,null,null,null,null,null,null,null,null,null,null,null,null,"Сбыт"]
[null,null,null,null,null,null,null,null,null,null,null,null,null,null,null,null,null,null,null,null,null,null,null,null,null,null,null,null,null,null,null,null,null,null,null,null,null,null,null,"Полезный отпуск наиболее крупному единичному потребителю","Гкал"]
[null,null,null,null,null,null,null,null,null,null,null,null,null,null,null,null,null,null,null,null,null,null,null,null,null,null,null,null,null,null,null,null,null,null,null,null,null,null,null,"Численность обслуживаемого населения","чел."]
[null,null,null,null,null,null,null,null,null,null,null,null,null,null,null,null,null,null,null,null,null,null,null,null,null,null,null,null,null,null,null,null,null,null,null,null,null,null,null,"Количество абонентов","тыс.ед."]

{"sheet":"ТС.Т","index":14,"n_rows":960,"n_cols":46,"rows_kept":960,"cut":false,"hidden":true,"merged":[[18,38,19,38],[18,39,19,39],[18,41,19,43],[18,40,19,40],[12,38,13,39],[13,41,13,43]]}
[]
[]
[]
[]
[]
[null,null,null,null,null,null,null,null,null,null,null,null,null,null,null,null,null,null,null,null,null,null,null,null,null,null,null,null,null,null,null,null,null,null,null,null,null,null,null,null,null,12,6,6]
[]
[]
[null,null,null,null,null,null,null,null,null,null,null,null,null,null,null,null,null,null,null,null,null,null,null,null,null,null,null,null,null,null,null,null,null,null,null,null,null,null,null,null,null,"Y","I","II"]
[null,null,null,null,null,null,null,null,null,null,null,null,null,null,null,null,null,null,null,null,null,null,null,null,null,null,null,null,null,null,null,null,null,null,null,null,null,null,null,null,null,null,null,null,"START","END"]
[null,null,null,null,null,null,null,null,null,null,null,null,null,null,null,null,null,null,null,null,null,null,null,null,null,null,null,null,null,null,null,null,null,null,null,null,null,null,null,null,null,"Y","I","II"]
[null,null,null,null,null,null,null,null,null,null,null,null,null,null,null,null,null,null,null,null,null,null,null,null,null,null,null,null,null,null,null,null,null,null,null,null,null,null,null,"Необходимо указывать значения по полугодиям (6 и 6 месяцев)"]
["FULL_MODE",null,null,null,null,null,null,null,null,null,null,null,null,null,null,null,null,null,null,null,null,null,null,null,null,null,null,null,null,null,null,null,null,null,null,null,null,null,"Топливо на технологические цели",null,"Период","Год","I полугодие","II полугодие"]
[]
[]
[]
[]
[null,null,null,null,null,null,null,null,null,null,null,null,null,null,null,null,null,null,null,null,null,null,null,null,null,null,null,null,null,null,null,null,null,null,null,null,null,null,null,null,null,null,null,null,null,"Добавить"]
[null,null,null,null,null,null,null,null,null,null,null,null,null,null,null,null,null,null,null,null,null,null,null,null,null,null,null,null,null,null,null,null,null,null,null,null,null,null,"№ п/п","Наименование показателя","Единица измерения","Всего по организации",null,null,0]
[]
[null,null,null,null,null,null,null,null,null,null,null,null,null,null,null,null,null,null,null,null,null,null,null,null,null,null,null,null,null,null,null,null,null,null,null,null,null,null,null,"Является ли организация плательщиком НДС"]
[null,null,null,null,null,null,null,null,null,null,null,null,null,null,null,null,null,null,null,null,null,null,null,null,null,null,null,null,null,null,null,null,null,null,null,null,null,null,null,"Выбор используемых видов (марок) топлива - двойным щелчком мыши над расчётным блоком"]
[]
[]
[]
[]
[]
[]
[]
[]
[]
[]
[]
[]
[]
[null,null,null,null,null,null,null,null,null,null,null,null,null,null,null,null,null,null,null,null,null,null,null,null,null,null,null,null,null,null,null,null,null,null,null,null,null,null,"4","Стоимость натурального топлива с учётом транспортировки (перевозки) (топливо на технологические цели)","тыс.руб.",{"$f":"SUMIF($AS$9:$AT$9,AP$9,$AS36:$AT36)","v":0},0,0]
[null,null,null,null,null,null,null,null,null,null,null,null,null,null,null,null,null,null,null,null,null,null,null,null,null,null,null,null,null,null,null,"NG",null,null,null,null,null,null,"4.NG","Газ природный","тыс.руб.",0,0,0]
[null,null,null,null,null,null,null,null,null,null,null,null,null,null,null,null,null,null,null,null,null,null,null,null,null,null,null,null,null,null,null,"NGL",null,null,null,null,null,null,"4.NGL","Газ лимитный","тыс.руб.",0,0,0]
[null,null,null,null,null,null,null,null,null,null,null,null,null,null,null,null,null,null,null,null,null,null,null,null,null,null,null,null,null,null,null,"NGU",null,null,null,null,null,null,"4.NGU","Газ сверхлимитный","тыс.руб.",0,0,0]
[null,null,null,null,null,null,null,null,null,null,null,null,null,null,null,null,null,null,null,null,null,null,null,null,null,null,null,null,null,null,null,"NGC",null,null,null,null,null,null,"4.NGC","Газ коммерческий","тыс.руб.",0,0,0]
[null,null,null,null,null,null,null,null,null,null,null,null,null,null,null,null,null,null,null,null,null,null,null,null,null,null,null,null,null,null,null,"GBL",null,null,null,null,null,null,"4.GBL","Газ доменный","тыс.руб.",0,0,0]
[null,null,null,null,null,null,null,null,null,null,null,null,null,null,null,null,null,null,null,null,null,null,null,null,null,null,null,null,null,null,null,"GCK",null,null,null,null,null,null,"4.GCK","Газ коксовый","тыс.руб.",0,0,0]
[null,null,null,null,null,null,null,null,null,null,null,null,null,null,null,null,null,null,null,null,null,null,null,null,null,null,null,null,null,null,null,"GOA",null,null,null,null,null,null,"4.GOA","Газ нефтяной (попутный)","тыс.руб.",0,0,0]
[null,null,null,null,null,null,null,null,null,null,null,null,null,null,null,null,null,null,null,null,null,null,null,null,null,null,null,null,null,null,null,"DSG",null,null,null,null,null,null,"4.DSG","Газ сухой отбензиненный","тыс.руб.",0,0,0]
[null,null,null,null,null,null,null,null,null,null,null,null,null,null,null,null,null,null,null,null,null,null,null,null,null,null,null,null,null,null,null,"GCN",null,null,null,null,null,null,"4.GCN","Газовый конденсат","тыс.руб.",0,0,0]
[null,null,null,null,null,null,null,null,null,null,null,null,null,null,null,null,null,null,null,null,null,null,null,null,null,null,null,null,null,null,null,"LNG",null,null,null,null,null,null,"4.LNG","Газ сжиженный","тыс.руб.",0,0,0]
[null,null,null,null,null,null,null,null,null,null,null,null,null,null,null,null,null,null,null,null,null,null,null,null,null,null,null,null,null,null,null,"DSL",null,null,null,null,null,null,"4.DSL","Дизельное топливо","тыс.руб.",0,0,0]
[null,null,null,null,null,null,null,null,null,null,null,null,null,null,null,null,null,null,null,null,null,null,null,null,null,null,null,null,null,null,null,"DSLA",null,null,null,null,null,null,"4.DSLA","А (арктическое)","тыс.руб.",0,0,0]
[null,null,null,null,null,null,null,null,null,null,null,null,null,null,null,null,null,null,null,null,null,null,null,null,null,null,null,null,null,null,null,"DSLW",null,null,null,null,null,null,"4.DSLW","З (зимнее)","тыс.руб.",0,0,0]
[null,null,null,null,null,null,null,null,null,null,null,null,null,null,null,null,null,null,null,null,null,null,null,null,null,null,null,null,null,null,null,"DSLS",null,null,null,null,null,null,"4.DSLS","Л (летнее)","тыс.руб.",0,0,0]
[null,null,null,null,null,null,null,null,null,null,null,null,null,null,null,null,null,null,null,null,null,null,null,null,null,null,null,null,null,null,null,"DSLO",null,null,null,null,null,null,"4.DSLO","Е (межсезонное)","тыс.руб.",0,0,0]
[null,null,null,null,null,null,null,null,null,null,null,null,null,null,null,null,null,null,null,null,null,null,null,null,null,null,null,null,null,null,null,"MST",null,null,null,null,null,null,"4.MST","Мазут","тыс.руб.",0,0,0]
[null,null,null,null,null,null,null,null,null,null,null,null,null,null,null,null,null,null,null,null,null,null,null,null,null,null,null,null,null,null,null,"MSTM40",null,null,null,null,null,null,"4.MSTM40","М-40","тыс.руб.",0,0,0]
[null,null,null,null,null,null,null,null,null,null,null,null,null,null,null,null,null,null,null,null,null,null,null,null,null,null,null,null,null,null,null,"MSTM100",null,null,null,null,null,null,"4.MSTM100","М-100","тыс.руб.",0,0,0]
[null,null,null,null,null,null,null,null,null,null,null,null,null,null,null,null,null,null,null,null,null,null,null,null,null,null,null,null,null,null,null,"MSTM200",null,null,null,null,null,null,"4.MSTM200","М-200","тыс.руб.",0,0,0]
[null,null,null,null,null,null,null,null,null,null,null,null,null,null,null,null,null,null,null,null,null,null,null,null,null,null,null,null,null,null,null,"MSTT",null,null,null,null,null,null,"4.MSTT","мазут марки \"Т\"","тыс.руб.",{"$f":"SUMIF($AS$9:$AT$9,AP$9,$AS56:$AT56)","v":0},0,0]
[null,null,null,null,null,null,null,null,null,null,null,null,null,null,null,null,null,null,null,null,null,null,null,null,null,null,null,null,null,null,null,"MSTF5",null,null,null,null,null,null,"4.MSTF5","Ф-5","тыс.руб.",0,0,0]
[null,null,null,null,null,null,null,null,null,null,null,null,null,null,null,null,null,null,null,null,null,null,null,null,null,null,null,null,null,null,null,"MSTF12",null,null,null,null,null,null,"4.MSTF12","Ф-12","тыс.руб.",0,0,0]
[null,null,null,null,null,null,null,null,null,null,null,null,null,null,null,null,null,null,null,null,null,null,null,null,null,null,null,null,null,null,null,"OIL",null,null,null,null,null,null,"4.OIL","Нефть","тыс.руб.",0,0,0]
[null,null,null,null,null,null,null,null,null,null,null,null,null,null,null,null,null,null,null,null,null,null,null,null,null,null,null,null,null,null,null,"COA",null,null,null,null,null,null,"4.COA","Уголь","тыс.руб.",0,0,0]
[null,null,null,null,null,null,null,null,null,null,null,null,null,null,null,null,null,null,null,null,null,null,null,null,null,null,null,null,null,null,null,"COAA",null,null,null,null,null,null,"4.COAA","Уголь антрацит","тыс.руб.",0,0,0]
[null,null,null,null,null,null,null,null,null,null,null,null,null,null,null,null,null,null,null,null,null,null,null,null,null,null,null,null,null,null,null,"COAB",null,null,null,null,null,null,"4.COAB","Уголь бурый","тыс.руб.",0,0,0]
[null,null,null,null,null,null,null,null,null,null,null,null,null,null,null,null,null,null,null,null,null,null,null,null,null,null,null,null,null,null,null,"COAG",null,null,null,null,null,null,"4.COAG","Уголь газовый","тыс.руб.",0,0,0]
[null,null,null,null,null,null,null,null,null,null,null,null,null,null,null,null,null,null,null,null,null,null,null,null,null,null,null,null,null,null,null,"COALF",null,null,null,null,null,null,"4.COALF","Уголь длиннопламенный","тыс.руб.",0,0,0]
[null,null,null,null,null,null,null,null,null,null,null,null,null,null,null,null,null,null,null,null,null,null,null,null,null,null,null,null,null,null,null,"COAF",null,null,null,null,null,null,"4.COAF","Уголь жирный","тыс.руб.",0,0,0]
[null,null,null,null,null,null,null,null,null,null,null,null,null,null,null,null,null,null,null,null,null,null,null,null,null,null,null,null,null,null,null,"COAC",null,null,null,null,null,null,"4.COAC","Уголь коксовый","тыс.руб.",0,0,0]
[null,null,null,null,null,null,null,null,null,null,null,null,null,null,null,null,null,null,null,null,null,null,null,null,null,null,null,null,null,null,null,"COASC",null,null,null,null,null,null,"4.COASC","Уголь отощённо-спекающийся","тыс.руб.",0,0,0]
[null,null,null,null,null,null,null,null,null,null,null,null,null,null,null,null,null,null,null,null,null,null,null,null,null,null,null,null,null,null,null,"COAWC",null,null,null,null,null,null,"4.COAWC","Уголь слабоспекающийся","тыс.руб.",0,0,0]
[null,null,null,null,null,null,null,null,null,null,null,null,null,null,null,null,null,null,null,null,null,null,null,null,null,null,null,null,null,null,null,"COAS",null,null,null,null,null,null,"4.COAS","Уголь тощий","тыс.руб.",0,0,0]
[null,null,null,null,null,null,null,null,null,null,null,null,null,null,null,null,null,null,null,null,null,null,null,null,null,null,null,null,null,null,null,"ENR",null,null,null,null,null,null,"4.ENR","Энергия","тыс.руб.",0,0,0]
[null,null,null,null,null,null,null,null,null,null,null,null,null,null,null,null,null,null,null,null,null,null,null,null,null,null,null,null,null,null,null,"PWR",null,null,null,null,null,null,"4.PWR","Заявленная мощность","тыс.руб.",0,0,0]
[null,null,null,null,null,null,null,null,null,null,null,null,null,null,null,null,null,null,null,null,null,null,null,null,null,null,null,null,null,null,null,"CWD",null,null,null,null,null,null,"4.CWD","Уголь древесный","тыс.руб.",0,0,0]
[null,null,null,null,null,null,null,null,null,null,null,null,null,null,null,null,null,null,null,null,null,null,null,null,null,null,null,null,null,null,null,"WDS",null,null,null,null,null,null,"4.WDS","Дрова","тыс.руб.",0,0,0]
[null,null,null,null,null,null,null,null,null,null,null,null,null,null,null,null,null,null,null,null,null,null,null,null,null,null,null,null,null,null,null,"PLT",null,null,null,null,null,null,"4.PLT","Пеллеты","тыс.руб.",0,0,0]
[null,null,null,null,null,null,null,null,null,null,null,null,null,null,null,null,null,null,null,null,null,null,null,null,null,null,null,null,null,null,null,"SAW",null,null,null,null,null,null,"4.SAW","Опилки","тыс.руб.",0,0,0]
[null,null,null,null,null,null,null,null,null,null,null,null,null,null,null,null,null,null,null,null,null,null,null,null,null,null,null,null,null,null,null,"PEA",null,null,null,null,null,null,"4.PEA","Торф","тыс.руб.",0,0,0]
[null,null,null,null,null,null,null,null,null,null,null,null,null,null,null,null,null,null,null,null,null,null,null,null,null,null,null,null,null,null,null,"SHL",null,null,null,null,null,null,"4.SHL","Сланцы","тыс.руб.",0,0,0]
[null,null,null,null,null,null,null,null,null,null,null,null,null,null,null,null,null,null,null,null,null,null,null,null,null,null,null,null,null,null,null,"STF",null,null,null,null,null,null,"4.STF","Печное бытовое топливо","тыс.руб.",0,0,0]
[null,null,null,null,null,null,null,null,null,null,null,null,null,null,null,null,null,null,null,null,null,null,null,null,null,null,null,null,null,null,null,"OTH",null,null,null,null,null,null,"4.OTH","Прочие виды топлива","тыс.руб.",0,0,0]
[null,null,null,null,null,null,null,null,null,null,null,null,null,null,null,null,null,null,null,null,null,null,null,null,null,null,null,null,null,null,null,null,null,null,null,null,null,null,"4.CFPTR","Цена условного топлива с учётом транспортировки (перевозки)","тыс.руб./тут",{"$f":"IF(AP168=0,0,AP36/AP168)","v":0},0,0]
[null,null,null,null,null,null,null,null,null,null,null,null,null,null,null,null,null,null,null,null,null,null,null,null,null,null,null,null,null,null,null,"NG",null,null,null,null,null,null,"4.CFPTR.NG","Газ природный","тыс.руб./тут",0,0,0]
[null,null,null,null,null,null,null,null,null,null,null,null,null,null,null,null,null,null,null,null,null,null,null,null,null,null,null,null,null,null,null,"NGL",null,null,null,null,null,null,"4.CFPTR.NGL","Газ лимитный","тыс.руб./тут",0,0,0]
[null,null,null,null,null,null,null,null,null,null,null,null,null,null,null,null,null,null,null,null,null,null,null,null,null,null,null,null,null,null,null,"NGU",null,null,null,null,null,null,"4.CFPTR.NGU","Газ сверхлимитный","тыс.руб./тут",0,0,0]
[null,null,null,null,null,null,null,null,null,null,null,null,null,null,null,null,null,null,null,null,null,null,null,null,null,null,null,null,null,null,null,"NGC",null,null,null,null,null,null,"4.CFPTR.NGC","Газ коммерческий","тыс.руб./тут",0,0,0]
[null,null,null,null,null,null,null,null,null,null,null,null,null,null,null,null,null,null,null,null,null,null,null,null,null,null,null,null,null,null,null,"GBL",null,null,null,null,null,null,"4.CFPTR.GBL","Газ доменный","тыс.руб./тут",0,0,0]
[null,null,null,null,null,null,null,null,null,null,null,null,null,null,null,null,null,null,null,null,null,null,null,null,null,null,null,null,null,null,null,"GCK",null,null,null,null,null,null,"4.CFPTR.GCK","Газ коксовый","тыс.руб./тут",0,0,0]
[null,null,null,null,null,null,null,null,null,null,null,null,null,null,null,null,null,null,null,null,null,null,null,null,null,null,null,null,null,null,null,"GOA",null,null,null,null,null,null,"4.CFPTR.GOA","Газ нефтяной (попутный)","тыс.руб./тут",0,0,0]
[null,null,null,null,null,null,null,null,null,null,null,null,null,null,null,null,null,null,null,null,null,null,null,null,null,null,null,null,null,null,null,"DSG",null,null,null,null,null,null,"4.CFPTR.DSG","Газ сухой отбензиненный","тыс.руб./тут",0,0,0]
[null,null,null,null,null,null,null,null,null,null,null,null,null,null,null,null,null,null,null,null,null,null,null,null,null,null,null,null,null,null,null,"GCN",null,null,null,null,null,null,"4.CFPTR.GCN","Газовый конденсат","тыс.руб./тут",0,0,0]
[null,null,null,null,null,null,null,null,null,null,null,null,null,null,null,null,null,null,null,null,null,null,null,null,null,null,null,null,null,null,null,"LNG",null,null,null,null,null,null,"4.CFPTR.LNG","Газ сжиженный","тыс.руб./тут",0,0,0]
[null,null,null,null,null,null,null,null,null,null,null,null,null,null,null,null,null,null,null,null,null,null,null,null,null,null,null,null,null,null,null,"DSL",null,null,null,null,null,null,"4.CFPTR.DSL","Дизельное топливо","тыс.руб./тут",0,0,0]
[null,null,null,null,null,null,null,null,null,null,null,null,null,null,null,null,null,null,null,null,null,null,null,null,null,null,null,null,null,null,null,"DSLA",null,null,null,null,null,null,"4.CFPTR.DSLA","А (арктическое)","тыс.руб./тут",0,0,0]
[null,null,null,null,null,null,null,null,null,null,null,null,null,null,null,null,null,null,null,null,null,null,null,null,null,null,null,null,null,null,null,"DSLW",null,null,null,null,null,null,"4.CFPTR.DSLW","З (зимнее)","тыс.руб./тут",0,0,0]
[null,null,null,null,null,null,null,null,null,null,null,null,null,null,null,null,null,null,null,null,null,null,null,null,null,null,null,null,null,null,null,"DSLS",null,null,null,null,null,null,"4.CFPTR.DSLS","Л (летнее)","тыс.руб./тут",0,0,0]
[null,null,null,null,null,null,null,null,null,null,null,null,null,null,null,null,null,null,null,null,null,null,null,null,null,null,null,null,null,null,null,"DSLO",null,null,null,null,null,null,"4.CFPTR.DSLO","Е (межсезонное)","тыс.руб./тут",0,0,0]
[null,null,null,null,null,null,null,null,null,null,null,null,null,null,null,null,null,null,null,null,null,null,null,null,null,null,null,null,null,null,null,"MST",null,null,null,null,null,null,"4.CFPTR.MST","Мазут","тыс.руб./тут",0,0,0]
[null,null,null,null,null,null,null,null,null,null,null,null,null,null,null,null,null,null,null,null,null,null,null,null,null,null,null,null,null,null,null,"MSTM40",null,null,null,null,null,null,"4.CFPTR.MSTM40","М-40","тыс.руб./тут",0,0,0]
[null,null,null,null,null,null,null,null,null,null,null,null,null,null,null,null,null,null,null,null,null,null,null,null,null,null,null,null,null,null,null,"MSTM100",null,null,null,null,null,null,"4.CFPTR.MSTM100","М-100","тыс.руб./тут",0,0,0]
[null,null,null,null,null,null,null,null,null,null,null,null,null,null,null,null,null,null,null,null,null,null,null,null,null,null,null,null,null,null,null,"MSTM200",null,null,null,null,null,null,"4.CFPTR.MSTM200","М-200","тыс.руб./тут",0,0,0]
[null,null,null,null,null,null,null,null,null,null,null,null,null,null,null,null,null,null,null,null,null,null,null,null,null,null,null,null,null,null,null,"MSTT",null,null,null,null,null,null,"4.CFPTR.MSTT","мазут марки \"Т\"","тыс.руб./тут",{"$f":"IF(AP188=0,0,AP56/AP188)","v":0},0,0]
[null,null,null,null,null,null,null,null,null,null,null,null,null,null,null,null,null,null,null,null,null,null,null,null,null,null,null,null,null,null,null,"MSTF5",null,null,null,null,null,null,"4.CFPTR.MSTF5","Ф-5","тыс.руб./тут",0,0,0]
[null,null,null,null,null,null,null,null,null,null,null,null,null,null,null,null,null,null,null,null,null,null,null,null,null,null,null,null,null,null,null,"MSTF12",null,null,null,null,null,null,"4.CFPTR.MSTF12","Ф-12","тыс.руб./тут",0,0,0]
[null,null,null,null,null,null,null,null,null,null,null,null,null,null,null,null,null,null,null,null,null,null,null,null,null,null,null,null,null,null,null,"OIL",null,null,null,null,null,null,"4.CFPTR.OIL","Нефть","тыс.руб./тут",0,0,0]
[null,null,null,null,null,null,null,null,null,null,null,null,null,null,null,null,null,null,null,null,null,null,null,null,null,null,null,null,null,null,null,"COA",null,null,null,null,null,null,"4.CFPTR.COA","Уголь","тыс.руб./тут",0,0,0]
[null,null,null,null,null,null,null,null,null,null,null,null,null,null,null,null,null,null,null,null,null,null,null,null,null,null,null,null,null,null,null,"COAA",null,null,null,null,null,null,"4.CFPTR.COAA","Уголь антрацит","тыс.руб./тут",{"$f":"IF(AP193=0,0,AP61/AP193)","v":0},0,0]
[null,null,null,null,null,null,null,null,null,null,null,null,null,null,null,null,null,null,null,null,null,null,null,null,null,null,null,null,null,null,null,"COAB",null,null,null,null,null,null,"4.CFPTR.COAB","Уголь бурый","тыс.руб./тут",0,0,0]
[null,null,null,null,null,null,null,null,null,null,null,null,null,null,null,null,null,null,null,null,null,null,null,null,null,null,null,null,null,null,null,"COAG",null,null,null,null,null,null,"4.CFPTR.COAG","Уголь газовый","тыс.руб./тут",0,0,0]
[null,null,null,null,null,null,null,null,null,null,null,null,null,null,null,null,null,null,null,null,null,null,null,null,null,null,null,null,null,null,null,"COALF",null,null,null,null,null,null,"4.CFPTR.COALF","Уголь длиннопламенный","тыс.руб./тут",0,0,0]
[null,null,null,null,null,null,null,null,null,null,null,null,null,null,null,null,null,null,null,null,null,null,null,null,null,null,null,null,null,null,null,"COAF",null,null,null,null,null,null,"4.CFPTR.COAF","Уголь жирный","тыс.руб./тут",0,0,0]
[null,null,null,null,null,null,null,null,null,null,null,null,null,null,null,null,null,null,null,null,null,null,null,null,null,null,null,null,null,null,null,"COAC",null,null,null,null,null,null,"4.CFPTR.COAC","Уголь коксовый","тыс.руб./тут",0,0,0]
[null,null,null,null,null,null,null,null,null,null,null,null,null,null,null,null,null,null,null,null,null,null,null,null,null,null,null,null,null,null,null,"COASC",null,null,null,null,null,null,"4.CFPTR.COASC","Уголь отощённо-спекающийся","тыс.руб./тут",0,0,0]
[null,null,null,null,null,null,null,null,null,null,null,null,null,null,null,null,null,null,null,null,null,null,null,null,null,null,null,null,null,null,null,"COAWC",null,null,null,null,null,null,"4.CFPTR.COAWC","Уголь слабоспекающийся","тыс.руб./тут",0,0,0]
[null,null,null,null,null,null,null,null,null,null,null,null,null,null,null,null,null,null,null,null,null,null,null,null,null,null,null,null,null,null,null,"COAS",null,null,null,null,null,null,"4.CFPTR.COAS","Уголь тощий","тыс.руб./тут",0,0,0]
[]
[]
[null,null,null,null,null,null,null,null,null,null,null,null,null,null,null,null,null,null,null,null,null,null,null,null,null,null,null,null,null,null,null,"CWD",null,null,null,null,null,null,"4.CFPTR.CWD","Уголь древесный","тыс.руб./тут",{"$f":"IF(AP204=0,0,AP72/AP204)","v":0},0,0]
[null,null,null,null,null,null,null,null,null,null,null,null,null,null,null,null,null,null,null,null,null,null,null,null,null,null,null,null,null,null,null,"WDS",null,null,null,null,null,null,"4.CFPTR.WDS","Дрова","тыс.руб./тут",0,0,0]
[null,null,null,null,null,null,null,null,null,null,null,null,null,null,null,null,null,null,null,null,null,null,null,null,null,null,null,null,null,null,null,"PLT",null,null,null,null,null,null,"4.CFPTR.PLT","Пеллеты","тыс.руб./тут",0,0,0]
[null,null,null,null,null,null,null,null,null,null,null,null,null,null,null,null,null,null,null,null,null,null,null,null,null,null,null,null,null,null,null,"SAW",null,null,null,null,null,null,"4.CFPTR.SAW","Опилки","тыс.руб./тут",0,0,0]
[null,null,null,null,null,null,null,null,null,null,null,null,null,null,null,null,null,null,null,null,null,null,null,null,null,null,null,null,null,null,null,"PEA",null,null,null,null,null,null,"4.CFPTR.PEA","Торф","тыс.руб./тут",0,0,0]
[null,null,null,null,null,null,null,null,null,null,null,null,null,null,null,null,null,null,null,null,null,null,null,null,null,null,null,null,null,null,null,"SHL",null,null,null,null,null,null,"4.CFPTR.SHL","Сланцы","тыс.руб./тут",0,0,0]
[null,null,null,null,null,null,null,null,null,null,null,null,null,null,null,null,null,null,null,null,null,null,null,null,null,null,null,null,null,null,null,"STF",null,null,null,null,null,null,"4.CFPTR.STF","Печное бытовое топливо","тыс.руб./тут",0,0,0]
[]
[null,null,null,null,null,null,null,null,null,null,null,null,null,null,null,null,null,null,null,null,null,null,null,null,null,null,null,null,null,null,null,null,null,null,null,null,null,null,"4.NFPTR","Цена натурального топлива с учётом транспортировки (перевозки)"]
[null,null,null,null,null,null,null,null,null,null,null,null,null,null,null,null,null,null,null,null,null,null,null,null,null,null,null,null,null,null,null,"NG",null,null,null,null,null,null,"4.NFPTR.NG","Газ природный","руб./тыс.м3",{"$f":"IF(AP301=0,0,AP37/AP301*1000)","v":0},0,0]
[null,null,null,null,null,null,null,null,null,null,null,null,null,null,null,null,null,null,null,null,null,null,null,null,null,null,null,null,null,null,null,"NGL",null,null,null,null,null,null,"4.NFPTR.NGL","Газ лимитный","руб./тыс.м3",0,0,0]
[null,null,null,null,null,null,null,null,null,null,null,null,null,null,null,null,null,null,null,null,null,null,null,null,null,null,null,null,null,null,null,"NGU",null,null,null,null,null,null,"4.NFPTR.NGU","Газ сверхлимитный","руб./тыс.м3",0,0,0]
[null,null,null,null,null,null,null,null,null,null,null,null,null,null,null,null,null,null,null,null,null,null,null,null,null,null,null,null,null,null,null,"NGC",null,null,null,null,null,null,"4.NFPTR.NGC","Газ коммерческий","руб./тыс.м3",0,0,0]
[null,null,null,null,null,null,null,null,null,null,null,null,null,null,null,null,null,null,null,null,null,null,null,null,null,null,null,null,null,null,null,"GBL",null,null,null,null,null,null,"4.NFPTR.GBL","Газ доменный","руб./тнт",0,0,0]
[null,null,null,null,null,null,null,null,null,null,null,null,null,null,null,null,null,null,null,null,null,null,null,null,null,null,null,null,null,null,null,"GCK",null,null,null,null,null,null,"4.NFPTR.GCK","Газ коксовый","руб./тнт",0,0,0]
[null,null,null,null,null,null,null,null,null,null,null,null,null,null,null,null,null,null,null,null,null,null,null,null,null,null,null,null,null,null,null,"GOA",null,null,null,null,null,null,"4.NFPTR.GOA","Газ нефтяной (попутный)","руб./тнт",0,0,0]
[null,null,null,null,null,null,null,null,null,null,null,null,null,null,null,null,null,null,null,null,null,null,null,null,null,null,null,null,null,null,null,"DSG",null,null,null,null,null,null,"4.NFPTR.DSG","Газ сухой отбензиненный","руб./тнт",0,0,0]
[null,null,null,null,null,null,null,null,null,null,null,null,null,null,null,null,null,null,null,null,null,null,null,null,null,null,null,null,null,null,null,"GCN",null,null,null,null,null,null,"4.NFPTR.GCN","Газовый конденсат","руб./тнт",0,0,0]
[null,null,null,null,null,null,null,null,null,null,null,null,null,null,null,null,null,null,null,null,null,null,null,null,null,null,null,null,null,null,null,"LNG",null,null,null,null,null,null,"4.NFPTR.LNG","Газ сжиженный","руб./тнт",0,0,0]
[null,null,null,null,null,null,null,null,null,null,null,null,null,null,null,null,null,null,null,null,null,null,null,null,null,null,null,null,null,null,null,"DSL",null,null,null,null,null,null,"4.NFPTR.DSL","Дизельное топливо","руб./тнт",0,0,0]
[null,null,null,null,null,null,null,null,null,null,null,null,null,null,null,null,null,null,null,null,null,null,null,null,null,null,null,null,null,null,null,"DSLA",null,null,null,null,null,null,"4.NFPTR.DSLA","А (арктическое)","руб./тнт",0,0,0]
[null,null,null,null,null,null,null,null,null,null,null,null,null,null,null,null,null,null,null,null,null,null,null,null,null,null,null,null,null,null,null,"DSLW",null,null,null,null,null,null,"4.NFPTR.DSLW","З (зимнее)","руб./тнт",0,0,0]
[null,null,null,null,null,null,null,null,null,null,null,null,null,null,null,null,null,null,null,null,null,null,null,null,null,null,null,null,null,null,null,"DSLS",null,null,null,null,null,null,"4.NFPTR.DSLS","Л (летнее)","руб./тнт",0,0,0]
[null,null,null,null,null,null,null,null,null,null,null,null,null,null,null,null,null,null,null,null,null,null,null,null,null,null,null,null,null,null,null,"DSLO",null,null,null,null,null,null,"4.NFPTR.DSLO","Е (межсезонное)","руб./тнт",0,0,0]
[null,null,null,null,null,null,null,null,null,null,null,null,null,null,null,null,null,null,null,null,null,null,null,null,null,null,null,null,null,null,null,"MST",null,null,null,null,null,null,"4.NFPTR.MST","Мазут","руб./тнт",0,0,0]
[null,null,null,null,null,null,null,null,null,null,null,null,null,null,null,null,null,null,null,null,null,null,null,null,null,null,null,null,null,null,null,"MSTM40",null,null,null,null,null,null,"4.NFPTR.MSTM40","М-40","руб./тнт",0,0,0]
[null,null,null,null,null,null,null,null,null,null,null,null,null,null,null,null,null,null,null,null,null,null,null,null,null,null,null,null,null,null,null,"MSTM100",null,null,null,null,null,null,"4.NFPTR.MSTM100","М-100","руб./тнт",0,0,0]
[null,null,null,null,null,null,null,null,null,null,null,null,null,null,null,null,null,null,null,null,null,null,null,null,null,null,null,null,null,null,null,"MSTM200",null,null,null,null,null,null,"4.NFPTR.MSTM200","М-200","руб./тнт",0,0,0]
[null,null,null,null,null,null,null,null,null,null,null,null,null,null,null,null,null,null,null,null,null,null,null,null,null,null,null,null,null,null,null,"MSTT",null,null,null,null,null,null,"4.NFPTR.MSTT","мазут марки \"Т\"","руб./тнт",0,0,0]
[null,null,null,null,null,null,null,null,null,null,null,null,null,null,null,null,null,null,null,null,null,null,null,null,null,null,null,null,null,null,null,"MSTF5",null,null,null,null,null,null,"4.NFPTR.MSTF5","Ф-5","руб./тнт",{"$f":"IF(AP321=0,0,AP57/AP321*1000)","v":0},0,0]
[null,null,null,null,null,null,null,null,null,null,null,null,null,null,null,null,null,null,null,null,null,null,null,null,null,null,null,null,null,null,null,"MSTF12",null,null,null,null,null,null,"4.NFPTR.MSTF12","Ф-12","руб./тнт",0,0,0]
[null,null,null,null,null,null,null,null,null,null,null,null,null,null,null,null,null,null,null,null,null,null,null,null,null,null,null,null,null,null,null,"OIL",null,null,null,null,null,null,"4.NFPTR.OIL","Нефть","руб./тнт",0,0,0]
[null,null,null,null,null,null,null,null,null,null,null,null,null,null,null,null,null,null,null,null,null,null,null,null,null,null,null,null,null,null,null,"COA",null,null,null,null,null,null,"4.NFPTR.COA","Уголь","руб./тнт",0,0,0]
[null,null,null,null,null,null,null,null,null,null,null,null,null,null,null,null,null,null,null,null,null,null,null,null,null,null,null,null,null,null,null,"COAA",null,null,null,null,null,null,"4.NFPTR.COAA","Уголь антрацит","руб./тнт",0,0,0]
[null,null,null,null,null,null,null,null,null,null,null,null,null,null,null,null,null,null,null,null,null,null,null,null,null,null,null,null,null,null,null,"COAB",null,null,null,null,null,null,"4.NFPTR.COAB","Уголь бурый","руб./тнт",0,0,0]
[null,null,null,null,null,null,null,null,null,null,null,null,null,null,null,null,null,null,null,null,null,null,null,null,null,null,null,null,null,null,null,"COAG",null,null,null,null,null,null,"4.NFPTR.COAG","Уголь газовый","руб./тнт",0,0,0]
[null,null,null,null,null,null,null,null,null,null,null,null,null,null,null,null,null,null,null,null,null,null,null,null,null,null,null,null,null,null,null,"COALF",null,null,null,null,null,null,"4.NFPTR.COALF","Уголь длиннопламенный","руб./тнт",0,0,0]
[null,null,null,null,null,null,null,null,null,null,null,null,null,null,null,null,null,null,null,null,null,null,null,null,null,null,null,null,null,null,null,"COAF",null,null,null,null,null,null,"4.NFPTR.COAF","Уголь жирный","руб./тнт",0,0,0]
[null,null,null,null,null,null,null,null,null,null,null,null,null,null,null,null,null,null,null,null,null,null,null,null,null,null,null,null,null,null,null,"COAC",null,null,null,null,null,null,"4.NFPTR.COAC","Уголь коксовый","руб./тнт",0,0,0]
[null,null,null,null,null,null,null,null,null,null,null,null,null,null,null,null,null,null,null,null,null,null,null,null,null,null,null,null,null,null,null,"COASC",null,null,null,null,null,null,"4.NFPTR.COASC","Уголь отощённо-спекающийся","руб./тнт",0,0,0]
[null,null,null,null,null,null,null,null,null,null,null,null,null,null,null,null,null,null,null,null,null,null,null,null,null,null,null,null,null,null,null,"COAWC",null,null,null,null,null,null,"4.NFPTR.COAWC","Уголь слабоспекающийся","руб./тнт",0,0,0]
[null,null,null,null,null,null,null,null,null,null,null,null,null,null,null,null,null,null,null,null,null,null,null,null,null,null,null,null,null,null,null,"COAS",null,null,null,null,null,null,"4.NFPTR.COAS","Уголь тощий","руб./тнт",0,0,0]
[null,null,null,null,null,null,null,null,null,null,null,null,null,null,null,null,null,null,null,null,null,null,null,null,null,null,null,null,null,null,null,"ENR",null,null,null,null,null,null,"4.NFPTR.ENR","Энергия","руб./кВт*ч",{"$f":"IF(AP924=0,0,AP70/AP924)","v":0},0,0]
[null,null,null,null,null,null,null,null,null,null,null,null,null,null,null,null,null,null,null,null,null,null,null,null,null,null,null,null,null,null,null,"PWR",null,null,null,null,null,null,"4.NFPTR.PWR","Заявленная мощность","руб./кВт*мес",0,0,0]
[null,null,null,null,null,null,null,null,null,null,null,null,null,null,null,null,null,null,null,null,null,null,null,null,null,null,null,null,null,null,null,"CWD",null,null,null,null,null,null,"4.NFPTR.CWD","Уголь древесный","руб./тнт",{"$f":"IF(AP336=0,0,AP72/AP336*1000)","v":0},0,0]
[null,null,null,null,null,null,null,null,null,null,null,null,null,null,null,null,null,null,null,null,null,null,null,null,null,null,null,null,null,null,null,"WDS",null,null,null,null,null,null,"4.NFPTR.WDS","Дрова","руб./тнт",0,0,0]
[null,null,null,null,null,null,null,null,null,null,null,null,null,null,null,null,null,null,null,null,null,null,null,null,null,null,null,null,null,null,null,"PLT",null,null,null,null,null,null,"4.NFPTR.PLT","Пеллеты","руб./тнт",0,0,0]
[null,null,null,null,null,null,null,null,null,null,null,null,null,null,null,null,null,null,null,null,null,null,null,null,null,null,null,null,null,null,null,"SAW",null,null,null,null,null,null,"4.NFPTR.SAW","Опилки","руб./тнт",0,0,0]
[null,null,null,null,null,null,null,null,null,null,null,null,null,null,null,null,null,null,null,null,null,null,null,null,null,null,null,null,null,null,null,"PEA",null,null,null,null,null,null,"4.NFPTR.PEA","Торф","руб./тнт",0,0,0]
[null,null,null,null,null,null,null,null,null,null,null,null,null,null,null,null,null,null,null,null,null,null,null,null,null,null,null,null,null,null,null,"SHL",null,null,null,null,null,null,"4.NFPTR.SHL","Сланцы","руб./тнт",0,0,0]
[null,null,null,null,null,null,null,null,null,null,null,null,null,null,null,null,null,null,null,null,null,null,null,null,null,null,null,null,null,null,null,"STF",null,null,null,null,null,null,"4.NFPTR.STF","Печное бытовое топливо","руб./тнт",0,0,0]
[]
[null,null,null,null,null,null,null,null,null,null,null,null,null,null,null,null,null,null,null,null,null,null,null,null,null,null,null,null,null,null,null,null,null,null,null,null,null,null,"4.CFV","Расход условного топлива","тут",{"$f":"SUMIF($AS$9:$AT$9,AP$9,$AS168:$AT168)","v":0},0,0]
[null,null,null,null,null,null,null,null,null,null,null,null,null,null,null,null,null,null,null,null,null,null,null,null,null,null,null,null,null,null,null,"NG",null,null,null,null,null,null,"4.CFV.NG","Газ природный","тут",0,0,0]
[null,null,null,null,null,null,null,null,null,null,null,null,null,null,null,null,null,null,null,null,null,null,null,null,null,null,null,null,null,null,null,"NGL",null,null,null,null,null,null,"4.CFV.NGL","Газ лимитный","тут",0,0,0]
[null,null,null,null,null,null,null,null,null,null,null,null,null,null,null,null,null,null,null,null,null,null,null,null,null,null,null,null,null,null,null,"NGU",null,null,null,null,null,null,"4.CFV.NGU","Газ сверхлимитный","тут",0,0,0]
[null,null,null,null,null,null,null,null,null,null,null,null,null,null,null,null,null,null,null,null,null,null,null,null,null,null,null,null,null,null,null,"NGC",null,null,null,null,null,null,"4.CFV.NGC","Газ коммерческий","тут",0,0,0]
[null,null,null,null,null,null,null,null,null,null,null,null,null,null,null,null,null,null,null,null,null,null,null,null,null,null,null,null,null,null,null,"GBL",null,null,null,null,null,null,"4.CFV.GBL","Газ доменный","тут",0,0,0]
[null,null,null,null,null,null,null,null,null,null,null,null,null,null,null,null,null,null,null,null,null,null,null,null,null,null,null,null,null,null,null,"GCK",null,null,null,null,null,null,"4.CFV.GCK","Газ коксовый","тут",0,0,0]
[null,null,null,null,null,null,null,null,null,null,null,null,null,null,null,null,null,null,null,null,null,null,null,null,null,null,null,null,null,null,null,"GOA",null,null,null,null,null,null,"4.CFV.GOA","Газ нефтяной (попутный)","тут",0,0,0]
[null,null,null,null,null,null,null,null,null,null,null,null,null,null,null,null,null,null,null,null,null,null,null,null,null,null,null,null,null,null,null,"DSG",null,null,null,null,null,null,"4.CFV.DSG","Газ сухой отбензиненный","тут",0,0,0]
[null,null,null,null,null,null,null,null,null,null,null,null,null,null,null,null,null,null,null,null,null,null,null,null,null,null,null,null,null,null,null,"GCN",null,null,null,null,null,null,"4.CFV.GCN","Газовый конденсат","тут",0,0,0]
[null,null,null,null,null,null,null,null,null,null,null,null,null,null,null,null,null,null,null,null,null,null,null,null,null,null,null,null,null,null,null,"LNG",null,null,null,null,null,null,"4.CFV.LNG","Газ сжиженный","тут",0,0,0]
[null,null,null,null,null,null,null,null,null,null,null,null,null,null,null,null,null,null,null,null,null,null,null,null,null,null,null,null,null,null,null,"DSL",null,null,null,null,null,null,"4.CFV.DSL","Дизельное топливо","тут",0,0,0]
[null,null,null,null,null,null,null,null,null,null,null,null,null,null,null,null,null,null,null,null,null,null,null,null,null,null,null,null,null,null,null,"DSLA",null,null,null,null,null,null,"4.CFV.DSLA","А (арктическое)","тут",0,0,0]
[null,null,null,null,null,null,null,null,null,null,null,null,null,null,null,null,null,null,null,null,null,null,null,null,null,null,null,null,null,null,null,"DSLW",null,null,null,null,null,null,"4.CFV.DSLW","З (зимнее)","тут",0,0,0]
[null,null,null,null,null,null,null,null,null,null,null,null,null,null,null,null,null,null,null,null,null,null,null,null,null,null,null,null,null,null,null,"DSLS",null,null,null,null,null,null,"4.CFV.DSLS","Л (летнее)","тут",0,0,0]
[null,null,null,null,null,null,null,null,null,null,null,null,null,null,null,null,null,null,null,null,null,null,null,null,null,null,null,null,null,null,null,"DSLO",null,null,null,null,null,null,"4.CFV.DSLO","Е (межсезонное)","тут",0,0,0]
[null,null,null,null,null,null,null,null,null,null,null,null,null,null,null,null,null,null,null,null,null,null,null,null,null,null,null,null,null,null,null,"MST",null,null,null,null,null,null,"4.CFV.MST","Мазут","тут",0,0,0]
[null,null,null,null,null,null,null,null,null,null,null,null,null,null,null,null,null,null,null,null,null,null,null,null,null,null,null,null,null,null,null,"MSTM40",null,null,null,null,null,null,"4.CFV.MSTM40","М-40","тут",0,0,0]
[null,null,null,null,null,null,null,null,null,null,null,null,null,null,null,null,null,null,null,null,null,null,null,null,null,null,null,null,null,null,null,"MSTM100",null,null,null,null,null,null,"4.CFV.MSTM100","М-100","тут",0,0,0]
[null,null,null,null,null,null,null,null,null,null,null,null,null,null,null,null,null,null,null,null,null,null,null,null,null,null,null,null,null,null,null,"MSTM200",null,null,null,null,null,null,"4.CFV.MSTM200","М-200","тут",0,0,0]
[null,null,null,null,null,null,null,null,null,null,null,null,null,null,null,null,null,null,null,null,null,null,null,null,null,null,null,null,null,null,null,"MSTT",null,null,null,null,null,null,"4.CFV.MSTT","мазут марки \"Т\"","тут",{"$f":"SUMIF($AS$9:$AT$9,AP$9,$AS188:$AT188)","v":0},0,0]
[null,null,null,null,null,null,null,null,null,null,null,null,null,null,null,null,null,null,null,null,null,null,null,null,null,null,null,null,null,null,null,"MSTF5",null,null,null,null,null,null,"4.CFV.MSTF5","Ф-5","тут",0,0,0]
[null,null,null,null,null,null,null,null,null,null,null,null,null,null,null,null,null,null,null,null,null,null,null,null,null,null,null,null,null,null,null,"MSTF12",null,null,null,null,null,null,"4.CFV.MSTF12","Ф-12","тут",0,0,0]
[null,null,null,null,null,null,null,null,null,null,null,null,null,null,null,null,null,null,null,null,null,null,null,null,null,null,null,null,null,null,null,"OIL",null,null,null,null,null,null,"4.CFV.OIL","Нефть","тут",0,0,0]
[null,null,null,null,null,null,null,null,null,null,null,null,null,null,null,null,null,null,null,null,null,null,null,null,null,null,null,null,null,null,null,"COA",null,null,null,null,null,null,"4.CFV.COA","Уголь","тут",0,0,0]
[null,null,null,null,null,null,null,null,null,null,null,null,null,null,null,null,null,null,null,null,null,null,null,null,null,null,null,null,null,null,null,"COAA",null,null,null,null,null,null,"4.CFV.COAA","Уголь антрацит","тут",0,0,0]
[null,null,null,null,null,null,null,null,null,null,null,null,null,null,null,null,null,null,null,null,null,null,null,null,null,null,null,null,null,null,null,"COAB",null,null,null,null,null,null,"4.CFV.COAB","Уголь бурый","тут",0,0,0]
[null,null,null,null,null,null,null,null,null,null,null,null,null,null,null,null,null,null,null,null,null,null,null,null,null,null,null,null,null,null,null,"COAG",null,null,null,null,null,null,"4.CFV.COAG","Уголь газовый","тут",0,0,0]
[null,null,null,null,null,null,null,null,null,null,null,null,null,null,null,null,null,null,null,null,null,null,null,null,null,null,null,null,null,null,null,"COALF",null,null,null,null,null,null,"4.CFV.COALF","Уголь длиннопламенный","тут",0,0,0]
[null,null,null,null,null,null,null,null,null,null,null,null,null,null,null,null,null,null,null,null,null,null,null,null,null,null,null,null,null,null,null,"COAF",null,null,null,null,null,null,"4.CFV.COAF","Уголь жирный","тут",0,0,0]
[null,null,null,null,null,null,null,null,null,null,null,null,null,null,null,null,null,null,null,null,null,null,null,null,null,null,null,null,null,null,null,"COAC",null,null,null,null,null,null,"4.CFV.COAC","Уголь коксовый","тут",0,0,0]
[null,null,null,null,null,null,null,null,null,null,null,null,null,null,null,null,null,null,null,null,null,null,null,null,null,null,null,null,null,null,null,"COASC",null,null,null,null,null,null,"4.CFV.COASC","Уголь отощённо-спекающийся","тут",0,0,0]
[null,null,null,null,null,null,null,null,null,null,null,null,null,null,null,null,null,null,null,null,null,null,null,null,null,null,null,null,null,null,null,"COAWC",null,null,null,null,null,null,"4.CFV.COAWC","Уголь слабоспекающийся","тут",0,0,0]
[null,null,null,null,null,null,null,null,null,null,null,null,null,null,null,null,null,null,null,null,null,null,null,null,null,null,null,null,null,null,null,"COAS",null,null,null,null,null,null,"4.CFV.COAS","Уголь тощий","тут",0,0,0]
[]
[]
[null,null,null,null,null,null,null,null,null,null,null,null,null,null,null,null,null,null,null,null,null,null,null,null,null,null,null,null,null,null,null,"CWD",null,null,null,null,null,null,"4.CFV.CWD","Уголь древесный","тут",{"$f":"SUMIF($AS$9:$AT$9,AP$9,$AS204:$AT204)","v":0},0,0]
[null,null,null,null,null,null,null,null,null,null,null,null,null,null,null,null,null,null,null,null,null,null,null,null,null,null,null,null,null,null,null,"WDS",null,null,null,null,null,null,"4.CFV.WDS","Дрова","тут",0,0,0]
[null,null,null,null,null,null,null,null,null,null,null,null,null,null,null,null,null,null,null,null,null,null,null,null,null,null,null,null,null,null,null,"PLT",null,null,null,null,null,null,"4.CFV.PLT","Пеллеты","тут",0,0,0]
[null,null,null,null,null,null,null,null,null,null,null,null,null,null,null,null,null,null,null,null,null,null,null,null,null,null,null,null,null,null,null,"SAW",null,null,null,null,null,null,"4.CFV.SAW","Опилки","тут",0,0,0]
[null,null,null,null,null,null,null,null,null,null,null,null,null,null,null,null,null,null,null,null,null,null,null,null,null,null,null,null,null,null,null,"PEA",null,null,null,null,null,null,"4.CFV.PEA","Торф","тут",0,0,0]
[null,null,null,null,null,null,null,null,null,null,null,null,null,null,null,null,null,null,null,null,null,null,null,null,null,null,null,null,null,null,null,"SHL",null,null,null,null,null,null,"4.CFV.SHL","Сланцы","тут",0,0,0]
[null,null,null,null,null,null,null,null,null,null,null,null,null,null,null,null,null,null,null,null,null,null,null,null,null,null,null,null,null,null,null,"STF",null,null,null,null,null,null,"4.CFV.STF","Печное бытовое топливо","тут",0,0,0]
[]
[null,null,null,null,null,null,null,null,null,null,null,null,null,null,null,null,null,null,null,null,null,null,null,null,null,null,null,null,null,null,null,null,null,null,null,null,null,null,"4.P","Доля","%",{"$f":"SUM(AP213,AP217:AP222,AP223,AP228,AP235,AP236,AP248:AP254)","v":0},{"$f":"SUM(AQ213,AQ217:AQ222,AQ223,AQ228,AQ235,AQ236,AQ248:AQ254)","v":0},{"$f":"SUM(AR213,AR217:AR222,AR223,AR228,AR235,AR236,AR248:AR254)","v":0}]
[null,null,null,null,null,null,null,null,null,null,null,null,null,null,null,null,null,null,null,null,null,null,null,null,null,null,null,null,null,null,null,"NG",null,null,null,null,null,null,"4.P.NG","Газ природный","%",{"$f":"IF(AP$168=0,0,AP169/AP$168*100)","v":0},0,0]
[null,null,null,null,null,null,null,null,null,null,null,null,null,null,null,null,null,null,null,null,null,null,null,null,null,null,null,null,null,null,null,"NGL",null,null,null,null,null,null,"4.P.NGL","Газ лимитный","%",0,0,0]
[null,null,null,null,null,null,null,null,null,null,null,null,null,null,null,null,null,null,null,null,null,null,null,null,null,null,null,null,null,null,null,"NGU",null,null,null,null,null,null,"4.P.NGU","Газ сверхлимитный","%",0,0,0]
[null,null,null,null,null,null,null,null,null,null,null,null,null,null,null,null,null,null,null,null,null,null,null,null,null,null,null,null,null,null,null,"NGC",null,null,null,null,null,null,"4.P.NGC","Газ коммерческий","%",0,0,0]
[null,null,null,null,null,null,null,null,null,null,null,null,null,null,null,null,null,null,null,null,null,null,null,null,null,null,null,null,null,null,null,"GBL",null,null,null,null,null,null,"4.P.GBL","Газ доменный","%",0,0,0]
[null,null,null,null,null,null,null,null,null,null,null,null,null,null,null,null,null,null,null,null,null,null,null,null,null,null,null,null,null,null,null,"GCK",null,null,null,null,null,null,"4.P.GCK","Газ коксовый","%",0,0,0]
[null,null,null,null,null,null,null,null,null,null,null,null,null,null,null,null,null,null,null,null,null,null,null,null,null,null,null,null,null,null,null,"GOA",null,null,null,null,null,null,"4.P.GOA","Газ нефтяной (попутный)","%",0,0,0]
[null,null,null,null,null,null,null,null,null,null,null,null,null,null,null,null,null,null,null,null,null,null,null,null,null,null,null,null,null,null,null,"DSG",null,null,null,null,null,null,"4.P.DSG","Газ сухой отбензиненный","%",0,0,0]
[null,null,null,null,null,null,null,null,null,null,null,null,null,null,null,null,null,null,null,null,null,null,null,null,null,null,null,null,null,null,null,"GCN",null,null,null,null,null,null,"4.P.GCN","Газовый конденсат","%",0,0,0]
[null,null,null,null,null,null,null,null,null,null,null,null,null,null,null,null,null,null,null,null,null,null,null,null,null,null,null,null,null,null,null,"LNG",null,null,null,null,null,null,"4.P.LNG","Газ сжиженный","%",0,0,0]
[null,null,null,null,null,null,null,null,null,null,null,null,null,null,null,null,null,null,null,null,null,null,null,null,null,null,null,null,null,null,null,"DSL",null,null,null,null,null,null,"4.P.DSL","Дизельное топливо","%",0,0,0]
[null,null,null,null,null,null,null,null,null,null,null,null,null,null,null,null,null,null,null,null,null,null,null,null,null,null,null,null,null,null,null,"DSLA",null,null,null,null,null,null,"4.P.DSLA","А (арктическое)","%",0,0,0]
[null,null,null,null,null,null,null,null,null,null,null,null,null,null,null,null,null,null,null,null,null,null,null,null,null,null,null,null,null,null,null,"DSLW",null,null,null,null,null,null,"4.P.DSLW","З (зимнее)","%",0,0,0]
[null,null,null,null,null,null,null,null,null,null,null,null,null,null,null,null,null,null,null,null,null,null,null,null,null,null,null,null,null,null,null,"DSLS",null,null,null,null,null,null,"4.P.DSLS","Л (летнее)","%",0,0,0]
[null,null,null,null,null,null,null,null,null,null,null,null,null,null,null,null,null,null,null,null,null,null,null,null,null,null,null,null,null,null,null,"DSLO",null,null,null,null,null,null,"4.P.DSLO","Е (межсезонное)","%",0,0,0]
[null,null,null,null,null,null,null,null,null,null,null,null,null,null,null,null,null,null,null,null,null,null,null,null,null,null,null,null,null,null,null,"MST",null,null,null,null,null,null,"4.P.MST","Мазут","%",0,0,0]
[null,null,null,null,null,null,null,null,null,null,null,null,null,null,null,null,null,null,null,null,null,null,null,null,null,null,null,null,null,null,null,"MSTM40",null,null,null,null,null,null,"4.P.MSTM40","М-40","%",0,0,0]
[null,null,null,null,null,null,null,null,null,null,null,null,null,null,null,null,null,null,null,null,null,null,null,null,null,null,null,null,null,null,null,"MSTM100",null,null,null,null,null,null,"4.P.MSTM100","М-100","%",0,0,0]
[null,null,null,null,null,null,null,null,null,null,null,null,null,null,null,null,null,null,null,null,null,null,null,null,null,null,null,null,null,null,null,"MSTM200",null,null,null,null,null,null,"4.P.MSTM200","М-200","%",0,0,0]
[null,null,null,null,null,null,null,null,null,null,null,null,null,null,null,null,null,null,null,null,null,null,null,null,null,null,null,null,null,null,null,"MSTT",null,null,null,null,null,null,"4.P.MSTT","мазут марки \"Т\"","%",0,0,0]
[null,null,null,null,null,null,null,null,null,null,null,null,null,null,null,null,null,null,null,null,null,null,null,null,null,null,null,null,null,null,null,"MSTF5",null,null,null,null,null,null,"4.P.MSTF5","Ф-5","%",{"$f":"IF(AP$168=0,0,AP189/AP$168*100)","v":0},0,0]
[null,null,null,null,null,null,null,null,null,null,null,null,null,null,null,null,null,null,null,null,null,null,null,null,null,null,null,null,null,null,null,"MSTF12",null,null,null,null,null,null,"4.P.MSTF12","Ф-12","%",0,0,0]
[null,null,null,null,null,null,null,null,null,null,null,null,null,null,null,null,null,null,null,null,null,null,null,null,null,null,null,null,null,null,null,"OIL",null,null,null,null,null,null,"4.P.OIL","Нефть","%",0,0,0]
[null,null,null,null,null,null,null,null,null,null,null,null,null,null,null,null,null,null,null,null,null,null,null,null,null,null,null,null,null,null,null,"COA",null,null,null,null,null,null,"4.P.COA","Уголь","%",0,0,0]
[null,null,null,null,null,null,null,null,null,null,null,null,null,null,null,null,null,null,null,null,null,null,null,null,null,null,null,null,null,null,null,"COAA",null,null,null,null,null,null,"4.P.COAA","Уголь антрацит","%",0,0,0]
[null,null,null,null,null,null,null,null,null,null,null,null,null,null,null,null,null,null,null,null,null,null,null,null,null,null,null,null,null,null,null,"COAB",null,null,null,null,null,null,"4.P.COAB","Уголь бурый","%",0,0,0]
[null,null,null,null,null,null,null,null,null,null,null,null,null,null,null,null,null,null,null,null,null,null,null,null,null,null,null,null,null,null,null,"COAG",null,null,null,null,null,null,"4.P.COAG","Уголь газовый","%",0,0,0]
[null,null,null,null,null,null,null,null,null,null,null,null,null,null,null,null,null,null,null,null,null,null,null,null,null,null,null,null,null,null,null,"COALF",null,null,null,null,null,null,"4.P.COALF","Уголь длиннопламенный","%",0,0,0]
[null,null,null,null,null,null,null,null,null,null,null,null,null,null,null,null,null,null,null,null,null,null,null,null,null,null,null,null,null,null,null,"COAF",null,null,null,null,null,null,"4.P.COAF","Уголь жирный","%",0,0,0]
[null,null,null,null,null,null,null,null,null,null,null,null,null,null,null,null,null,null,null,null,null,null,null,null,null,null,null,null,null,null,null,"COAC",null,null,null,null,null,null,"4.P.COAC","Уголь коксовый","%",0,0,0]
[null,null,null,null,null,null,null,null,null,null,null,null,null,null,null,null,null,null,null,null,null,null,null,null,null,null,null,null,null,null,null,"COASC",null,null,null,null,null,null,"4.P.COASC","Уголь отощённо-спекающийся","%",0,0,0]
[null,null,null,null,null,null,null,null,null,null,null,null,null,null,null,null,null,null,null,null,null,null,null,null,null,null,null,null,null,null,null,"COAWC",null,null,null,null,null,null,"4.P.COAWC","Уголь слабоспекающийся","%",0,0,0]
[null,null,null,null,null,null,null,null,null,null,null,null,null,null,null,null,null,null,null,null,null,null,null,null,null,null,null,null,null,null,null,"COAS",null,null,null,null,null,null,"4.P.COAS","Уголь тощий","%",0,0,0]
[]
[]
[null,null,null,null,null,null,null,null,null,null,null,null,null,null,null,null,null,null,null,null,null,null,null,null,null,null,null,null,null,null,null,"CWD",null,null,null,null,null,null,"4.P.CWD","Уголь древесный","%",{"$f":"IF(AP$168=0,0,AP204/AP$168*100)","v":0},0,0]
[null,null,null,null,null,null,null,null,null,null,null,null,null,null,null,null,null,null,null,null,null,null,null,null,null,null,null,null,null,null,null,"WDS",null,null,null,null,null,null,"4.P.WDS","Дрова","%",0,0,0]
[null,null,null,null,null,null,null,null,null,null,null,null,null,null,null,null,null,null,null,null,null,null,null,null,null,null,null,null,null,null,null,"PLT",null,null,null,null,null,null,"4.P.PLT","Пеллеты","%",0,0,0]
[null,null,null,null,null,null,null,null,null,null,null,null,null,null,null,null,null,null,null,null,null,null,null,null,null,null,null,null,null,null,null,"SAW",null,null,null,null,null,null,"4.P.SAW","Опилки","%",0,0,0]
[null,null,null,null,null,null,null,null,null,null,null,null,null,null,null,null,null,null,null,null,null,null,null,null,null,null,null,null,null,null,null,"PEA",null,null,null,null,null,null,"4.P.PEA","Торф","%",0,0,0]
[null,null,null,null,null,null,null,null,null,null,null,null,null,null,null,null,null,null,null,null,null,null,null,null,null,null,null,null,null,null,null,"SHL",null,null,null,null,null,null,"4.P.SHL","Сланцы","%",0,0,0]
[null,null,null,null,null,null,null,null,null,null,null,null,null,null,null,null,null,null,null,null,null,null,null,null,null,null,null,null,null,null,null,"STF",null,null,null,null,null,null,"4.P.STF","Печное бытовое топливо","%",0,0,0]
[]
[null,null,null,null,null,null,null,null,null,null,null,null,null,null,null,null,null,null,null,null,null,null,null,null,null,null,null,null,null,null,null,null,null,null,null,null,null,null,"4.CF","Переводной коэффициент"]
[null,null,null,null,null,null,null,null,null,null,null,null,null,null,null,null,null,null,null,null,null,null,null,null,null,null,null,null,null,null,null,"NG",null,null,null,null,null,null,"4.CF.NG","Газ природный"]
[null,null,null,null,null,null,null,null,null,null,null,null,null,null,null,null,null,null,null,null,null,null,null,null,null,null,null,null,null,null,null,"NGL",null,null,null,null,null,null,"4.CF.NGL","Газ лимитный"]
[null,null,null,null,null,null,null,null,null,null,null,null,null,null,null,null,null,null,null,null,null,null,null,null,null,null,null,null,null,null,null,"NGU",null,null,null,null,null,null,"4.CF.NGU","Газ сверхлимитный"]
[null,null,null,null,null,null,null,null,null,null,null,null,null,null,null,null,null,null,null,null,null,null,null,null,null,null,null,null,null,null,null,"NGC",null,null,null,null,null,null,"4.CF.NGC","Газ коммерческий"]
[null,null,null,null,null,null,null,null,null,null,null,null,null,null,null,null,null,null,null,null,null,null,null,null,null,null,null,null,null,null,null,"GBL",null,null,null,null,null,null,"4.CF.GBL","Газ доменный"]
[null,null,null,null,null,null,null,null,null,null,null,null,null,null,null,null,null,null,null,null,null,null,null,null,null,null,null,null,null,null,null,"GCK",null,null,null,null,null,null,"4.CF.GCK","Газ коксовый"]
[null,null,null,null,null,null,null,null,null,null,null,null,null,null,null,null,null,null,null,null,null,null,null,null,null,null,null,null,null,null,null,"GOA",null,null,null,null,null,null,"4.CF.GOA","Газ нефтяной (попутный)"]
[null,null,null,null,null,null,null,null,null,null,null,null,null,null,null,null,null,null,null,null,null,null,null,null,null,null,null,null,null,null,null,"DSG",null,null,null,null,null,null,"4.CF.DSG","Газ сухой отбензиненный"]
[null,null,null,null,null,null,null,null,null,null,null,null,null,null,null,null,null,null,null,null,null,null,null,null,null,null,null,null,null,null,null,"GCN",null,null,null,null,null,null,"4.CF.GCN","Газовый конденсат"]
[null,null,null,null,null,null,null,null,null,null,null,null,null,null,null,null,null,null,null,null,null,null,null,null,null,null,null,null,null,null,null,"LNG",null,null,null,null,null,null,"4.CF.LNG","Газ сжиженный"]
[null,null,null,null,null,null,null,null,null,null,null,null,null,null,null,null,null,null,null,null,null,null,null,null,null,null,null,null,null,null,null,"DSL",null,null,null,null,null,null,"4.CF.DSL","Дизельное топливо"]
[null,null,null,null,null,null,null,null,null,null,null,null,null,null,null,null,null,null,null,null,null,null,null,null,null,null,null,null,null,null,null,"DSLA",null,null,null,null,null,null,"4.CF.DSLA","А (арктическое)"]
[null,null,null,null,null,null,null,null,null,null,null,null,null,null,null,null,null,null,null,null,null,null,null,null,null,null,null,null,null,null,null,"DSLW",null,null,null,null,null,null,"4.CF.DSLW","З (зимнее)"]
[null,null,null,null,null,null,null,null,null,null,null,null,null,null,null,null,null,null,null,null,null,null,null,null,null,null,null,null,null,null,null,"DSLS",null,null,null,null,null,null,"4.CF.DSLS","Л (летнее)"]
[null,null,null,null,null,null,null,null,null,null,null,null,null,null,null,null,null,null,null,null,null,null,null,null,null,null,null,null,null,null,null,"DSLO",null,null,null,null,null,null,"4.CF.DSLO","Е (межсезонное)"]
[null,null,null,null,null,null,null,null,null,null,null,null,null,null,null,null,null,null,null,null,null,null,null,null,null,null,null,null,null,null,null,"MST",null,null,null,null,null,null,"4.CF.MST","Мазут"]
[null,null,null,null,null,null,null,null,null,null,null,null,null,null,null,null,null,null,null,null,null,null,null,null,null,null,null,null,null,null,null,"MSTM40",null,null,null,null,null,null,"4.CF.MSTM40","М-40"]
[null,null,null,null,null,null,null,null,null,null,null,null,null,null,null,null,null,null,null,null,null,null,null,null,null,null,null,null,null,null,null,"MSTM100",null,null,null,null,null,null,"4.CF.MSTM100","М-100"]
[null,null,null,null,null,null,null,null,null,null,null,null,null,null,null,null,null,null,null,null,null,null,null,null,null,null,null,null,null,null,null,"MSTM200",null,null,null,null,null,null,"4.CF.MSTM200","М-200"]
[null,null,null,null,null,null,null,null,null,null,null,null,null,null,null,null,null,null,null,null,null,null,null,null,null,null,null,null,null,null,null,"MSTT",null,null,null,null,null,null,"4.CF.MSTT","мазут марки \"Т\""]
[null,null,null,null,null,null,null,null,null,null,null,null,null,null,null,null,null,null,null,null,null,null,null,null,null,null,null,null,null,null,null,"MSTF5",null,null,null,null,null,null,"4.CF.MSTF5","Ф-5"]
[null,null,null,null,null,null,null,null,null,null,null,null,null,null,null,null,null,null,null,null,null,null,null,null,null,null,null,null,null,null,null,"MSTF12",null,null,null,null,null,null,"4.CF.MSTF12","Ф-12"]
[null,null,null,null,null,null,null,null,null,null,null,null,null,null,null,null,null,null,null,null,null,null,null,null,null,null,null,null,null,null,null,"OIL",null,null,null,null,null,null,"4.CF.OIL","Нефть"]
[null,null,null,null,null,null,null,null,null,null,null,null,null,null,null,null,null,null,null,null,null,null,null,null,null,null,null,null,null,null,null,"COA",null,null,null,null,null,null,"4.CF.COA","Уголь"]
[null,null,null,null,null,null,null,null,null,null,null,null,null,null,null,null,null,null,null,null,null,null,null,null,null,null,null,null,null,null,null,"COAA",null,null,null,null,null,null,"4.CF.COAA","Уголь антрацит"]
[null,null,null,null,null,null,null,null,null,null,null,null,null,null,null,null,null,null,null,null,null,null,null,null,null,null,null,null,null,null,null,"COAB",null,null,null,null,null,null,"4.CF.COAB","Уголь бурый"]
[null,null,null,null,null,null,null,null,null,null,null,null,null,null,null,null,null,null,null,null,null,null,null,null,null,null,null,null,null,null,null,"COAG",null,null,null,null,null,null,"4.CF.COAG","Уголь газовый"]
[null,null,null,null,null,null,null,null,null,null,null,null,null,null,null,null,null,null,null,null,null,null,null,null,null,null,null,null,null,null,null,"COALF",null,null,null,null,null,null,"4.CF.COALF","Уголь длиннопламенный"]
[null,null,null,null,null,null,null,null,null,null,null,null,null,null,null,null,null,null,null,null,null,null,null,null,null,null,null,null,null,null,null,"COAF",null,null,null,null,null,null,"4.CF.COAF","Уголь жирный"]
[null,null,null,null,null,null,null,null,null,null,null,null,null,null,null,null,null,null,null,null,null,null,null,null,null,null,null,null,null,null,null,"COAC",null,null,null,null,null,null,"4.CF.COAC","Уголь коксовый"]
[null,null,null,null,null,null,null,null,null,null,null,null,null,null,null,null,null,null,null,null,null,null,null,null,null,null,null,null,null,null,null,"COASC",null,null,null,null,null,null,"4.CF.COASC","Уголь отощённо-спекающийся"]
[null,null,null,null,null,null,null,null,null,null,null,null,null,null,null,null,null,null,null,null,null,null,null,null,null,null,null,null,null,null,null,"COAWC",null,null,null,null,null,null,"4.CF.COAWC","Уголь слабоспекающийся"]
[null,null,null,null,null,null,null,null,null,null,null,null,null,null,null,null,null,null,null,null,null,null,null,null,null,null,null,null,null,null,null,"COAS",null,null,null,null,null,null,"4.CF.COAS","Уголь тощий"]
[]
[]
[null,null,null,null,null,null,null,null,null,null,null,null,null,null,null,null,null,null,null,null,null,null,null,null,null,null,null,null,null,null,null,"CWD",null,null,null,null,null,null,"4.CF.CWD","Уголь древесный"]
[null,null,null,null,null,null,null,null,null,null,null,null,null,null,null,null,null,null,null,null,null,null,null,null,null,null,null,null,null,null,null,"WDS",null,null,null,null,null,null,"4.CF.WDS","Дрова"]
[null,null,null,null,null,null,null,null,null,null,null,null,null,null,null,null,null,null,null,null,null,null,null,null,null,null,null,null,null,null,null,"PLT",null,null,null,null,null,null,"4.CF.PLT","Пеллеты"]
[null,null,null,null,null,null,null,null,null,null,null,null,null,null,null,null,null,null,null,null,null,null,null,null,null,null,null,null,null,null,null,"SAW",null,null,null,null,null,null,"4.CF.SAW","Опилки"]
[null,null,null,null,null,null,null,null,null,null,null,null,null,null,null,null,null,null,null,null,null,null,null,null,null,null,null,null,null,null,null,"PEA",null,null,null,null,null,null,"4.CF.PEA","Торф"]
[null,null,null,null,null,null,null,null,null,null,null,null,null,null,null,null,null,null,null,null,null,null,null,null,null,null,null,null,null,null,null,"SHL",null,null,null,null,null,null,"4.CF.SHL","Сланцы"]
[null,null,null,null,null,null,null,null,null,null,null,null,null,null,null,null,null,null,null,null,null,null,null,null,null,null,null,null,null,null,null,"STF",null,null,null,null,null,null,"4.CF.STF","Печное бытовое топливо"]
[]
[null,null,null,null,null,null,null,null,null,null,null,null,null,null,null,null,null,null,null,null,null,null,null,null,null,null,null,null,null,null,null,null,null,null,null,null,null,null,"4.NFV","Расход натурального топлива"]
[null,null,null,null,null,null,null,null,null,null,null,null,null,null,null,null,null,null,null,null,null,null,null,null,null,null,null,null,null,null,null,"NG",null,null,null,null,null,null,"4.NFV.NG","Газ природный","тыс.м3",{"$f":"SUMIF($AS$9:$AT$9,AP$9,$AS301:$AT301)","v":0},0,0]
[null,null,null,null,null,null,null,null,null,null,null,null,null,null,null,null,null,null,null,null,null,null,null,null,null,null,null,null,null,null,null,"NGL",null,null,null,null,null,null,"4.NFV.NGL","Газ лимитный","тыс.м3",0,0,0]
[null,null,null,null,null,null,null,null,null,null,null,null,null,null,null,null,null,null,null,null,null,null,null,null,null,null,null,null,null,null,null,"NGU",null,null,null,null,null,null,"4.NFV.NGU","Газ сверхлимитный","тыс.м3",0,0,0]
[null,null,null,null,null,null,null,null,null,null,null,null,null,null,null,null,null,null,null,null,null,null,null,null,null,null,null,null,null,null,null,"NGC",null,null,null,null,null,null,"4.NFV.NGC","Газ коммерческий","тыс.м3",0,0,0]
[null,null,null,null,null,null,null,null,null,null,null,null,null,null,null,null,null,null,null,null,null,null,null,null,null,null,null,null,null,null,null,"GBL",null,null,null,null,null,null,"4.NFV.GBL","Газ доменный","тнт",0,0,0]
[null,null,null,null,null,null,null,null,null,null,null,null,null,null,null,null,null,null,null,null,null,null,null,null,null,null,null,null,null,null,null,"GCK",null,null,null,null,null,null,"4.NFV.GCK","Газ коксовый","тнт",0,0,0]
[null,null,null,null,null,null,null,null,null,null,null,null,null,null,null,null,null,null,null,null,null,null,null,null,null,null,null,null,null,null,null,"GOA",null,null,null,null,null,null,"4.NFV.GOA","Газ нефтяной (попутный)","тнт",0,0,0]
[null,null,null,null,null,null,null,null,null,null,null,null,null,null,null,null,null,null,null,null,null,null,null,null,null,null,null,null,null,null,null,"DSG",null,null,null,null,null,null,"4.NFV.DSG","Газ сухой отбензиненный","тнт",0,0,0]
[null,null,null,null,null,null,null,null,null,null,null,null,null,null,null,null,null,null,null,null,null,null,null,null,null,null,null,null,null,null,null,"GCN",null,null,null,null,null,null,"4.NFV.GCN","Газовый конденсат","тнт",0,0,0]
[null,null,null,null,null,null,null,null,null,null,null,null,null,null,null,null,null,null,null,null,null,null,null,null,null,null,null,null,null,null,null,"LNG",null,null,null,null,null,null,"4.NFV.LNG","Газ сжиженный","тнт",0,0,0]
[null,null,null,null,null,null,null,null,null,null,null,null,null,null,null,null,null,null,null,null,null,null,null,null,null,null,null,null,null,null,null,"DSL",null,null,null,null,null,null,"4.NFV.DSL","Дизельное топливо","тнт",0,0,0]
[null,null,null,null,null,null,null,null,null,null,null,null,null,null,null,null,null,null,null,null,null,null,null,null,null,null,null,null,null,null,null,"DSLA",null,null,null,null,null,null,"4.NFV.DSLA","А (арктическое)","тнт",0,0,0]
[null,null,null,null,null,null,null,null,null,null,null,null,null,null,null,null,null,null,null,null,null,null,null,null,null,null,null,null,null,null,null,"DSLW",null,null,null,null,null,null,"4.NFV.DSLW","З (зимнее)","тнт",0,0,0]
[null,null,null,null,null,null,null,null,null,null,null,null,null,null,null,null,null,null,null,null,null,null,null,null,null,null,null,null,null,null,null,"DSLS",null,null,null,null,null,null,"4.NFV.DSLS","Л (летнее)","тнт",0,0,0]
[null,null,null,null,null,null,null,null,null,null,null,null,null,null,null,null,null,null,null,null,null,null,null,null,null,null,null,null,null,null,null,"DSLO",null,null,null,null,null,null,"4.NFV.DSLO","Е (межсезонное)","тнт",0,0,0]
[null,null,null,null,null,null,null,null,null,null,null,null,null,null,null,null,null,null,null,null,null,null,null,null,null,null,null,null,null,null,null,"MST",null,null,null,null,null,null,"4.NFV.MST","Мазут","тнт",0,0,0]
[null,null,null,null,null,null,null,null,null,null,null,null,null,null,null,null,null,null,null,null,null,null,null,null,null,null,null,null,null,null,null,"MSTM40",null,null,null,null,null,null,"4.NFV.MSTM40","М-40","тнт",0,0,0]
[null,null,null,null,null,null,null,null,null,null,null,null,null,null,null,null,null,null,null,null,null,null,null,null,null,null,null,null,null,null,null,"MSTM100",null,null,null,null,null,null,"4.NFV.MSTM100","М-100","тнт",0,0,0]
[null,null,null,null,null,null,null,null,null,null,null,null,null,null,null,null,null,null,null,null,null,null,null,null,null,null,null,null,null,null,null,"MSTM200",null,null,null,null,null,null,"4.NFV.MSTM200","М-200","тнт",0,0,0]
[null,null,null,null,null,null,null,null,null,null,null,null,null,null,null,null,null,null,null,null,null,null,null,null,null,null,null,null,null,null,null,"MSTT",null,null,null,null,null,null,"4.NFV.MSTT","мазут марки \"Т\"","тнт",0,0,0]
[null,null,null,null,null,null,null,null,null,null,null,null,null,null,null,null,null,null,null,null,null,null,null,null,null,null,null,null,null,null,null,"MSTF5",null,null,null,null,null,null,"4.NFV.MSTF5","Ф-5","тнт",{"$f":"SUMIF($AS$9:$AT$9,AP$9,$AS321:$AT321)","v":0},0,0]
[null,null,null,null,null,null,null,null,null,null,null,null,null,null,null,null,null,null,null,null,null,null,null,null,null,null,null,null,null,null,null,"MSTF12",null,null,null,null,null,null,"4.NFV.MSTF12","Ф-12","тнт",0,0,0]
[null,null,null,null,null,null,null,null,null,null,null,null,null,null,null,null,null,null,null,null,null,null,null,null,null,null,null,null,null,null,null,"OIL",null,null,null,null,null,null,"4.NFV.OIL","Нефть","тнт",0,0,0]
[null,null,null,null,null,null,null,null,null,null,null,null,null,null,null,null,null,null,null,null,null,null,null,null,null,null,null,null,null,null,null,"COA",null,null,null,null,null,null,"4.NFV.COA","Уголь","тнт",0,0,0]
[null,null,null,null,null,null,null,null,null,null,null,null,null,null,null,null,null,null,null,null,null,null,null,null,null,null,null,null,null,null,null,"COAA",null,null,null,null,null,null,"4.NFV.COAA","Уголь антрацит","тнт",0,0,0]
[null,null,null,null,null,null,null,null,null,null,null,null,null,null,null,null,null,null,null,null,null,null,null,null,null,null,null,null,null,null,null,"COAB",null,null,null,null,null,null,"4.NFV.COAB","Уголь бурый","тнт",0,0,0]
[null,null,null,null,null,null,null,null,null,null,null,null,null,null,null,null,null,null,null,null,null,null,null,null,null,null,null,null,null,null,null,"COAG",null,null,null,null,null,null,"4.NFV.COAG","Уголь газовый","тнт",0,0,0]
[null,null,null,null,null,null,null,null,null,null,null,null,null,null,null,null,null,null,null,null,null,null,null,null,null,null,null,null,null,null,null,"COALF",null,null,null,null,null,null,"4.NFV.COALF","Уголь длиннопламенный","тнт",0,0,0]
[null,null,null,null,null,null,null,null,null,null,null,null,null,null,null,null,null,null,null,null,null,null,null,null,null,null,null,null,null,null,null,"COAF",null,null,null,null,null,null,"4.NFV.COAF","Уголь жирный","тнт",0,0,0]
[null,null,null,null,null,null,null,null,null,null,null,null,null,null,null,null,null,null,null,null,null,null,null,null,null,null,null,null,null,null,null,"COAC",null,null,null,null,null,null,"4.NFV.COAC","Уголь коксовый","тнт",0,0,0]
[null,null,null,null,null,null,null,null,null,null,null,null,null,null,null,null,null,null,null,null,null,null,null,null,null,null,null,null,null,null,null,"COASC",null,null,null,null,null,null,"4.NFV.COASC","Уголь отощённо-спекающийся","тнт",0,0,0]
[null,null,null,null,null,null,null,null,null,null,null,null,null,null,null,null,null,null,null,null,null,null,null,null,null,null,null,null,null,null,null,"COAWC",null,null,null,null,null,null,"4.NFV.COAWC","Уголь слабоспекающийся","тнт",0,0,0]
[null,null,null,null,null,null,null,null,null,null,null,null,null,null,null,null,null,null,null,null,null,null,null,null,null,null,null,null,null,null,null,"COAS",null,null,null,null,null,null,"4.NFV.COAS","Уголь тощий","тнт",0,0,0]
[null,null,null,null,null,null,null,null,null,null,null,null,null,null,null,null,null,null,null,null,null,null,null,null,null,null,null,null,null,null,null,"ENR",null,null,null,null,null,null,"4.NFV.ENR","Энергия","тыс.кВт*ч",0,0,0]
[null,null,null,null,null,null,null,null,null,null,null,null,null,null,null,null,null,null,null,null,null,null,null,null,null,null,null,null,null,null,null,"PWR",null,null,null,null,null,null,"4.NFV.PWR","Заявленная мощность","МВт",0,0,0]
[null,null,null,null,null,null,null,null,null,null,null,null,null,null,null,null,null,null,null,null,null,null,null,null,null,null,null,null,null,null,null,"CWD",null,null,null,null,null,null,"4.NFV.CWD","Уголь древесный","тнт",0,0,0]
[null,null,null,null,null,null,null,null,null,null,null,null,null,null,null,null,null,null,null,null,null,null,null,null,null,null,null,null,null,null,null,"WDS",null,null,null,null,null,null,"4.NFV.WDS","Дрова","тнт",0,0,0]
[null,null,null,null,null,null,null,null,null,null,null,null,null,null,null,null,null,null,null,null,null,null,null,null,null,null,null,null,null,null,null,"PLT",null,null,null,null,null,null,"4.NFV.PLT","Пеллеты","тнт",0,0,0]
[null,null,null,null,null,null,null,null,null,null,null,null,null,null,null,null,null,null,null,null,null,null,null,null,null,null,null,null,null,null,null,"SAW",null,null,null,null,null,null,"4.NFV.SAW","Опилки","тнт",0,0,0]
[null,null,null,null,null,null,null,null,null,null,null,null,null,null,null,null,null,null,null,null,null,null,null,null,null,null,null,null,null,null,null,"PEA",null,null,null,null,null,null,"4.NFV.PEA","Торф","тнт",0,0,0]
[null,null,null,null,null,null,null,null,null,null,null,null,null,null,null,null,null,null,null,null,null,null,null,null,null,null,null,null,null,null,null,"SHL",null,null,null,null,null,null,"4.NFV.SHL","Сланцы","тнт",0,0,0]
[null,null,null,null,null,null,null,null,null,null,null,null,null,null,null,null,null,null,null,null,null,null,null,null,null,null,null,null,null,null,null,"STF",null,null,null,null,null,null,"4.NFV.STF","Печное бытовое топливо","тнт",0,0,0]
[]
[null,null,null,null,null,null,null,null,null,null,null,null,null,null,null,null,null,null,null,null,null,null,null,null,null,null,null,null,null,null,null,null,null,null,null,null,null,null,"4.NGV","Расход природного газа"]
[null,null,null,null,null,null,null,null,null,null,null,null,null,null,null,null,null,null,null,null,null,null,null,null,null,null,null,null,null,null,null,"NGL",null,null,null,null,null,null,"4.NGV.NGL","Газ лимитный","тыс.м3",{"$f":"SUMIF($AS$9:$AT$9,AP$9,$AS345:$AT345)","v":0},0,0]
[null,null,null,null,null,null,null,null,null,null,null,null,null,null,null,null,null,null,null,null,null,null,null,null,null,null,null,null,null,null,null,"NGL",null,null,null,null,null,null,"4.NGV.1.NGL","1 группа: свыше 500 млн.м3","тыс.м3",0,0,0]
[null,null,null,null,null,null,null,null,null,null,null,null,null,null,null,null,null,null,null,null,null,null,null,null,null,null,null,null,null,null,null,"NGL",null,null,null,null,null,null,"4.NGV.2.NGL","2 группа: от 100 до 500 млн.м3 включительно","тыс.м3",0,0,0]
[null,null,null,null,null,null,null,null,null,null,null,null,null,null,null,null,null,null,null,null,null,null,null,null,null,null,null,null,null,null,null,"NGL",null,null,null,null,null,null,"4.NGV.3.NGL","3 группа: от 10 до 100 млн.м3 включительно","тыс.м3",0,0,0]
[null,null,null,null,null,null,null,null,null,null,null,null,null,null,null,null,null,null,null,null,null,null,null,null,null,null,null,null,null,null,null,"NGL",null,null,null,null,null,null,"4.NGV.4.NGL","4 группа: от 1 до 10 млн.м3 включительно","тыс.м3",0,0,0]
[null,null,null,null,null,null,null,null,null,null,null,null,null,null,null,null,null,null,null,null,null,null,null,null,null,null,null,null,null,null,null,"NGL",null,null,null,null,null,null,"4.NGV.5.NGL","5 группа: от 0,1 до 1 млн.м3 включительно","тыс.м3",0,0,0]
[null,null,null,null,null,null,null,null,null,null,null,null,null,null,null,null,null,null,null,null,null,null,null,null,null,null,null,null,null,null,null,"NGL",null,null,null,null,null,null,"4.NGV.6.NGL","6 группа: от 0,01 до 0,1 млн.м3 включительно","тыс.м3",0,0,0]
[null,null,null,null,null,null,null,null,null,null,null,null,null,null,null,null,null,null,null,null,null,null,null,null,null,null,null,null,null,null,null,"NGL",null,null,null,null,null,null,"4.NGV.7.NGL","7 группа: до 0,01 млн.м3 включительно","тыс.м3",0,0,0]
[null,null,null,null,null,null,null,null,null,null,null,null,null,null,null,null,null,null,null,null,null,null,null,null,null,null,null,null,null,null,null,"NGU",null,null,null,null,null,null,"4.NGV.NGU","Газ сверхлимитный","тыс.м3",0,0,0]
[null,null,null,null,null,null,null,null,null,null,null,null,null,null,null,null,null,null,null,null,null,null,null,null,null,null,null,null,null,null,null,"NGU",null,null,null,null,null,null,"4.NGV.1.NGU","1 группа: свыше 500 млн.м3","тыс.м3",0,0,0]
[null,null,null,null,null,null,null,null,null,null,null,null,null,null,null,null,null,null,null,null,null,null,null,null,null,null,null,null,null,null,null,"NGU",null,null,null,null,null,null,"4.NGV.2.NGU","2 группа: от 100 до 500 млн.м3 включительно","тыс.м3",0,0,0]
[null,null,null,null,null,null,null,null,null,null,null,null,null,null,null,null,null,null,null,null,null,null,null,null,null,null,null,null,null,null,null,"NGU",null,null,null,null,null,null,"4.NGV.3.NGU","3 группа: от 10 до 100 млн.м3 включительно","тыс.м3",0,0,0]
[null,null,null,null,null,null,null,null,null,null,null,null,null,null,null,null,null,null,null,null,null,null,null,null,null,null,null,null,null,null,null,"NGU",null,null,null,null,null,null,"4.NGV.4.NGU","4 группа: от 1 до 10 млн.м3 включительно","тыс.м3",0,0,0]
[null,null,null,null,null,null,null,null,null,null,null,null,null,null,null,null,null,null,null,null,null,null,null,null,null,null,null,null,null,null,null,"NGU",null,null,null,null,null,null,"4.NGV.5.NGU","5 группа: от 0,1 до 1 млн.м3 включительно","тыс.м3",0,0,0]
[null,null,null,null,null,null,null,null,null,null,null,null,null,null,null,null,null,null,null,null,null,null,null,null,null,null,null,null,null,null,null,"NGU",null,null,null,null,null,null,"4.NGV.6.NGU","6 группа: от 0,01 до 0,1 млн.м3 включительно","тыс.м3",0,0,0]
[null,null,null,null,null,null,null,null,null,null,null,null,null,null,null,null,null,null,null,null,null,null,null,null,null,null,null,null,null,null,null,"NGU",null,null,null,null,null,null,"4.NGV.7.NGU","7 группа: до 0,01 млн.м3 включительно","тыс.м3",0,0,0]
[]
[null,null,null,null,null,null,null,null,null,null,null,null,null,null,null,null,null,null,null,null,null,null,null,null,null,null,null,null,null,null,null,null,null,null,null,null,null,null,null,"Показатели себестоимости топлива "]
[]
[null,null,null,null,null,null,null,null,null,null,null,null,null,null,null,null,null,null,null,null,null,null,null,null,null,null,null,null,null,null,null,null,null,null,null,null,null,null,"4.NFP","Цена натурального топлива без учёта транспортировки (перевозки)"]
[null,null,null,null,null,null,null,null,null,null,null,null,null,null,null,null,null,null,null,null,null,null,null,null,null,null,null,null,null,null,null,"NG",null,null,null,null,null,null,"4.NFP.NG","Газ природный","руб./тыс.м3",{"$f":"IF(AP301=0,0,AP409/AP301*1000)","v":0},{"$f":"IF(AQ301=0,0,AQ409/AQ301*1000)","v":0},{"$f":"IF(AR301=0,0,AR409/AR301*1000)","v":0}]
[null,null,null,null,null,null,null,null,null,null,null,null,null,null,null,null,null,null,null,null,null,null,null,null,null,null,null,null,null,null,null,"NGL",null,null,null,null,null,null,"4.NFP.NGL","Газ лимитный","руб./тыс.м3",{"$f":"IF(AP302=0,0,AP410/AP302*1000)","v":0},0,0]
[null,null,null,null,null,null,null,null,null,null,null,null,null,null,null,null,null,null,null,null,null,null,null,null,null,null,null,null,null,null,null,"NGU",null,null,null,null,null,null,"4.NFP.NGU","Газ сверхлимитный","руб./тыс.м3",0,0,0]
[null,null,null,null,null,null,null,null,null,null,null,null,null,null,null,null,null,null,null,null,null,null,null,null,null,null,null,null,null,null,null,"NGC",null,null,null,null,null,null,"4.NFP.NGC","Газ коммерческий","руб./тыс.м3",{"$f":"IF(AP304=0,0,AP412/AP304*1000)","v":0},0,0]
[null,null,null,null,null,null,null,null,null,null,null,null,null,null,null,null,null,null,null,null,null,null,null,null,null,null,null,null,null,null,null,"GBL",null,null,null,null,null,null,"4.NFP.GBL","Газ доменный","руб./тнт",0,0,0]
[null,null,null,null,null,null,null,null,null,null,null,null,null,null,null,null,null,null,null,null,null,null,null,null,null,null,null,null,null,null,null,"GCK",null,null,null,null,null,null,"4.NFP.GCK","Газ коксовый","руб./тнт",0,0,0]
[null,null,null,null,null,null,null,null,null,null,null,null,null,null,null,null,null,null,null,null,null,null,null,null,null,null,null,null,null,null,null,"GOA",null,null,null,null,null,null,"4.NFP.GOA","Газ нефтяной (попутный)","руб./тнт",0,0,0]
[null,null,null,null,null,null,null,null,null,null,null,null,null,null,null,null,null,null,null,null,null,null,null,null,null,null,null,null,null,null,null,"DSG",null,null,null,null,null,null,"4.NFP.DSG","Газ сухой отбензиненный","руб./тнт",0,0,0]
[null,null,null,null,null,null,null,null,null,null,null,null,null,null,null,null,null,null,null,null,null,null,null,null,null,null,null,null,null,null,null,"GCN",null,null,null,null,null,null,"4.NFP.GCN","Газовый конденсат","руб./тнт",0,0,0]
[null,null,null,null,null,null,null,null,null,null,null,null,null,null,null,null,null,null,null,null,null,null,null,null,null,null,null,null,null,null,null,"LNG",null,null,null,null,null,null,"4.NFP.LNG","Газ сжиженный","руб./тнт",0,0,0]
[null,null,null,null,null,null,null,null,null,null,null,null,null,null,null,null,null,null,null,null,null,null,null,null,null,null,null,null,null,null,null,"DSL",null,null,null,null,null,null,"4.NFP.DSL","Дизельное топливо","руб./тнт",0,0,0]
[null,null,null,null,null,null,null,null,null,null,null,null,null,null,null,null,null,null,null,null,null,null,null,null,null,null,null,null,null,null,null,"DSLA",null,null,null,null,null,null,"4.NFP.DSLA","А (арктическое)","руб./тнт",0,0,0]
[null,null,null,null,null,null,null,null,null,null,null,null,null,null,null,null,null,null,null,null,null,null,null,null,null,null,null,null,null,null,null,"DSLW",null,null,null,null,null,null,"4.NFP.DSLW","З (зимнее)","руб./тнт",0,0,0]
[null,null,null,null,null,null,null,null,null,null,null,null,null,null,null,null,null,null,null,null,null,null,null,null,null,null,null,null,null,null,null,"DSLS",null,null,null,null,null,null,"4.NFP.DSLS","Л (летнее)","руб./тнт",0,0,0]
[null,null,null,null,null,null,null,null,null,null,null,null,null,null,null,null,null,null,null,null,null,null,null,null,null,null,null,null,null,null,null,"DSLO",null,null,null,null,null,null,"4.NFP.DSLO","Е (межсезонное)","руб./тнт",0,0,0]
[null,null,null,null,null,null,null,null,null,null,null,null,null,null,null,null,null,null,null,null,null,null,null,null,null,null,null,null,null,null,null,"MST",null,null,null,null,null,null,"4.NFP.MST","Мазут","руб./тнт",0,0,0]
[null,null,null,null,null,null,null,null,null,null,null,null,null,null,null,null,null,null,null,null,null,null,null,null,null,null,null,null,null,null,null,"MSTM40",null,null,null,null,null,null,"4.NFP.MSTM40","М-40","руб./тнт",0,0,0]
[null,null,null,null,null,null,null,null,null,null,null,null,null,null,null,null,null,null,null,null,null,null,null,null,null,null,null,null,null,null,null,"MSTM100",null,null,null,null,null,null,"4.NFP.MSTM100","М-100","руб./тнт",0,0,0]
[null,null,null,null,null,null,null,null,null,null,null,null,null,null,null,null,null,null,null,null,null,null,null,null,null,null,null,null,null,null,null,"MSTM200",null,null,null,null,null,null,"4.NFP.MSTM200","М-200","руб./тнт",0,0,0]
[null,null,null,null,null,null,null,null,null,null,null,null,null,null,null,null,null,null,null,null,null,null,null,null,null,null,null,null,null,null,null,"MSTT",null,null,null,null,null,null,"4.NFP.MSTT","мазут марки \"Т\"","руб./тнт",0,0,0]
[null,null,null,null,null,null,null,null,null,null,null,null,null,null,null,null,null,null,null,null,null,null,null,null,null,null,null,null,null,null,null,"MSTF5",null,null,null,null,null,null,"4.NFP.MSTF5","Ф-5","руб./тнт",0,0,0]
[null,null,null,null,null,null,null,null,null,null,null,null,null,null,null,null,null,null,null,null,null,null,null,null,null,null,null,null,null,null,null,"MSTF12",null,null,null,null,null,null,"4.NFP.MSTF12","Ф-12","руб./тнт",0,0,0]
[null,null,null,null,null,null,null,null,null,null,null,null,null,null,null,null,null,null,null,null,null,null,null,null,null,null,null,null,null,null,null,"OIL",null,null,null,null,null,null,"4.NFP.OIL","Нефть","руб./тнт",0,0,0]
[null,null,null,null,null,null,null,null,null,null,null,null,null,null,null,null,null,null,null,null,null,null,null,null,null,null,null,null,null,null,null,"COA",null,null,null,null,null,null,"4.NFP.COA","Уголь","руб./тнт",0,0,0]
[null,null,null,null,null,null,null,null,null,null,null,null,null,null,null,null,null,null,null,null,null,null,null,null,null,null,null,null,null,null,null,"COAA",null,null,null,null,null,null,"4.NFP.COAA","Уголь антрацит","руб./тнт",0,0,0]
[null,null,null,null,null,null,null,null,null,null,null,null,null,null,null,null,null,null,null,null,null,null,null,null,null,null,null,null,null,null,null,"COAB",null,null,null,null,null,null,"4.NFP.COAB","Уголь бурый","руб./тнт",0,0,0]
[null,null,null,null,null,null,null,null,null,null,null,null,null,null,null,null,null,null,null,null,null,null,null,null,null,null,null,null,null,null,null,"COAG",null,null,null,null,null,null,"4.NFP.COAG","Уголь газовый","руб./тнт",0,0,0]
[null,null,null,null,null,null,null,null,null,null,null,null,null,null,null,null,null,null,null,null,null,null,null,null,null,null,null,null,null,null,null,"COALF",null,null,null,null,null,null,"4.NFP.COALF","Уголь длиннопламенный","руб./тнт",0,0,0]
[null,null,null,null,null,null,null,null,null,null,null,null,null,null,null,null,null,null,null,null,null,null,null,null,null,null,null,null,null,null,null,"COAF",null,null,null,null,null,null,"4.NFP.COAF","Уголь жирный","руб./тнт",0,0,0]
[null,null,null,null,null,null,null,null,null,null,null,null,null,null,null,null,null,null,null,null,null,null,null,null,null,null,null,null,null,null,null,"COAC",null,null,null,null,null,null,"4.NFP.COAC","Уголь коксовый","руб./тнт",0,0,0]
[null,null,null,null,null,null,null,null,null,null,null,null,null,null,null,null,null,null,null,null,null,null,null,null,null,null,null,null,null,null,null,"COASC",null,null,null,null,null,null,"4.NFP.COASC","Уголь отощённо-спекающийся","руб./тнт",0,0,0]
[null,null,null,null,null,null,null,null,null,null,null,null,null,null,null,null,null,null,null,null,null,null,null,null,null,null,null,null,null,null,null,"COAWC",null,null,null,null,null,null,"4.NFP.COAWC","Уголь слабоспекающийся","руб./тнт",0,0,0]
[null,null,null,null,null,null,null,null,null,null,null,null,null,null,null,null,null,null,null,null,null,null,null,null,null,null,null,null,null,null,null,"COAS",null,null,null,null,null,null,"4.NFP.COAS","Уголь тощий","руб./тнт",0,0,0]
[]
[]
[null,null,null,null,null,null,null,null,null,null,null,null,null,null,null,null,null,null,null,null,null,null,null,null,null,null,null,null,null,null,null,"CWD",null,null,null,null,null,null,"4.NFP.CWD","Уголь древесный","руб./тнт",{"$f":"IF(AP336=0,0,AP444/AP336*1000)","v":0},0,0]
[null,null,null,null,null,null,null,null,null,null,null,null,null,null,null,null,null,null,null,null,null,null,null,null,null,null,null,null,null,null,null,"WDS",null,null,null,null,null,null,"4.NFP.WDS","Дрова","руб./тнт",0,0,0]
[null,null,null,null,null,null,null,null,null,null,null,null,null,null,null,null,null,null,null,null,null,null,null,null,null,null,null,null,null,null,null,"PLT",null,null,null,null,null,null,"4.NFP.PLT","Пеллеты","руб./тнт",0,0,0]
[null,null,null,null,null,null,null,null,null,null,null,null,null,null,null,null,null,null,null,null,null,null,null,null,null,null,null,null,null,null,null,"SAW",null,null,null,null,null,null,"4.NFP.SAW","Опилки","руб./тнт",0,0,0]
[null,null,null,null,null,null,null,null,null,null,null,null,null,null,null,null,null,null,null,null,null,null,null,null,null,null,null,null,null,null,null,"PEA",null,null,null,null,null,null,"4.NFP.PEA","Торф","руб./тнт",0,0,0]
[null,null,null,null,null,null,null,null,null,null,null,null,null,null,null,null,null,null,null,null,null,null,null,null,null,null,null,null,null,null,null,"SHL",null,null,null,null,null,null,"4.NFP.SHL","Сланцы","руб./тнт",0,0,0]
[null,null,null,null,null,null,null,null,null,null,null,null,null,null,null,null,null,null,null,null,null,null,null,null,null,null,null,null,null,null,null,"STF",null,null,null,null,null,null,"4.NFP.STF","Печное бытовое топливо","руб./тнт",0,0,0]
[]
[null,null,null,null,null,null,null,null,null,null,null,null,null,null,null,null,null,null,null,null,null,null,null,null,null,null,null,null,null,null,null,null,null,null,null,null,null,null,"4.NFC","Стоимость натурального топлива без учёта транспортировки (перевозки)","тыс.руб.",{"$f":"SUMIF($AS$9:$AT$9,AP$9,$AS408:$AT408)","v":0},0,0]
[null,null,null,null,null,null,null,null,null,null,null,null,null,null,null,null,null,null,null,null,null,null,null,null,null,null,null,null,null,null,null,"NG",null,null,null,null,null,null,"NFC.NG","Газ природный","тыс.руб.",0,0,0]
[null,null,null,null,null,null,null,null,null,null,null,null,null,null,null,null,null,null,null,null,null,null,null,null,null,null,null,null,null,null,null,"NGL",null,null,null,null,null,null,"NFC.NGL","Газ лимитный","тыс.руб.",0,0,0]
[null,null,null,null,null,null,null,null,null,null,null,null,null,null,null,null,null,null,null,null,null,null,null,null,null,null,null,null,null,null,null,"NGU",null,null,null,null,null,null,"NFC.NGU","Газ сверхлимитный","тыс.руб.",0,0,0]
[null,null,null,null,null,null,null,null,null,null,null,null,null,null,null,null,null,null,null,null,null,null,null,null,null,null,null,null,null,null,null,"NGC",null,null,null,null,null,null,"NFC.NGC","Газ коммерческий","тыс.руб.",0,0,0]
[null,null,null,null,null,null,null,null,null,null,null,null,null,null,null,null,null,null,null,null,null,null,null,null,null,null,null,null,null,null,null,"GBL",null,null,null,null,null,null,"NFC.GBL","Газ доменный","тыс.руб.",0,0,0]
[null,null,null,null,null,null,null,null,null,null,null,null,null,null,null,null,null,null,null,null,null,null,null,null,null,null,null,null,null,null,null,"GCK",null,null,null,null,null,null,"NFC.GCK","Газ коксовый","тыс.руб.",0,0,0]
[null,null,null,null,null,null,null,null,null,null,null,null,null,null,null,null,null,null,null,null,null,null,null,null,null,null,null,null,null,null,null,"GOA",null,null,null,null,null,null,"NFC.GOA","Газ нефтяной (попутный)","тыс.руб.",0,0,0]
[null,null,null,null,null,null,null,null,null,null,null,null,null,null,null,null,null,null,null,null,null,null,null,null,null,null,null,null,null,null,null,"DSG",null,null,null,null,null,null,"NFC.DSG","Газ сухой отбензиненный","тыс.руб.",0,0,0]
[null,null,null,null,null,null,null,null,null,null,null,null,null,null,null,null,null,null,null,null,null,null,null,null,null,null,null,null,null,null,null,"GCN",null,null,null,null,null,null,"NFC.GCN","Газовый конденсат","тыс.руб.",0,0,0]
[null,null,null,null,null,null,null,null,null,null,null,null,null,null,null,null,null,null,null,null,null,null,null,null,null,null,null,null,null,null,null,"LNG",null,null,null,null,null,null,"NFC.LNG","Газ сжиженный","тыс.руб.",0,0,0]
[null,null,null,null,null,null,null,null,null,null,null,null,null,null,null,null,null,null,null,null,null,null,null,null,null,null,null,null,null,null,null,"DSL",null,null,null,null,null,null,"NFC.DSL","Дизельное топливо","тыс.руб.",0,0,0]
[null,null,null,null,null,null,null,null,null,null,null,null,null,null,null,null,null,null,null,null,null,null,null,null,null,null,null,null,null,null,null,"DSLA",null,null,null,null,null,null,"NFC.DSLA","А (арктическое)","тыс.руб.",0,0,0]
[null,null,null,null,null,null,null,null,null,null,null,null,null,null,null,null,null,null,null,null,null,null,null,null,null,null,null,null,null,null,null,"DSLW",null,null,null,null,null,null,"NFC.DSLW","З (зимнее)","тыс.руб.",0,0,0]
[null,null,null,null,null,null,null,null,null,null,null,null,null,null,null,null,null,null,null,null,null,null,null,null,null,null,null,null,null,null,null,"DSLS",null,null,null,null,null,null,"NFC.DSLS","Л (летнее)","тыс.руб.",0,0,0]
[null,null,null,null,null,null,null,null,null,null,null,null,null,null,null,null,null,null,null,null,null,null,null,null,null,null,null,null,null,null,null,"DSLO",null,null,null,null,null,null,"NFC.DSLO","Е (межсезонное)","тыс.руб.",0,0,0]
[null,null,null,null,null,null,null,null,null,null,null,null,null,null,null,null,null,null,null,null,null,null,null,null,null,null,null,null,null,null,null,"MST",null,null,null,null,null,null,"NFC.MST","Мазут","тыс.руб.",0,0,0]
[null,null,null,null,null,null,null,null,null,null,null,null,null,null,null,null,null,null,null,null,null,null,null,null,null,null,null,null,null,null,null,"MSTM40",null,null,null,null,null,null,"NFC.MSTM40","М-40","тыс.руб.",0,0,0]
[null,null,null,null,null,null,null,null,null,null,null,null,null,null,null,null,null,null,null,null,null,null,null,null,null,null,null,null,null,null,null,"MSTM100",null,null,null,null,null,null,"NFC.MSTM100","М-100","тыс.руб.",0,0,0]
[null,null,null,null,null,null,null,null,null,null,null,null,null,null,null,null,null,null,null,null,null,null,null,null,null,null,null,null,null,null,null,"MSTM200",null,null,null,null,null,null,"NFC.MSTM200","М-200","тыс.руб.",0,0,0]
[null,null,null,null,null,null,null,null,null,null,null,null,null,null,null,null,null,null,null,null,null,null,null,null,null,null,null,null,null,null,null,"MSTT",null,null,null,null,null,null,"NFC.MSTT","мазут марки \"Т\"","тыс.руб.",{"$f":"SUMIF($AS$9:$AT$9,AP$9,$AS428:$AT428)","v":0},0,0]
[null,null,null,null,null,null,null,null,null,null,null,null,null,null,null,null,null,null,null,null,null,null,null,null,null,null,null,null,null,null,null,"MSTF5",null,null,null,null,null,null,"NFC.MSTF5","Ф-5","тыс.руб.",0,0,0]
[null,null,null,null,null,null,null,null,null,null,null,null,null,null,null,null,null,null,null,null,null,null,null,null,null,null,null,null,null,null,null,"MSTF12",null,null,null,null,null,null,"NFC.MSTF12","Ф-12","тыс.руб.",0,0,0]
[null,null,null,null,null,null,null,null,null,null,null,null,null,null,null,null,null,null,null,null,null,null,null,null,null,null,null,null,null,null,null,"OIL",null,null,null,null,null,null,"NFC.OIL","Нефть","тыс.руб.",0,0,0]
[null,null,null,null,null,null,null,null,null,null,null,null,null,null,null,null,null,null,null,null,null,null,null,null,null,null,null,null,null,null,null,"COA",null,null,null,null,null,null,"NFC.COA","Уголь","тыс.руб.",0,0,0]
[null,null,null,null,null,null,null,null,null,null,null,null,null,null,null,null,null,null,null,null,null,null,null,null,null,null,null,null,null,null,null,"COAA",null,null,null,null,null,null,"NFC.COAA","Уголь антрацит","тыс.руб.",0,0,0]
[null,null,null,null,null,null,null,null,null,null,null,null,null,null,null,null,null,null,null,null,null,null,null,null,null,null,null,null,null,null,null,"COAB",null,null,null,null,null,null,"NFC.COAB","Уголь бурый","тыс.руб.",0,0,0]
[null,null,null,null,null,null,null,null,null,null,null,null,null,null,null,null,null,null,null,null,null,null,null,null,null,null,null,null,null,null,null,"COAG",null,null,null,null,null,null,"NFC.COAG","Уголь газовый","тыс.руб.",0,0,0]
[null,null,null,null,null,null,null,null,null,null,null,null,null,null,null,null,null,null,null,null,null,null,null,null,null,null,null,null,null,null,null,"COALF",null,null,null,null,null,null,"NFC.COALF","Уголь длиннопламенный","тыс.руб.",0,0,0]
[null,null,null,null,null,null,null,null,null,null,null,null,null,null,null,null,null,null,null,null,null,null,null,null,null,null,null,null,null,null,null,"COAF",null,null,null,null,null,null,"NFC.COAF","Уголь жирный","тыс.руб.",0,0,0]
[null,null,null,null,null,null,null,null,null,null,null,null,null,null,null,null,null,null,null,null,null,null,null,null,null,null,null,null,null,null,null,"COAC",null,null,null,null,null,null,"NFC.COAC","Уголь коксовый","тыс.руб.",0,0,0]
[null,null,null,null,null,null,null,null,null,null,null,null,null,null,null,null,null,null,null,null,null,null,null,null,null,null,null,null,null,null,null,"COASC",null,null,null,null,null,null,"NFC.COASC","Уголь отощённо-спекающийся","тыс.руб.",0,0,0]
[null,null,null,null,null,null,null,null,null,null,null,null,null,null,null,null,null,null,null,null,null,null,null,null,null,null,null,null,null,null,null,"COAWC",null,null,null,null,null,null,"NFC.COAWC","Уголь слабоспекающийся","тыс.руб.",0,0,0]
[null,null,null,null,null,null,null,null,null,null,null,null,null,null,null,null,null,null,null,null,null,null,null,null,null,null,null,null,null,null,null,"COAS",null,null,null,null,null,null,"NFC.COAS","Уголь тощий","тыс.руб.",0,0,0]
[]
[]
[null,null,null,null,null,null,null,null,null,null,null,null,null,null,null,null,null,null,null,null,null,null,null,null,null,null,null,null,null,null,null,"CWD",null,null,null,null,null,null,"NFC.CWD","Уголь древесный","тыс.руб.",{"$f":"SUMIF($AS$9:$AT$9,AP$9,$AS444:$AT444)","v":0},0,0]
[null,null,null,null,null,null,null,null,null,null,null,null,null,null,null,null,null,null,null,null,null,null,null,null,null,null,null,null,null,null,null,"WDS",null,null,null,null,null,null,"NFC.WDS","Дрова","тыс.руб.",0,0,0]
[null,null,null,null,null,null,null,null,null,null,null,null,null,null,null,null,null,null,null,null,null,null,null,null,null,null,null,null,null,null,null,"PLT",null,null,null,null,null,null,"NFC.PLT","Пеллеты","тыс.руб.",0,0,0]
[null,null,null,null,null,null,null,null,null,null,null,null,null,null,null,null,null,null,null,null,null,null,null,null,null,null,null,null,null,null,null,"SAW",null,null,null,null,null,null,"NFC.SAW","Опилки","тыс.руб.",0,0,0]
[null,null,null,null,null,null,null,null,null,null,null,null,null,null,null,null,null,null,null,null,null,null,null,null,null,null,null,null,null,null,null,"PEA",null,null,null,null,null,null,"NFC.PEA","Торф","тыс.руб.",0,0,0]
[null,null,null,null,null,null,null,null,null,null,null,null,null,null,null,null,null,null,null,null,null,null,null,null,null,null,null,null,null,null,null,"SHL",null,null,null,null,null,null,"NFC.SHL","Сланцы","тыс.руб.",0,0,0]
[null,null,null,null,null,null,null,null,null,null,null,null,null,null,null,null,null,null,null,null,null,null,null,null,null,null,null,null,null,null,null,"STF",null,null,null,null,null,null,"NFC.STF","Печное бытовое топливо","тыс.руб.",0,0,0]
[]
[]
[null,null,null,null,null,null,null,null,null,null,null,null,null,null,null,null,null,null,null,null,null,null,null,null,null,null,null,null,null,null,null,null,null,null,null,null,null,null,null,"Показатели транспортировки (перевозки) топлива"]
[]
[null,null,null,null,null,null,null,null,null,null,null,null,null,null,null,null,null,null,null,null,null,null,null,null,null,null,null,null,null,null,null,null,null,null,null,null,null,null,"4.0.3.1.1.1","Природный газ. Газ лимитный. Тариф на ССУ (cнабженческо-сбытовые услуги)"]
[null,null,null,null,null,null,null,null,null,null,null,null,null,null,null,null,null,null,null,null,null,null,null,null,null,null,null,null,null,null,null,"NGL",null,null,null,null,null,null,{"$f":"AM455 & \".1\"","v":"4.0.3.1.1.1.1"},"1 группа: свыше 500 млн.м3","руб./тыс.м3",{"$f":"IF(AP304=0,0,AP472/AP304*1000)","v":0},0,0]
[null,null,null,null,null,null,null,null,null,null,null,null,null,null,null,null,null,null,null,null,null,null,null,null,null,null,null,null,null,null,null,"NGL",null,null,null,null,null,null,{"$f":"AM455 & \".2\"","v":"4.0.3.1.1.1.2"},"2 группа: от 100 до 500 млн.м3 включительно","руб./тыс.м3",0,0,0]
[null,null,null,null,null,null,null,null,null,null,null,null,null,null,null,null,null,null,null,null,null,null,null,null,null,null,null,null,null,null,null,"NGL",null,null,null,null,null,null,{"$f":"AM455 & \".3\"","v":"4.0.3.1.1.1.3"},"3 группа: от 10 до 100 млн.м3 включительно","руб./тыс.м3",0,0,0]
[null,null,null,null,null,null,null,null,null,null,null,null,null,null,null,null,null,null,null,null,null,null,null,null,null,null,null,null,null,null,null,"NGL",null,null,null,null,null,null,{"$f":"AM455 & \".4\"","v":"4.0.3.1.1.1.4"},"4 группа: от 1 до 10 млн.м3 включительно","руб./тыс.м3",0,0,0]
[null,null,null,null,null,null,null,null,null,null,null,null,null,null,null,null,null,null,null,null,null,null,null,null,null,null,null,null,null,null,null,"NGL",null,null,null,null,null,null,{"$f":"AM455 & \".5\"","v":"4.0.3.1.1.1.5"},"5 группа: от 0,1 до 1 млн.м3 включительно","руб./тыс.м3",0,0,0]
[null,null,null,null,null,null,null,null,null,null,null,null,null,null,null,null,null,null,null,null,null,null,null,null,null,null,null,null,null,null,null,"NGL",null,null,null,null,null,null,{"$f":"AM455 & \".6\"","v":"4.0.3.1.1.1.6"},"6 группа: от 0,01 до 0,1 млн.м3 включительно","руб./тыс.м3",0,0,0]
[null,null,null,null,null,null,null,null,null,null,null,null,null,null,null,null,null,null,null,null,null,null,null,null,null,null,null,null,null,null,null,"NGL",null,null,null,null,null,null,{"$f":"AM455 & \".7\"","v":"4.0.3.1.1.1.7"},"7 группа: до 0,01 млн.м3 включительно","руб./тыс.м3",0,0,0]
[null,null,null,null,null,null,null,null,null,null,null,null,null,null,null,null,null,null,null,null,null,null,null,null,null,null,null,null,null,null,null,null,null,null,null,null,null,null,"4.0.3.1.1.2","Природный газ. Газ лимитный. Тариф ГРО (услуги газораспределительной организации)"]
[null,null,null,null,null,null,null,null,null,null,null,null,null,null,null,null,null,null,null,null,null,null,null,null,null,null,null,null,null,null,null,"NGL",null,null,null,null,null,null,{"$f":"AM463 & \".1\"","v":"4.0.3.1.1.2.1"},"1 группа: свыше 500 млн.м3","руб./тыс.м3",{"$f":"IF(AP304=0,0,AP480/AP304*1000)","v":0},0,0]
[null,null,null,null,null,null,null,null,null,null,null,null,null,null,null,null,null,null,null,null,null,null,null,null,null,null,null,null,null,null,null,"NGL",null,null,null,null,null,null,{"$f":"AM463 & \".2\"","v":"4.0.3.1.1.2.2"},"2 группа: от 100 до 500 млн.м3 включительно","руб./тыс.м3",0,0,0]
[null,null,null,null,null,null,null,null,null,null,null,null,null,null,null,null,null,null,null,null,null,null,null,null,null,null,null,null,null,null,null,"NGL",null,null,null,null,null,null,{"$f":"AM463 & \".3\"","v":"4.0.3.1.1.2.3"},"3 группа: от 10 до 100 млн.м3 включительно","руб./тыс.м3",0,0,0]
[null,null,null,null,null,null,null,null,null,null,null,null,null,null,null,null,null,null,null,null,null,null,null,null,null,null,null,null,null,null,null,"NGL",null,null,null,null,null,null,{"$f":"AM463 & \".4\"","v":"4.0.3.1.1.2.4"},"4 группа: от 1 до 10 млн.м3 включительно","руб./тыс.м3",0,0,0]
[null,null,null,null,null,null,null,null,null,null,null,null,null,null,null,null,null,null,null,null,null,null,null,null,null,null,null,null,null,null,null,"NGL",null,null,null,null,null,null,{"$f":"AM463 & \".5\"","v":"4.0.3.1.1.2.5"},"5 группа: от 0,1 до 1 млн.м3 включительно","руб./тыс.м3",0,0,0]
[null,null,null,null,null,null,null,null,null,null,null,null,null,null,null,null,null,null,null,null,null,null,null,null,null,null,null,null,null,null,null,"NGL",null,null,null,null,null,null,{"$f":"AM463 & \".6\"","v":"4.0.3.1.1.2.6"},"6 группа: от 0,01 до 0,1 млн.м3 включительно","руб./тыс.м3",0,0,0]
[null,null,null,null,null,null,null,null,null,null,null,null,null,null,null,null,null,null,null,null,null,null,null,null,null,null,null,null,null,null,null,"NGL",null,null,null,null,null,null,{"$f":"AM463 & \".7\"","v":"4.0.3.1.1.2.7"},"7 группа: до 0,01 млн.м3 включительно","руб./тыс.м3",0,0,0]
[null,null,null,null,null,null,null,null,null,null,null,null,null,null,null,null,null,null,null,null,null,null,null,null,null,null,null,null,null,null,null,"NGL",null,null,null,null,null,null,"4.0.3.1.1.3","Природный газ. Газ лимитный. ПССУ (плата за cнабженческо-сбытовые услуги), всего","тыс.руб.",{"$f":"SUMIF($AS$9:$AT$9,AP$9,$AS471:$AT471)","v":0},0,0]
[null,null,null,null,null,null,null,null,null,null,null,null,null,null,null,null,null,null,null,null,null,null,null,null,null,null,null,null,null,null,null,"NGL",null,null,null,null,null,null,{"$f":"AM471 & \".1\"","v":"4.0.3.1.1.3.1"},"1 группа: свыше 500 млн.м3","тыс.руб.",0,0,0]
[null,null,null,null,null,null,null,null,null,null,null,null,null,null,null,null,null,null,null,null,null,null,null,null,null,null,null,null,null,null,null,"NGL",null,null,null,null,null,null,{"$f":"AM471 & \".2\"","v":"4.0.3.1.1.3.2"},"2 группа: от 100 до 500 млн.м3 включительно","тыс.руб.",0,0,0]
[null,null,null,null,null,null,null,null,null,null,null,null,null,null,null,null,null,null,null,null,null,null,null,null,null,null,null,null,null,null,null,"NGL",null,null,null,null,null,null,{"$f":"AM471 & \".3\"","v":"4.0.3.1.1.3.3"},"3 группа: от 10 до 100 млн.м3 включительно","тыс.руб.",0,0,0]
[null,null,null,null,null,null,null,null,null,null,null,null,null,null,null,null,null,null,null,null,null,null,null,null,null,null,null,null,null,null,null,"NGL",null,null,null,null,null,null,{"$f":"AM471 & \".4\"","v":"4.0.3.1.1.3.4"},"4 группа: от 1 до 10 млн.м3 включительно","тыс.руб.",0,0,0]
[null,null,null,null,null,null,null,null,null,null,null,null,null,null,null,null,null,null,null,null,null,null,null,null,null,null,null,null,null,null,null,"NGL",null,null,null,null,null,null,{"$f":"AM471 & \".5\"","v":"4.0.3.1.1.3.5"},"5 группа: от 0,1 до 1 млн.м3 включительно","тыс.руб.",0,0,0]
[null,null,null,null,null,null,null,null,null,null,null,null,null,null,null,null,null,null,null,null,null,null,null,null,null,null,null,null,null,null,null,"NGL",null,null,null,null,null,null,{"$f":"AM471 & \".6\"","v":"4.0.3.1.1.3.6"},"6 группа: от 0,01 до 0,1 млн.м3 включительно","тыс.руб.",0,0,0]
[null,null,null,null,null,null,null,null,null,null,null,null,null,null,null,null,null,null,null,null,null,null,null,null,null,null,null,null,null,null,null,"NGL",null,null,null,null,null,null,{"$f":"AM471 & \".7\"","v":"4.0.3.1.1.3.7"},"7 группа: до 0,01 млн.м3 включительно","тыс.руб.",0,0,0]
[null,null,null,null,null,null,null,null,null,null,null,null,null,null,null,null,null,null,null,null,null,null,null,null,null,null,null,null,null,null,null,"NGL",null,null,null,null,null,null,"4.0.3.1.1.4","Природный газ. Газ лимитный. ГРО (плата за услуги газораспределительной организации), всего","тыс.руб.",0,0,0]
[null,null,null,null,null,null,null,null,null,null,null,null,null,null,null,null,null,null,null,null,null,null,null,null,null,null,null,null,null,null,null,"NGL",null,null,null,null,null,null,{"$f":"AM479 & \".1\"","v":"4.0.3.1.1.4.1"},"1 группа: свыше 500 млн.м3","тыс.руб.",0,0,0]
[null,null,null,null,null,null,null,null,null,null,null,null,null,null,null,null,null,null,null,null,null,null,null,null,null,null,null,null,null,null,null,"NGL",null,null,null,null,null,null,{"$f":"AM479 & \".2\"","v":"4.0.3.1.1.4.2"},"2 группа: от 100 до 500 млн.м3 включительно","тыс.руб.",0,0,0]
[null,null,null,null,null,null,null,null,null,null,null,null,null,null,null,null,null,null,null,null,null,null,null,null,null,null,null,null,null,null,null,"NGL",null,null,null,null,null,null,{"$f":"AM479 & \".3\"","v":"4.0.3.1.1.4.3"},"3 группа: от 10 до 100 млн.м3 включительно","тыс.руб.",0,0,0]
[null,null,null,null,null,null,null,null,null,null,null,null,null,null,null,null,null,null,null,null,null,null,null,null,null,null,null,null,null,null,null,"NGL",null,null,null,null,null,null,{"$f":"AM479 & \".4\"","v":"4.0.3.1.1.4.4"},"4 группа: от 1 до 10 млн.м3 включительно","тыс.руб.",0,0,0]
[null,null,null,null,null,null,null,null,null,null,null,null,null,null,null,null,null,null,null,null,null,null,null,null,null,null,null,null,null,null,null,"NGL",null,null,null,null,null,null,{"$f":"AM479 & \".5\"","v":"4.0.3.1.1.4.5"},"5 группа: от 0,1 до 1 млн.м3 включительно","тыс.руб.",0,0,0]
[null,null,null,null,null,null,null,null,null,null,null,null,null,null,null,null,null,null,null,null,null,null,null,null,null,null,null,null,null,null,null,"NGL",null,null,null,null,null,null,{"$f":"AM479 & \".6\"","v":"4.0.3.1.1.4.6"},"6 группа: от 0,01 до 0,1 млн.м3 включительно","тыс.руб.",0,0,0]
[null,null,null,null,null,null,null,null,null,null,null,null,null,null,null,null,null,null,null,null,null,null,null,null,null,null,null,null,null,null,null,"NGL",null,null,null,null,null,null,{"$f":"AM479 & \".7\"","v":"4.0.3.1.1.4.7"},"7 группа: до 0,01 млн.м3 включительно","тыс.руб.",0,0,0]
[null,null,null,null,null,null,null,null,null,null,null,null,null,null,null,null,null,null,null,null,null,null,null,null,null,null,null,null,null,null,null,"NGL",null,null,null,null,null,null,"4.0.3.1.1.5","Природный газ. Газ лимитный. ТТР (плата за услуги транзитной транспортировки), всего","тыс.руб.",0,0,0]
[null,null,null,null,null,null,null,null,null,null,null,null,null,null,null,null,null,null,null,null,null,null,null,null,null,null,null,null,null,null,null,"NGL",null,null,null,null,null,null,{"$f":"AM487 & \".1\"","v":"4.0.3.1.1.5.1"},"Средний тариф транзитной транспортировки","руб./тыс.м3",{"$f":"IF(AP489=0,0,AP487/AP489*1000)","v":0},{"$f":"IF(AQ489=0,0,AQ487/AQ489*1000)","v":0},{"$f":"IF(AR489=0,0,AR487/AR489*1000)","v":0}]
[null,null,null,null,null,null,null,null,null,null,null,null,null,null,null,null,null,null,null,null,null,null,null,null,null,null,null,null,null,null,null,"NGL",null,null,null,null,null,null,{"$f":"AM487 & \".2\"","v":"4.0.3.1.1.5.2"},"Объём топлива, транспортируемого в транзитном потоке","тыс.м3",{"$f":"SUMIF($AS$9:$AT$9,AP$9,$AS489:$AT489)","v":0},{"$f":"SUMIF($AS$9:$AT$9,AQ$9,$AS489:$AT489)","v":0},{"$f":"SUMIF($AS$9:$AT$9,AR$9,$AS489:$AT489)","v":0}]
[null,null,null,null,null,null,null,null,null,null,null,null,null,null,null,null,null,null,null,null,null,null,null,null,null,null,null,null,null,null,null,null,null,null,null,null,null,null,"4.0.3.1.2.1","Природный газ. Газ сверхлимитный. Тариф на ССУ (cнабженческо-сбытовые услуги)"]
[null,null,null,null,null,null,null,null,null,null,null,null,null,null,null,null,null,null,null,null,null,null,null,null,null,null,null,null,null,null,null,"NGU",null,null,null,null,null,null,{"$f":"AM490 & \".1\"","v":"4.0.3.1.2.1.1"},"1 группа: свыше 500 млн.м3","руб./тыс.м3",{"$f":"IF(AP312=0,0,AP507/AP312*1000)","v":0},0,0]
[null,null,null,null,null,null,null,null,null,null,null,null,null,null,null,null,null,null,null,null,null,null,null,null,null,null,null,null,null,null,null,"NGU",null,null,null,null,null,null,{"$f":"AM490 & \".2\"","v":"4.0.3.1.2.1.2"},"2 группа: от 100 до 500 млн.м3 включительно","руб./тыс.м3",0,0,0]
[null,null,null,null,null,null,null,null,null,null,null,null,null,null,null,null,null,null,null,null,null,null,null,null,null,null,null,null,null,null,null,"NGU",null,null,null,null,null,null,{"$f":"AM490 & \".3\"","v":"4.0.3.1.2.1.3"},"3 группа: от 10 до 100 млн.м3 включительно","руб./тыс.м3",0,0,0]
[null,null,null,null,null,null,null,null,null,null,null,null,null,null,null,null,null,null,null,null,null,null,null,null,null,null,null,null,null,null,null,"NGU",null,null,null,null,null,null,{"$f":"AM490 & \".4\"","v":"4.0.3.1.2.1.4"},"4 группа: от 1 до 10 млн.м3 включительно","руб./тыс.м3",0,0,0]
[null,null,null,null,null,null,null,null,null,null,null,null,null,null,null,null,null,null,null,null,null,null,null,null,null,null,null,null,null,null,null,"NGU",null,null,null,null,null,null,{"$f":"AM490 & \".5\"","v":"4.0.3.1.2.1.5"},"5 группа: от 0,1 до 1 млн.м3 включительно","руб./тыс.м3",0,0,0]
[null,null,null,null,null,null,null,null,null,null,null,null,null,null,null,null,null,null,null,null,null,null,null,null,null,null,null,null,null,null,null,"NGU",null,null,null,null,null,null,{"$f":"AM490 & \".6\"","v":"4.0.3.1.2.1.6"},"6 группа: от 0,01 до 0,1 млн.м3 включительно","руб./тыс.м3",0,0,0]
[null,null,null,null,null,null,null,null,null,null,null,null,null,null,null,null,null,null,null,null,null,null,null,null,null,null,null,null,null,null,null,"NGU",null,null,null,null,null,null,{"$f":"AM490 & \".7\"","v":"4.0.3.1.2.1.7"},"7 группа: до 0,01 млн.м3 включительно","руб./тыс.м3",0,0,0]
[null,null,null,null,null,null,null,null,null,null,null,null,null,null,null,null,null,null,null,null,null,null,null,null,null,null,null,null,null,null,null,null,null,null,null,null,null,null,"4.0.3.1.2.2","Природный газ. Газ сверхлимитный. Тариф ГРО (услуги газораспределительной организации)"]
[null,null,null,null,null,null,null,null,null,null,null,null,null,null,null,null,null,null,null,null,null,null,null,null,null,null,null,null,null,null,null,"NGU",null,null,null,null,null,null,{"$f":"AM498 & \".1\"","v":"4.0.3.1.2.2.1"},"1 группа: свыше 500 млн.м3","руб./тыс.м3",{"$f":"IF(AP312=0,0,AP515/AP312*1000)","v":0},0,0]
[null,null,null,null,null,null,null,null,null,null,null,null,null,null,null,null,null,null,null,null,null,null,null,null,null,null,null,null,null,null,null,"NGU",null,null,null,null,null,null,{"$f":"AM498 & \".2\"","v":"4.0.3.1.2.2.2"},"2 группа: от 100 до 500 млн.м3 включительно","руб./тыс.м3",0,0,0]
[null,null,null,null,null,null,null,null,null,null,null,null,null,null,null,null,null,null,null,null,null,null,null,null,null,null,null,null,null,null,null,"NGU",null,null,null,null,null,null,{"$f":"AM498 & \".3\"","v":"4.0.3.1.2.2.3"},"3 группа: от 10 до 100 млн.м3 включительно","руб./тыс.м3",0,0,0]
[null,null,null,null,null,null,null,null,null,null,null,null,null,null,null,null,null,null,null,null,null,null,null,null,null,null,null,null,null,null,null,"NGU",null,null,null,null,null,null,{"$f":"AM498 & \".4\"","v":"4.0.3.1.2.2.4"},"4 группа: от 1 до 10 млн.м3 включительно","руб./тыс.м3",0,0,0]
[null,null,null,null,null,null,null,null,null,null,null,null,null,null,null,null,null,null,null,null,null,null,null,null,null,null,null,null,null,null,null,"NGU",null,null,null,null,null,null,{"$f":"AM498 & \".5\"","v":"4.0.3.1.2.2.5"},"5 группа: от 0,1 до 1 млн.м3 включительно","руб./тыс.м3",0,0,0]
[null,null,null,null,null,null,null,null,null,null,null,null,null,null,null,null,null,null,null,null,null,null,null,null,null,null,null,null,null,null,null,"NGU",null,null,null,null,null,null,{"$f":"AM498 & \".6\"","v":"4.0.3.1.2.2.6"},"6 группа: от 0,01 до 0,1 млн.м3 включительно","руб./тыс.м3",0,0,0]
[null,null,null,null,null,null,null,null,null,null,null,null,null,null,null,null,null,null,null,null,null,null,null,null,null,null,null,null,null,null,null,"NGU",null,null,null,null,null,null,{"$f":"AM498 & \".7\"","v":"4.0.3.1.2.2.7"},"7 группа: до 0,01 млн.м3 включительно","руб./тыс.м3",0,0,0]
[null,null,null,null,null,null,null,null,null,null,null,null,null,null,null,null,null,null,null,null,null,null,null,null,null,null,null,null,null,null,null,"NGU",null,null,null,null,null,null,"4.0.3.1.2.3","Природный газ. Газ сверхлимитный. ПССУ (плата за cнабженческо-сбытовые услуги), всего","тыс.руб.",{"$f":"SUMIF($AS$9:$AT$9,AP$9,$AS506:$AT506)","v":0},0,0]
[null,null,null,null,null,null,null,null,null,null,null,null,null,null,null,null,null,null,null,null,null,null,null,null,null,null,null,null,null,null,null,"NGU",null,null,null,null,null,null,{"$f":"AM506 & \".1\"","v":"4.0.3.1.2.3.1"},"1 группа: свыше 500 млн.м3","тыс.руб.",0,0,0]
[null,null,null,null,null,null,null,null,null,null,null,null,null,null,null,null,null,null,null,null,null,null,null,null,null,null,null,null,null,null,null,"NGU",null,null,null,null,null,null,{"$f":"AM506 & \".2\"","v":"4.0.3.1.2.3.2"},"2 группа: от 100 до 500 млн.м3 включительно","тыс.руб.",0,0,0]
[null,null,null,null,null,null,null,null,null,null,null,null,null,null,null,null,null,null,null,null,null,null,null,null,null,null,null,null,null,null,null,"NGU",null,null,null,null,null,null,{"$f":"AM506 & \".3\"","v":"4.0.3.1.2.3.3"},"3 группа: от 10 до 100 млн.м3 включительно","тыс.руб.",0,0,0]
[null,null,null,null,null,null,null,null,null,null,null,null,null,null,null,null,null,null,null,null,null,null,null,null,null,null,null,null,null,null,null,"NGU",null,null,null,null,null,null,{"$f":"AM506 & \".4\"","v":"4.0.3.1.2.3.4"},"4 группа: от 1 до 10 млн.м3 включительно","тыс.руб.",0,0,0]
[null,null,null,null,null,null,null,null,null,null,null,null,null,null,null,null,null,null,null,null,null,null,null,null,null,null,null,null,null,null,null,"NGU",null,null,null,null,null,null,{"$f":"AM506 & \".5\"","v":"4.0.3.1.2.3.5"},"5 группа: от 0,1 до 1 млн.м3 включительно","тыс.руб.",0,0,0]
[null,null,null,null,null,null,null,null,null,null,null,null,null,null,null,null,null,null,null,null,null,null,null,null,null,null,null,null,null,null,null,"NGU",null,null,null,null,null,null,{"$f":"AM506 & \".6\"","v":"4.0.3.1.2.3.6"},"6 группа: от 0,01 до 0,1 млн.м3 включительно","тыс.руб.",0,0,0]
[null,null,null,null,null,null,null,null,null,null,null,null,null,null,null,null,null,null,null,null,null,null,null,null,null,null,null,null,null,null,null,"NGU",null,null,null,null,null,null,{"$f":"AM506 & \".7\"","v":"4.0.3.1.2.3.7"},"7 группа: до 0,01 млн.м3 включительно","тыс.руб.",0,0,0]
[null,null,null,null,null,null,null,null,null,null,null,null,null,null,null,null,null,null,null,null,null,null,null,null,null,null,null,null,null,null,null,"NGU",null,null,null,null,null,null,"4.0.3.1.2.4","Природный газ. Газ сверхлимитный. ГРО (плата за услуги газораспределительной организации), всего","тыс.руб.",0,0,0]
[null,null,null,null,null,null,null,null,null,null,null,null,null,null,null,null,null,null,null,null,null,null,null,null,null,null,null,null,null,null,null,"NGU",null,null,null,null,null,null,{"$f":"AM514 & \".1\"","v":"4.0.3.1.2.4.1"},"1 группа: свыше 500 млн.м3","тыс.руб.",0,0,0]
[null,null,null,null,null,null,null,null,null,null,null,null,null,null,null,null,null,null,null,null,null,null,null,null,null,null,null,null,null,null,null,"NGU",null,null,null,null,null,null,{"$f":"AM514 & \".2\"","v":"4.0.3.1.2.4.2"},"2 группа: от 100 до 500 млн.м3 включительно","тыс.руб.",0,0,0]
[null,null,null,null,null,null,null,null,null,null,null,null,null,null,null,null,null,null,null,null,null,null,null,null,null,null,null,null,null,null,null,"NGU",null,null,null,null,null,null,{"$f":"AM514 & \".3\"","v":"4.0.3.1.2.4.3"},"3 группа: от 10 до 100 млн.м3 включительно","тыс.руб.",0,0,0]
[null,null,null,null,null,null,null,null,null,null,null,null,null,null,null,null,null,null,null,null,null,null,null,null,null,null,null,null,null,null,null,"NGU",null,null,null,null,null,null,{"$f":"AM514 & \".4\"","v":"4.0.3.1.2.4.4"},"4 группа: от 1 до 10 млн.м3 включительно","тыс.руб.",0,0,0]
[null,null,null,null,null,null,null,null,null,null,null,null,null,null,null,null,null,null,null,null,null,null,null,null,null,null,null,null,null,null,null,"NGU",null,null,null,null,null,null,{"$f":"AM514 & \".5\"","v":"4.0.3.1.2.4.5"},"5 группа: от 0,1 до 1 млн.м3 включительно","тыс.руб.",0,0,0]
[null,null,null,null,null,null,null,null,null,null,null,null,null,null,null,null,null,null,null,null,null,null,null,null,null,null,null,null,null,null,null,"NGU",null,null,null,null,null,null,{"$f":"AM514 & \".6\"","v":"4.0.3.1.2.4.6"},"6 группа: от 0,01 до 0,1 млн.м3 включительно","тыс.руб.",0,0,0]
[null,null,null,null,null,null,null,null,null,null,null,null,null,null,null,null,null,null,null,null,null,null,null,null,null,null,null,null,null,null,null,"NGU",null,null,null,null,null,null,{"$f":"AM514 & \".7\"","v":"4.0.3.1.2.4.7"},"7 группа: до 0,01 млн.м3 включительно","тыс.руб.",0,0,0]
[null,null,null,null,null,null,null,null,null,null,null,null,null,null,null,null,null,null,null,null,null,null,null,null,null,null,null,null,null,null,null,"NGU",null,null,null,null,null,null,"4.0.3.1.2.5","Природный газ. Газ сверхлимитный. ТТР (плата за услуги транзитной транспортировки), всего","тыс.руб.",0,0,0]
[null,null,null,null,null,null,null,null,null,null,null,null,null,null,null,null,null,null,null,null,null,null,null,null,null,null,null,null,null,null,null,"NGU",null,null,null,null,null,null,{"$f":"AM522 & \".1\"","v":"4.0.3.1.2.5.1"},"Средний тариф транзитной транспортировки","руб./тыс.м3",{"$f":"IF(AP524=0,0,AP522/AP524*1000)","v":0},{"$f":"IF(AQ524=0,0,AQ522/AQ524*1000)","v":0},{"$f":"IF(AR524=0,0,AR522/AR524*1000)","v":0}]
[null,null,null,null,null,null,null,null,null,null,null,null,null,null,null,null,null,null,null,null,null,null,null,null,null,null,null,null,null,null,null,"NGU",null,null,null,null,null,null,{"$f":"AM522 & \".2\"","v":"4.0.3.1.2.5.2"},"Объём топлива, транспортируемого в транзитном потоке","тыс.м3",{"$f":"SUMIF($AS$9:$AT$9,AP$9,$AS524:$AT524)","v":0},{"$f":"SUMIF($AS$9:$AT$9,AQ$9,$AS524:$AT524)","v":0},{"$f":"SUMIF($AS$9:$AT$9,AR$9,$AS524:$AT524)","v":0}]
[null,null,null,null,null,null,null,null,null,null,null,null,null,null,null,null,null,null,null,null,null,null,null,null,null,null,null,null,null,null,null,null,null,null,null,null,null,null,"4.PATR","Перевозка автомобильным транспортом. Цена (тариф) за транспортировку (перевозку) единицы топлива"]
[]
[]
[]
[]
[]
[]
[]
[]
[null,null,null,null,null,null,null,null,null,null,null,null,null,null,null,null,null,null,null,null,null,null,null,null,null,null,null,null,null,null,null,"GCN",null,null,null,null,null,null,"4.PATR.GCN","Газовый конденсат","руб./тнт",{"$f":"IF(AP578=0,0,AP622/AP578*1000)","v":0},0,0]
[null,null,null,null,null,null,null,null,null,null,null,null,null,null,null,null,null,null,null,null,null,null,null,null,null,null,null,null,null,null,null,"LNG",null,null,null,null,null,null,"4.PATR.LNG","Газ сжиженный","руб./тнт",0,0,0]
[null,null,null,null,null,null,null,null,null,null,null,null,null,null,null,null,null,null,null,null,null,null,null,null,null,null,null,null,null,null,null,"DSL",null,null,null,null,null,null,"4.PATR.DSL","Дизельное топливо","руб./тнт",0,0,0]
[null,null,null,null,null,null,null,null,null,null,null,null,null,null,null,null,null,null,null,null,null,null,null,null,null,null,null,null,null,null,null,"DSLA",null,null,null,null,null,null,"4.PATR.DSLA","А (арктическое)","руб./тнт",0,0,0]
[null,null,null,null,null,null,null,null,null,null,null,null,null,null,null,null,null,null,null,null,null,null,null,null,null,null,null,null,null,null,null,"DSLW",null,null,null,null,null,null,"4.PATR.DSLW","З (зимнее)","руб./тнт",0,0,0]
[null,null,null,null,null,null,null,null,null,null,null,null,null,null,null,null,null,null,null,null,null,null,null,null,null,null,null,null,null,null,null,"DSLS",null,null,null,null,null,null,"4.PATR.DSLS","Л (летнее)","руб./тнт",0,0,0]
[null,null,null,null,null,null,null,null,null,null,null,null,null,null,null,null,null,null,null,null,null,null,null,null,null,null,null,null,null,null,null,"DSLO",null,null,null,null,null,null,"4.PATR.DSLO","Е (межсезонное)","руб./тнт",0,0,0]
[null,null,null,null,null,null,null,null,null,null,null,null,null,null,null,null,null,null,null,null,null,null,null,null,null,null,null,null,null,null,null,"MST",null,null,null,null,null,null,"4.PATR.MST","Мазут","руб./тнт",0,0,0]
[null,null,null,null,null,null,null,null,null,null,null,null,null,null,null,null,null,null,null,null,null,null,null,null,null,null,null,null,null,null,null,"MSTM40",null,null,null,null,null,null,"4.PATR.MSTM40","М-40","руб./тнт",0,0,0]
[null,null,null,null,null,null,null,null,null,null,null,null,null,null,null,null,null,null,null,null,null,null,null,null,null,null,null,null,null,null,null,"MSTM100",null,null,null,null,null,null,"4.PATR.MSTM100","М-100","руб./тнт",0,0,0]
[null,null,null,null,null,null,null,null,null,null,null,null,null,null,null,null,null,null,null,null,null,null,null,null,null,null,null,null,null,null,null,"MSTM200",null,null,null,null,null,null,"4.PATR.MSTM200","М-200","руб./тнт",0,0,0]
[null,null,null,null,null,null,null,null,null,null,null,null,null,null,null,null,null,null,null,null,null,null,null,null,null,null,null,null,null,null,null,"MSTT",null,null,null,null,null,null,"4.PATR.MSTT","мазут марки \"Т\"","руб./тнт",0,0,0]
[null,null,null,null,null,null,null,null,null,null,null,null,null,null,null,null,null,null,null,null,null,null,null,null,null,null,null,null,null,null,null,"MSTF5",null,null,null,null,null,null,"4.PATR.MSTF5","Ф-5","руб./тнт",0,0,0]
[null,null,null,null,null,null,null,null,null,null,null,null,null,null,null,null,null,null,null,null,null,null,null,null,null,null,null,null,null,null,null,"MSTF12",null,null,null,null,null,null,"4.PATR.MSTF12","Ф-12","руб./тнт",0,0,0]
[null,null,null,null,null,null,null,null,null,null,null,null,null,null,null,null,null,null,null,null,null,null,null,null,null,null,null,null,null,null,null,"OIL",null,null,null,null,null,null,"4.PATR.OIL","Нефть","руб./тнт",0,0,0]
[null,null,null,null,null,null,null,null,null,null,null,null,null,null,null,null,null,null,null,null,null,null,null,null,null,null,null,null,null,null,null,"COA",null,null,null,null,null,null,"4.PATR.COA","Уголь","руб./тнт",0,0,0]
[null,null,null,null,null,null,null,null,null,null,null,null,null,null,null,null,null,null,null,null,null,null,null,null,null,null,null,null,null,null,null,"COAA",null,null,null,null,null,null,"4.PATR.COAA","Уголь антрацит","руб./тнт",0,0,0]
[null,null,null,null,null,null,null,null,null,null,null,null,null,null,null,null,null,null,null,null,null,null,null,null,null,null,null,null,null,null,null,"COAB",null,null,null,null,null,null,"4.PATR.COAB","Уголь бурый","руб./тнт",0,0,0]
[null,null,null,null,null,null,null,null,null,null,null,null,null,null,null,null,null,null,null,null,null,null,null,null,null,null,null,null,null,null,null,"COAG",null,null,null,null,null,null,"4.PATR.COAG","Уголь газовый","руб./тнт",0,0,0]
[null,null,null,null,null,null,null,null,null,null,null,null,null,null,null,null,null,null,null,null,null,null,null,null,null,null,null,null,null,null,null,"COALF",null,null,null,null,null,null,"4.PATR.COALF","Уголь длиннопламенный","руб./тнт",0,0,0]
[null,null,null,null,null,null,null,null,null,null,null,null,null,null,null,null,null,null,null,null,null,null,null,null,null,null,null,null,null,null,null,"COAF",null,null,null,null,null,null,"4.PATR.COAF","Уголь жирный","руб./тнт",0,0,0]
[null,null,null,null,null,null,null,null,null,null,null,null,null,null,null,null,null,null,null,null,null,null,null,null,null,null,null,null,null,null,null,"COAC",null,null,null,null,null,null,"4.PATR.COAC","Уголь коксовый","руб./тнт",0,0,0]
[null,null,null,null,null,null,null,null,null,null,null,null,null,null,null,null,null,null,null,null,null,null,null,null,null,null,null,null,null,null,null,"COASC",null,null,null,null,null,null,"4.PATR.COASC","Уголь отощённо-спекающийся","руб./тнт",0,0,0]
[null,null,null,null,null,null,null,null,null,null,null,null,null,null,null,null,null,null,null,null,null,null,null,null,null,null,null,null,null,null,null,"COAWC",null,null,null,null,null,null,"4.PATR.COAWC","Уголь слабоспекающийся","руб./тнт",0,0,0]
[null,null,null,null,null,null,null,null,null,null,null,null,null,null,null,null,null,null,null,null,null,null,null,null,null,null,null,null,null,null,null,"COAS",null,null,null,null,null,null,"4.PATR.COAS","Уголь тощий","руб./тнт",0,0,0]
[]
[]
[null,null,null,null,null,null,null,null,null,null,null,null,null,null,null,null,null,null,null,null,null,null,null,null,null,null,null,null,null,null,null,"CWD",null,null,null,null,null,null,"4.PATR.CWD","Уголь древесный","руб./тнт",{"$f":"IF(AP605=0,0,AP649/AP605*1000)","v":0},0,0]
[null,null,null,null,null,null,null,null,null,null,null,null,null,null,null,null,null,null,null,null,null,null,null,null,null,null,null,null,null,null,null,"WDS",null,null,null,null,null,null,"4.PATR.WDS","Дрова","руб./тнт",0,0,0]
[null,null,null,null,null,null,null,null,null,null,null,null,null,null,null,null,null,null,null,null,null,null,null,null,null,null,null,null,null,null,null,"PLT",null,null,null,null,null,null,"4.PATR.PLT","Пеллеты","руб./тнт",0,0,0]
[null,null,null,null,null,null,null,null,null,null,null,null,null,null,null,null,null,null,null,null,null,null,null,null,null,null,null,null,null,null,null,"SAW",null,null,null,null,null,null,"4.PATR.SAW","Опилки","руб./тнт",0,0,0]
[null,null,null,null,null,null,null,null,null,null,null,null,null,null,null,null,null,null,null,null,null,null,null,null,null,null,null,null,null,null,null,"PEA",null,null,null,null,null,null,"4.PATR.PEA","Торф","руб./тнт",0,0,0]
[null,null,null,null,null,null,null,null,null,null,null,null,null,null,null,null,null,null,null,null,null,null,null,null,null,null,null,null,null,null,null,"SHL",null,null,null,null,null,null,"4.PATR.SHL","Сланцы","руб./тнт",0,0,0]
[null,null,null,null,null,null,null,null,null,null,null,null,null,null,null,null,null,null,null,null,null,null,null,null,null,null,null,null,null,null,null,"STF",null,null,null,null,null,null,"4.PATR.STF","Печное бытовое топливо","руб./тнт",0,0,0]
[]
[null,null,null,null,null,null,null,null,null,null,null,null,null,null,null,null,null,null,null,null,null,null,null,null,null,null,null,null,null,null,null,null,null,null,null,null,null,null,"4.VATR","Перевозка автомобильным транспортом. Объём транспортировки (перевозки) топлива"]
[]
[]
[]
[]
[]
[]
[]
[]
[null,null,null,null,null,null,null,null,null,null,null,null,null,null,null,null,null,null,null,null,null,null,null,null,null,null,null,null,null,null,null,"GCN",null,null,null,null,null,null,"4.VATR.GCN","Газовый конденсат","тнт",{"$f":"SUMIF($AS$9:$AT$9,AP$9,$AS578:$AT578)","v":0},0,0]
[null,null,null,null,null,null,null,null,null,null,null,null,null,null,null,null,null,null,null,null,null,null,null,null,null,null,null,null,null,null,null,"LNG",null,null,null,null,null,null,"4.VATR.LNG","Газ сжиженный","тнт",0,0,0]
[null,null,null,null,null,null,null,null,null,null,null,null,null,null,null,null,null,null,null,null,null,null,null,null,null,null,null,null,null,null,null,"DSL",null,null,null,null,null,null,"4.VATR.DSL","Дизельное топливо","тнт",0,0,0]
[null,null,null,null,null,null,null,null,null,null,null,null,null,null,null,null,null,null,null,null,null,null,null,null,null,null,null,null,null,null,null,"DSLA",null,null,null,null,null,null,"4.VATR.DSLA","А (арктическое)","тнт",0,0,0]
[null,null,null,null,null,null,null,null,null,null,null,null,null,null,null,null,null,null,null,null,null,null,null,null,null,null,null,null,null,null,null,"DSLW",null,null,null,null,null,null,"4.VATR.DSLW","З (зимнее)","тнт",0,0,0]
[null,null,null,null,null,null,null,null,null,null,null,null,null,null,null,null,null,null,null,null,null,null,null,null,null,null,null,null,null,null,null,"DSLS",null,null,null,null,null,null,"4.VATR.DSLS","Л (летнее)","тнт",0,0,0]
[null,null,null,null,null,null,null,null,null,null,null,null,null,null,null,null,null,null,null,null,null,null,null,null,null,null,null,null,null,null,null,"DSLO",null,null,null,null,null,null,"4.VATR.DSLO","Е (межсезонное)","тнт",0,0,0]
[null,null,null,null,null,null,null,null,null,null,null,null,null,null,null,null,null,null,null,null,null,null,null,null,null,null,null,null,null,null,null,"MST",null,null,null,null,null,null,"4.VATR.MST","Мазут","тнт",0,0,0]
[null,null,null,null,null,null,null,null,null,null,null,null,null,null,null,null,null,null,null,null,null,null,null,null,null,null,null,null,null,null,null,"MSTM40",null,null,null,null,null,null,"4.VATR.MSTM40","М-40","тнт",0,0,0]
[null,null,null,null,null,null,null,null,null,null,null,null,null,null,null,null,null,null,null,null,null,null,null,null,null,null,null,null,null,null,null,"MSTM100",null,null,null,null,null,null,"4.VATR.MSTM100","М-100","тнт",0,0,0]
[null,null,null,null,null,null,null,null,null,null,null,null,null,null,null,null,null,null,null,null,null,null,null,null,null,null,null,null,null,null,null,"MSTM200",null,null,null,null,null,null,"4.VATR.MSTM200","М-200","тнт",0,0,0]
[null,null,null,null,null,null,null,null,null,null,null,null,null,null,null,null,null,null,null,null,null,null,null,null,null,null,null,null,null,null,null,"MSTT",null,null,null,null,null,null,"4.VATR.MSTT","мазут марки \"Т\"","тнт",0,0,0]
[null,null,null,null,null,null,null,null,null,null,null,null,null,null,null,null,null,null,null,null,null,null,null,null,null,null,null,null,null,null,null,"MSTF5",null,null,null,null,null,null,"4.VATR.MSTF5","Ф-5","тнт",0,0,0]
[null,null,null,null,null,null,null,null,null,null,null,null,null,null,null,null,null,null,null,null,null,null,null,null,null,null,null,null,null,null,null,"MSTF12",null,null,null,null,null,null,"4.VATR.MSTF12","Ф-12","тнт",0,0,0]
[null,null,null,null,null,null,null,null,null,null,null,null,null,null,null,null,null,null,null,null,null,null,null,null,null,null,null,null,null,null,null,"OIL",null,null,null,null,null,null,"4.VATR.OIL","Нефть","тнт",0,0,0]
[null,null,null,null,null,null,null,null,null,null,null,null,null,null,null,null,null,null,null,null,null,null,null,null,null,null,null,null,null,null,null,"COA",null,null,null,null,null,null,"4.VATR.COA","Уголь","тнт",0,0,0]
[null,null,null,null,null,null,null,null,null,null,null,null,null,null,null,null,null,null,null,null,null,null,null,null,null,null,null,null,null,null,null,"COAA",null,null,null,null,null,null,"4.VATR.COAA","Уголь антрацит","тнт",0,0,0]
[null,null,null,null,null,null,null,null,null,null,null,null,null,null,null,null,null,null,null,null,null,null,null,null,null,null,null,null,null,null,null,"COAB",null,null,null,null,null,null,"4.VATR.COAB","Уголь бурый","тнт",0,0,0]
[null,null,null,null,null,null,null,null,null,null,null,null,null,null,null,null,null,null,null,null,null,null,null,null,null,null,null,null,null,null,null,"COAG",null,null,null,null,null,null,"4.VATR.COAG","Уголь газовый","тнт",0,0,0]
[null,null,null,null,null,null,null,null,null,null,null,null,null,null,null,null,null,null,null,null,null,null,null,null,null,null,null,null,null,null,null,"COALF",null,null,null,null,null,null,"4.VATR.COALF","Уголь длиннопламенный","тнт",0,0,0]
[null,null,null,null,null,null,null,null,null,null,null,null,null,null,null,null,null,null,null,null,null,null,null,null,null,null,null,null,null,null,null,"COAF",null,null,null,null,null,null,"4.VATR.COAF","Уголь жирный","тнт",0,0,0]
[null,null,null,null,null,null,null,null,null,null,null,null,null,null,null,null,null,null,null,null,null,null,null,null,null,null,null,null,null,null,null,"COAC",null,null,null,null,null,null,"4.VATR.COAC","Уголь коксовый","тнт",0,0,0]
[null,null,null,null,null,null,null,null,null,null,null,null,null,null,null,null,null,null,null,null,null,null,null,null,null,null,null,null,null,null,null,"COASC",null,null,null,null,null,null,"4.VATR.COASC","Уголь отощённо-спекающийся","тнт",0,0,0]
[null,null,null,null,null,null,null,null,null,null,null,null,null,null,null,null,null,null,null,null,null,null,null,null,null,null,null,null,null,null,null,"COAWC",null,null,null,null,null,null,"4.VATR.COAWC","Уголь слабоспекающийся","тнт",0,0,0]
[null,null,null,null,null,null,null,null,null,null,null,null,null,null,null,null,null,null,null,null,null,null,null,null,null,null,null,null,null,null,null,"COAS",null,null,null,null,null,null,"4.VATR.COAS","Уголь тощий","тнт",0,0,0]
[]
[]
[null,null,null,null,null,null,null,null,null,null,null,null,null,null,null,null,null,null,null,null,null,null,null,null,null,null,null,null,null,null,null,"CWD",null,null,null,null,null,null,"4.VATR.CWD","Уголь древесный","тнт",{"$f":"SUMIF($AS$9:$AT$9,AP$9,$AS605:$AT605)","v":0},0,0]
[null,null,null,null,null,null,null,null,null,null,null,null,null,null,null,null,null,null,null,null,null,null,null,null,null,null,null,null,null,null,null,"WDS",null,null,null,null,null,null,"4.VATR.WDS","Дрова","тнт",0,0,0]
[null,null,null,null,null,null,null,null,null,null,null,null,null,null,null,null,null,null,null,null,null,null,null,null,null,null,null,null,null,null,null,"PLT",null,null,null,null,null,null,"4.VATR.PLT","Пеллеты","тнт",0,0,0]
[null,null,null,null,null,null,null,null,null,null,null,null,null,null,null,null,null,null,null,null,null,null,null,null,null,null,null,null,null,null,null,"SAW",null,null,null,null,null,null,"4.VATR.SAW","Опилки","тнт",0,0,0]
[null,null,null,null,null,null,null,null,null,null,null,null,null,null,null,null,null,null,null,null,null,null,null,null,null,null,null,null,null,null,null,"PEA",null,null,null,null,null,null,"4.VATR.PEA","Торф","тнт",0,0,0]
[null,null,null,null,null,null,null,null,null,null,null,null,null,null,null,null,null,null,null,null,null,null,null,null,null,null,null,null,null,null,null,"SHL",null,null,null,null,null,null,"4.VATR.SHL","Сланцы","тнт",0,0,0]
[null,null,null,null,null,null,null,null,null,null,null,null,null,null,null,null,null,null,null,null,null,null,null,null,null,null,null,null,null,null,null,"STF",null,null,null,null,null,null,"4.VATR.STF","Печное бытовое топливо","тнт",0,0,0]
[]
[null,null,null,null,null,null,null,null,null,null,null,null,null,null,null,null,null,null,null,null,null,null,null,null,null,null,null,null,null,null,null,null,null,null,null,null,null,null,"4.CATR","Перевозка автомобильным транспортом. Стоимость транспортировки (перевозки) топлива","тыс.руб.",{"$f":"SUMIF($AS$9:$AT$9,AP$9,$AS613:$AT613)","v":0},{"$f":"SUMIF($AS$9:$AT$9,AQ$9,$AS613:$AT613)","v":0},{"$f":"SUMIF($AS$9:$AT$9,AR$9,$AS613:$AT613)","v":0}]
[]
[]
[]
[]
[]
[]
[]
[]
[null,null,null,null,null,null,null,null,null,null,null,null,null,null,null,null,null,null,null,null,null,null,null,null,null,null,null,null,null,null,null,"GCN",null,null,null,null,null,null,"4.CATR.GCN","Газовый конденсат","тыс.руб.",{"$f":"SUMIF($AS$9:$AT$9,AP$9,$AS622:$AT622)","v":0},0,0]
[null,null,null,null,null,null,null,null,null,null,null,null,null,null,null,null,null,null,null,null,null,null,null,null,null,null,null,null,null,null,null,"LNG",null,null,null,null,null,null,"4.CATR.LNG","Газ сжиженный","тыс.руб.",0,0,0]
[null,null,null,null,null,null,null,null,null,null,null,null,null,null,null,null,null,null,null,null,null,null,null,null,null,null,null,null,null,null,null,"DSL",null,null,null,null,null,null,"4.CATR.DSL","Дизельное топливо","тыс.руб.",0,0,0]
[null,null,null,null,null,null,null,null,null,null,null,null,null,null,null,null,null,null,null,null,null,null,null,null,null,null,null,null,null,null,null,"DSLA",null,null,null,null,null,null,"4.CATR.DSLA","А (арктическое)","тыс.руб.",0,0,0]
[null,null,null,null,null,null,null,null,null,null,null,null,null,null,null,null,null,null,null,null,null,null,null,null,null,null,null,null,null,null,null,"DSLW",null,null,null,null,null,null,"4.CATR.DSLW","З (зимнее)","тыс.руб.",0,0,0]
[null,null,null,null,null,null,null,null,null,null,null,null,null,null,null,null,null,null,null,null,null,null,null,null,null,null,null,null,null,null,null,"DSLS",null,null,null,null,null,null,"4.CATR.DSLS","Л (летнее)","тыс.руб.",0,0,0]
[null,null,null,null,null,null,null,null,null,null,null,null,null,null,null,null,null,null,null,null,null,null,null,null,null,null,null,null,null,null,null,"DSLO",null,null,null,null,null,null,"4.CATR.DSLO","Е (межсезонное)","тыс.руб.",0,0,0]
[null,null,null,null,null,null,null,null,null,null,null,null,null,null,null,null,null,null,null,null,null,null,null,null,null,null,null,null,null,null,null,"MST",null,null,null,null,null,null,"4.CATR.MST","Мазут","тыс.руб.",0,0,0]
[null,null,null,null,null,null,null,null,null,null,null,null,null,null,null,null,null,null,null,null,null,null,null,null,null,null,null,null,null,null,null,"MSTM40",null,null,null,null,null,null,"4.CATR.MSTM40","М-40","тыс.руб.",0,0,0]
[null,null,null,null,null,null,null,null,null,null,null,null,null,null,null,null,null,null,null,null,null,null,null,null,null,null,null,null,null,null,null,"MSTM100",null,null,null,null,null,null,"4.CATR.MSTM100","М-100","тыс.руб.",0,0,0]
[null,null,null,null,null,null,null,null,null,null,null,null,null,null,null,null,null,null,null,null,null,null,null,null,null,null,null,null,null,null,null,"MSTM200",null,null,null,null,null,null,"4.CATR.MSTM200","М-200","тыс.руб.",0,0,0]
[null,null,null,null,null,null,null,null,null,null,null,null,null,null,null,null,null,null,null,null,null,null,null,null,null,null,null,null,null,null,null,"MSTT",null,null,null,null,null,null,"4.CATR.MSTT","мазут марки \"Т\"","тыс.руб.",0,0,0]
[null,null,null,null,null,null,null,null,null,null,null,null,null,null,null,null,null,null,null,null,null,null,null,null,null,null,null,null,null,null,null,"MSTF5",null,null,null,null,null,null,"4.CATR.MSTF5","Ф-5","тыс.руб.",0,0,0]
[null,null,null,null,null,null,null,null,null,null,null,null,null,null,null,null,null,null,null,null,null,null,null,null,null,null,null,null,null,null,null,"MSTF12",null,null,null,null,null,null,"4.CATR.MSTF12","Ф-12","тыс.руб.",0,0,0]
[null,null,null,null,null,null,null,null,null,null,null,null,null,null,null,null,null,null,null,null,null,null,null,null,null,null,null,null,null,null,null,"OIL",null,null,null,null,null,null,"4.CATR.OIL","Нефть","тыс.руб.",0,0,0]
[null,null,null,null,null,null,null,null,null,null,null,null,null,null,null,null,null,null,null,null,null,null,null,null,null,null,null,null,null,null,null,"COA",null,null,null,null,null,null,"4.CATR.COA","Уголь","тыс.руб.",0,0,0]
[null,null,null,null,null,null,null,null,null,null,null,null,null,null,null,null,null,null,null,null,null,null,null,null,null,null,null,null,null,null,null,"COAA",null,null,null,null,null,null,"4.CATR.COAA","Уголь антрацит","тыс.руб.",0,0,0]
[null,null,null,null,null,null,null,null,null,null,null,null,null,null,null,null,null,null,null,null,null,null,null,null,null,null,null,null,null,null,null,"COAB",null,null,null,null,null,null,"4.CATR.COAB","Уголь бурый","тыс.руб.",0,0,0]
[null,null,null,null,null,null,null,null,null,null,null,null,null,null,null,null,null,null,null,null,null,null,null,null,null,null,null,null,null,null,null,"COAG",null,null,null,null,null,null,"4.CATR.COAG","Уголь газовый","тыс.руб.",0,0,0]
[null,null,null,null,null,null,null,null,null,null,null,null,null,null,null,null,null,null,null,null,null,null,null,null,null,null,null,null,null,null,null,"COALF",null,null,null,null,null,null,"4.CATR.COALF","Уголь длиннопламенный","тыс.руб.",0,0,0]
[null,null,null,null,null,null,null,null,null,null,null,null,null,null,null,null,null,null,null,null,null,null,null,null,null,null,null,null,null,null,null,"COAF",null,null,null,null,null,null,"4.CATR.COAF","Уголь жирный","тыс.руб.",0,0,0]
[null,null,null,null,null,null,null,null,null,null,null,null,null,null,null,null,null,null,null,null,null,null,null,null,null,null,null,null,null,null,null,"COAC",null,null,null,null,null,null,"4.CATR.COAC","Уголь коксовый","тыс.руб.",0,0,0]
[null,null,null,null,null,null,null,null,null,null,null,null,null,null,null,null,null,null,null,null,null,null,null,null,null,null,null,null,null,null,null,"COASC",null,null,null,null,null,null,"4.CATR.COASC","Уголь отощённо-спекающийся","тыс.руб.",0,0,0]
[null,null,null,null,null,null,null,null,null,null,null,null,null,null,null,null,null,null,null,null,null,null,null,null,null,null,null,null,null,null,null,"COAWC",null,null,null,null,null,null,"4.CATR.COAWC","Уголь слабоспекающийся","тыс.руб.",0,0,0]
[null,null,null,null,null,null,null,null,null,null,null,null,null,null,null,null,null,null,null,null,null,null,null,null,null,null,null,null,null,null,null,"COAS",null,null,null,null,null,null,"4.CATR.COAS","Уголь тощий","тыс.руб.",0,0,0]
[]
[]
[null,null,null,null,null,null,null,null,null,null,null,null,null,null,null,null,null,null,null,null,null,null,null,null,null,null,null,null,null,null,null,"CWD",null,null,null,null,null,null,"4.CATR.CWD","Уголь древесный","тыс.руб.",{"$f":"SUMIF($AS$9:$AT$9,AP$9,$AS649:$AT649)","v":0},0,0]
[null,null,null,null,null,null,null,null,null,null,null,null,null,null,null,null,null,null,null,null,null,null,null,null,null,null,null,null,null,null,null,"WDS",null,null,null,null,null,null,"4.CATR.WDS","Дрова","тыс.руб.",0,0,0]
[null,null,null,null,null,null,null,null,null,null,null,null,null,null,null,null,null,null,null,null,null,null,null,null,null,null,null,null,null,null,null,"PLT",null,null,null,null,null,null,"4.CATR.PLT","Пеллеты","тыс.руб.",0,0,0]
[null,null,null,null,null,null,null,null,null,null,null,null,null,null,null,null,null,null,null,null,null,null,null,null,null,null,null,null,null,null,null,"SAW",null,null,null,null,null,null,"4.CATR.SAW","Опилки","тыс.руб.",0,0,0]
[null,null,null,null,null,null,null,null,null,null,null,null,null,null,null,null,null,null,null,null,null,null,null,null,null,null,null,null,null,null,null,"PEA",null,null,null,null,null,null,"4.CATR.PEA","Торф","тыс.руб.",0,0,0]
[null,null,null,null,null,null,null,null,null,null,null,null,null,null,null,null,null,null,null,null,null,null,null,null,null,null,null,null,null,null,null,"SHL",null,null,null,null,null,null,"4.CATR.SHL","Сланцы","тыс.руб.",0,0,0]
[null,null,null,null,null,null,null,null,null,null,null,null,null,null,null,null,null,null,null,null,null,null,null,null,null,null,null,null,null,null,null,"STF",null,null,null,null,null,null,"4.CATR.STF","Печное бытовое топливо","тыс.руб.",0,0,0]
[]
[null,null,null,null,null,null,null,null,null,null,null,null,null,null,null,null,null,null,null,null,null,null,null,null,null,null,null,null,null,null,null,null,null,null,null,null,null,null,"4.PRTR","Перевозка ж/д транспортом. Цена (тариф) за транспортировку (перевозку) единицы топлива"]
[]
[]
[]
[]
[]
[]
[]
[]
[null,null,null,null,null,null,null,null,null,null,null,null,null,null,null,null,null,null,null,null,null,null,null,null,null,null,null,null,null,null,null,"GCN",null,null,null,null,null,null,"4.PRTR.GCN","Газовый конденсат","руб./тнт",{"$f":"IF(AP710=0,0,AP754/AP710*1000)","v":0},0,0]
[null,null,null,null,null,null,null,null,null,null,null,null,null,null,null,null,null,null,null,null,null,null,null,null,null,null,null,null,null,null,null,"LNG",null,null,null,null,null,null,"4.PRTR.LNG","Газ сжиженный","руб./тнт",0,0,0]
[null,null,null,null,null,null,null,null,null,null,null,null,null,null,null,null,null,null,null,null,null,null,null,null,null,null,null,null,null,null,null,"DSL",null,null,null,null,null,null,"4.PRTR.DSL","Дизельное топливо","руб./тнт",0,0,0]
[null,null,null,null,null,null,null,null,null,null,null,null,null,null,null,null,null,null,null,null,null,null,null,null,null,null,null,null,null,null,null,"DSLA",null,null,null,null,null,null,"4.PRTR.DSLA","А (арктическое)","руб./тнт",0,0,0]
[null,null,null,null,null,null,null,null,null,null,null,null,null,null,null,null,null,null,null,null,null,null,null,null,null,null,null,null,null,null,null,"DSLW",null,null,null,null,null,null,"4.PRTR.DSLW","З (зимнее)","руб./тнт",0,0,0]
[null,null,null,null,null,null,null,null,null,null,null,null,null,null,null,null,null,null,null,null,null,null,null,null,null,null,null,null,null,null,null,"DSLS",null,null,null,null,null,null,"4.PRTR.DSLS","Л (летнее)","руб./тнт",0,0,0]
[null,null,null,null,null,null,null,null,null,null,null,null,null,null,null,null,null,null,null,null,null,null,null,null,null,null,null,null,null,null,null,"DSLO",null,null,null,null,null,null,"4.PRTR.DSLO","Е (межсезонное)","руб./тнт",0,0,0]
[null,null,null,null,null,null,null,null,null,null,null,null,null,null,null,null,null,null,null,null,null,null,null,null,null,null,null,null,null,null,null,"MST",null,null,null,null,null,null,"4.PRTR.MST","Мазут","руб./тнт",0,0,0]
[null,null,null,null,null,null,null,null,null,null,null,null,null,null,null,null,null,null,null,null,null,null,null,null,null,null,null,null,null,null,null,"MSTM40",null,null,null,null,null,null,"4.PRTR.MSTM40","М-40","руб./тнт",0,0,0]
[null,null,null,null,null,null,null,null,null,null,null,null,null,null,null,null,null,null,null,null,null,null,null,null,null,null,null,null,null,null,null,"MSTM100",null,null,null,null,null,null,"4.PRTR.MSTM100","М-100","руб./тнт",0,0,0]
[null,null,null,null,null,null,null,null,null,null,null,null,null,null,null,null,null,null,null,null,null,null,null,null,null,null,null,null,null,null,null,"MSTM200",null,null,null,null,null,null,"4.PRTR.MSTM200","М-200","руб./тнт",0,0,0]
[null,null,null,null,null,null,null,null,null,null,null,null,null,null,null,null,null,null,null,null,null,null,null,null,null,null,null,null,null,null,null,"MSTT",null,null,null,null,null,null,"4.PRTR.MSTT","мазут марки \"Т\"","руб./тнт",0,0,0]
[null,null,null,null,null,null,null,null,null,null,null,null,null,null,null,null,null,null,null,null,null,null,null,null,null,null,null,null,null,null,null,"MSTF5",null,null,null,null,null,null,"4.PRTR.MSTF5","Ф-5","руб./тнт",0,0,0]
[null,null,null,null,null,null,null,null,null,null,null,null,null,null,null,null,null,null,null,null,null,null,null,null,null,null,null,null,null,null,null,"MSTF12",null,null,null,null,null,null,"4.PRTR.MSTF12","Ф-12","руб./тнт",0,0,0]
[null,null,null,null,null,null,null,null,null,null,null,null,null,null,null,null,null,null,null,null,null,null,null,null,null,null,null,null,null,null,null,"OIL",null,null,null,null,null,null,"4.PRTR.OIL","Нефть","руб./тнт",0,0,0]
[null,null,null,null,null,null,null,null,null,null,null,null,null,null,null,null,null,null,null,null,null,null,null,null,null,null,null,null,null,null,null,"COA",null,null,null,null,null,null,"4.PRTR.COA","Уголь","руб./тнт",0,0,0]
[null,null,null,null,null,null,null,null,null,null,null,null,null,null,null,null,null,null,null,null,null,null,null,null,null,null,null,null,null,null,null,"COAA",null,null,null,null,null,null,"4.PRTR.COAA","Уголь антрацит","руб./тнт",0,0,0]
[null,null,null,null,null,null,null,null,null,null,null,null,null,null,null,null,null,null,null,null,null,null,null,null,null,null,null,null,null,null,null,"COAB",null,null,null,null,null,null,"4.PRTR.COAB","Уголь бурый","руб./тнт",0,0,0]
[null,null,null,null,null,null,null,null,null,null,null,null,null,null,null,null,null,null,null,null,null,null,null,null,null,null,null,null,null,null,null,"COAG",null,null,null,null,null,null,"4.PRTR.COAG","Уголь газовый","руб./тнт",0,0,0]
[null,null,null,null,null,null,null,null,null,null,null,null,null,null,null,null,null,null,null,null,null,null,null,null,null,null,null,null,null,null,null,"COALF",null,null,null,null,null,null,"4.PRTR.COALF","Уголь длиннопламенный","руб./тнт",0,0,0]
[null,null,null,null,null,null,null,null,null,null,null,null,null,null,null,null,null,null,null,null,null,null,null,null,null,null,null,null,null,null,null,"COAF",null,null,null,null,null,null,"4.PRTR.COAF","Уголь жирный","руб./тнт",0,0,0]
[null,null,null,null,null,null,null,null,null,null,null,null,null,null,null,null,null,null,null,null,null,null,null,null,null,null,null,null,null,null,null,"COAC",null,null,null,null,null,null,"4.PRTR.COAC","Уголь коксовый","руб./тнт",0,0,0]
[null,null,null,null,null,null,null,null,null,null,null,null,null,null,null,null,null,null,null,null,null,null,null,null,null,null,null,null,null,null,null,"COASC",null,null,null,null,null,null,"4.PRTR.COASC","Уголь отощённо-спекающийся","руб./тнт",0,0,0]
[null,null,null,null,null,null,null,null,null,null,null,null,null,null,null,null,null,null,null,null,null,null,null,null,null,null,null,null,null,null,null,"COAWC",null,null,null,null,null,null,"4.PRTR.COAWC","Уголь слабоспекающийся","руб./тнт",0,0,0]
[null,null,null,null,null,null,null,null,null,null,null,null,null,null,null,null,null,null,null,null,null,null,null,null,null,null,null,null,null,null,null,"COAS",null,null,null,null,null,null,"4.PRTR.COAS","Уголь тощий","руб./тнт",0,0,0]
[]
[]
[null,null,null,null,null,null,null,null,null,null,null,null,null,null,null,null,null,null,null,null,null,null,null,null,null,null,null,null,null,null,null,"CWD",null,null,null,null,null,null,"4.PRTR.CWD","Уголь древесный","руб./тнт",{"$f":"IF(AP737=0,0,AP781/AP737*1000)","v":0},0,0]
[null,null,null,null,null,null,null,null,null,null,null,null,null,null,null,null,null,null,null,null,null,null,null,null,null,null,null,null,null,null,null,"WDS",null,null,null,null,null,null,"4.PRTR.WDS","Дрова","руб./тнт",0,0,0]
[null,null,null,null,null,null,null,null,null,null,null,null,null,null,null,null,null,null,null,null,null,null,null,null,null,null,null,null,null,null,null,"PLT",null,null,null,null,null,null,"4.PRTR.PLT","Пеллеты","руб./тнт",0,0,0]
[null,null,null,null,null,null,null,null,null,null,null,null,null,null,null,null,null,null,null,null,null,null,null,null,null,null,null,null,null,null,null,"SAW",null,null,null,null,null,null,"4.PRTR.SAW","Опилки","руб./тнт",0,0,0]
[null,null,null,null,null,null,null,null,null,null,null,null,null,null,null,null,null,null,null,null,null,null,null,null,null,null,null,null,null,null,null,"PEA",null,null,null,null,null,null,"4.PRTR.PEA","Торф","руб./тнт",0,0,0]
[null,null,null,null,null,null,null,null,null,null,null,null,null,null,null,null,null,null,null,null,null,null,null,null,null,null,null,null,null,null,null,"SHL",null,null,null,null,null,null,"4.PRTR.SHL","Сланцы","руб./тнт",0,0,0]
[null,null,null,null,null,null,null,null,null,null,null,null,null,null,null,null,null,null,null,null,null,null,null,null,null,null,null,null,null,null,null,"STF",null,null,null,null,null,null,"4.PRTR.STF","Печное бытовое топливо","руб./тнт",0,0,0]
[]
[null,null,null,null,null,null,null,null,null,null,null,null,null,null,null,null,null,null,null,null,null,null,null,null,null,null,null,null,null,null,null,null,null,null,null,null,null,null,"4.VRTR","Перевозка ж/д транспортом. Объём транспортировки (перевозки) топлива"]
[]
[]
[]
[]
[]
[]
[]
[]
[null,null,null,null,null,null,null,null,null,null,null,null,null,null,null,null,null,null,null,null,null,null,null,null,null,null,null,null,null,null,null,"GCN",null,null,null,null,null,null,"4.VRTR.GCN","Газовый конденсат","тнт",{"$f":"SUMIF($AS$9:$AT$9,AP$9,$AS710:$AT710)","v":0},0,0]
[null,null,null,null,null,null,null,null,null,null,null,null,null,null,null,null,null,null,null,null,null,null,null,null,null,null,null,null,null,null,null,"LNG",null,null,null,null,null,null,"4.VRTR.LNG","Газ сжиженный","тнт",0,0,0]
[null,null,null,null,null,null,null,null,null,null,null,null,null,null,null,null,null,null,null,null,null,null,null,null,null,null,null,null,null,null,null,"DSL",null,null,null,null,null,null,"4.VRTR.DSL","Дизельное топливо","тнт",0,0,0]
[null,null,null,null,null,null,null,null,null,null,null,null,null,null,null,null,null,null,null,null,null,null,null,null,null,null,null,null,null,null,null,"DSLA",null,null,null,null,null,null,"4.VRTR.DSLA","А (арктическое)","тнт",0,0,0]
[null,null,null,null,null,null,null,null,null,null,null,null,null,null,null,null,null,null,null,null,null,null,null,null,null,null,null,null,null,null,null,"DSLW",null,null,null,null,null,null,"4.VRTR.DSLW","З (зимнее)","тнт",0,0,0]
[null,null,null,null,null,null,null,null,null,null,null,null,null,null,null,null,null,null,null,null,null,null,null,null,null,null,null,null,null,null,null,"DSLS",null,null,null,null,null,null,"4.VRTR.DSLS","Л (летнее)","тнт",0,0,0]
[null,null,null,null,null,null,null,null,null,null,null,null,null,null,null,null,null,null,null,null,null,null,null,null,null,null,null,null,null,null,null,"DSLO",null,null,null,null,null,null,"4.VRTR.DSLO","Е (межсезонное)","тнт",0,0,0]
[null,null,null,null,null,null,null,null,null,null,null,null,null,null,null,null,null,null,null,null,null,null,null,null,null,null,null,null,null,null,null,"MST",null,null,null,null,null,null,"4.VRTR.MST","Мазут","тнт",0,0,0]
[null,null,null,null,null,null,null,null,null,null,null,null,null,null,null,null,null,null,null,null,null,null,null,null,null,null,null,null,null,null,null,"MSTM40",null,null,null,null,null,null,"4.VRTR.MSTM40","М-40","тнт",0,0,0]
[null,null,null,null,null,null,null,null,null,null,null,null,null,null,null,null,null,null,null,null,null,null,null,null,null,null,null,null,null,null,null,"MSTM100",null,null,null,null,null,null,"4.VRTR.MSTM100","М-100","тнт",0,0,0]
[null,null,null,null,null,null,null,null,null,null,null,null,null,null,null,null,null,null,null,null,null,null,null,null,null,null,null,null,null,null,null,"MSTM200",null,null,null,null,null,null,"4.VRTR.MSTM200","М-200","тнт",0,0,0]
[null,null,null,null,null,null,null,null,null,null,null,null,null,null,null,null,null,null,null,null,null,null,null,null,null,null,null,null,null,null,null,"MSTT",null,null,null,null,null,null,"4.VRTR.MSTT","мазут марки \"Т\"","тнт",0,0,0]
[null,null,null,null,null,null,null,null,null,null,null,null,null,null,null,null,null,null,null,null,null,null,null,null,null,null,null,null,null,null,null,"MSTF5",null,null,null,null,null,null,"4.VRTR.MSTF5","Ф-5","тнт",0,0,0]
[null,null,null,null,null,null,null,null,null,null,null,null,null,null,null,null,null,null,null,null,null,null,null,null,null,null,null,null,null,null,null,"MSTF12",null,null,null,null,null,null,"4.VRTR.MSTF12","Ф-12","тнт",0,0,0]
[null,null,null,null,null,null,null,null,null,null,null,null,null,null,null,null,null,null,null,null,null,null,null,null,null,null,null,null,null,null,null,"OIL",null,null,null,null,null,null,"4.VRTR.OIL","Нефть","тнт",0,0,0]
[null,null,null,null,null,null,null,null,null,null,null,null,null,null,null,null,null,null,null,null,null,null,null,null,null,null,null,null,null,null,null,"COA",null,null,null,null,null,null,"4.VRTR.COA","Уголь","тнт",0,0,0]
[null,null,null,null,null,null,null,null,null,null,null,null,null,null,null,null,null,null,null,null,null,null,null,null,null,null,null,null,null,null,null,"COAA",null,null,null,null,null,null,"4.VRTR.COAA","Уголь антрацит","тнт",0,0,0]
[null,null,null,null,null,null,null,null,null,null,null,null,null,null,null,null,null,null,null,null,null,null,null,null,null,null,null,null,null,null,null,"COAB",null,null,null,null,null,null,"4.VRTR.COAB","Уголь бурый","тнт",0,0,0]
[null,null,null,null,null,null,null,null,null,null,null,null,null,null,null,null,null,null,null,null,null,null,null,null,null,null,null,null,null,null,null,"COAG",null,null,null,null,null,null,"4.VRTR.COAG","Уголь газовый","тнт",0,0,0]
[null,null,null,null,null,null,null,null,null,null,null,null,null,null,null,null,null,null,null,null,null,null,null,null,null,null,null,null,null,null,null,"COALF",null,null,null,null,null,null,"4.VRTR.COALF","Уголь длиннопламенный","тнт",0,0,0]
[null,null,null,null,null,null,null,null,null,null,null,null,null,null,null,null,null,null,null,null,null,null,null,null,null,null,null,null,null,null,null,"COAF",null,null,null,null,null,null,"4.VRTR.COAF","Уголь жирный","тнт",0,0,0]
[null,null,null,null,null,null,null,null,null,null,null,null,null,null,null,null,null,null,null,null,null,null,null,null,null,null,null,null,null,null,null,"COAC",null,null,null,null,null,null,"4.VRTR.COAC","Уголь коксовый","тнт",0,0,0]
[null,null,null,null,null,null,null,null,null,null,null,null,null,null,null,null,null,null,null,null,null,null,null,null,null,null,null,null,null,null,null,"COASC",null,null,null,null,null,null,"4.VRTR.COASC","Уголь отощённо-спекающийся","тнт",0,0,0]
[null,null,null,null,null,null,null,null,null,null,null,null,null,null,null,null,null,null,null,null,null,null,null,null,null,null,null,null,null,null,null,"COAWC",null,null,null,null,null,null,"4.VRTR.COAWC","Уголь слабоспекающийся","тнт",0,0,0]
[null,null,null,null,null,null,null,null,null,null,null,null,null,null,null,null,null,null,null,null,null,null,null,null,null,null,null,null,null,null,null,"COAS",null,null,null,null,null,null,"4.VRTR.COAS","Уголь тощий","тнт",0,0,0]
[]
[]
[null,null,null,null,null,null,null,null,null,null,null,null,null,null,null,null,null,null,null,null,null,null,null,null,null,null,null,null,null,null,null,"CWD",null,null,null,null,null,null,"4.VRTR.CWD","Уголь древесный","тнт",{"$f":"SUMIF($AS$9:$AT$9,AP$9,$AS737:$AT737)","v":0},0,0]
[null,null,null,null,null,null,null,null,null,null,null,null,null,null,null,null,null,null,null,null,null,null,null,null,null,null,null,null,null,null,null,"WDS",null,null,null,null,null,null,"4.VRTR.WDS","Дрова","тнт",0,0,0]
[null,null,null,null,null,null,null,null,null,null,null,null,null,null,null,null,null,null,null,null,null,null,null,null,null,null,null,null,null,null,null,"PLT",null,null,null,null,null,null,"4.VRTR.PLT","Пеллеты","тнт",0,0,0]
[null,null,null,null,null,null,null,null,null,null,null,null,null,null,null,null,null,null,null,null,null,null,null,null,null,null,null,null,null,null,null,"SAW",null,null,null,null,null,null,"4.VRTR.SAW","Опилки","тнт",0,0,0]
[null,null,null,null,null,null,null,null,null,null,null,null,null,null,null,null,null,null,null,null,null,null,null,null,null,null,null,null,null,null,null,"PEA",null,null,null,null,null,null,"4.VRTR.PEA","Торф","тнт",0,0,0]
[null,null,null,null,null,null,null,null,null,null,null,null,null,null,null,null,null,null,null,null,null,null,null,null,null,null,null,null,null,null,null,"SHL",null,null,null,null,null,null,"4.VRTR.SHL","Сланцы","тнт",0,0,0]
[null,null,null,null,null,null,null,null,null,null,null,null,null,null,null,null,null,null,null,null,null,null,null,null,null,null,null,null,null,null,null,"STF",null,null,null,null,null,null,"4.VRTR.STF","Печное бытовое топливо","тнт",0,0,0]
[]
[null,null,null,null,null,null,null,null,null,null,null,null,null,null,null,null,null,null,null,null,null,null,null,null,null,null,null,null,null,null,null,null,null,null,null,null,null,null,"4.CRTR","Перевозка ж/д транспортом. Стоимость транспортировки (перевозки) топлива","тыс.руб.",{"$f":"SUMIF($AS$9:$AT$9,AP$9,$AS745:$AT745)","v":0},{"$f":"SUMIF($AS$9:$AT$9,AQ$9,$AS745:$AT745)","v":0},{"$f":"SUMIF($AS$9:$AT$9,AR$9,$AS745:$AT745)","v":0}]
[]
[]
[]
[]
[]
[]
[]
[]
[null,null,null,null,null,null,null,null,null,null,null,null,null,null,null,null,null,null,null,null,null,null,null,null,null,null,null,null,null,null,null,"GCN",null,null,null,null,null,null,"4.CRTR.GCN","Газовый конденсат","тыс.руб.",{"$f":"SUMIF($AS$9:$AT$9,AP$9,$AS754:$AT754)","v":0},0,0]
[null,null,null,null,null,null,null,null,null,null,null,null,null,null,null,null,null,null,null,null,null,null,null,null,null,null,null,null,null,null,null,"LNG",null,null,null,null,null,null,"4.CRTR.LNG","Газ сжиженный","тыс.руб.",0,0,0]
[null,null,null,null,null,null,null,null,null,null,null,null,null,null,null,null,null,null,null,null,null,null,null,null,null,null,null,null,null,null,null,"DSL",null,null,null,null,null,null,"4.CRTR.DSL","Дизельное топливо","тыс.руб.",0,0,0]
[null,null,null,null,null,null,null,null,null,null,null,null,null,null,null,null,null,null,null,null,null,null,null,null,null,null,null,null,null,null,null,"DSLA",null,null,null,null,null,null,"4.CRTR.DSLA","А (арктическое)","тыс.руб.",0,0,0]
[null,null,null,null,null,null,null,null,null,null,null,null,null,null,null,null,null,null,null,null,null,null,null,null,null,null,null,null,null,null,null,"DSLW",null,null,null,null,null,null,"4.CRTR.DSLW","З (зимнее)","тыс.руб.",0,0,0]
[null,null,null,null,null,null,null,null,null,null,null,null,null,null,null,null,null,null,null,null,null,null,null,null,null,null,null,null,null,null,null,"DSLS",null,null,null,null,null,null,"4.CRTR.DSLS","Л (летнее)","тыс.руб.",0,0,0]
[null,null,null,null,null,null,null,null,null,null,null,null,null,null,null,null,null,null,null,null,null,null,null,null,null,null,null,null,null,null,null,"DSLO",null,null,null,null,null,null,"4.CRTR.DSLO","Е (межсезонное)","тыс.руб.",0,0,0]
[null,null,null,null,null,null,null,null,null,null,null,null,null,null,null,null,null,null,null,null,null,null,null,null,null,null,null,null,null,null,null,"MST",null,null,null,null,null,null,"4.CRTR.MST","Мазут","тыс.руб.",0,0,0]
[null,null,null,null,null,null,null,null,null,null,null,null,null,null,null,null,null,null,null,null,null,null,null,null,null,null,null,null,null,null,null,"MSTM40",null,null,null,null,null,null,"4.CRTR.MSTM40","М-40","тыс.руб.",0,0,0]
[null,null,null,null,null,null,null,null,null,null,null,null,null,null,null,null,null,null,null,null,null,null,null,null,null,null,null,null,null,null,null,"MSTM100",null,null,null,null,null,null,"4.CRTR.MSTM100","М-100","тыс.руб.",0,0,0]
[null,null,null,null,null,null,null,null,null,null,null,null,null,null,null,null,null,null,null,null,null,null,null,null,null,null,null,null,null,null,null,"MSTM200",null,null,null,null,null,null,"4.CRTR.MSTM200","М-200","тыс.руб.",0,0,0]
[null,null,null,null,null,null,null,null,null,null,null,null,null,null,null,null,null,null,null,null,null,null,null,null,null,null,null,null,null,null,null,"MSTT",null,null,null,null,null,null,"4.CRTR.MSTT","мазут марки \"Т\"","тыс.руб.",0,0,0]
[null,null,null,null,null,null,null,null,null,null,null,null,null,null,null,null,null,null,null,null,null,null,null,null,null,null,null,null,null,null,null,"MSTF5",null,null,null,null,null,null,"4.CRTR.MSTF5","Ф-5","тыс.руб.",0,0,0]
[null,null,null,null,null,null,null,null,null,null,null,null,null,null,null,null,null,null,null,null,null,null,null,null,null,null,null,null,null,null,null,"MSTF12",null,null,null,null,null,null,"4.CRTR.MSTF12","Ф-12","тыс.руб.",0,0,0]
[null,null,null,null,null,null,null,null,null,null,null,null,null,null,null,null,null,null,null,null,null,null,null,null,null,null,null,null,null,null,null,"OIL",null,null,null,null,null,null,"4.CRTR.OIL","Нефть","тыс.руб.",0,0,0]
[null,null,null,null,null,null,null,null,null,null,null,null,null,null,null,null,null,null,null,null,null,null,null,null,null,null,null,null,null,null,null,"COA",null,null,null,null,null,null,"4.CRTR.COA","Уголь","тыс.руб.",0,0,0]
[null,null,null,null,null,null,null,null,null,null,null,null,null,null,null,null,null,null,null,null,null,null,null,null,null,null,null,null,null,null,null,"COAA",null,null,null,null,null,null,"4.CRTR.COAA","Уголь антрацит","тыс.руб.",0,0,0]
[null,null,null,null,null,null,null,null,null,null,null,null,null,null,null,null,null,null,null,null,null,null,null,null,null,null,null,null,null,null,null,"COAB",null,null,null,null,null,null,"4.CRTR.COAB","Уголь бурый","тыс.руб.",0,0,0]
[null,null,null,null,null,null,null,null,null,null,null,null,null,null,null,null,null,null,null,null,null,null,null,null,null,null,null,null,null,null,null,"COAG",null,null,null,null,null,null,"4.CRTR.COAG","Уголь газовый","тыс.руб.",0,0,0]
[null,null,null,null,null,null,null,null,null,null,null,null,null,null,null,null,null,null,null,null,null,null,null,null,null,null,null,null,null,null,null,"COALF",null,null,null,null,null,null,"4.CRTR.COALF","Уголь длиннопламенный","тыс.руб.",0,0,0]
[null,null,null,null,null,null,null,null,null,null,null,null,null,null,null,null,null,null,null,null,null,null,null,null,null,null,null,null,null,null,null,"COAF",null,null,null,null,null,null,"4.CRTR.COAF","Уголь жирный","тыс.руб.",0,0,0]
[null,null,null,null,null,null,null,null,null,null,null,null,null,null,null,null,null,null,null,null,null,null,null,null,null,null,null,null,null,null,null,"COAC",null,null,null,null,null,null,"4.CRTR.COAC","Уголь коксовый","тыс.руб.",0,0,0]
[null,null,null,null,null,null,null,null,null,null,null,null,null,null,null,null,null,null,null,null,null,null,null,null,null,null,null,null,null,null,null,"COASC",null,null,null,null,null,null,"4.CRTR.COASC","Уголь отощённо-спекающийся","тыс.руб.",0,0,0]
[null,null,null,null,null,null,null,null,null,null,null,null,null,null,null,null,null,null,null,null,null,null,null,null,null,null,null,null,null,null,null,"COAWC",null,null,null,null,null,null,"4.CRTR.COAWC","Уголь слабоспекающийся","тыс.руб.",0,0,0]
[null,null,null,null,null,null,null,null,null,null,null,null,null,null,null,null,null,null,null,null,null,null,null,null,null,null,null,null,null,null,null,"COAS",null,null,null,null,null,null,"4.CRTR.COAS","Уголь тощий","тыс.руб.",0,0,0]
[]
[]
[null,null,null,null,null,null,null,null,null,null,null,null,null,null,null,null,null,null,null,null,null,null,null,null,null,null,null,null,null,null,null,"CWD",null,null,null,null,null,null,"4.CRTR.CWD","Уголь древесный","тыс.руб.",{"$f":"SUMIF($AS$9:$AT$9,AP$9,$AS781:$AT781)","v":0},0,0]
[null,null,null,null,null,null,null,null,null,null,null,null,null,null,null,null,null,null,null,null,null,null,null,null,null,null,null,null,null,null,null,"WDS",null,null,null,null,null,null,"4.CRTR.WDS","Дрова","тыс.руб.",0,0,0]
[null,null,null,null,null,null,null,null,null,null,null,null,null,null,null,null,null,null,null,null,null,null,null,null,null,null,null,null,null,null,null,"PLT",null,null,null,null,null,null,"4.CRTR.PLT","Пеллеты","тыс.руб.",0,0,0]
[null,null,null,null,null,null,null,null,null,null,null,null,null,null,null,null,null,null,null,null,null,null,null,null,null,null,null,null,null,null,null,"SAW",null,null,null,null,null,null,"4.CRTR.SAW","Опилки","тыс.руб.",0,0,0]
[null,null,null,null,null,null,null,null,null,null,null,null,null,null,null,null,null,null,null,null,null,null,null,null,null,null,null,null,null,null,null,"PEA",null,null,null,null,null,null,"4.CRTR.PEA","Торф","тыс.руб.",0,0,0]
[null,null,null,null,null,null,null,null,null,null,null,null,null,null,null,null,null,null,null,null,null,null,null,null,null,null,null,null,null,null,null,"SHL",null,null,null,null,null,null,"4.CRTR.SHL","Сланцы","тыс.руб.",0,0,0]
[null,null,null,null,null,null,null,null,null,null,null,null,null,null,null,null,null,null,null,null,null,null,null,null,null,null,null,null,null,null,null,"STF",null,null,null,null,null,null,"4.CRTR.STF","Печное бытовое топливо","тыс.руб.",0,0,0]
[]
[null,null,null,null,null,null,null,null,null,null,null,null,null,null,null,null,null,null,null,null,null,null,null,null,null,null,null,null,null,null,null,null,null,null,null,null,null,null,"4.POTR","Иные виды транспортировки (перевозки). Цена (тариф) за транспортировку (перевозку) единицы топлива"]
[]
[]
[]
[]
[]
[]
[]
[]
[null,null,null,null,null,null,null,null,null,null,null,null,null,null,null,null,null,null,null,null,null,null,null,null,null,null,null,null,null,null,null,"GCN",null,null,null,null,null,null,"4.POTR.GCN","Газовый конденсат","руб./тнт",{"$f":"IF(AP842=0,0,AP886/AP842*1000)","v":0},0,0]
[null,null,null,null,null,null,null,null,null,null,null,null,null,null,null,null,null,null,null,null,null,null,null,null,null,null,null,null,null,null,null,"LNG",null,null,null,null,null,null,"4.POTR.LNG","Газ сжиженный","руб./тнт",0,0,0]
[null,null,null,null,null,null,null,null,null,null,null,null,null,null,null,null,null,null,null,null,null,null,null,null,null,null,null,null,null,null,null,"DSL",null,null,null,null,null,null,"4.POTR.DSL","Дизельное топливо","руб./тнт",0,0,0]
[null,null,null,null,null,null,null,null,null,null,null,null,null,null,null,null,null,null,null,null,null,null,null,null,null,null,null,null,null,null,null,"DSLA",null,null,null,null,null,null,"4.POTR.DSLA","А (арктическое)","руб./тнт",0,0,0]
[null,null,null,null,null,null,null,null,null,null,null,null,null,null,null,null,null,null,null,null,null,null,null,null,null,null,null,null,null,null,null,"DSLW",null,null,null,null,null,null,"4.POTR.DSLW","З (зимнее)","руб./тнт",0,0,0]
[null,null,null,null,null,null,null,null,null,null,null,null,null,null,null,null,null,null,null,null,null,null,null,null,null,null,null,null,null,null,null,"DSLS",null,null,null,null,null,null,"4.POTR.DSLS","Л (летнее)","руб./тнт",0,0,0]
[null,null,null,null,null,null,null,null,null,null,null,null,null,null,null,null,null,null,null,null,null,null,null,null,null,null,null,null,null,null,null,"DSLO",null,null,null,null,null,null,"4.POTR.DSLO","Е (межсезонное)","руб./тнт",0,0,0]
[null,null,null,null,null,null,null,null,null,null,null,null,null,null,null,null,null,null,null,null,null,null,null,null,null,null,null,null,null,null,null,"MST",null,null,null,null,null,null,"4.POTR.MST","Мазут","руб./тнт",0,0,0]
[null,null,null,null,null,null,null,null,null,null,null,null,null,null,null,null,null,null,null,null,null,null,null,null,null,null,null,null,null,null,null,"MSTM40",null,null,null,null,null,null,"4.POTR.MSTM40","М-40","руб./тнт",0,0,0]
[null,null,null,null,null,null,null,null,null,null,null,null,null,null,null,null,null,null,null,null,null,null,null,null,null,null,null,null,null,null,null,"MSTM100",null,null,null,null,null,null,"4.POTR.MSTM100","М-100","руб./тнт",0,0,0]
[null,null,null,null,null,null,null,null,null,null,null,null,null,null,null,null,null,null,null,null,null,null,null,null,null,null,null,null,null,null,null,"MSTM200",null,null,null,null,null,null,"4.POTR.MSTM200","М-200","руб./тнт",0,0,0]
[null,null,null,null,null,null,null,null,null,null,null,null,null,null,null,null,null,null,null,null,null,null,null,null,null,null,null,null,null,null,null,"MSTT",null,null,null,null,null,null,"4.POTR.MSTT","мазут марки \"Т\"","руб./тнт",0,0,0]
[null,null,null,null,null,null,null,null,null,null,null,null,null,null,null,null,null,null,null,null,null,null,null,null,null,null,null,null,null,null,null,"MSTF5",null,null,null,null,null,null,"4.POTR.MSTF5","Ф-5","руб./тнт",0,0,0]
[null,null,null,null,null,null,null,null,null,null,null,null,null,null,null,null,null,null,null,null,null,null,null,null,null,null,null,null,null,null,null,"MSTF12",null,null,null,null,null,null,"4.POTR.MSTF12","Ф-12","руб./тнт",0,0,0]
[null,null,null,null,null,null,null,null,null,null,null,null,null,null,null,null,null,null,null,null,null,null,null,null,null,null,null,null,null,null,null,"OIL",null,null,null,null,null,null,"4.POTR.OIL","Нефть","руб./тнт",0,0,0]
[null,null,null,null,null,null,null,null,null,null,null,null,null,null,null,null,null,null,null,null,null,null,null,null,null,null,null,null,null,null,null,"COA",null,null,null,null,null,null,"4.POTR.COA","Уголь","руб./тнт",0,0,0]
[null,null,null,null,null,null,null,null,null,null,null,null,null,null,null,null,null,null,null,null,null,null,null,null,null,null,null,null,null,null,null,"COAA",null,null,null,null,null,null,"4.POTR.COAA","Уголь антрацит","руб./тнт",0,0,0]
[null,null,null,null,null,null,null,null,null,null,null,null,null,null,null,null,null,null,null,null,null,null,null,null,null,null,null,null,null,null,null,"COAB",null,null,null,null,null,null,"4.POTR.COAB","Уголь бурый","руб./тнт",0,0,0]
[null,null,null,null,null,null,null,null,null,null,null,null,null,null,null,null,null,null,null,null,null,null,null,null,null,null,null,null,null,null,null,"COAG",null,null,null,null,null,null,"4.POTR.COAG","Уголь газовый","руб./тнт",0,0,0]
[null,null,null,null,null,null,null,null,null,null,null,null,null,null,null,null,null,null,null,null,null,null,null,null,null,null,null,null,null,null,null,"COALF",null,null,null,null,null,null,"4.POTR.COALF","Уголь длиннопламенный","руб./тнт",0,0,0]
[null,null,null,null,null,null,null,null,null,null,null,null,null,null,null,null,null,null,null,null,null,null,null,null,null,null,null,null,null,null,null,"COAF",null,null,null,null,null,null,"4.POTR.COAF","Уголь жирный","руб./тнт",0,0,0]
[null,null,null,null,null,null,null,null,null,null,null,null,null,null,null,null,null,null,null,null,null,null,null,null,null,null,null,null,null,null,null,"COAC",null,null,null,null,null,null,"4.POTR.COAC","Уголь коксовый","руб./тнт",0,0,0]
[null,null,null,null,null,null,null,null,null,null,null,null,null,null,null,null,null,null,null,null,null,null,null,null,null,null,null,null,null,null,null,"COASC",null,null,null,null,null,null,"4.POTR.COASC","Уголь отощённо-спекающийся","руб./тнт",0,0,0]
[null,null,null,null,null,null,null,null,null,null,null,null,null,null,null,null,null,null,null,null,null,null,null,null,null,null,null,null,null,null,null,"COAWC",null,null,null,null,null,null,"4.POTR.COAWC","Уголь слабоспекающийся","руб./тнт",0,0,0]
[null,null,null,null,null,null,null,null,null,null,null,null,null,null,null,null,null,null,null,null,null,null,null,null,null,null,null,null,null,null,null,"COAS",null,null,null,null,null,null,"4.POTR.COAS","Уголь тощий","руб./тнт",0,0,0]
[]
[]
[null,null,null,null,null,null,null,null,null,null,null,null,null,null,null,null,null,null,null,null,null,null,null,null,null,null,null,null,null,null,null,"CWD",null,null,null,null,null,null,"4.POTR.CWD","Уголь древесный","руб./тнт",{"$f":"IF(AP869=0,0,AP913/AP869*1000)","v":0},0,0]
[null,null,null,null,null,null,null,null,null,null,null,null,null,null,null,null,null,null,null,null,null,null,null,null,null,null,null,null,null,null,null,"WDS",null,null,null,null,null,null,"4.POTR.WDS","Дрова","руб./тнт",0,0,0]
[null,null,null,null,null,null,null,null,null,null,null,null,null,null,null,null,null,null,null,null,null,null,null,null,null,null,null,null,null,null,null,"PLT",null,null,null,null,null,null,"4.POTR.PLT","Пеллеты","руб./тнт",0,0,0]
[null,null,null,null,null,null,null,null,null,null,null,null,null,null,null,null,null,null,null,null,null,null,null,null,null,null,null,null,null,null,null,"SAW",null,null,null,null,null,null,"4.POTR.SAW","Опилки","руб./тнт",0,0,0]
[null,null,null,null,null,null,null,null,null,null,null,null,null,null,null,null,null,null,null,null,null,null,null,null,null,null,null,null,null,null,null,"PEA",null,null,null,null,null,null,"4.POTR.PEA","Торф","руб./тнт",0,0,0]
[null,null,null,null,null,null,null,null,null,null,null,null,null,null,null,null,null,null,null,null,null,null,null,null,null,null,null,null,null,null,null,"SHL",null,null,null,null,null,null,"4.POTR.SHL","Сланцы","руб./тнт",0,0,0]
[null,null,null,null,null,null,null,null,null,null,null,null,null,null,null,null,null,null,null,null,null,null,null,null,null,null,null,null,null,null,null,"STF",null,null,null,null,null,null,"4.POTR.STF","Печное бытовое топливо","руб./тнт",0,0,0]
[]
[null,null,null,null,null,null,null,null,null,null,null,null,null,null,null,null,null,null,null,null,null,null,null,null,null,null,null,null,null,null,null,null,null,null,null,null,null,null,"4.VOTR","Иные виды транспортировки (перевозки). Объём транспортировки (перевозки) топлива"]
[]
[]
[]
[]
[]
[]
[]
[]
[null,null,null,null,null,null,null,null,null,null,null,null,null,null,null,null,null,null,null,null,null,null,null,null,null,null,null,null,null,null,null,"GCN",null,null,null,null,null,null,"4.VOTR.GCN","Газовый конденсат","тнт",{"$f":"SUMIF($AS$9:$AT$9,AP$9,$AS842:$AT842)","v":0},0,0]
[null,null,null,null,null,null,null,null,null,null,null,null,null,null,null,null,null,null,null,null,null,null,null,null,null,null,null,null,null,null,null,"LNG",null,null,null,null,null,null,"4.VOTR.LNG","Газ сжиженный","тнт",0,0,0]
[null,null,null,null,null,null,null,null,null,null,null,null,null,null,null,null,null,null,null,null,null,null,null,null,null,null,null,null,null,null,null,"DSL",null,null,null,null,null,null,"4.VOTR.DSL","Дизельное топливо","тнт",0,0,0]
[null,null,null,null,null,null,null,null,null,null,null,null,null,null,null,null,null,null,null,null,null,null,null,null,null,null,null,null,null,null,null,"DSLA",null,null,null,null,null,null,"4.VOTR.DSLA","А (арктическое)","тнт",0,0,0]
[null,null,null,null,null,null,null,null,null,null,null,null,null,null,null,null,null,null,null,null,null,null,null,null,null,null,null,null,null,null,null,"DSLW",null,null,null,null,null,null,"4.VOTR.DSLW","З (зимнее)","тнт",0,0,0]
[null,null,null,null,null,null,null,null,null,null,null,null,null,null,null,null,null,null,null,null,null,null,null,null,null,null,null,null,null,null,null,"DSLS",null,null,null,null,null,null,"4.VOTR.DSLS","Л (летнее)","тнт",0,0,0]
[null,null,null,null,null,null,null,null,null,null,null,null,null,null,null,null,null,null,null,null,null,null,null,null,null,null,null,null,null,null,null,"DSLO",null,null,null,null,null,null,"4.VOTR.DSLO","Е (межсезонное)","тнт",0,0,0]
[null,null,null,null,null,null,null,null,null,null,null,null,null,null,null,null,null,null,null,null,null,null,null,null,null,null,null,null,null,null,null,"MST",null,null,null,null,null,null,"4.VOTR.MST","Мазут","тнт",0,0,0]
[null,null,null,null,null,null,null,null,null,null,null,null,null,null,null,null,null,null,null,null,null,null,null,null,null,null,null,null,null,null,null,"MSTM40",null,null,null,null,null,null,"4.VOTR.MSTM40","М-40","тнт",0,0,0]
[null,null,null,null,null,null,null,null,null,null,null,null,null,null,null,null,null,null,null,null,null,null,null,null,null,null,null,null,null,null,null,"MSTM100",null,null,null,null,null,null,"4.VOTR.MSTM100","М-100","тнт",0,0,0]
[null,null,null,null,null,null,null,null,null,null,null,null,null,null,null,null,null,null,null,null,null,null,null,null,null,null,null,null,null,null,null,"MSTM200",null,null,null,null,null,null,"4.VOTR.MSTM200","М-200","тнт",0,0,0]
[null,null,null,null,null,null,null,null,null,null,null,null,null,null,null,null,null,null,null,null,null,null,null,null,null,null,null,null,null,null,null,"MSTT",null,null,null,null,null,null,"4.VOTR.MSTT","мазут марки \"Т\"","тнт",0,0,0]
[null,null,null,null,null,null,null,null,null,null,null,null,null,null,null,null,null,null,null,null,null,null,null,null,null,null,null,null,null,null,null,"MSTF5",null,null,null,null,null,null,"4.VOTR.MSTF5","Ф-5","тнт",0,0,0]
[null,null,null,null,null,null,null,null,null,null,null,null,null,null,null,null,null,null,null,null,null,null,null,null,null,null,null,null,null,null,null,"MSTF12",null,null,null,null,null,null,"4.VOTR.MSTF12","Ф-12","тнт",0,0,0]
[null,null,null,null,null,null,null,null,null,null,null,null,null,null,null,null,null,null,null,null,null,null,null,null,null,null,null,null,null,null,null,"OIL",null,null,null,null,null,null,"4.VOTR.OIL","Нефть","тнт",0,0,0]
[null,null,null,null,null,null,null,null,null,null,null,null,null,null,null,null,null,null,null,null,null,null,null,null,null,null,null,null,null,null,null,"COA",null,null,null,null,null,null,"4.VOTR.COA","Уголь","тнт",0,0,0]
[null,null,null,null,null,null,null,null,null,null,null,null,null,null,null,null,null,null,null,null,null,null,null,null,null,null,null,null,null,null,null,"COAA",null,null,null,null,null,null,"4.VOTR.COAA","Уголь антрацит","тнт",0,0,0]
[null,null,null,null,null,null,null,null,null,null,null,null,null,null,null,null,null,null,null,null,null,null,null,null,null,null,null,null,null,null,null,"COAB",null,null,null,null,null,null,"4.VOTR.COAB","Уголь бурый","тнт",0,0,0]
[null,null,null,null,null,null,null,null,null,null,null,null,null,null,null,null,null,null,null,null,null,null,null,null,null,null,null,null,null,null,null,"COAG",null,null,null,null,null,null,"4.VOTR.COAG","Уголь газовый","тнт",0,0,0]
[null,null,null,null,null,null,null,null,null,null,null,null,null,null,null,null,null,null,null,null,null,null,null,null,null,null,null,null,null,null,null,"COALF",null,null,null,null,null,null,"4.VOTR.COALF","Уголь длиннопламенный","тнт",0,0,0]
[null,null,null,null,null,null,null,null,null,null,null,null,null,null,null,null,null,null,null,null,null,null,null,null,null,null,null,null,null,null,null,"COAF",null,null,null,null,null,null,"4.VOTR.COAF","Уголь жирный","тнт",0,0,0]
[null,null,null,null,null,null,null,null,null,null,null,null,null,null,null,null,null,null,null,null,null,null,null,null,null,null,null,null,null,null,null,"COAC",null,null,null,null,null,null,"4.VOTR.COAC","Уголь коксовый","тнт",0,0,0]
[null,null,null,null,null,null,null,null,null,null,null,null,null,null,null,null,null,null,null,null,null,null,null,null,null,null,null,null,null,null,null,"COASC",null,null,null,null,null,null,"4.VOTR.COASC","Уголь отощённо-спекающийся","тнт",0,0,0]
[null,null,null,null,null,null,null,null,null,null,null,null,null,null,null,null,null,null,null,null,null,null,null,null,null,null,null,null,null,null,null,"COAWC",null,null,null,null,null,null,"4.VOTR.COAWC","Уголь слабоспекающийся","тнт",0,0,0]
[null,null,null,null,null,null,null,null,null,null,null,null,null,null,null,null,null,null,null,null,null,null,null,null,null,null,null,null,null,null,null,"COAS",null,null,null,null,null,null,"4.VOTR.COAS","Уголь тощий","тнт",0,0,0]
[]
[]
[null,null,null,null,null,null,null,null,null,null,null,null,null,null,null,null,null,null,null,null,null,null,null,null,null,null,null,null,null,null,null,"CWD",null,null,null,null,null,null,"4.VOTR.CWD","Уголь древесный","тнт",{"$f":"SUMIF($AS$9:$AT$9,AP$9,$AS869:$AT869)","v":0},0,0]
[null,null,null,null,null,null,null,null,null,null,null,null,null,null,null,null,null,null,null,null,null,null,null,null,null,null,null,null,null,null,null,"WDS",null,null,null,null,null,null,"4.VOTR.WDS","Дрова","тнт",0,0,0]
[null,null,null,null,null,null,null,null,null,null,null,null,null,null,null,null,null,null,null,null,null,null,null,null,null,null,null,null,null,null,null,"PLT",null,null,null,null,null,null,"4.VOTR.PLT","Пеллеты","тнт",0,0,0]
[null,null,null,null,null,null,null,null,null,null,null,null,null,null,null,null,null,null,null,null,null,null,null,null,null,null,null,null,null,null,null,"SAW",null,null,null,null,null,null,"4.VOTR.SAW","Опилки","тнт",0,0,0]
[null,null,null,null,null,null,null,null,null,null,null,null,null,null,null,null,null,null,null,null,null,null,null,null,null,null,null,null,null,null,null,"PEA",null,null,null,null,null,null,"4.VOTR.PEA","Торф","тнт",0,0,0]
[null,null,null,null,null,null,null,null,null,null,null,null,null,null,null,null,null,null,null,null,null,null,null,null,null,null,null,null,null,null,null,"SHL",null,null,null,null,null,null,"4.VOTR.SHL","Сланцы","тнт",0,0,0]
[null,null,null,null,null,null,null,null,null,null,null,null,null,null,null,null,null,null,null,null,null,null,null,null,null,null,null,null,null,null,null,"STF",null,null,null,null,null,null,"4.VOTR.STF","Печное бытовое топливо","тнт",0,0,0]
[]
[null,null,null,null,null,null,null,null,null,null,null,null,null,null,null,null,null,null,null,null,null,null,null,null,null,null,null,null,null,null,null,null,null,null,null,null,null,null,"4.COTR","Иные виды транспортировки (перевозки). Стоимость транспортировки (перевозки) топлива","тыс.руб.",{"$f":"SUMIF($AS$9:$AT$9,AP$9,$AS877:$AT877)","v":0},{"$f":"SUMIF($AS$9:$AT$9,AQ$9,$AS877:$AT877)","v":0},{"$f":"SUMIF($AS$9:$AT$9,AR$9,$AS877:$AT877)","v":0}]
[]
[]
[]
[]
[]
[]
[]
[]
[null,null,null,null,null,null,null,null,null,null,null,null,null,null,null,null,null,null,null,null,null,null,null,null,null,null,null,null,null,null,null,"GCN",null,null,null,null,null,null,"4.COTR.GCN","Газовый конденсат","тыс.руб.",{"$f":"SUMIF($AS$9:$AT$9,AP$9,$AS886:$AT886)","v":0},0,0]
[null,null,null,null,null,null,null,null,null,null,null,null,null,null,null,null,null,null,null,null,null,null,null,null,null,null,null,null,null,null,null,"LNG",null,null,null,null,null,null,"4.COTR.LNG","Газ сжиженный","тыс.руб.",0,0,0]
[null,null,null,null,null,null,null,null,null,null,null,null,null,null,null,null,null,null,null,null,null,null,null,null,null,null,null,null,null,null,null,"DSL",null,null,null,null,null,null,"4.COTR.DSL","Дизельное топливо","тыс.руб.",0,0,0]
[null,null,null,null,null,null,null,null,null,null,null,null,null,null,null,null,null,null,null,null,null,null,null,null,null,null,null,null,null,null,null,"DSLA",null,null,null,null,null,null,"4.COTR.DSLA","А (арктическое)","тыс.руб.",0,0,0]
[null,null,null,null,null,null,null,null,null,null,null,null,null,null,null,null,null,null,null,null,null,null,null,null,null,null,null,null,null,null,null,"DSLW",null,null,null,null,null,null,"4.COTR.DSLW","З (зимнее)","тыс.руб.",0,0,0]
[null,null,null,null,null,null,null,null,null,null,null,null,null,null,null,null,null,null,null,null,null,null,null,null,null,null,null,null,null,null,null,"DSLS",null,null,null,null,null,null,"4.COTR.DSLS","Л (летнее)","тыс.руб.",0,0,0]
[null,null,null,null,null,null,null,null,null,null,null,null,null,null,null,null,null,null,null,null,null,null,null,null,null,null,null,null,null,null,null,"DSLO",null,null,null,null,null,null,"4.COTR.DSLO","Е (межсезонное)","тыс.руб.",0,0,0]
[null,null,null,null,null,null,null,null,null,null,null,null,null,null,null,null,null,null,null,null,null,null,null,null,null,null,null,null,null,null,null,"MST",null,null,null,null,null,null,"4.COTR.MST","Мазут","тыс.руб.",0,0,0]
[null,null,null,null,null,null,null,null,null,null,null,null,null,null,null,null,null,null,null,null,null,null,null,null,null,null,null,null,null,null,null,"MSTM40",null,null,null,null,null,null,"4.COTR.MSTM40","М-40","тыс.руб.",0,0,0]
[null,null,null,null,null,null,null,null,null,null,null,null,null,null,null,null,null,null,null,null,null,null,null,null,null,null,null,null,null,null,null,"MSTM100",null,null,null,null,null,null,"4.COTR.MSTM100","М-100","тыс.руб.",0,0,0]
[null,null,null,null,null,null,null,null,null,null,null,null,null,null,null,null,null,null,null,null,null,null,null,null,null,null,null,null,null,null,null,"MSTM200",null,null,null,null,null,null,"4.COTR.MSTM200","М-200","тыс.руб.",0,0,0]
[null,null,null,null,null,null,null,null,null,null,null,null,null,null,null,null,null,null,null,null,null,null,null,null,null,null,null,null,null,null,null,"MSTT",null,null,null,null,null,null,"4.COTR.MSTT","мазут марки \"Т\"","тыс.руб.",0,0,0]
[null,null,null,null,null,null,null,null,null,null,null,null,null,null,null,null,null,null,null,null,null,null,null,null,null,null,null,null,null,null,null,"MSTF5",null,null,null,null,null,null,"4.COTR.MSTF5","Ф-5","тыс.руб.",0,0,0]
[null,null,null,null,null,null,null,null,null,null,null,null,null,null,null,null,null,null,null,null,null,null,null,null,null,null,null,null,null,null,null,"MSTF12",null,null,null,null,null,null,"4.COTR.MSTF12","Ф-12","тыс.руб.",0,0,0]
[null,null,null,null,null,null,null,null,null,null,null,null,null,null,null,null,null,null,null,null,null,null,null,null,null,null,null,null,null,null,null,"OIL",null,null,null,null,null,null,"4.COTR.OIL","Нефть","тыс.руб.",0,0,0]
[null,null,null,null,null,null,null,null,null,null,null,null,null,null,null,null,null,null,null,null,null,null,null,null,null,null,null,null,null,null,null,"COA",null,null,null,null,null,null,"4.COTR.COA","Уголь","тыс.руб.",0,0,0]
[null,null,null,null,null,null,null,null,null,null,null,null,null,null,null,null,null,null,null,null,null,null,null,null,null,null,null,null,null,null,null,"COAA",null,null,null,null,null,null,"4.COTR.COAA","Уголь антрацит","тыс.руб.",0,0,0]
[null,null,null,null,null,null,null,null,null,null,null,null,null,null,null,null,null,null,null,null,null,null,null,null,null,null,null,null,null,null,null,"COAB",null,null,null,null,null,null,"4.COTR.COAB","Уголь бурый","тыс.руб.",0,0,0]
[null,null,null,null,null,null,null,null,null,null,null,null,null,null,null,null,null,null,null,null,null,null,null,null,null,null,null,null,null,null,null,"COAG",null,null,null,null,null,null,"4.COTR.COAG","Уголь газовый","тыс.руб.",0,0,0]
[null,null,null,null,null,null,null,null,null,null,null,null,null,null,null,null,null,null,null,null,null,null,null,null,null,null,null,null,null,null,null,"COALF",null,null,null,null,null,null,"4.COTR.COALF","Уголь длиннопламенный","тыс.руб.",0,0,0]
[null,null,null,null,null,null,null,null,null,null,null,null,null,null,null,null,null,null,null,null,null,null,null,null,null,null,null,null,null,null,null,"COAF",null,null,null,null,null,null,"4.COTR.COAF","Уголь жирный","тыс.руб.",0,0,0]
[null,null,null,null,null,null,null,null,null,null,null,null,null,null,null,null,null,null,null,null,null,null,null,null,null,null,null,null,null,null,null,"COAC",null,null,null,null,null,null,"4.COTR.COAC","Уголь коксовый","тыс.руб.",0,0,0]
[null,null,null,null,null,null,null,null,null,null,null,null,null,null,null,null,null,null,null,null,null,null,null,null,null,null,null,null,null,null,null,"COASC",null,null,null,null,null,null,"4.COTR.COASC","Уголь отощённо-спекающийся","тыс.руб.",0,0,0]
[null,null,null,null,null,null,null,null,null,null,null,null,null,null,null,null,null,null,null,null,null,null,null,null,null,null,null,null,null,null,null,"COAWC",null,null,null,null,null,null,"4.COTR.COAWC","Уголь слабоспекающийся","тыс.руб.",0,0,0]
[null,null,null,null,null,null,null,null,null,null,null,null,null,null,null,null,null,null,null,null,null,null,null,null,null,null,null,null,null,null,null,"COAS",null,null,null,null,null,null,"4.COTR.COAS","Уголь тощий","тыс.руб.",0,0,0]
[]
[]
[null,null,null,null,null,null,null,null,null,null,null,null,null,null,null,null,null,null,null,null,null,null,null,null,null,null,null,null,null,null,null,"CWD",null,null,null,null,null,null,"4.COTR.CWD","Уголь древесный","тыс.руб.",{"$f":"SUMIF($AS$9:$AT$9,AP$9,$AS913:$AT913)","v":0},0,0]
[null,null,null,null,null,null,null,null,null,null,null,null,null,null,null,null,null,null,null,null,null,null,null,null,null,null,null,null,null,null,null,"WDS",null,null,null,null,null,null,"4.COTR.WDS","Дрова","тыс.руб.",0,0,0]
[null,null,null,null,null,null,null,null,null,null,null,null,null,null,null,null,null,null,null,null,null,null,null,null,null,null,null,null,null,null,null,"PLT",null,null,null,null,null,null,"4.COTR.PLT","Пеллеты","тыс.руб.",0,0,0]
[null,null,null,null,null,null,null,null,null,null,null,null,null,null,null,null,null,null,null,null,null,null,null,null,null,null,null,null,null,null,null,"SAW",null,null,null,null,null,null,"4.COTR.SAW","Опилки","тыс.руб.",0,0,0]
[null,null,null,null,null,null,null,null,null,null,null,null,null,null,null,null,null,null,null,null,null,null,null,null,null,null,null,null,null,null,null,"PEA",null,null,null,null,null,null,"4.COTR.PEA","Торф","тыс.руб.",0,0,0]
[null,null,null,null,null,null,null,null,null,null,null,null,null,null,null,null,null,null,null,null,null,null,null,null,null,null,null,null,null,null,null,"SHL",null,null,null,null,null,null,"4.COTR.SHL","Сланцы","тыс.руб.",0,0,0]
[null,null,null,null,null,null,null,null,null,null,null,null,null,null,null,null,null,null,null,null,null,null,null,null,null,null,null,null,null,null,null,"STF",null,null,null,null,null,null,"4.COTR.STF","Печное бытовое топливо","тыс.руб.",0,0,0]
[]
[]
[null,null,null,null,null,null,null,null,null,null,null,null,null,null,null,null,null,null,null,null,null,null,null,null,null,null,null,null,null,null,null,null,null,null,null,null,null,null,null,"Показатели расхода электроэнергии по уровням напряжения"]
[]
[null,null,null,null,null,null,null,null,null,null,null,null,null,null,null,null,null,null,null,null,null,null,null,null,null,null,null,null,null,null,null,"ENR",null,null,null,null,null,null,"4.13.0.1","объём энергии","тыс.кВтч",{"$f":"SUMIF($AS$9:$AT$9,AP$9,$AS924:$AT924)","v":0},0,0]
[null,null,null,null,null,null,null,null,null,null,null,null,null,null,null,null,null,null,null,null,null,null,null,null,null,null,null,null,null,null,null,"PWR",null,null,null,null,null,null,"4.13.0.2","объём заявленной мощности","МВт",0,0,0]
[null,null,null,null,null,null,null,null,null,null,null,null,null,null,null,null,null,null,null,null,null,null,null,null,null,null,null,null,null,null,null,"ENR",null,null,null,null,null,null,"4.13.1.1","энергия НН (0,4 кВ и ниже)","тыс.руб.",0,0,0]
[null,null,null,null,null,null,null,null,null,null,null,null,null,null,null,null,null,null,null,null,null,null,null,null,null,null,null,null,null,null,null,"ENR",null,null,null,null,null,null,{"$f":"AM926 & \".1\"","v":"4.13.1.1.1"},"тариф на энергию","руб./кВт*ч",{"$f":"IF(AP928=0,0,AP926/AP928)","v":0},{"$f":"IF(AQ928=0,0,AQ926/AQ928)","v":0},{"$f":"IF(AR928=0,0,AR926/AR928)","v":0}]
[null,null,null,null,null,null,null,null,null,null,null,null,null,null,null,null,null,null,null,null,null,null,null,null,null,null,null,null,null,null,null,"ENR",null,null,null,null,null,null,{"$f":"AM926 & \".2\"","v":"4.13.1.1.2"},"объём энергии","тыс.кВтч",{"$f":"SUMIF($AS$9:$AT$9,AP$9,$AS928:$AT928)","v":0},0,0]
[null,null,null,null,null,null,null,null,null,null,null,null,null,null,null,null,null,null,null,null,null,null,null,null,null,null,null,null,null,null,null,"PWR",null,null,null,null,null,null,"4.13.1.2","заявленная мощность по НН (0,4 кВ и ниже)","тыс.руб.",0,0,0]
[null,null,null,null,null,null,null,null,null,null,null,null,null,null,null,null,null,null,null,null,null,null,null,null,null,null,null,null,null,null,null,"PWR",null,null,null,null,null,null,{"$f":"AM929 & \".1\"","v":"4.13.1.2.1"},"тариф на заявленную мощность","руб./кВт*мес",{"$f":"IF(AP931=0,0,AP929/AP931)","v":0},{"$f":"IF(AQ931=0,0,AQ929/AQ931)","v":0},{"$f":"IF(AR931=0,0,AR929/AR931)","v":0}]
[null,null,null,null,null,null,null,null,null,null,null,null,null,null,null,null,null,null,null,null,null,null,null,null,null,null,null,null,null,null,null,"PWR",null,null,null,null,null,null,{"$f":"AM929 & \".2\"","v":"4.13.1.2.2"},"годовой объём мощности","МВт",{"$f":"SUMIF($AS$9:$AT$9,AP$9,$AS931:$AT931)","v":0},0,0]
[null,null,null,null,null,null,null,null,null,null,null,null,null,null,null,null,null,null,null,null,null,null,null,null,null,null,null,null,null,null,null,"ENR",null,null,null,null,null,null,"4.13.2.1","энергия СН 2 (1-20 кВ)","тыс.руб.",0,0,0]
[null,null,null,null,null,null,null,null,null,null,null,null,null,null,null,null,null,null,null,null,null,null,null,null,null,null,null,null,null,null,null,"ENR",null,null,null,null,null,null,{"$f":"AM932 & \".1\"","v":"4.13.2.1.1"},"тариф на энергию","руб./кВт*ч",{"$f":"IF(AP934=0,0,AP932/AP934)","v":0},{"$f":"IF(AQ934=0,0,AQ932/AQ934)","v":0},{"$f":"IF(AR934=0,0,AR932/AR934)","v":0}]
[null,null,null,null,null,null,null,null,null,null,null,null,null,null,null,null,null,null,null,null,null,null,null,null,null,null,null,null,null,null,null,"ENR",null,null,null,null,null,null,{"$f":"AM932 & \".2\"","v":"4.13.2.1.2"},"объём энергии","тыс.кВтч",{"$f":"SUMIF($AS$9:$AT$9,AP$9,$AS934:$AT934)","v":0},0,0]
[null,null,null,null,null,null,null,null,null,null,null,null,null,null,null,null,null,null,null,null,null,null,null,null,null,null,null,null,null,null,null,"PWR",null,null,null,null,null,null,"4.13.2.2","заявленная мощность по СН 2 (1-20 кВ)","тыс.руб.",0,0,0]
[null,null,null,null,null,null,null,null,null,null,null,null,null,null,null,null,null,null,null,null,null,null,null,null,null,null,null,null,null,null,null,"PWR",null,null,null,null,null,null,{"$f":"AM935 & \".1\"","v":"4.13.2.2.1"},"тариф на заявленную мощность","руб./кВт*мес",{"$f":"IF(AP937=0,0,AP935/AP937)","v":0},{"$f":"IF(AQ937=0,0,AQ935/AQ937)","v":0},{"$f":"IF(AR937=0,0,AR935/AR937)","v":0}]
[null,null,null,null,null,null,null,null,null,null,null,null,null,null,null,null,null,null,null,null,null,null,null,null,null,null,null,null,null,null,null,"PWR",null,null,null,null,null,null,{"$f":"AM935 & \".2\"","v":"4.13.2.2.2"},"годовой объём мощности","МВт",{"$f":"SUMIF($AS$9:$AT$9,AP$9,$AS937:$AT937)","v":0},0,0]
[null,null,null,null,null,null,null,null,null,null,null,null,null,null,null,null,null,null,null,null,null,null,null,null,null,null,null,null,null,null,null,"ENR",null,null,null,null,null,null,"4.13.3.1","энергия СН 1 (35 кВ)","тыс.руб.",0,0,0]
[null,null,null,null,null,null,null,null,null,null,null,null,null,null,null,null,null,null,null,null,null,null,null,null,null,null,null,null,null,null,null,"ENR",null,null,null,null,null,null,{"$f":"AM938 & \".1\"","v":"4.13.3.1.1"},"тариф на энергию","руб./кВт*ч",{"$f":"IF(AP940=0,0,AP938/AP940)","v":0},{"$f":"IF(AQ940=0,0,AQ938/AQ940)","v":0},{"$f":"IF(AR940=0,0,AR938/AR940)","v":0}]
[null,null,null,null,null,null,null,null,null,null,null,null,null,null,null,null,null,null,null,null,null,null,null,null,null,null,null,null,null,null,null,"ENR",null,null,null,null,null,null,{"$f":"AM938 & \".2\"","v":"4.13.3.1.2"},"объём энергии","тыс.кВтч",{"$f":"SUMIF($AS$9:$AT$9,AP$9,$AS940:$AT940)","v":0},0,0]
[null,null,null,null,null,null,null,null,null,null,null,null,null,null,null,null,null,null,null,null,null,null,null,null,null,null,null,null,null,null,null,"PWR",null,null,null,null,null,null,"4.13.3.2","заявленная мощность по СН 1 (35 кВ)","тыс.руб.",0,0,0]
[null,null,null,null,null,null,null,null,null,null,null,null,null,null,null,null,null,null,null,null,null,null,null,null,null,null,null,null,null,null,null,"PWR",null,null,null,null,null,null,{"$f":"AM941 & \".1\"","v":"4.13.3.2.1"},"тариф на заявленную мощность","руб./кВт*мес",{"$f":"IF(AP943=0,0,AP941/AP943)","v":0},{"$f":"IF(AQ943=0,0,AQ941/AQ943)","v":0},{"$f":"IF(AR943=0,0,AR941/AR943)","v":0}]
[null,null,null,null,null,null,null,null,null,null,null,null,null,null,null,null,null,null,null,null,null,null,null,null,null,null,null,null,null,null,null,"PWR",null,null,null,null,null,null,{"$f":"AM941 & \".2\"","v":"4.13.3.2.2"},"годовой объём мощности","МВт",{"$f":"SUMIF($AS$9:$AT$9,AP$9,$AS943:$AT943)","v":0},0,0]
[null,null,null,null,null,null,null,null,null,null,null,null,null,null,null,null,null,null,null,null,null,null,null,null,null,null,null,null,null,null,null,"ENR",null,null,null,null,null,null,"4.13.4.1","энергия ВН (110 кВ и выше)","тыс.руб.",0,0,0]
[null,null,null,null,null,null,null,null,null,null,null,null,null,null,null,null,null,null,null,null,null,null,null,null,null,null,null,null,null,null,null,"ENR",null,null,null,null,null,null,{"$f":"AM944 & \".1\"","v":"4.13.4.1.1"},"тариф на энергию","руб./кВт*ч",{"$f":"IF(AP946=0,0,AP944/AP946)","v":0},{"$f":"IF(AQ946=0,0,AQ944/AQ946)","v":0},{"$f":"IF(AR946=0,0,AR944/AR946)","v":0}]
[null,null,null,null,null,null,null,null,null,null,null,null,null,null,null,null,null,null,null,null,null,null,null,null,null,null,null,null,null,null,null,"ENR",null,null,null,null,null,null,{"$f":"AM944 & \".2\"","v":"4.13.4.1.2"},"объём энергии","тыс.кВтч",{"$f":"SUMIF($AS$9:$AT$9,AP$9,$AS946:$AT946)","v":0},0,0]
[null,null,null,null,null,null,null,null,null,null,null,null,null,null,null,null,null,null,null,null,null,null,null,null,null,null,null,null,null,null,null,"PWR",null,null,null,null,null,null,"4.13.4.2","заявленная мощность по ВН (110 кВ и выше)","тыс.руб.",0,0,0]
[null,null,null,null,null,null,null,null,null,null,null,null,null,null,null,null,null,null,null,null,null,null,null,null,null,null,null,null,null,null,null,"PWR",null,null,null,null,null,null,{"$f":"AM947 & \".1\"","v":"4.13.4.2.1"},"тариф на заявленную мощность","руб./кВт*мес",{"$f":"IF(AP949=0,0,AP947/AP949)","v":0},{"$f":"IF(AQ949=0,0,AQ947/AQ949)","v":0},{"$f":"IF(AR949=0,0,AR947/AR949)","v":0}]
[null,null,null,null,null,null,null,null,null,null,null,null,null,null,null,null,null,null,null,null,null,null,null,null,null,null,null,null,null,null,null,"PWR",null,null,null,null,null,null,{"$f":"AM947 & \".2\"","v":"4.13.4.2.2"},"годовой объём мощности","МВт",{"$f":"SUMIF($AS$9:$AT$9,AP$9,$AS949:$AT949)","v":0},{"$f":"SUMIF($AS$9:$AT$9,AQ$9,$AS949:$AT949)","v":0},{"$f":"SUMIF($AS$9:$AT$9,AR$9,$AS949:$AT949)","v":0}]
[]
[null,null,null,null,null,null,null,null,null,null,null,null,null,null,null,null,null,null,null,null,null,null,null,null,null,null,null,null,null,null,null,"OTH",null,null,null,null,null,null,null,"Прочие виды топлива","тыс.руб.",{"$f":"SUMIF($AS$9:$AT$9,AP$9,$AS951:$AT951)","v":0},0,0]
[null,null,null,null,null,null,null,null,null,null,null,null,null,null,null,null,null,null,null,null,null,null,null,null,null,null,null,null,null,null,null,"OTH",null,null,null,null,null,null,"4.14.1","Биогаз","тыс.руб.",0,0,0]
[null,null,null,null,null,null,null,null,null,null,null,null,null,null,null,null,null,null,null,null,null,null,null,null,null,null,null,null,null,null,null,"OTH",null,null,null,null,null,null,"4.14.1.1","Цена","руб./тыс.м3",{"$f":"IF(AP954=0,0,AP952/AP954*1000)","v":0},{"$f":"IF(AQ954=0,0,AQ952/AQ954*1000)","v":0},{"$f":"IF(AR954=0,0,AR952/AR954*1000)","v":0}]
[null,null,null,null,null,null,null,null,null,null,null,null,null,null,null,null,null,null,null,null,null,null,null,null,null,null,null,null,null,null,null,"OTH",null,null,null,null,null,null,"4.14.1.2","Объём","тыс.м3",{"$f":"SUMIF($AS$9:$AT$9,AP$9,$AS954:$AT954)","v":0},0,0]
[null,null,null,null,null,null,null,null,null,null,null,null,null,null,null,null,null,null,null,null,null,null,null,null,null,null,null,null,null,null,null,"OTH",null,null,null,null,null,null,"4.14.2","ТБО","тыс.руб.",0,0,0]
[null,null,null,null,null,null,null,null,null,null,null,null,null,null,null,null,null,null,null,null,null,null,null,null,null,null,null,null,null,null,null,"OTH",null,null,null,null,null,null,"4.14.2.1","Цена","руб./тнт",{"$f":"IF(AP957=0,0,AP955/AP957*1000)","v":0},{"$f":"IF(AQ957=0,0,AQ955/AQ957*1000)","v":0},{"$f":"IF(AR957=0,0,AR955/AR957*1000)","v":0}]
[null,null,null,null,null,null,null,null,null,null,null,null,null,null,null,null,null,null,null,null,null,null,null,null,null,null,null,null,null,null,null,"OTH",null,null,null,null,null,null,"4.14.2.2","Объём","тнт",{"$f":"SUMIF($AS$9:$AT$9,AP$9,$AS957:$AT957)","v":0},0,0]
[null,null,null,null,null,null,null,null,null,null,null,null,null,null,null,null,null,null,null,null,null,null,null,null,null,null,null,null,null,null,null,"OTH",null,null,null,null,null,null,"4.14.3","Иные виды топлива","тыс.руб.",0,0,0]
[]
[null,null,null,null,null,null,null,null,null,null,null,null,null,null,null,null,null,null,null,null,null,null,null,null,null,null,null,null,null,null,null,null,null,null,null,null,null,null,"21","Полезный отпуск продукции всего","Гкал"]

{"sheet":"ХВС.БПр","index":15,"n_rows":132,"n_cols":53,"rows_kept":132,"cut":false,"hidden":true,"merged":[[120,5,122,5],[121,19,122,19],[121,20,122,20],[120,13,120,15],[121,13,122,13],[121,14,122,14],[121,15,122,15],[120,18,120,21],[121,18,122,18],[120,7,122,7],[125,6,126,6],[125,10,126,10],[120,17,122,17],[121,10,122,10],[127,6,128,6],[120,9,122,9],[120,10,120,12],[120,16,122,16],[121,11,122,11],[121,12,122,12],[127,10,128,10],[120,22,122,22],[121,25,122,25],[121,24,122,24],[120,44,122,44],[121,31,122,31],[120,43,122,43],[121,28,122,28],[120,41,122,41],[120,31,120,40],[120,23,122,23],[121,30,122,30],[120,28,120,30],[121,21,122,21],[120,24,120,27],[121,27,122,27],[0,1,27,1],[0,5,1,5],[28,1,55,1],[28,5,29,5],[2,2,14,2],[15,2,27,2],[30,2,42,2],[43,2,55,2],[28,6,29,6],[0,6,1,6],[121,26,122,26],[120,42,122,42],[121,32,121,34],[121,35,121,37],[121,38,121,40],[121,29,122,29],[120,6,122,6],[120,8,122,8]]}
[null,null,{"$f":"F3","v":"0.0"},"-",null,{"$f":"B1","v":0}]
[]
[null,null,null,null,null,{"$f":"F1 & \".0\"","v":"0.0"},"год"]
[null,null,null,null,null,{"$f":"F1 & \".1\"","v":"0.1"},"январь"]
[null,null,null,null,null,{"$f":"F1 & \".2\"","v":"0.2"},"февраль"]
[null,null,null,null,null,{"$f":"F1 & \".3\"","v":"0.3"},"март"]
[null,null,null,null,null,{"$f":"F1 & \".4\"","v":"0.4"},"апрель"]
[null,null,null,null,null,{"$f":"F1 & \".5\"","v":"0.5"},"май"]
[null,null,null,null,null,{"$f":"F1 & \".6\"","v":"0.6"},"июнь"]
[null,null,null,null,null,{"$f":"F1 & \".7\"","v":"0.7"},"июль"]
[null,null,null,null,null,{"$f":"F1 & \".8\"","v":"0.8"},"август"]
[null,null,null,null,null,{"$f":"F1 & \".9\"","v":"0.9"},"сентябрь"]
[null,null,null,null,null,{"$f":"F1 & \".10\"","v":"0.10"},"октябрь"]
[null,null,null,null,null,{"$f":"F1 & \".11\"","v":"0.11"},"ноябрь"]
[null,null,null,null,null,{"$f":"F1 & \".12\"","v":"0.12"},"декабрь"]
[]
[]
[]
[]
[]
[]
[]
[]
[]
[]
[]
[]
[]
["TBD",null,{"$f":"F31","v":"0.0"},"-",null,{"$f":"B29","v":0},null,{"$f":"H31","v":0},{"$f":"I31","v":0},{"$f":"A29","v":"TBD"},{"$f":"K31","v":0},{"$f":"L31","v":0},{"$f":"M31","v":0},0,0,0,0,0,0,0,0,0,0,0,0,0,{"$f":"AA31","v":0},0,0,{"$f":"AD31","v":0},{"$f":"AE31","v":0},{"$f":"AF31","v":0},{"$f":"AG31","v":0},{"$f":"AH31","v":0},0,0,0,0,0,0,0,0,0,{"$f":"AR31","v":0},{"$f":"AS31","v":0},null,null,null,null,null,null,null,{"$f":"IF(J29=\"питьевая вода\",\"TOTAL_ORG_PW\",IF(J29=\"техническая вода\",\"TOTAL_ORG_TW\",\"\"))","v":""}]
[]
[null,null,null,null,null,{"$f":"F29 & \".0\"","v":"0.0"},"год",{"$f":"SUMIF('Список объектов'!$R$15:$R$16,$F31,'Список объектов'!$S$15:$S$16)","v":0},{"$f":"SUMIF('Список объектов'!$R$15:$R$16,$F31,'Список объектов'!$T$15:$T$16)","v":0},{"$f":"J29","v":"TBD"},{"$f":"S31+N31-Q31","v":0},null,null,{"$f":"SUM(O31:P31)","v":0},null,null,null,null,{"$f":"X31+W31","v":0},null,null,null,null,{"$f":"Y31+AC31+AF31","v":0},{"$f":"SUM(Z31:AB31)","v":0},{"$f":"SUM(Z32:Z43)","v":0},0,0,0,0,0,0,0,{"$f":"SUM(AH32:AH43)","v":0},0,{"$f":"SUM(AJ32:AJ43)","v":0},0,0,{"$f":"SUM(AM32:AM43)","v":0},0,0,0,0,{"$f":"SUM(AR32:AR43)","v":0},{"$f":"SUM(AS32:AS43)","v":0},null,null,{"$f":"IF(K31=0,0,N31/K31*100)","v":0},null,null,null,null,{"$f":"IF(J31=\"питьевая вода\",\"TOTAL_ORG_YEAR_PW\",IF(J31=\"техническая вода\",\"TOTAL_ORG_YEAR_TW\",\"\"))","v":""}]
[null,null,null,null,null,{"$f":"F29 & \".1\"","v":"0.1"},"январь",null,null,{"$f":"IF(OFFSET('Список территорий'!CJ$15,$F29,0)=\"a\",\"Y\",\"N\")","v":"N"},null,null,null,null,null,null,null,null,null,null,null,null,null,0,0,null,null,null,{"$f":"SUM(AD32,AE32)","v":0},null,null,{"$f":"SUM(AG32,AJ32,AM32)","v":0},{"$f":"SUM(AH32,AI32)","v":0},null,null,{"$f":"SUM(AK32,AL32)","v":0},null,null,{"$f":"SUM(AN32,AO32)","v":0},null,null,null,null,null,null,null,null,null,null,null,null,null,{"$f":"C29 & \"-I\"","v":"0.0-I"}]
[null,null,null,null,null,{"$f":"F29 & \".2\"","v":"0.2"},"февраль",null,null,{"$f":"IF(OFFSET('Список территорий'!CK$15,$F29,0)=\"a\",\"Y\",\"N\")","v":"N"},null,null,null,null,null,null,null,null,null,null,null,null,null,0,0,null,null,null,0,null,null,{"$f":"SUM(AG33,AJ33,AM33)","v":0},0,null,null,0,null,null,0,null,null,null,null,null,null,null,null,null,null,null,null,null,{"$f":"C29 & \"-I\"","v":"0.0-I"}]
[null,null,null,null,null,{"$f":"F29 & \".3\"","v":"0.3"},"март",null,null,{"$f":"IF(OFFSET('Список территорий'!CL$15,$F29,0)=\"a\",\"Y\",\"N\")","v":"N"},null,null,null,null,null,null,null,null,null,null,null,null,null,0,0,null,null,null,0,null,null,0,0,null,null,0,null,null,0,null,null,null,null,null,null,null,null,null,null,null,null,null,{"$f":"C29 & \"-I\"","v":"0.0-I"}]
[null,null,null,null,null,{"$f":"F29 & \".4\"","v":"0.4"},"апрель",null,null,{"$f":"IF(OFFSET('Список территорий'!CM$15,$F29,0)=\"a\",\"Y\",\"N\")","v":"N"},null,null,null,null,null,null,null,null,null,null,null,null,null,0,0,null,null,null,0,null,null,0,0,null,null,0,null,null,0,null,null,null,null,null,null,null,null,null,null,null,null,null,{"$f":"C29 & \"-I\"","v":"0.0-I"}]
[null,null,null,null,null,{"$f":"F29 & \".5\"","v":"0.5"},"май",null,null,{"$f":"IF(OFFSET('Список территорий'!CN$15,$F29,0)=\"a\",\"Y\",\"N\")","v":"N"},null,null,null,null,null,null,null,null,null,null,null,null,null,0,0,null,null,null,0,null,null,0,0,null,null,0,null,null,0,null,null,null,null,null,null,null,null,null,null,null,null,null,{"$f":"C29 & \"-I\"","v":"0.0-I"}]
[null,null,null,null,null,{"$f":"F29 & \".6\"","v":"0.6"},"июнь",null,null,{"$f":"IF(OFFSET('Список территорий'!CO$15,$F29,0)=\"a\",\"Y\",\"N\")","v":"N"},null,null,null,null,null,null,null,null,null,null,null,null,null,0,0,null,null,null,0,null,null,0,0,null,null,0,null,null,0,null,null,null,null,null,null,null,null,null,null,null,null,null,{"$f":"C29 & \"-I\"","v":"0.0-I"}]
[null,null,null,null,null,{"$f":"F29 & \".7\"","v":"0.7"},"июль",null,null,{"$f":"IF(OFFSET('Список территорий'!CP$15,$F29,0)=\"a\",\"Y\",\"N\")","v":"N"},null,null,null,null,null,null,null,null,null,null,null,null,null,0,0,null,null,null,0,null,null,0,0,null,null,0,null,null,0,null,null,null,null,null,null,null,null,null,null,null,null,null,{"$f":"C29 & \"-II\"","v":"0.0-II"}]
[null,null,null,null,null,{"$f":"F29 & \".8\"","v":"0.8"},"август",null,null,{"$f":"IF(OFFSET('Список территорий'!CQ$15,$F29,0)=\"a\",\"Y\",\"N\")","v":"N"},null,null,null,null,null,null,null,null,null,null,null,null,null,0,0,null,null,null,0,null,null,0,0,null,null,0,null,null,0,null,null,null,null,null,null,null,null,null,null,null,null,null,{"$f":"C29 & \"-II\"","v":"0.0-II"}]
[null,null,null,null,null,{"$f":"F29 & \".9\"","v":"0.9"},"сентябрь",null,null,{"$f":"IF(OFFSET('Список территорий'!CR$15,$F29,0)=\"a\",\"Y\",\"N\")","v":"N"},null,null,null,null,null,null,null,null,null,null,null,null,null,0,0,null,null,null,0,null,null,0,0,null,null,0,null,null,0,null,null,null,null,null,null,null,null,null,null,null,null,null,{"$f":"C29 & \"-II\"","v":"0.0-II"}]
[null,null,null,null,null,{"$f":"F29 & \".10\"","v":"0.10"},"октябрь",null,null,{"$f":"IF(OFFSET('Список территорий'!CS$15,$F29,0)=\"a\",\"Y\",\"N\")","v":"N"},null,null,null,null,null,null,null,null,null,null,null,null,null,0,0,null,null,null,0,null,null,0,0,null,null,0,null,null,0,null,null,null,null,null,null,null,null,null,null,null,null,null,{"$f":"C29 & \"-II\"","v":"0.0-II"}]
[null,null,null,null,null,{"$f":"F29 & \".11\"","v":"0.11"},"ноябрь",null,null,{"$f":"IF(OFFSET('Список территорий'!CT$15,$F29,0)=\"a\",\"Y\",\"N\")","v":"N"},null,null,null,null,null,null,null,null,null,null,null,null,null,0,0,null,null,null,0,null,null,0,0,null,null,0,null,null,0,null,null,null,null,null,null,null,null,null,null,null,null,null,{"$f":"C29 & \"-II\"","v":"0.0-II"}]
[null,null,null,null,null,{"$f":"F29 & \".12\"","v":"0.12"},"декабрь",null,null,{"$f":"IF(OFFSET('Список территорий'!CU$15,$F29,0)=\"a\",\"Y\",\"N\")","v":"N"},null,null,null,null,null,null,null,null,null,null,null,null,null,0,0,null,null,null,0,null,null,0,0,null,null,0,null,null,0,null,null,null,null,null,null,null,null,null,null,null,null,null,{"$f":"C29 & \"-II\"","v":"0.0-II"}]
[]
[]
[]
[]
[]
[]
[]
[]
[]
[]
[]
[]
[]
[]
[]
[]
[]
[]
[]
[]
[]
[]
[]
[]
[]
[]
[]
[]
[]
[]
[]
[]
[]
[]
[]
[]
[]
[]
[]
[]
[]
[]
[]
[]
[]
[]
[]
[]
[]
[]
[]
[]
[]
[]
[]
[]
[]
[]
[]
[]
[]
[]
[]
[]
[]
[]
[]
[]
[]
[]
[]
[]
[]
[]
[]
[null,null,null,null,null,{"$f":"\"Баланс \" & TEMPLATE_SPHERE & \" (производство)\"","v":"Баланс  (производство)"}]
[null,null,null,null,null,"куб.м"]
[null,null,null,null,null,"№ п/п","Субъект баланса","Установленная мощность, куб.м/час","Подключённая (фактическая) нагрузка, куб.м/час","Вид воды","Поднято воды ",null,null,"Расход воды на технологические нужды",null,null,"Получено воды со стороны","Объём воды, прошедшей водоподготовку (справочно)","Объём воды, поданной в сеть",null,null,null,"Потери воды ","Отпущено воды, всего","Расход воды на нужды предприятия",null,null,null,"Отпущено воды другим водопроводам",null,null,"Отпущено воды по категориям потребителей  ",null,null,null,null,null,null,null,null,null,"Объём воды для приготовления горячей воды (справочно)","Объём воды при дифференциации тарифов по объёму (справочно)","Объём реализации воды питьевого качества по приборам учёта","Объём реализации воды питьевого качества по нормативам"]
[null,null,null,null,null,null,null,null,null,null,"Всего","из поверхностных источников","из подземных источников","Всего","cобственные нужды водоподготовки","на промывку сетей",null,null,"Всего","из собственных источников","от других операторов","получено от других территорий, дифференцированных по тарифу",null,null,"Всего","хозяйственные нужды","на основное производство","прочие","Всего","по приборам учёта","по нормативам","Всего","Финансируемые из бюджетов всех уровней",null,null,"Население",null,null,"Прочие потребители"]
[null,null,null,null,null,null,null,null,null,null,null,null,null,null,null,null,null,null,null,null,null,null,null,null,null,null,null,null,null,null,null,null,"Всего","по приборам учёта","по нормативам","Всего","по приборам учёта","по нормативам","Всего","по приборам учёта","по нормативам"]
[null,null,null,null,null,null,"А","IC","CL","Б","1","1.1","1.2","2","2.1","2.2","3","4","5","5.0.1","5.0.2","5.0.3","5.1","5.2","5.2.1","5.2.1.1","5.2.1.2","5.2.1.3","5.2.2","5.2.2.1","5.2.2.2","5.2.3","5.2.3.1","5.2.3.1.1","5.2.3.1.2","5.2.3.2","5.2.3.2.1","5.2.3.2.2","5.2.3.3","5.2.3.3.1","5.2.3.3.2","5.3","5.4","6.1","6.2"]
[]
[null,null,null,"-",null,{"$f":"IF(TEMPLATE_SPHERE_CODE=\"COLDVSNA\",\"0.1.P\",\"0.1\")","v":"0.1"},"Всего по организации",null,null,"питьевая вода",{"$f":"S126+N126-Q126+S127+N127-Q127","v":0},{"$f":"SUMIF($BA$131:$BA$132,$BA126,L$131:L$132)","v":0},0,0,0,0,0,0,0,0,0,0,0,0,0,0,0,0,0,0,0,0,0,0,0,0,0,0,0,0,0,0,0,0,0,null,null,null,null,null,null,null,{"$f":"IF(J126=\"питьевая вода\",\"TOTAL_ORG_YEAR_PW\",IF(J126=\"техническая вода\",\"TOTAL_ORG_YEAR_TW\",\"\"))","v":"TOTAL_ORG_YEAR_PW"}]
[null,null,null,null,null,{"$f":"IF(TEMPLATE_SPHERE_CODE=\"COLDVSNA\",\"0.1.T\",\"\")","v":""},null,null,null,"техническая вода",null,{"$f":"SUMIF($BA$131:$BA$132,$BA127,L$131:L$132)","v":0},0,0,0,0,0,0,0,0,0,0,0,0,0,0,0,0,0,0,0,0,0,0,0,0,0,0,0,0,0,0,0,null,null,null,null,null,null,null,null,null,{"$f":"IF(J127=\"питьевая вода\",\"TOTAL_ORG_YEAR_PW\",IF(J127=\"техническая вода\",\"TOTAL_ORG_YEAR_TW\",\"\"))","v":"TOTAL_ORG_YEAR_TW"}]
[]
[]
[]
[null,0]
[null,null,null,null,null,null,"Добавить"]

{"sheet":"ХВС.БТр","index":16,"n_rows":132,"n_cols":53,"rows_kept":132,"cut":false,"hidden":true,"merged":[[0,6,1,6],[127,6,128,6],[125,6,126,6],[28,6,29,6],[0,1,27,1],[0,5,1,5],[28,1,55,1],[43,2,55,2],[2,2,14,2],[15,2,27,2],[30,2,42,2],[28,5,29,5],[120,15,120,28],[121,10,122,10],[120,10,120,13],[121,12,122,12],[121,13,122,13],[120,14,122,14],[121,15,122,15],[121,16,122,16],[120,5,122,5],[120,6,122,6],[121,17,121,19],[121,20,121,22],[121,23,121,25],[121,26,121,28],[120,7,122,7],[120,8,122,8],[120,9,122,9],[121,11,122,11]]}
[null,null,{"$f":"F3","v":"0.0"},"-",null,{"$f":"B1","v":0}]
[]
[null,null,null,null,null,{"$f":"F1 & \".0\"","v":"0.0"},"год"]
[null,null,null,null,null,{"$f":"F1 & \".1\"","v":"0.1"},"январь"]
[null,null,null,null,null,{"$f":"F1 & \".2\"","v":"0.2"},"февраль"]
[null,null,null,null,null,{"$f":"F1 & \".3\"","v":"0.3"},"март"]
[null,null,null,null,null,{"$f":"F1 & \".4\"","v":"0.4"},"апрель"]
[null,null,null,null,null,{"$f":"F1 & \".5\"","v":"0.5"},"май"]
[null,null,null,null,null,{"$f":"F1 & \".6\"","v":"0.6"},"июнь"]
[null,null,null,null,null,{"$f":"F1 & \".7\"","v":"0.7"},"июль"]
[null,null,null,null,null,{"$f":"F1 & \".8\"","v":"0.8"},"август"]
[null,null,null,null,null,{"$f":"F1 & \".9\"","v":"0.9"},"сентябрь"]
[null,null,null,null,null,{"$f":"F1 & \".10\"","v":"0.10"},"октябрь"]
[null,null,null,null,null,{"$f":"F1 & \".11\"","v":"0.11"},"ноябрь"]
[null,null,null,null,null,{"$f":"F1 & \".12\"","v":"0.12"},"декабрь"]
[]
[]
[]
[]
[]
[]
[]
[]
[]
[]
[]
[]
[]
["TBD",null,{"$f":"F31","v":"0.0"},"-",null,{"$f":"B29","v":0},null,{"$f":"H31","v":0},{"$f":"I31","v":0},{"$f":"A29","v":"TBD"},{"$f":"K31","v":0},0,0,0,0,0,0,0,{"$f":"S31","v":0},0,0,0,0,0,0,0,0,0,0,null,null,null,null,null,null,null,null,null,null,null,null,null,null,null,null,null,null,null,null,null,null,null,{"$f":"IF(J29=\"питьевая вода\",\"TOTAL_ORG_PW\",IF(J29=\"техническая вода\",\"TOTAL_ORG_TW\",\"\"))","v":""}]
[]
[null,null,null,null,null,{"$f":"F29 & \".0\"","v":"0.0"},"год",{"$f":"SUMIF('Список объектов'!$R$15:$R$16,$F31,'Список объектов'!$W$15:$W$16)","v":0},{"$f":"SUMIF('Список объектов'!$R$15:$R$16,$F31,'Список объектов'!$X$15:$X$16)","v":0},{"$f":"J29","v":"TBD"},{"$f":"P31+O31","v":0},null,null,null,null,{"$f":"SUM(P32:P43)","v":0},{"$f":"SUM(Q32:Q43)","v":0},{"$f":"SUM(R32:R43)","v":0},{"$f":"SUM(S32:S43)","v":0},0,0,0,0,0,0,0,0,0,0,null,null,null,null,null,null,null,null,null,null,null,null,null,null,null,null,null,null,null,null,null,null,null,{"$f":"IF(J31=\"питьевая вода\",\"TOTAL_ORG_YEAR_PW\",IF(J31=\"техническая вода\",\"TOTAL_ORG_YEAR_TW\",\"\"))","v":""}]
[null,null,null,null,null,{"$f":"F29 & \".1\"","v":"0.1"},"январь",null,null,{"$f":"IF(OFFSET('Список территорий'!CJ$15,$F29,0)=\"a\",\"Y\",\"N\")","v":"N"},null,null,null,null,null,{"$f":"SUM(Q32,U32,R32,X32,AA32)","v":0},null,{"$f":"SUM(S32,T32)","v":0},null,null,{"$f":"SUM(V32,W32)","v":0},null,null,{"$f":"SUM(Y32,Z32)","v":0},null,null,{"$f":"SUM(AB32,AC32)","v":0},null,null,null,null,null,null,null,null,null,null,null,null,null,null,null,null,null,null,null,null,null,null,null,null,null,{"$f":"C29 & \"-I\"","v":"0.0-I"}]
[null,null,null,null,null,{"$f":"F29 & \".2\"","v":"0.2"},"февраль",null,null,{"$f":"IF(OFFSET('Список территорий'!CK$15,$F29,0)=\"a\",\"Y\",\"N\")","v":"N"},null,null,null,null,null,{"$f":"SUM(Q33,U33,R33,X33,AA33)","v":0},null,{"$f":"SUM(S33,T33)","v":0},null,null,{"$f":"SUM(V33,W33)","v":0},null,null,{"$f":"SUM(Y33,Z33)","v":0},null,null,{"$f":"SUM(AB33,AC33)","v":0},null,null,null,null,null,null,null,null,null,null,null,null,null,null,null,null,null,null,null,null,null,null,null,null,null,{"$f":"C29 & \"-I\"","v":"0.0-I"}]
[null,null,null,null,null,{"$f":"F29 & \".3\"","v":"0.3"},"март",null,null,{"$f":"IF(OFFSET('Список территорий'!CL$15,$F29,0)=\"a\",\"Y\",\"N\")","v":"N"},null,null,null,null,null,0,null,0,null,null,0,null,null,0,null,null,0,null,null,null,null,null,null,null,null,null,null,null,null,null,null,null,null,null,null,null,null,null,null,null,null,null,{"$f":"C29 & \"-I\"","v":"0.0-I"}]
[null,null,null,null,null,{"$f":"F29 & \".4\"","v":"0.4"},"апрель",null,null,{"$f":"IF(OFFSET('Список территорий'!CM$15,$F29,0)=\"a\",\"Y\",\"N\")","v":"N"},null,null,null,null,null,0,null,0,null,null,0,null,null,0,null,null,0,null,null,null,null,null,null,null,null,null,null,null,null,null,null,null,null,null,null,null,null,null,null,null,null,null,{"$f":"C29 & \"-I\"","v":"0.0-I"}]
[null,null,null,null,null,{"$f":"F29 & \".5\"","v":"0.5"},"май",null,null,{"$f":"IF(OFFSET('Список территорий'!CN$15,$F29,0)=\"a\",\"Y\",\"N\")","v":"N"},null,null,null,null,null,0,null,0,null,null,0,null,null,0,null,null,0,null,null,null,null,null,null,null,null,null,null,null,null,null,null,null,null,null,null,null,null,null,null,null,null,null,{"$f":"C29 & \"-I\"","v":"0.0-I"}]
[null,null,null,null,null,{"$f":"F29 & \".6\"","v":"0.6"},"июнь",null,null,{"$f":"IF(OFFSET('Список территорий'!CO$15,$F29,0)=\"a\",\"Y\",\"N\")","v":"N"},null,null,null,null,null,0,null,0,null,null,0,null,null,0,null,null,0,null,null,null,null,null,null,null,null,null,null,null,null,null,null,null,null,null,null,null,null,null,null,null,null,null,{"$f":"C29 & \"-I\"","v":"0.0-I"}]
[null,null,null,null,null,{"$f":"F29 & \".7\"","v":"0.7"},"июль",null,null,{"$f":"IF(OFFSET('Список территорий'!CP$15,$F29,0)=\"a\",\"Y\",\"N\")","v":"N"},null,null,null,null,null,0,null,0,null,null,0,null,null,0,null,null,0,null,null,null,null,null,null,null,null,null,null,null,null,null,null,null,null,null,null,null,null,null,null,null,null,null,{"$f":"C29 & \"-II\"","v":"0.0-II"}]
[null,null,null,null,null,{"$f":"F29 & \".8\"","v":"0.8"},"август",null,null,{"$f":"IF(OFFSET('Список территорий'!CQ$15,$F29,0)=\"a\",\"Y\",\"N\")","v":"N"},null,null,null,null,null,0,null,0,null,null,0,null,null,0,null,null,0,null,null,null,null,null,null,null,null,null,null,null,null,null,null,null,null,null,null,null,null,null,null,null,null,null,{"$f":"C29 & \"-II\"","v":"0.0-II"}]
[null,null,null,null,null,{"$f":"F29 & \".9\"","v":"0.9"},"сентябрь",null,null,{"$f":"IF(OFFSET('Список территорий'!CR$15,$F29,0)=\"a\",\"Y\",\"N\")","v":"N"},null,null,null,null,null,0,null,0,null,null,0,null,null,0,null,null,0,null,null,null,null,null,null,null,null,null,null,null,null,null,null,null,null,null,null,null,null,null,null,null,null,null,{"$f":"C29 & \"-II\"","v":"0.0-II"}]
[null,null,null,null,null,{"$f":"F29 & \".10\"","v":"0.10"},"октябрь",null,null,{"$f":"IF(OFFSET('Список территорий'!CS$15,$F29,0)=\"a\",\"Y\",\"N\")","v":"N"},null,null,null,null,null,0,null,0,null,null,0,null,null,0,null,null,0,null,null,null,null,null,null,null,null,null,null,null,null,null,null,null,null,null,null,null,null,null,null,null,null,null,{"$f":"C29 & \"-II\"","v":"0.0-II"}]
[null,null,null,null,null,{"$f":"F29 & \".11\"","v":"0.11"},"ноябрь",null,null,{"$f":"IF(OFFSET('Список территорий'!CT$15,$F29,0)=\"a\",\"Y\",\"N\")","v":"N"},null,null,null,null,null,0,null,0,null,null,0,null,null,0,null,null,0,null,null,null,null,null,null,null,null,null,null,null,null,null,null,null,null,null,null,null,null,null,null,null,null,null,{"$f":"C29 & \"-II\"","v":"0.0-II"}]
[null,null,null,null,null,{"$f":"F29 & \".12\"","v":"0.12"},"декабрь",null,null,{"$f":"IF(OFFSET('Список территорий'!CU$15,$F29,0)=\"a\",\"Y\",\"N\")","v":"N"},null,null,null,null,null,0,null,0,null,null,0,null,null,0,null,null,0,null,null,null,null,null,null,null,null,null,null,null,null,null,null,null,null,null,null,null,null,null,null,null,null,null,{"$f":"C29 & \"-II\"","v":"0.0-II"}]
[]
[]
[]
[]
[]
[]
[]
[]
[]
[]
[]
[]
[]
[]
[]
[]
[]
[]
[]
[]
[]
[]
[]
[]
[]
[]
[]
[]
[]
[]
[]
[]
[]
[]
[]
[]
[]
[]
[]
[]
[]
[]
[]
[]
[]
[]
[]
[]
[]
[]
[]
[]
[]
[]
[]
[]
[]
[]
[]
[]
[]
[]
[]
[]
[]
[]
[]
[]
[]
[]
[]
[]
[]
[]
[]
[null,null,null,null,null,{"$f":"\"Баланс \" & TEMPLATE_SPHERE & \" (транспортировка)\"","v":"Баланс  (транспортировка)"}]
[null,null,null,null,null,"куб.м"]
[null,null,null,null,null,"№ п/п","Субъект баланса","Установленная мощность, куб.м/час","Подключённая (фактическая) нагрузка, куб.м/час","Вид воды","Объём воды, поступившей в сеть",null,null,null,"Потери","Отпуск воды"]
[null,null,null,null,null,null,null,null,null,null,"Всего","из собственных источников","от других операторов","получено от других территорий, дифференцированных по тарифу",null,"Всего","Потребление на нужды организации","Организациям-перепродавцам",null,null,"Бюджетные потребители",null,null,"Население",null,null,"Прочие потребители"]
[null,null,null,null,null,null,null,null,null,null,null,null,null,null,null,null,null,"Всего","по приборам учёта","по нормативам","Всего","по приборам учёта","по нормативам","Всего","по приборам учёта","по нормативам","Всего","по приборам учёта","по нормативам"]
[null,null,null,null,null,null,"А","IC","CL","Б",1,"1.1","1.2","1.3",2,3,"3.1","3.2","3.2.1","3.2.2","3.3","3.3.1","3.3.2","3.4","3.4.1","3.4.2","3.5","3.5.1","3.5.2"]
[]
[null,null,null,"-",null,{"$f":"IF(TEMPLATE_SPHERE_CODE=\"COLDVSNA\",\"0.1.P\",\"0.1\")","v":"0.1"},"Всего по организации",null,null,"питьевая вода",{"$f":"SUMIF($BA131:$BA132,$BA126,K131:K132)","v":0},0,0,0,0,0,0,0,0,0,0,0,0,0,0,0,0,0,0,null,null,null,null,null,null,null,null,null,null,null,null,null,null,null,null,null,null,null,null,null,null,null,{"$f":"IF(J126=\"питьевая вода\",\"TOTAL_ORG_YEAR_PW\",IF(J126=\"техническая вода\",\"TOTAL_ORG_YEAR_TW\",\"\"))","v":"TOTAL_ORG_YEAR_PW"}]
[null,null,null,null,null,{"$f":"IF(TEMPLATE_SPHERE_CODE=\"COLDVSNA\",\"0.1.T\",\"\")","v":""},null,null,null,"техническая вода",{"$f":"SUMIF($BA131:$BA132,$BA127,K131:K132)","v":0},0,0,0,0,0,0,0,0,0,0,0,0,0,0,0,0,0,0,null,null,null,null,null,null,null,null,null,null,null,null,null,null,null,null,null,null,null,null,null,null,null,{"$f":"IF(J127=\"питьевая вода\",\"TOTAL_ORG_YEAR_PW\",IF(J127=\"техническая вода\",\"TOTAL_ORG_YEAR_TW\",\"\"))","v":"TOTAL_ORG_YEAR_TW"}]
[null,null,null,null,null,null,null,null,null,null,null,null,null,null,null,null,null,null,null,null,null,null,null,null,null,null,null,null,null,null,null,null,null,null,null,null,null,null,null,null,null,null,null,null,null,null,null,null,null,null,null,null,"TOTAL_ORG_DF_PW"]
[null,null,null,null,null,null,null,null,null,null,null,null,null,null,null,null,null,null,null,null,null,null,null,null,null,null,null,null,null,null,null,null,null,null,null,null,null,null,null,null,null,null,null,null,null,null,null,null,null,null,null,null,"TOTAL_ORG_DF_TW"]
[]
[null,0]
[null,null,null,null,null,null,"Добавить"]

{"sheet":"ХВС.РО","index":17,"n_rows":290,"n_cols":46,"rows_kept":290,"cut":false,"hidden":true,"merged":[[18,40,19,40],[18,41,19,43],[18,38,19,38],[18,39,19,39],[12,38,13,39],[13,41,13,43]]}
[]
[]
[]
[]
[]
[null,null,null,null,null,null,null,null,null,null,null,null,null,null,null,null,null,null,null,null,null,null,null,null,null,null,null,null,null,null,null,null,null,null,null,null,null,null,null,null,null,12,6,6]
[]
[]
[null,null,null,null,null,null,null,null,null,null,null,null,null,null,null,null,null,null,null,null,null,null,null,null,null,null,null,null,null,null,null,null,null,null,null,null,null,null,null,null,null,"Y","I","II"]
[null,null,null,null,null,null,null,null,null,null,null,null,null,null,null,null,null,null,null,null,null,null,null,null,null,null,null,null,null,null,null,null,null,null,null,null,null,null,null,null,null,null,null,null,"START","END"]
[]
[null,null,null,null,null,null,null,null,null,null,null,null,null,null,null,null,null,null,null,null,null,null,null,null,null,null,null,null,null,null,null,null,null,null,null,null,null,null,null,"Необходимо указывать значения по полугодиям (6 и 6 месяцев)"]
["FULL_MODE",null,null,null,null,null,null,null,null,null,null,null,null,null,null,null,null,null,null,null,null,null,null,null,null,null,null,null,null,null,null,null,null,null,null,null,null,null,"Расходы организации",null,"Период","Год","I полугодие","II полугодие"]
[]
[]
[]
[]
[null,null,null,null,null,null,null,null,null,null,null,null,null,null,null,null,null,null,null,null,null,null,null,null,null,null,null,null,null,null,null,null,null,null,null,null,null,null,null,null,null,null,null,null,null,"Добавить"]
[null,null,null,null,null,null,null,null,null,null,null,null,null,null,null,null,null,null,null,null,null,null,null,null,null,null,null,null,null,null,null,null,null,null,null,null,null,null,"№ п/п","Наименование показателя","Единица измерения","Всего по организации",null,null,0]
[]
[null,null,null,null,null,null,null,null,null,null,null,null,null,null,null,null,null,null,null,null,null,null,null,null,null,null,null,null,null,null,null,null,null,null,null,null,null,null,null,"Является ли организация плательщиком НДС"]
[null,null,null,null,null,null,null,null,null,null,null,null,null,null,null,null,null,null,null,null,null,null,null,null,null,null,null,null,null,null,null,null,null,null,null,null,null,null,null,{"$f":"IF(CALC_IDENTIFIER=\"\",\"\",CALC_IDENTIFIER)","v":""}]
[null,null,null,null,null,null,null,null,null,null,null,null,null,null,null,null,null,null,null,null,null,null,null,null,null,null,null,null,null,null,null,null,null,null,null,null,null,null,"1","Производственные расходы","тыс.руб.",{"$f":"SUMIF($AS$9:$AT$9,AP$9,$AS23:$AT23)","v":0},0,0]
[null,null,null,null,null,null,null,null,null,null,null,null,null,null,null,null,null,null,null,null,null,null,null,null,null,null,null,null,null,null,null,null,null,null,null,null,null,null,"1.1","Расходы на приобретение сырья и материалов и их хранение","тыс.руб.",0,0,0]
[null,null,null,null,null,null,null,null,null,null,null,null,null,null,null,null,null,null,null,null,null,null,null,null,null,null,null,null,null,null,null,null,null,null,null,null,null,null,"1.1.1","Реагенты ","тыс.руб.",0,0,0]
[null,null,null,null,null,null,null,null,null,null,null,null,null,null,null,null,null,null,null,null,null,null,null,null,null,null,null,null,null,null,null,null,null,null,null,null,null,null,"1.1.2","Горюче-смазочные материалы","тыс.руб.",0,0,0]
[null,null,null,null,null,null,null,null,null,null,null,null,null,null,null,null,null,null,null,null,null,null,null,null,null,null,null,null,null,null,null,null,null,null,null,null,null,null,"1.1.3","Материалы и малоценные основные средства","тыс.руб.",0,0,0]
[null,null,null,null,null,null,null,null,null,null,null,null,null,null,null,null,null,null,null,null,null,null,null,null,null,null,null,null,null,null,null,null,null,null,null,null,null,null,"1.2","Расходы на энергетические ресурсы и холодную воду","тыс.руб.",0,0,0]
[null,null,null,null,null,null,null,null,null,null,null,null,null,null,null,null,null,null,null,null,null,null,null,null,null,null,null,null,null,null,null,null,null,null,null,null,null,null,"1.2.1","электроэнергия ","тыс.руб.",0,0,0]
[null,null,null,null,null,null,null,null,null,null,null,null,null,null,null,null,null,null,null,null,null,null,null,null,null,null,null,null,null,null,null,null,null,null,null,null,null,null,"1.2.1.1","Объём покупной энергии"]
[null,null,null,null,null,null,null,null,null,null,null,null,null,null,null,null,null,null,null,null,null,null,null,null,null,null,null,null,null,null,null,null,null,null,null,null,null,null,"1.2.1.1.1","Объём покупной энергии по одноставочному тарифу","тыс.кВт*ч",{"$f":"SUMIF($AS$9:$AT$9,AP$9,$AS31:$AT31)","v":0},0,0]
[null,null,null,null,null,null,null,null,null,null,null,null,null,null,null,null,null,null,null,null,null,null,null,null,null,null,null,null,null,null,null,null,null,null,null,null,null,null,"1.2.1.1.1.1","НН","тыс.кВт*ч",0,0,0]
[null,null,null,null,null,null,null,null,null,null,null,null,null,null,null,null,null,null,null,null,null,null,null,null,null,null,null,null,null,null,null,null,null,null,null,null,null,null,"1.2.1.1.1.2","СН1","тыс.кВт*ч",0,0,0]
[null,null,null,null,null,null,null,null,null,null,null,null,null,null,null,null,null,null,null,null,null,null,null,null,null,null,null,null,null,null,null,null,null,null,null,null,null,null,"1.2.1.1.1.3","СН2","тыс.кВт*ч",0,0,0]
[null,null,null,null,null,null,null,null,null,null,null,null,null,null,null,null,null,null,null,null,null,null,null,null,null,null,null,null,null,null,null,null,null,null,null,null,null,null,"1.2.1.1.1.4","ВН","тыс.кВт*ч",0,0,0]
[null,null,null,null,null,null,null,null,null,null,null,null,null,null,null,null,null,null,null,null,null,null,null,null,null,null,null,null,null,null,null,null,null,null,null,null,null,null,"1.2.1.1.1.5","без разбивки по напряжению","тыс.кВт*ч",0,0,0]
[null,null,null,null,null,null,null,null,null,null,null,null,null,null,null,null,null,null,null,null,null,null,null,null,null,null,null,null,null,null,null,null,null,null,null,null,null,null,"1.2.1.1.2","Объём покупной электроэнергии по двухставочному тарифу"]
[null,null,null,null,null,null,null,null,null,null,null,null,null,null,null,null,null,null,null,null,null,null,null,null,null,null,null,null,null,null,null,null,null,null,null,null,null,null,"1.2.1.1.2.1","Мощность","МВт*мес",{"$f":"SUMIF($AS$9:$AT$9,AP$9,$AS38:$AT38)","v":0},0,0]
[null,null,null,null,null,null,null,null,null,null,null,null,null,null,null,null,null,null,null,null,null,null,null,null,null,null,null,null,null,null,null,null,null,null,null,null,null,null,"1.2.1.1.2.1.1","НН","МВт*мес",0,0,0]
[null,null,null,null,null,null,null,null,null,null,null,null,null,null,null,null,null,null,null,null,null,null,null,null,null,null,null,null,null,null,null,null,null,null,null,null,null,null,"1.2.1.1.2.1.2","СН1","МВт*мес",0,0,0]
[null,null,null,null,null,null,null,null,null,null,null,null,null,null,null,null,null,null,null,null,null,null,null,null,null,null,null,null,null,null,null,null,null,null,null,null,null,null,"1.2.1.1.2.1.3","СН2","МВт*мес",0,0,0]
[null,null,null,null,null,null,null,null,null,null,null,null,null,null,null,null,null,null,null,null,null,null,null,null,null,null,null,null,null,null,null,null,null,null,null,null,null,null,"1.2.1.1.2.1.4","ВН","МВт*мес",0,0,0]
[null,null,null,null,null,null,null,null,null,null,null,null,null,null,null,null,null,null,null,null,null,null,null,null,null,null,null,null,null,null,null,null,null,null,null,null,null,null,"1.2.1.1.2.1.5","ГН","МВт*мес",0,0,0]
[null,null,null,null,null,null,null,null,null,null,null,null,null,null,null,null,null,null,null,null,null,null,null,null,null,null,null,null,null,null,null,null,null,null,null,null,null,null,"1.2.1.1.2.2","Активная электроэнергия","тыс.кВт*ч",0,0,0]
[null,null,null,null,null,null,null,null,null,null,null,null,null,null,null,null,null,null,null,null,null,null,null,null,null,null,null,null,null,null,null,null,null,null,null,null,null,null,"1.2.1.1.2.2.1","НН","тыс.кВт*ч",0,0,0]
[null,null,null,null,null,null,null,null,null,null,null,null,null,null,null,null,null,null,null,null,null,null,null,null,null,null,null,null,null,null,null,null,null,null,null,null,null,null,"1.2.1.1.2.2.2","СН1","тыс.кВт*ч",0,0,0]
[null,null,null,null,null,null,null,null,null,null,null,null,null,null,null,null,null,null,null,null,null,null,null,null,null,null,null,null,null,null,null,null,null,null,null,null,null,null,"1.2.1.1.2.2.3","СН2","тыс.кВт*ч",0,0,0]
[null,null,null,null,null,null,null,null,null,null,null,null,null,null,null,null,null,null,null,null,null,null,null,null,null,null,null,null,null,null,null,null,null,null,null,null,null,null,"1.2.1.1.2.2.4","ВН","тыс.кВт*ч",0,0,0]
[null,null,null,null,null,null,null,null,null,null,null,null,null,null,null,null,null,null,null,null,null,null,null,null,null,null,null,null,null,null,null,null,null,null,null,null,null,null,"1.2.1.1.2.2.5","ГН","тыс.кВт*ч",0,0,0]
[null,null,null,null,null,null,null,null,null,null,null,null,null,null,null,null,null,null,null,null,null,null,null,null,null,null,null,null,null,null,null,null,null,null,null,null,null,null,"1.2.1.2","Тариф на электроэнергию и мощность"]
[null,null,null,null,null,null,null,null,null,null,null,null,null,null,null,null,null,null,null,null,null,null,null,null,null,null,null,null,null,null,null,null,null,null,null,null,null,null,"1.2.1.2.1","по одноставочному тарифу"]
[null,null,null,null,null,null,null,null,null,null,null,null,null,null,null,null,null,null,null,null,null,null,null,null,null,null,null,null,null,null,null,null,null,null,null,null,null,null,"1.2.1.2.1.1","НН","руб./кВт*ч",{"$f":"IF(AP32=0,0,AP72/AP32)","v":0},{"$f":"IF(AQ32=0,0,AQ72/AQ32)","v":0},{"$f":"IF(AR32=0,0,AR72/AR32)","v":0}]
[null,null,null,null,null,null,null,null,null,null,null,null,null,null,null,null,null,null,null,null,null,null,null,null,null,null,null,null,null,null,null,null,null,null,null,null,null,null,"1.2.1.2.1.2","СН1","руб./кВт*ч",{"$f":"IF(AP33=0,0,AP73/AP33)","v":0},0,0]
[null,null,null,null,null,null,null,null,null,null,null,null,null,null,null,null,null,null,null,null,null,null,null,null,null,null,null,null,null,null,null,null,null,null,null,null,null,null,"1.2.1.2.1.3","СН2","руб./кВт*ч",0,0,0]
[null,null,null,null,null,null,null,null,null,null,null,null,null,null,null,null,null,null,null,null,null,null,null,null,null,null,null,null,null,null,null,null,null,null,null,null,null,null,"1.2.1.2.1.4","ВН","руб./кВт*ч",0,0,0]
[null,null,null,null,null,null,null,null,null,null,null,null,null,null,null,null,null,null,null,null,null,null,null,null,null,null,null,null,null,null,null,null,null,null,null,null,null,null,"1.2.1.2.1.5","без разбивки по напряжению","руб./кВт*ч",0,0,0]
[null,null,null,null,null,null,null,null,null,null,null,null,null,null,null,null,null,null,null,null,null,null,null,null,null,null,null,null,null,null,null,null,null,null,null,null,null,null,"1.2.1.2.1.6","Средний одноставочный тариф на электрическую энергию","руб./кВт*ч",{"$f":"IF(AP31=0,0,AP71/AP31)","v":0},{"$f":"IF(AQ31=0,0,AQ71/AQ31)","v":0},{"$f":"IF(AR31=0,0,AR71/AR31)","v":0}]
[null,null,null,null,null,null,null,null,null,null,null,null,null,null,null,null,null,null,null,null,null,null,null,null,null,null,null,null,null,null,null,null,null,null,null,null,null,null,"1.2.1.2.2","по двухставочному тарифу"]
[null,null,null,null,null,null,null,null,null,null,null,null,null,null,null,null,null,null,null,null,null,null,null,null,null,null,null,null,null,null,null,null,null,null,null,null,null,null,"1.2.1.2.2.1","ставка за мощность","руб./МВт*мес",{"$f":"IF(AP38=0,0,AP77*1000/AP38)","v":0},0,0]
[null,null,null,null,null,null,null,null,null,null,null,null,null,null,null,null,null,null,null,null,null,null,null,null,null,null,null,null,null,null,null,null,null,null,null,null,null,null,"1.2.1.2.2.1.1","НН","руб./МВт*мес",0,0,0]
[null,null,null,null,null,null,null,null,null,null,null,null,null,null,null,null,null,null,null,null,null,null,null,null,null,null,null,null,null,null,null,null,null,null,null,null,null,null,"1.2.1.2.2.1.2","СН1","руб./МВт*мес",{"$f":"IF(AP40=0,0,AP79*1000/AP40)","v":0},0,0]
[null,null,null,null,null,null,null,null,null,null,null,null,null,null,null,null,null,null,null,null,null,null,null,null,null,null,null,null,null,null,null,null,null,null,null,null,null,null,"1.2.1.2.2.1.3","СН2","руб./МВт*мес",0,0,0]
[null,null,null,null,null,null,null,null,null,null,null,null,null,null,null,null,null,null,null,null,null,null,null,null,null,null,null,null,null,null,null,null,null,null,null,null,null,null,"1.2.1.2.2.1.4","ВН","руб./МВт*мес",0,0,0]
[null,null,null,null,null,null,null,null,null,null,null,null,null,null,null,null,null,null,null,null,null,null,null,null,null,null,null,null,null,null,null,null,null,null,null,null,null,null,"1.2.1.2.2.1.5","ГН","руб./МВт*мес",0,0,0]
[null,null,null,null,null,null,null,null,null,null,null,null,null,null,null,null,null,null,null,null,null,null,null,null,null,null,null,null,null,null,null,null,null,null,null,null,null,null,"1.2.1.2.2.2","ставка за электроэнергию","руб./кВт*мес",{"$f":"IF(AP44=0,0,AP83/AP44)","v":0},{"$f":"IF(AQ44=0,0,AQ83/AQ44)","v":0},{"$f":"IF(AR44=0,0,AR83/AR44)","v":0}]
[null,null,null,null,null,null,null,null,null,null,null,null,null,null,null,null,null,null,null,null,null,null,null,null,null,null,null,null,null,null,null,null,null,null,null,null,null,null,"1.2.1.2.2.2.1","НН","руб./кВт*мес",{"$f":"IF(AP45=0,0,AP84/AP45)","v":0},0,0]
[null,null,null,null,null,null,null,null,null,null,null,null,null,null,null,null,null,null,null,null,null,null,null,null,null,null,null,null,null,null,null,null,null,null,null,null,null,null,"1.2.1.2.2.2.2","СН1","руб./кВт*мес",0,0,0]
[null,null,null,null,null,null,null,null,null,null,null,null,null,null,null,null,null,null,null,null,null,null,null,null,null,null,null,null,null,null,null,null,null,null,null,null,null,null,"1.2.1.2.2.2.3","СН2","руб./кВт*мес",0,0,0]
[null,null,null,null,null,null,null,null,null,null,null,null,null,null,null,null,null,null,null,null,null,null,null,null,null,null,null,null,null,null,null,null,null,null,null,null,null,null,"1.2.1.2.2.2.4","ВН","руб./кВт*мес",0,0,0]
[null,null,null,null,null,null,null,null,null,null,null,null,null,null,null,null,null,null,null,null,null,null,null,null,null,null,null,null,null,null,null,null,null,null,null,null,null,null,"1.2.1.2.2.2.5","ГН","руб./кВт*мес",0,0,0]
[null,null,null,null,null,null,null,null,null,null,null,null,null,null,null,null,null,null,null,null,null,null,null,null,null,null,null,null,null,null,null,null,null,null,null,null,null,null,"1.2.1.3","Затраты на покупку энергии по одноставочному тарифу","тыс.руб.",{"$f":"SUMIF($AS$9:$AT$9,AP$9,$AS71:$AT71)","v":0},0,0]
[null,null,null,null,null,null,null,null,null,null,null,null,null,null,null,null,null,null,null,null,null,null,null,null,null,null,null,null,null,null,null,null,null,null,null,null,null,null,"1.2.1.3.1","НН","тыс.руб.",0,0,0]
[null,null,null,null,null,null,null,null,null,null,null,null,null,null,null,null,null,null,null,null,null,null,null,null,null,null,null,null,null,null,null,null,null,null,null,null,null,null,"1.2.1.3.2","СН1","тыс.руб.",0,0,0]
[null,null,null,null,null,null,null,null,null,null,null,null,null,null,null,null,null,null,null,null,null,null,null,null,null,null,null,null,null,null,null,null,null,null,null,null,null,null,"1.2.1.3.3","СН2","тыс.руб.",0,0,0]
[null,null,null,null,null,null,null,null,null,null,null,null,null,null,null,null,null,null,null,null,null,null,null,null,null,null,null,null,null,null,null,null,null,null,null,null,null,null,"1.2.1.3.4","ВН","тыс.руб.",0,0,0]
[null,null,null,null,null,null,null,null,null,null,null,null,null,null,null,null,null,null,null,null,null,null,null,null,null,null,null,null,null,null,null,null,null,null,null,null,null,null,"1.2.1.3.5","без разбивки по напряжению","тыс.руб.",0,0,0]
[null,null,null,null,null,null,null,null,null,null,null,null,null,null,null,null,null,null,null,null,null,null,null,null,null,null,null,null,null,null,null,null,null,null,null,null,null,null,"1.2.1.4","Затраты на покупку мощности по двухставочному тарифу","тыс.руб.",0,0,0]
[null,null,null,null,null,null,null,null,null,null,null,null,null,null,null,null,null,null,null,null,null,null,null,null,null,null,null,null,null,null,null,null,null,null,null,null,null,null,"1.2.1.4.1","НН","тыс.руб.",0,0,0]
[null,null,null,null,null,null,null,null,null,null,null,null,null,null,null,null,null,null,null,null,null,null,null,null,null,null,null,null,null,null,null,null,null,null,null,null,null,null,"1.2.1.4.2","СН1","тыс.руб.",0,0,0]
[null,null,null,null,null,null,null,null,null,null,null,null,null,null,null,null,null,null,null,null,null,null,null,null,null,null,null,null,null,null,null,null,null,null,null,null,null,null,"1.2.1.4.3","СН2","тыс.руб.",0,0,0]
[null,null,null,null,null,null,null,null,null,null,null,null,null,null,null,null,null,null,null,null,null,null,null,null,null,null,null,null,null,null,null,null,null,null,null,null,null,null,"1.2.1.4.4","ВН","тыс.руб.",0,0,0]
[null,null,null,null,null,null,null,null,null,null,null,null,null,null,null,null,null,null,null,null,null,null,null,null,null,null,null,null,null,null,null,null,null,null,null,null,null,null,"1.2.1.4.5","ГН","тыс.руб.",0,0,0]
[null,null,null,null,null,null,null,null,null,null,null,null,null,null,null,null,null,null,null,null,null,null,null,null,null,null,null,null,null,null,null,null,null,null,null,null,null,null,"1.2.1.5","Затраты на покупку энергии по двухставочному тарифу","тыс.руб.",0,0,0]
[null,null,null,null,null,null,null,null,null,null,null,null,null,null,null,null,null,null,null,null,null,null,null,null,null,null,null,null,null,null,null,null,null,null,null,null,null,null,"1.2.1.5.1","НН","тыс.руб.",0,0,0]
[null,null,null,null,null,null,null,null,null,null,null,null,null,null,null,null,null,null,null,null,null,null,null,null,null,null,null,null,null,null,null,null,null,null,null,null,null,null,"1.2.1.5.2","СН1","тыс.руб.",0,0,0]
[null,null,null,null,null,null,null,null,null,null,null,null,null,null,null,null,null,null,null,null,null,null,null,null,null,null,null,null,null,null,null,null,null,null,null,null,null,null,"1.2.1.5.3","СН2","тыс.руб.",0,0,0]
[null,null,null,null,null,null,null,null,null,null,null,null,null,null,null,null,null,null,null,null,null,null,null,null,null,null,null,null,null,null,null,null,null,null,null,null,null,null,"1.2.1.5.4","ВН","тыс.руб.",0,0,0]
[null,null,null,null,null,null,null,null,null,null,null,null,null,null,null,null,null,null,null,null,null,null,null,null,null,null,null,null,null,null,null,null,null,null,null,null,null,null,"1.2.1.5.5","ГН","тыс.руб.",0,0,0]
[null,null,null,null,null,null,null,null,null,null,null,null,null,null,null,null,null,null,null,null,null,null,null,null,null,null,null,null,null,null,null,null,null,null,null,null,null,null,"1.2.2","теплоэнергия","тыс.руб.",0,0,0]
[null,null,null,null,null,null,null,null,null,null,null,null,null,null,null,null,null,null,null,null,null,null,null,null,null,null,null,null,null,null,null,null,null,null,null,null,null,null,"1.2.3","теплоноситель","тыс.руб.",0,0,0]
[null,null,null,null,null,null,null,null,null,null,null,null,null,null,null,null,null,null,null,null,null,null,null,null,null,null,null,null,null,null,null,null,null,null,null,null,null,null,"1.2.4","топливо","тыс.руб.",0,0,0]
[]
[]
[]
[]
[null,null,null,null,null,null,null,null,null,null,null,null,null,null,null,null,null,null,null,null,null,null,null,null,null,null,null,null,null,null,null,null,null,null,null,null,null,null,"1.2.5","холодная вода","тыс.руб.",{"$f":"SUMIF($AS$9:$AT$9,AP$9,$AS96:$AT96)","v":0},{"$f":"SUMIF($AS$9:$AT$9,AQ$9,$AS96:$AT96)","v":0},{"$f":"SUMIF($AS$9:$AT$9,AR$9,$AS96:$AT96)","v":0}]
[null,null,null,null,null,null,null,null,null,null,null,null,null,null,null,null,null,null,null,null,null,null,null,null,null,null,null,null,null,null,null,null,null,null,null,null,null,null,"1.2.5.1","цена","руб./куб.м",{"$f":"IF(AP98=0,0,AP96/AP98)","v":0},{"$f":"IF(AQ98=0,0,AQ96/AQ98)","v":0},{"$f":"IF(AR98=0,0,AR96/AR98)","v":0}]
[null,null,null,null,null,null,null,null,null,null,null,null,null,null,null,null,null,null,null,null,null,null,null,null,null,null,null,null,null,null,null,null,null,null,null,null,null,null,"1.2.5.2","объём","тыс.куб.м",{"$f":"SUMIF($AS$9:$AT$9,AP$9,$AS98:$AT98)","v":0},{"$f":"SUMIF($AS$9:$AT$9,AQ$9,$AS98:$AT98)","v":0},{"$f":"SUMIF($AS$9:$AT$9,AR$9,$AS98:$AT98)","v":0}]
[]
[]
[]
[]
[]
[]
[]
[null,null,null,null,null,null,null,null,null,null,null,null,null,null,null,null,null,null,null,null,null,null,null,null,null,null,null,null,null,null,null,null,null,null,null,null,null,null,"1.3","Расходы на оплату работ и услуг, выполняемые сторонними организациями и индивидуальными предпринимателями, связанные с эксплуатацией централизованных систем либо объектов в составе таких систем","тыс.руб.",{"$f":"SUMIF($AS$9:$AT$9,AP$9,$AS106:$AT106)","v":0},0,0]
[null,null,null,null,null,null,null,null,null,null,null,null,null,null,null,null,null,null,null,null,null,null,null,null,null,null,null,null,null,null,null,null,null,null,null,null,null,null,"1.4","Расходы на оплату труда и отчисления на социальные нужды основного производственного персонала, в том числе налоги и сборы ","тыс.руб.",0,0,0]
[null,null,null,null,null,null,null,null,null,null,null,null,null,null,null,null,null,null,null,null,null,null,null,null,null,null,null,null,null,null,null,null,null,null,null,null,null,null,"1.4.1","Расходы на оплату труда производственного персонала","тыс.руб.",0,0,0]
[null,null,null,null,null,null,null,null,null,null,null,null,null,null,null,null,null,null,null,null,null,null,null,null,null,null,null,null,null,null,null,null,null,null,null,null,null,null,"1.4.1.1","Численность (среднесписочная), принятая для расчёта","ед.",0,0,0]
[null,null,null,null,null,null,null,null,null,null,null,null,null,null,null,null,null,null,null,null,null,null,null,null,null,null,null,null,null,null,null,null,null,null,null,null,null,null,"1.4.1.2","Среднемесячная оплата труда основного производственного персонала","руб./мес.",{"$f":"IF(AP109=0,0,AP108/AP109*1000/AP$6)","v":0},{"$f":"IF(AQ109=0,0,AQ108/AQ109*1000/AQ$6)","v":0},{"$f":"IF(AR109=0,0,AR108/AR109*1000/AR$6)","v":0}]
[null,null,null,null,null,null,null,null,null,null,null,null,null,null,null,null,null,null,null,null,null,null,null,null,null,null,null,null,null,null,null,null,null,null,null,null,null,null,"1.4.1.3","Фактическая численность основного производственного персонала, относимого на регулируемый вид деятельности","ед.",{"$f":"SUMIF($AS$9:$AT$9,AP$9,$AS111:$AT111)","v":0},0,0]
[null,null,null,null,null,null,null,null,null,null,null,null,null,null,null,null,null,null,null,null,null,null,null,null,null,null,null,null,null,null,null,null,null,null,null,null,null,null,"1.4.1.4","Справочно: нормативная численность основного производственного персонала, относимого на регулируемый вид деятельности","ед.",0,0,0]
[null,null,null,null,null,null,null,null,null,null,null,null,null,null,null,null,null,null,null,null,null,null,null,null,null,null,null,null,null,null,null,null,null,null,null,null,null,null,"1.4.1.5","Тарифная ставка рабочего 1-го разряда","руб./мес."]
[null,null,null,null,null,null,null,null,null,null,null,null,null,null,null,null,null,null,null,null,null,null,null,null,null,null,null,null,null,null,null,null,null,null,null,null,null,null,"1.4.1.6","Индекс роста номинальной заработной платы"]
[null,null,null,null,null,null,null,null,null,null,null,null,null,null,null,null,null,null,null,null,null,null,null,null,null,null,null,null,null,null,null,null,null,null,null,null,null,null,"1.4.1.7","Тарифная ставка рабочего 1-го разряда с учётом дефлятора","руб./мес."]
[null,null,null,null,null,null,null,null,null,null,null,null,null,null,null,null,null,null,null,null,null,null,null,null,null,null,null,null,null,null,null,null,null,null,null,null,null,null,"1.4.1.8","Средний тарифный коэффициент"]
[null,null,null,null,null,null,null,null,null,null,null,null,null,null,null,null,null,null,null,null,null,null,null,null,null,null,null,null,null,null,null,null,null,null,null,null,null,null,"1.4.1.9","Среднемесячная тарифная ставка","руб./мес."]
[null,null,null,null,null,null,null,null,null,null,null,null,null,null,null,null,null,null,null,null,null,null,null,null,null,null,null,null,null,null,null,null,null,null,null,null,null,null,"1.4.1.10","Минимальный размер оплаты труда по отраслевому тарифному соглашению","руб./мес."]
[null,null,null,null,null,null,null,null,null,null,null,null,null,null,null,null,null,null,null,null,null,null,null,null,null,null,null,null,null,null,null,null,null,null,null,null,null,null,"1.4.2","Отчисления на социальные нужды производственного персонала, в том числе налоги и сборы","тыс.руб.",{"$f":"SUMIF($AS$9:$AT$9,AP$9,$AS119:$AT119)","v":0},0,0]
[null,null,null,null,null,null,null,null,null,null,null,null,null,null,null,null,null,null,null,null,null,null,null,null,null,null,null,null,null,null,null,null,null,null,null,null,null,null,"1.5","Расходы на уплату процентов по займам и кредитам, не учитываемые при определении налогооблагаемой базы налога на прибыль","тыс.руб.",0,0,0]
[null,null,null,null,null,null,null,null,null,null,null,null,null,null,null,null,null,null,null,null,null,null,null,null,null,null,null,null,null,null,null,null,null,null,null,null,null,null,"1.6","Общехозяйственные расходы","тыс.руб.",0,0,0]
[null,null,null,null,null,null,null,null,null,null,null,null,null,null,null,null,null,null,null,null,null,null,null,null,null,null,null,null,null,null,null,null,null,null,null,null,null,null,"1.7","Прочие производственные расходы","тыс.руб.",0,0,0]
[null,null,null,null,null,null,null,null,null,null,null,null,null,null,null,null,null,null,null,null,null,null,null,null,null,null,null,null,null,null,null,null,null,null,null,null,null,null,"1.7.1","Расходы на амортизацию транспорта","тыс.руб.",0,0,0]
[null,null,null,null,null,null,null,null,null,null,null,null,null,null,null,null,null,null,null,null,null,null,null,null,null,null,null,null,null,null,null,null,null,null,null,null,null,null,{"$f":"IF(TEMPLATE_SPHERE_CODE=\"COLDVSNA\",\"1.7.2\",IF(TEMPLATE_SPHERE_CODE=\"VOTV\",\"1.7.2\",\"\"))","v":""},{"$f":"IF(TEMPLATE_SPHERE_CODE=\"COLDVSNA\",\"Контроль качества воды\",IF(TEMPLATE_SPHERE_CODE=\"VOTV\",\"Контроль сточных вод\",\"\"))","v":""},"тыс.руб.",0,0,0]
[null,null,null,null,null,null,null,null,null,null,null,null,null,null,null,null,null,null,null,null,null,null,null,null,null,null,null,null,null,null,null,null,null,null,null,null,null,null,"1.7.3","Расходы на аварийно-диспетчерское обслуживание","тыс.руб.",0,0,0]
[null,null,null,null,null,null,null,null,null,null,null,null,null,null,null,null,null,null,null,null,null,null,null,null,null,null,null,null,null,null,null,null,null,null,null,null,null,null,{"$f":"IF(TEMPLATE_SPHERE_CODE=\"COLDVSNA\",\"\",IF(TEMPLATE_SPHERE_CODE=\"VOTV\",\"1.7.4\",\"\"))","v":""},{"$f":"IF(TEMPLATE_SPHERE_CODE=\"COLDVSNA\",\"\",IF(TEMPLATE_SPHERE_CODE=\"VOTV\",\"Услуги по обращению с осадком сточных вод\",\"\"))","v":""},{"$f":"IF(TEMPLATE_SPHERE_CODE=\"COLDVSNA\",\"\",IF(TEMPLATE_SPHERE_CODE=\"VOTV\",\"тыс.руб.\",\"\"))","v":""},{"$f":"IF(TEMPLATE_SPHERE_CODE=\"COLDVSNA\",\"\",SUMIF($AS$9:$AT$9,AP$9,$AS126:$AT126))","v":0},{"$f":"IF(TEMPLATE_SPHERE_CODE=\"COLDVSNA\",\"\",SUMIF($AS$9:$AT$9,AQ$9,$AS126:$AT126))","v":0},{"$f":"IF(TEMPLATE_SPHERE_CODE=\"COLDVSNA\",\"\",SUMIF($AS$9:$AT$9,AR$9,$AS126:$AT126))","v":0}]
[null,null,null,null,null,null,null,null,null,null,null,null,null,null,null,null,null,null,null,null,null,null,null,null,null,null,null,null,null,null,null,null,null,null,null,null,null,null,"1.8","Цеховые расходы","тыс.руб.",{"$f":"SUMIF($AS$9:$AT$9,AP$9,$AS127:$AT127)","v":0},0,0]
[null,null,null,null,null,null,null,null,null,null,null,null,null,null,null,null,null,null,null,null,null,null,null,null,null,null,null,null,null,null,null,null,null,null,null,null,null,null,"1.8.1","Расходы на оплату труда цехового персонала","тыс.руб.",0,0,0]
[null,null,null,null,null,null,null,null,null,null,null,null,null,null,null,null,null,null,null,null,null,null,null,null,null,null,null,null,null,null,null,null,null,null,null,null,null,null,"1.8.2","Отчисления на социальные нужды цехового персонала, в том числе налоги и сборы","тыс.руб.",0,0,0]
[null,null,null,null,null,null,null,null,null,null,null,null,null,null,null,null,null,null,null,null,null,null,null,null,null,null,null,null,null,null,null,null,null,null,null,null,null,null,"1.8.3","Расходы на охрану труда","тыс.руб.",0,0,0]
[null,null,null,null,null,null,null,null,null,null,null,null,null,null,null,null,null,null,null,null,null,null,null,null,null,null,null,null,null,null,null,null,null,null,null,null,null,null,"1.8.4","Прочие","тыс.руб.",0,0,0]
[null,null,null,null,null,null,null,null,null,null,null,null,null,null,null,null,null,null,null,null,null,null,null,null,null,null,null,null,null,null,null,null,null,null,null,null,null,null,"2","Ремонтные расходы","тыс.руб.",0,0,0]
[null,null,null,null,null,null,null,null,null,null,null,null,null,null,null,null,null,null,null,null,null,null,null,null,null,null,null,null,null,null,null,null,null,null,null,null,null,null,"2.1","Расходы на текущий ремонт централизованных систем водоснабжения и (или) водоотведения либо объектов, входящих в состав таких систем","тыс.руб.",0,0,0]
[null,null,null,null,null,null,null,null,null,null,null,null,null,null,null,null,null,null,null,null,null,null,null,null,null,null,null,null,null,null,null,null,null,null,null,null,null,null,"2.1.1","Справочно: расходы на текущий ремонт, предусмотренные производственной программой регулируемой организации","тыс.руб.",0,0,0]
[null,null,null,null,null,null,null,null,null,null,null,null,null,null,null,null,null,null,null,null,null,null,null,null,null,null,null,null,null,null,null,null,null,null,null,null,null,null,"2.2","Расходы на капитальный ремонт централизованных систем водоснабжения и (или водоотведения) либо объектов, входящих в состав таких систем","тыс.руб.",0,0,0]
[null,null,null,null,null,null,null,null,null,null,null,null,null,null,null,null,null,null,null,null,null,null,null,null,null,null,null,null,null,null,null,null,null,null,null,null,null,null,"2.2.1","Справочно: расходы на капитальный ремонт, предусмотренные производственной программой регулируемой организации","тыс.руб.",0,0,0]
[null,null,null,null,null,null,null,null,null,null,null,null,null,null,null,null,null,null,null,null,null,null,null,null,null,null,null,null,null,null,null,null,null,null,null,null,null,null,"2.3","Расходы на оплату труда и отчисления на социальные нужды ремонтного персонала, в том числе налоги и сборы","тыс.руб.",0,0,0]
[null,null,null,null,null,null,null,null,null,null,null,null,null,null,null,null,null,null,null,null,null,null,null,null,null,null,null,null,null,null,null,null,null,null,null,null,null,null,"2.3.1","Расходы на оплату труда ремонтного персонала","тыс.руб.",0,0,0]
[null,null,null,null,null,null,null,null,null,null,null,null,null,null,null,null,null,null,null,null,null,null,null,null,null,null,null,null,null,null,null,null,null,null,null,null,null,null,"2.3.1.1","Численность (среднесписочная), принятая для расчёта","ед.",0,0,0]
[null,null,null,null,null,null,null,null,null,null,null,null,null,null,null,null,null,null,null,null,null,null,null,null,null,null,null,null,null,null,null,null,null,null,null,null,null,null,"2.3.1.2","Среднемесячная оплата труда ремонтного персонала","руб./мес.",{"$f":"IF(AP139=0,0,AP138/AP139*1000/AP$6)","v":0},{"$f":"IF(AQ139=0,0,AQ138/AQ139*1000/AQ$6)","v":0},{"$f":"IF(AR139=0,0,AR138/AR139*1000/AR$6)","v":0}]
[null,null,null,null,null,null,null,null,null,null,null,null,null,null,null,null,null,null,null,null,null,null,null,null,null,null,null,null,null,null,null,null,null,null,null,null,null,null,"2.3.1.3","Фактическая численность ремонтного персонала, относимого на регулируемый вид деятельности","ед.",{"$f":"SUMIF($AS$9:$AT$9,AP$9,$AS141:$AT141)","v":0},0,0]
[null,null,null,null,null,null,null,null,null,null,null,null,null,null,null,null,null,null,null,null,null,null,null,null,null,null,null,null,null,null,null,null,null,null,null,null,null,null,"2.3.1.4","Справочно: нормативная численность ремонтного персонала, относимого на регулируемый вид деятельности","ед.",0,0,0]
[null,null,null,null,null,null,null,null,null,null,null,null,null,null,null,null,null,null,null,null,null,null,null,null,null,null,null,null,null,null,null,null,null,null,null,null,null,null,"2.3.1.5","Тарифная ставка рабочего 1-го разряда","руб./мес."]
[null,null,null,null,null,null,null,null,null,null,null,null,null,null,null,null,null,null,null,null,null,null,null,null,null,null,null,null,null,null,null,null,null,null,null,null,null,null,"2.3.1.6","Индекс роста номинальной заработной платы"]
[null,null,null,null,null,null,null,null,null,null,null,null,null,null,null,null,null,null,null,null,null,null,null,null,null,null,null,null,null,null,null,null,null,null,null,null,null,null,"2.3.1.7","Тарифная ставка рабочего 1-го разряда с учётом дефлятора","руб./мес."]
[null,null,null,null,null,null,null,null,null,null,null,null,null,null,null,null,null,null,null,null,null,null,null,null,null,null,null,null,null,null,null,null,null,null,null,null,null,null,"2.3.1.8","Средний тарифный коэффициент"]
[null,null,null,null,null,null,null,null,null,null,null,null,null,null,null,null,null,null,null,null,null,null,null,null,null,null,null,null,null,null,null,null,null,null,null,null,null,null,"2.3.1.9","Среднемесячная тарифная ставка","руб./мес."]
[null,null,null,null,null,null,null,null,null,null,null,null,null,null,null,null,null,null,null,null,null,null,null,null,null,null,null,null,null,null,null,null,null,null,null,null,null,null,"2.3.1.10","Минимальный размер оплаты труда по отраслевому тарифному соглашению","руб./мес."]
[null,null,null,null,null,null,null,null,null,null,null,null,null,null,null,null,null,null,null,null,null,null,null,null,null,null,null,null,null,null,null,null,null,null,null,null,null,null,"2.3.2","Отчисления на социальные нужды ремонтного персонала, в том числе налоги и сборы","тыс.руб.",{"$f":"SUMIF($AS$9:$AT$9,AP$9,$AS149:$AT149)","v":0},0,0]
[null,null,null,null,null,null,null,null,null,null,null,null,null,null,null,null,null,null,null,null,null,null,null,null,null,null,null,null,null,null,null,null,null,null,null,null,null,null,3,"Административные расходы","тыс.руб.",0,0,0]
[null,null,null,null,null,null,null,null,null,null,null,null,null,null,null,null,null,null,null,null,null,null,null,null,null,null,null,null,null,null,null,null,null,null,null,null,null,null,"3.1","Расходы на оплату работ и услуг, выполняемых сторонними организациями","тыс.руб.",0,0,0]
[null,null,null,null,null,null,null,null,null,null,null,null,null,null,null,null,null,null,null,null,null,null,null,null,null,null,null,null,null,null,null,null,null,null,null,null,null,null,"3.1.1","услуги связи и интернет","тыс.руб.",0,0,0]
[null,null,null,null,null,null,null,null,null,null,null,null,null,null,null,null,null,null,null,null,null,null,null,null,null,null,null,null,null,null,null,null,null,null,null,null,null,null,"3.1.2","юридические услуги","тыс.руб.",0,0,0]
[null,null,null,null,null,null,null,null,null,null,null,null,null,null,null,null,null,null,null,null,null,null,null,null,null,null,null,null,null,null,null,null,null,null,null,null,null,null,"3.1.3","аудиторские услуги","тыс.руб.",0,0,0]
[null,null,null,null,null,null,null,null,null,null,null,null,null,null,null,null,null,null,null,null,null,null,null,null,null,null,null,null,null,null,null,null,null,null,null,null,null,null,"3.1.4","консультационные услуги","тыс.руб.",0,0,0]
[null,null,null,null,null,null,null,null,null,null,null,null,null,null,null,null,null,null,null,null,null,null,null,null,null,null,null,null,null,null,null,null,null,null,null,null,null,null,"3.1.5","услуги по вневедомственной охране объектов и территорий","тыс.руб.",0,0,0]
[null,null,null,null,null,null,null,null,null,null,null,null,null,null,null,null,null,null,null,null,null,null,null,null,null,null,null,null,null,null,null,null,null,null,null,null,null,null,"3.1.6","информационные услуги","тыс.руб.",0,0,0]
[null,null,null,null,null,null,null,null,null,null,null,null,null,null,null,null,null,null,null,null,null,null,null,null,null,null,null,null,null,null,null,null,null,null,null,null,null,null,"3.2","Расходы на оплату труда и отчисления на социальные нужды административно-управленческого персонала, в том числе налоги и сборы","тыс.руб.",0,0,0]
[null,null,null,null,null,null,null,null,null,null,null,null,null,null,null,null,null,null,null,null,null,null,null,null,null,null,null,null,null,null,null,null,null,null,null,null,null,null,"3.2.1","Расходы на оплату труда административно-управленческого персонала","тыс.руб.",0,0,0]
[null,null,null,null,null,null,null,null,null,null,null,null,null,null,null,null,null,null,null,null,null,null,null,null,null,null,null,null,null,null,null,null,null,null,null,null,null,null,"3.2.1.1","Численность (среднесписочная), принятая для расчёта","ед.",0,0,0]
[null,null,null,null,null,null,null,null,null,null,null,null,null,null,null,null,null,null,null,null,null,null,null,null,null,null,null,null,null,null,null,null,null,null,null,null,null,null,"3.2.1.2","Среднемесячная оплата труда административно-управленческого персонала","руб./мес.",{"$f":"IF(AP160=0,0,AP159/AP160*1000/AP$6)","v":0},{"$f":"IF(AQ160=0,0,AQ159/AQ160*1000/AQ$6)","v":0},{"$f":"IF(AR160=0,0,AR159/AR160*1000/AR$6)","v":0}]
[null,null,null,null,null,null,null,null,null,null,null,null,null,null,null,null,null,null,null,null,null,null,null,null,null,null,null,null,null,null,null,null,null,null,null,null,null,null,"3.2.1.3","Фактическая численность административно-управленческого персонала, относимого на регулируемый вид деятельности","ед.",{"$f":"SUMIF($AS$9:$AT$9,AP$9,$AS162:$AT162)","v":0},0,0]
[null,null,null,null,null,null,null,null,null,null,null,null,null,null,null,null,null,null,null,null,null,null,null,null,null,null,null,null,null,null,null,null,null,null,null,null,null,null,"3.2.1.4","Справочно: нормативная численность административно-управленческого персонала, относимого на регулируемый вид деятельности","ед.",0,0,0]
[null,null,null,null,null,null,null,null,null,null,null,null,null,null,null,null,null,null,null,null,null,null,null,null,null,null,null,null,null,null,null,null,null,null,null,null,null,null,"3.2.1.5","Тарифная ставка рабочего 1-го разряда","руб./мес."]
[null,null,null,null,null,null,null,null,null,null,null,null,null,null,null,null,null,null,null,null,null,null,null,null,null,null,null,null,null,null,null,null,null,null,null,null,null,null,"3.2.1.6","Индекс роста номинальной заработной платы"]
[null,null,null,null,null,null,null,null,null,null,null,null,null,null,null,null,null,null,null,null,null,null,null,null,null,null,null,null,null,null,null,null,null,null,null,null,null,null,"3.2.1.7","Тарифная ставка рабочего 1-го разряда с учётом дефлятора","руб./мес."]
[null,null,null,null,null,null,null,null,null,null,null,null,null,null,null,null,null,null,null,null,null,null,null,null,null,null,null,null,null,null,null,null,null,null,null,null,null,null,"3.2.1.8","Средний тарифный коэффициент"]
[null,null,null,null,null,null,null,null,null,null,null,null,null,null,null,null,null,null,null,null,null,null,null,null,null,null,null,null,null,null,null,null,null,null,null,null,null,null,"3.2.1.9","Среднемесячная тарифная ставка","руб./мес."]
[null,null,null,null,null,null,null,null,null,null,null,null,null,null,null,null,null,null,null,null,null,null,null,null,null,null,null,null,null,null,null,null,null,null,null,null,null,null,"3.2.1.10","Минимальный размер оплаты труда по отраслевому тарифному соглашению","руб./мес."]
[null,null,null,null,null,null,null,null,null,null,null,null,null,null,null,null,null,null,null,null,null,null,null,null,null,null,null,null,null,null,null,null,null,null,null,null,null,null,"3.2.2","Отчисления на социальные нужды административно-управленческого персонала, в том числе налоги и сборы","тыс.руб.",{"$f":"SUMIF($AS$9:$AT$9,AP$9,$AS170:$AT170)","v":0},0,0]
[null,null,null,null,null,null,null,null,null,null,null,null,null,null,null,null,null,null,null,null,null,null,null,null,null,null,null,null,null,null,null,null,null,null,null,null,null,null,"3.3","Арендная плата, лизинговые платежи, не связанные с арендой (лизингом) централизованных систем водоснабжения и (или) водоотведения либо объектов, входящих в состав таких систем","тыс.руб.",0,0,0]
[null,null,null,null,null,null,null,null,null,null,null,null,null,null,null,null,null,null,null,null,null,null,null,null,null,null,null,null,null,null,null,null,null,null,null,null,null,null,"3.4","Служебные командировки","тыс.руб.",0,0,0]
[null,null,null,null,null,null,null,null,null,null,null,null,null,null,null,null,null,null,null,null,null,null,null,null,null,null,null,null,null,null,null,null,null,null,null,null,null,null,"3.5","Обучение персонала","тыс.руб.",0,0,0]
[null,null,null,null,null,null,null,null,null,null,null,null,null,null,null,null,null,null,null,null,null,null,null,null,null,null,null,null,null,null,null,null,null,null,null,null,null,null,"3.6","Страхование производственных объектов","тыс.руб.",0,0,0]
[null,null,null,null,null,null,null,null,null,null,null,null,null,null,null,null,null,null,null,null,null,null,null,null,null,null,null,null,null,null,null,null,null,null,null,null,null,null,"3.7","Прочие административные расходы","тыс.руб.",0,0,0]
[null,null,null,null,null,null,null,null,null,null,null,null,null,null,null,null,null,null,null,null,null,null,null,null,null,null,null,null,null,null,null,null,null,null,null,null,null,null,"3.7.1","Расходы на амортизацию непроизводственных активов","тыс.руб.",0,0,0]
[null,null,null,null,null,null,null,null,null,null,null,null,null,null,null,null,null,null,null,null,null,null,null,null,null,null,null,null,null,null,null,null,null,null,null,null,null,null,"3.7.2","Расходы по охране объектов и территорий","тыс.руб.",0,0,0]
[null,null,null,null,null,null,null,null,null,null,null,null,null,null,null,null,null,null,null,null,null,null,null,null,null,null,null,null,null,null,null,null,null,null,null,null,null,null,4,"Сбытовые расходы гарантирующих организаций","тыс.руб.",0,0,0]
[null,null,null,null,null,null,null,null,null,null,null,null,null,null,null,null,null,null,null,null,null,null,null,null,null,null,null,null,null,null,null,null,null,null,null,null,null,null,"4.1","Расходы по сомнительным долгам, в размере не более 2% НВВ","тыс.руб.",0,0,0]
[null,null,null,null,null,null,null,null,null,null,null,null,null,null,null,null,null,null,null,null,null,null,null,null,null,null,null,null,null,null,null,null,null,null,null,null,null,null,5,"Амортизация","тыс.руб.",0,0,0]
[null,null,null,null,null,null,null,null,null,null,null,null,null,null,null,null,null,null,null,null,null,null,null,null,null,null,null,null,null,null,null,null,null,null,null,null,null,null,"5.1","Амортизация основных средств и нематериальных активов, относимых к объектам централизованной системы водоснабжения и водоотведения","тыс.руб.",0,0,0]
[null,null,null,null,null,null,null,null,null,null,null,null,null,null,null,null,null,null,null,null,null,null,null,null,null,null,null,null,null,null,null,null,null,null,null,null,null,null,6,"Расходы на арендную плату, лизинговые платежи, концессионную плату, связанные с арендой (лизингом) централизованных систем водоснабжения и (или) водоотведения либо объектов, входящих в состав таких систем","тыс.руб.",0,0,0]
[null,null,null,null,null,null,null,null,null,null,null,null,null,null,null,null,null,null,null,null,null,null,null,null,null,null,null,null,null,null,null,null,null,null,null,null,null,null,"6.1","Аренда имущества","тыс.руб.",0,0,0]
[null,null,null,null,null,null,null,null,null,null,null,null,null,null,null,null,null,null,null,null,null,null,null,null,null,null,null,null,null,null,null,null,null,null,null,null,null,null,"6.1.1","Аренда объектов в государственной собственности","тыс.руб.",0,0,0]
[null,null,null,null,null,null,null,null,null,null,null,null,null,null,null,null,null,null,null,null,null,null,null,null,null,null,null,null,null,null,null,null,null,null,null,null,null,null,"6.1.2","Аренда объектов в муниципальной собственности","тыс.руб.",0,0,0]
[null,null,null,null,null,null,null,null,null,null,null,null,null,null,null,null,null,null,null,null,null,null,null,null,null,null,null,null,null,null,null,null,null,null,null,null,null,null,"6.1.3","Прочее","тыс.руб.",0,0,0]
[null,null,null,null,null,null,null,null,null,null,null,null,null,null,null,null,null,null,null,null,null,null,null,null,null,null,null,null,null,null,null,null,null,null,null,null,null,null,"6.2","Концессионная плата","тыс.руб.",0,0,0]
[null,null,null,null,null,null,null,null,null,null,null,null,null,null,null,null,null,null,null,null,null,null,null,null,null,null,null,null,null,null,null,null,null,null,null,null,null,null,"6.3","Лизинговые платежи","тыс.руб.",0,0,0]
[null,null,null,null,null,null,null,null,null,null,null,null,null,null,null,null,null,null,null,null,null,null,null,null,null,null,null,null,null,null,null,null,null,null,null,null,null,null,"6.4","Аренда земельных участков","тыс.руб.",0,0,0]
[null,null,null,null,null,null,null,null,null,null,null,null,null,null,null,null,null,null,null,null,null,null,null,null,null,null,null,null,null,null,null,null,null,null,null,null,null,null,"6.5","Иное","тыс.руб.",0,0,0]
[null,null,null,null,null,null,null,null,null,null,null,null,null,null,null,null,null,null,null,null,null,null,null,null,null,null,null,null,null,null,null,null,null,null,null,null,null,null,7,"Расходы, связанные с уплатой налогов и сборов, связанные с арендой (лизингом) централизованных систем водоснабжения и (или) водоотведения либо объектов, входящих в состав таких систем","тыс.руб.",0,0,0]
[null,null,null,null,null,null,null,null,null,null,null,null,null,null,null,null,null,null,null,null,null,null,null,null,null,null,null,null,null,null,null,null,null,null,null,null,null,null,"7.1","Налог на прибыль","тыс.руб.",0,0,0]
[null,null,null,null,null,null,null,null,null,null,null,null,null,null,null,null,null,null,null,null,null,null,null,null,null,null,null,null,null,null,null,null,null,null,null,null,null,null,"7.2","Налог на имущество организаций","тыс.руб.",0,0,0]
[null,null,null,null,null,null,null,null,null,null,null,null,null,null,null,null,null,null,null,null,null,null,null,null,null,null,null,null,null,null,null,null,null,null,null,null,null,null,"7.3","Плата за негативное воздействие на окружающую среду","тыс.руб.",0,0,0]
[null,null,null,null,null,null,null,null,null,null,null,null,null,null,null,null,null,null,null,null,null,null,null,null,null,null,null,null,null,null,null,null,null,null,null,null,null,null,"7.4","Водный налог и плата за пользование водным объектом","тыс.руб.",0,0,0]
[null,null,null,null,null,null,null,null,null,null,null,null,null,null,null,null,null,null,null,null,null,null,null,null,null,null,null,null,null,null,null,null,null,null,null,null,null,null,"7.5","Земельный налог","тыс.руб.",0,0,0]
[null,null,null,null,null,null,null,null,null,null,null,null,null,null,null,null,null,null,null,null,null,null,null,null,null,null,null,null,null,null,null,null,null,null,null,null,null,null,"7.6","Транспортный налог","тыс.руб.",0,0,0]
[null,null,null,null,null,null,null,null,null,null,null,null,null,null,null,null,null,null,null,null,null,null,null,null,null,null,null,null,null,null,null,null,null,null,null,null,null,null,"7.7","Прочие налоги и сборы, за исключением налогов и сборов с фонда оплаты труда, учитываемых в составе производственных, ремонтных и административных расходов","тыс.руб.",0,0,0]
[null,null,null,null,null,null,null,null,null,null,null,null,null,null,null,null,null,null,null,null,null,null,null,null,null,null,null,null,null,null,null,null,null,null,null,null,null,null,"8","Расходы на оплату товаров (услуг, работ), приобретаемых у других организаций, осуществляющих регулируемые виды деятельности","тыс.руб.",0,0,0]
[null,null,null,null,null,null,null,null,null,null,null,null,null,null,null,null,null,null,null,null,null,null,null,null,null,null,null,null,null,null,null,null,null,null,null,null,null,null,"9","Расходы на обслуживание бесхозяйных сетей","тыс.руб.",0,0,0]
[null,null,null,null,null,null,null,null,null,null,null,null,null,null,null,null,null,null,null,null,null,null,null,null,null,null,null,null,null,null,null,null,null,null,null,null,null,null,"10","Прочие неподконтрольные расходы","тыс.руб.",0,0,0]
[]
[null,null,null,null,null,null,null,null,null,null,null,null,null,null,null,null,null,null,null,null,null,null,null,null,null,null,null,null,null,null,null,null,null,null,null,null,null,null,"РО","Итого расходы","тыс.руб.",{"$f":"SUMIF($AS$9:$AT$9,AP$9,$AS203:$AT203)","v":0},{"$f":"SUMIF($AS$9:$AT$9,AQ$9,$AS203:$AT203)","v":0},{"$f":"SUMIF($AS$9:$AT$9,AR$9,$AS203:$AT203)","v":0}]
[]
[null,null,null,null,null,null,null,null,null,null,null,null,null,null,null,null,null,null,null,null,null,null,null,null,null,null,null,null,null,null,null,null,null,null,null,null,null,null,"РР","Итого расходы на реализацию","тыс.руб.",{"$f":"SUMIF($AS$9:$AT$9,AP$9,$AS205:$AT205)","v":0},{"$f":"SUMIF($AS$9:$AT$9,AQ$9,$AS205:$AT205)","v":0},{"$f":"SUMIF($AS$9:$AT$9,AR$9,$AS205:$AT205)","v":0}]
[]
[null,null,null,null,null,null,null,null,null,null,null,null,null,null,null,null,null,null,null,null,null,null,null,null,null,null,null,null,null,null,null,null,null,null,null,null,null,null,"У","Убыток","тыс.руб.",{"$f":"SUMIF($AS$9:$AT$9,AP$9,$AS207:$AT207)","v":0},0,0]
[null,null,null,null,null,null,null,null,null,null,null,null,null,null,null,null,null,null,null,null,null,null,null,null,null,null,null,null,null,null,null,null,null,null,null,null,null,null,"П","Прибыль","тыс.руб.",0,0,0]
[]
[null,null,null,null,null,null,null,null,null,null,null,null,null,null,null,null,null,null,null,null,null,null,null,null,null,null,null,null,null,null,null,null,null,null,null,null,null,null,"П.1","Прибыль на развитие производства (капитальные вложения)","тыс.руб.",{"$f":"SUMIF($AS$9:$AT$9,AP$9,$AS210:$AT210)","v":0},0,0]
[null,null,null,null,null,null,null,null,null,null,null,null,null,null,null,null,null,null,null,null,null,null,null,null,null,null,null,null,null,null,null,null,null,null,null,null,null,null,"П.2","Прибыль на социальное развитие","тыс.руб.",0,0,0]
[null,null,null,null,null,null,null,null,null,null,null,null,null,null,null,null,null,null,null,null,null,null,null,null,null,null,null,null,null,null,null,null,null,null,null,null,null,null,"П.3","Прибыль на поощрение","тыс.руб.",0,0,0]
[null,null,null,null,null,null,null,null,null,null,null,null,null,null,null,null,null,null,null,null,null,null,null,null,null,null,null,null,null,null,null,null,null,null,null,null,null,null,"П.4","Прибыль на прочие цели","тыс.руб.",0,0,0]
[]
[]
[]
[]
[]
[]
[]
[]
[null,null,null,null,null,null,null,null,null,null,null,null,null,null,null,null,null,null,null,null,null,null,null,null,null,null,null,null,null,null,null,null,null,null,null,null,null,null,"РП","Итого расходы с учётом расходов из прибыли","тыс.руб.",{"$f":"SUMIF($AS$9:$AT$9,AP$9,$AS222:$AT222)","v":0},{"$f":"SUMIF($AS$9:$AT$9,AQ$9,$AS222:$AT222)","v":0},{"$f":"SUMIF($AS$9:$AT$9,AR$9,$AS222:$AT222)","v":0}]
[]
[]
[]
[]
[]
[]
[]
[]
[]
[]
[]
[]
[]
[]
[]
[]
[]
[null,null,null,null,null,null,null,null,null,null,null,null,null,null,null,null,null,null,null,null,null,null,null,null,null,null,null,null,null,null,null,null,null,null,null,null,null,null,"UI.TOTAL","Полезный отпуск продукции всего:\n[БТр!п.3] - транспортировка\n[БПр!п.5.2] - производство","тыс.куб.м",{"$f":"SUMIF($AS$9:$AT$9,AP$9,$AS240:$AT240)","v":0},0,0]
[null,null,null,null,null,null,null,null,null,null,null,null,null,null,null,null,null,null,null,null,null,null,null,null,null,null,null,null,null,null,null,null,null,null,null,null,null,null,"UI.EC","Полезный отпуск на реализацию потребителям:\n[БТр!п.3.2:3.5] - транспортировка\n[БПр!п.5.2.2 + БПр!п.5.2.3] - производство","тыс.куб.м",0,0,0]
[null,null,null,null,null,null,null,null,null,null,null,null,null,null,null,null,null,null,null,null,null,null,null,null,null,null,null,null,null,null,null,null,null,null,null,null,null,null,"UI.COEF","Коэффициент (доля) на реализацию потребителям",null,{"$f":"IF(AP240=0,0,AP243/AP240)","v":0},{"$f":"IF(AQ240=0,0,AQ243/AQ240)","v":0},{"$f":"IF(AR240=0,0,AR243/AR240)","v":0}]
[null,null,null,null,null,null,null,null,null,null,null,null,null,null,null,null,null,null,null,null,null,null,null,null,null,null,null,null,null,null,null,null,null,null,null,null,null,null,"UI.PURE.EC","Полезный отпуск на реализацию потребителям:\n[БТр!п.3.3:3.5] - транспортировка\n[БПр!п.5.2.3] - производство","тыс.куб.м",{"$f":"SUMIF($AS$9:$AT$9,AP$9,$AS243:$AT243)","v":0},{"$f":"SUMIF($AS$9:$AT$9,AQ$9,$AS243:$AT243)","v":0},{"$f":"SUMIF($AS$9:$AT$9,AR$9,$AS243:$AT243)","v":0}]
[]
[null,null,null,null,null,null,null,null,null,null,null,null,null,null,null,null,null,null,null,null,null,null,null,null,null,null,null,null,null,null,null,null,null,null,null,null,null,null,"UI.TTL",{"$f":"IF(TEMPLATE_SPHERE_CODE=\"COLDVSNA\",\"Объём отпуска воды\",IF(TEMPLATE_SPHERE_CODE=\"VOTV\",\"Объём сточных вод\",\"\"))","v":""},"тыс.куб.м",{"$f":"SUMIF($AS$9:$AT$9,AP$9,$AS245:$AT245)","v":0},{"$f":"SUMIF($AS$9:$AT$9,AQ$9,$AS245:$AT245)","v":0},{"$f":"SUMIF($AS$9:$AT$9,AR$9,$AS245:$AT245)","v":0}]
[]
[null,null,null,null,null,null,null,null,null,null,null,null,null,null,null,null,null,null,null,null,null,null,null,null,null,null,null,null,null,null,null,null,null,null,null,null,null,null,"PROFITABILITY","Рентабельность","%",{"$f":"IF(AP203=0,0,(AP208-AP207)/AP203*100)","v":0},{"$f":"IF(AQ203=0,0,(AQ208-AQ207)/AQ203*100)","v":0},{"$f":"IF(AR203=0,0,(AR208-AR207)/AR203*100)","v":0}]
[null,null,null,null,null,null,null,null,null,null,null,null,null,null,null,null,null,null,null,null,null,null,null,null,null,null,null,null,null,null,null,null,null,null,null,null,null,null,null,"Подстановка тарифов I и II полугодий одновременно","a"]
[null,null,null,null,null,null,null,null,null,null,null,null,null,null,null,null,null,null,null,null,null,null,null,null,null,null,null,null,null,null,null,null,null,null,null,null,null,null,"D","Справочно: результат деятельности в периоде регулирования","тыс.руб.",{"$f":"SUMIF($AS$9:$AT$9,AP$9,$AS249:$AT249)","v":0},0,0]
[null,null,null,null,null,null,null,null,null,null,null,null,null,null,null,null,null,null,null,null,null,null,null,null,null,null,null,null,null,null,null,null,null,null,null,null,null,null,{"$f":"AM249 & \".0.1\"","v":"D.0.1"},"Общий доход от реализации потребителям без учёта НДС, исходя из утверждённых тарифов","тыс.руб.",0,0,0]
[null,null,null,null,null,null,null,null,null,null,null,null,null,null,null,null,null,null,null,null,null,null,null,null,null,null,null,null,null,null,null,null,null,null,null,null,null,null,{"$f":"AM249 & \".0.2\"","v":"D.0.2"},"Полезный отпуск продукции на реализацию потребителям","тыс.куб.м",0,0,0]
[null,null,null,null,null,null,null,null,null,null,null,null,null,null,null,null,null,null,null,null,null,null,null,null,null,null,null,null,null,null,null,null,null,null,null,null,null,null,{"$f":"AM249 & \".1\"","v":"D.1"},"Организации-перепродавцы","тыс.руб.",0,0,0]
[null,null,null,null,null,null,null,null,null,null,null,null,null,null,null,null,null,null,null,null,null,null,null,null,null,null,null,null,null,null,null,null,null,null,null,null,null,null,{"$f":"AM252 & \".1\"","v":"D.1.1"},"средневзвешенный тариф","руб./куб.м",{"$f":"IF(AP254=0,0,AP252/AP254)","v":0},{"$f":"IF(AQ254=0,0,AQ252/AQ254)","v":0},{"$f":"IF(AR254=0,0,AR252/AR254)","v":0}]
[null,null,null,null,null,null,null,null,null,null,null,null,null,null,null,null,null,null,null,null,null,null,null,null,null,null,null,null,null,null,null,null,null,null,null,null,null,null,{"$f":"AM252 & \".2\"","v":"D.1.2"},"объём","тыс.куб.м",{"$f":"SUMIF($AS$9:$AT$9,AP$9,$AS254:$AT254)","v":0},0,0]
[null,null,null,null,null,null,null,null,null,null,null,null,null,null,null,null,null,null,null,null,null,null,null,null,null,null,null,null,null,null,null,null,null,null,null,null,null,null,{"$f":"AM249 & \".2\"","v":"D.2"},"Бюджетные потребители","тыс.руб.",0,0,0]
[null,null,null,null,null,null,null,null,null,null,null,null,null,null,null,null,null,null,null,null,null,null,null,null,null,null,null,null,null,null,null,null,null,null,null,null,null,null,{"$f":"AM255 & \".1\"","v":"D.2.1"},"средневзвешенный тариф","руб./куб.м",{"$f":"IF(AP257=0,0,AP255/AP257)","v":0},{"$f":"IF(AQ257=0,0,AQ255/AQ257)","v":0},{"$f":"IF(AR257=0,0,AR255/AR257)","v":0}]
[null,null,null,null,null,null,null,null,null,null,null,null,null,null,null,null,null,null,null,null,null,null,null,null,null,null,null,null,null,null,null,null,null,null,null,null,null,null,{"$f":"AM255 & \".2\"","v":"D.2.2"},"объём","тыс.куб.м",{"$f":"SUMIF($AS$9:$AT$9,AP$9,$AS257:$AT257)","v":0},0,0]
[null,null,null,null,null,null,null,null,null,null,null,null,null,null,null,null,null,null,null,null,null,null,null,null,null,null,null,null,null,null,null,null,null,null,null,null,null,null,{"$f":"AM249 & \".3\"","v":"D.3"},"Население","тыс.руб.",0,0,0]
[null,null,null,null,null,null,null,null,null,null,null,null,null,null,null,null,null,null,null,null,null,null,null,null,null,null,null,null,null,null,null,null,null,null,null,null,null,null,{"$f":"AM258 & \".1\"","v":"D.3.1"},"средневзвешенный тариф","руб./куб.м",{"$f":"IF(AP260=0,0,AP258/AP260)","v":0},{"$f":"IF(AQ260=0,0,AQ258/AQ260)","v":0},{"$f":"IF(AR260=0,0,AR258/AR260)","v":0}]
[null,null,null,null,null,null,null,null,null,null,null,null,null,null,null,null,null,null,null,null,null,null,null,null,null,null,null,null,null,null,null,null,null,null,null,null,null,null,{"$f":"AM258 & \".2\"","v":"D.3.2"},"объём","тыс.куб.м",{"$f":"SUMIF($AS$9:$AT$9,AP$9,$AS260:$AT260)","v":0},0,0]
[null,null,null,null,null,null,null,null,null,null,null,null,null,null,null,null,null,null,null,null,null,null,null,null,null,null,null,null,null,null,null,null,null,null,null,null,null,null,{"$f":"AM249 & \".4\"","v":"D.4"},"Прочие","тыс.руб.",0,0,0]
[null,null,null,null,null,null,null,null,null,null,null,null,null,null,null,null,null,null,null,null,null,null,null,null,null,null,null,null,null,null,null,null,null,null,null,null,null,null,{"$f":"AM261 & \".1\"","v":"D.4.1"},"средневзвешенный тариф","руб./куб.м",{"$f":"IF(AP263=0,0,AP261/AP263)","v":0},{"$f":"IF(AQ263=0,0,AQ261/AQ263)","v":0},{"$f":"IF(AR263=0,0,AR261/AR263)","v":0}]
[null,null,null,null,null,null,null,null,null,null,null,null,null,null,null,null,null,null,null,null,null,null,null,null,null,null,null,null,null,null,null,null,null,null,null,null,null,null,{"$f":"AM261 & \".2\"","v":"D.4.2"},"объём","тыс.куб.м",{"$f":"SUMIF($AS$9:$AT$9,AP$9,$AS263:$AT263)","v":0},0,0]
[null,null,null,null,null,null,null,null,null,null,null,null,null,null,null,null,null,null,null,null,null,null,null,null,null,null,null,null,null,null,null,null,null,null,null,null,null,null,{"$f":"AM249 & \".5\"","v":"D.5"},"Объём дотаций из всех уровней бюджета","тыс.руб.",0,0,0]
[null,null,null,null,null,null,null,null,null,null,null,null,null,null,null,null,null,null,null,null,null,null,null,null,null,null,null,null,null,null,null,null,null,null,null,null,null,null,{"$f":"AM249 & \".6\"","v":"D.6"},"Доходы, полученные сверх реализации по утверждённым тарифам","тыс.руб.",0,0,0]
[]
[]
[]
[]
[]
[]
[null,null,null,null,null,null,null,null,null,null,null,null,null,null,null,null,null,null,null,null,null,null,null,null,null,null,null,null,null,null,null,null,null,null,null,null,null,null,null,"Дополнительные показатели"]
[null,null,null,null,null,null,null,null,null,null,null,null,null,null,null,null,null,null,null,null,null,null,null,null,null,null,null,null,null,null,null,null,null,null,null,null,null,null,null,"Производство"]
[null,null,null,null,null,null,null,null,null,null,null,null,null,null,null,null,null,null,null,null,null,null,null,null,null,null,null,null,null,null,null,null,null,null,null,null,null,null,null,{"$f":"\"Стоимость основных средств, относимых на источники производства (подъём / добыча) \" & RESOURCE_IDENTIFIER","v":"Стоимость основных средств, относимых на источники производства (подъём / добыча) "},"тыс.руб."]
[null,null,null,null,null,null,null,null,null,null,null,null,null,null,null,null,null,null,null,null,null,null,null,null,null,null,null,null,null,null,null,null,null,null,null,null,null,null,null,{"$f":"\"Количество \" & TEMPLATE_SPHERE_OKK_SOURCE","v":"Количество "},"ед."]
[null,null,null,null,null,null,null,null,null,null,null,null,null,null,null,null,null,null,null,null,null,null,null,null,null,null,null,null,null,null,null,null,null,null,null,null,null,null,null,"Износ основных средств","%"]
[null,null,null,null,null,null,null,null,null,null,null,null,null,null,null,null,null,null,null,null,null,null,null,null,null,null,null,null,null,null,null,null,null,null,null,null,null,null,null,"Очистка"]
[null,null,null,null,null,null,null,null,null,null,null,null,null,null,null,null,null,null,null,null,null,null,null,null,null,null,null,null,null,null,null,null,null,null,null,null,null,null,null,{"$f":"\"Стоимость основных средств, относимых на системы / сооружения для очистки \" & RESOURCE_IDENTIFIER","v":"Стоимость основных средств, относимых на системы / сооружения для очистки "},"тыс.руб."]
[null,null,null,null,null,null,null,null,null,null,null,null,null,null,null,null,null,null,null,null,null,null,null,null,null,null,null,null,null,null,null,null,null,null,null,null,null,null,null,"Учёт способа очистки питьевой воды","Индекс группы"]
[]
[null,null,null,null,null,null,null,null,null,null,null,null,null,null,null,null,null,null,null,null,null,null,null,null,null,null,null,null,null,null,null,null,null,null,null,null,null,null,null,"Износ основных средств","%"]
[null,null,null,null,null,null,null,null,null,null,null,null,null,null,null,null,null,null,null,null,null,null,null,null,null,null,null,null,null,null,null,null,null,null,null,null,null,null,null,"Транспортировка"]
[null,null,null,null,null,null,null,null,null,null,null,null,null,null,null,null,null,null,null,null,null,null,null,null,null,null,null,null,null,null,null,null,null,null,null,null,null,null,null,{"$f":"\"Стоимость основных средств, относимых на транспортировку \" & RESOURCE_IDENTIFIER","v":"Стоимость основных средств, относимых на транспортировку "},"тыс.руб."]
[null,null,null,null,null,null,null,null,null,null,null,null,null,null,null,null,null,null,null,null,null,null,null,null,null,null,null,null,null,null,null,null,null,null,null,null,null,null,null,"Протяженность сетей","км"]
[null,null,null,null,null,null,null,null,null,null,null,null,null,null,null,null,null,null,null,null,null,null,null,null,null,null,null,null,null,null,null,null,null,null,null,null,null,null,null,"Протяженность сетей, подлежащих замене (износ 100%)","км"]
[null,null,null,null,null,null,null,null,null,null,null,null,null,null,null,null,null,null,null,null,null,null,null,null,null,null,null,null,null,null,null,null,null,null,null,null,null,null,null,"Сбыт"]
[null,null,null,null,null,null,null,null,null,null,null,null,null,null,null,null,null,null,null,null,null,null,null,null,null,null,null,null,null,null,null,null,null,null,null,null,null,null,null,"Полезный отпуск наиболее крупному единичному потребителю","тыс.куб.м"]
[null,null,null,null,null,null,null,null,null,null,null,null,null,null,null,null,null,null,null,null,null,null,null,null,null,null,null,null,null,null,null,null,null,null,null,null,null,null,null,"Численность обслуживаемого населения","чел."]
[null,null,null,null,null,null,null,null,null,null,null,null,null,null,null,null,null,null,null,null,null,null,null,null,null,null,null,null,null,null,null,null,null,null,null,null,null,null,null,"Количество абонентов","тыс.ед."]
[null,null,null,null,null,null,null,null,null,null,null,null,null,null,null,null,null,null,null,null,null,null,null,null,null,null,null,null,null,null,null,null,null,null,null,null,null,null,null,"Высота подъёма воды","м"]

{"sheet":"ХВС.Р","index":18,"n_rows":303,"n_cols":46,"rows_kept":303,"cut":false,"hidden":true,"merged":[[12,38,13,39],[13,41,13,43],[18,38,19,38],[18,39,19,39],[18,40,19,40],[18,41,19,43]]}
[]
[]
[]
[]
[]
[null,null,null,null,null,null,null,null,null,null,null,null,null,null,null,null,null,null,null,null,null,null,null,null,null,null,null,null,null,null,null,null,null,null,null,null,null,null,null,null,null,12,6,6]
[]
[]
[null,null,null,null,null,null,null,null,null,null,null,null,null,null,null,null,null,null,null,null,null,null,null,null,null,null,null,null,null,null,null,null,null,null,null,null,null,null,null,null,null,"Y","I","II"]
[null,null,null,null,null,null,null,null,null,null,null,null,null,null,null,null,null,null,null,null,null,null,null,null,null,null,null,null,null,null,null,null,null,null,null,null,null,null,null,null,null,null,null,null,"START","END"]
[]
[null,null,null,null,null,null,null,null,null,null,null,null,null,null,null,null,null,null,null,null,null,null,null,null,null,null,null,null,null,null,null,null,null,null,null,null,null,null,null,"Необходимо указывать значения по полугодиям (6 и 6 месяцев)"]
["FULL_MODE",null,null,null,null,null,null,null,null,null,null,null,null,null,null,null,null,null,null,null,null,null,null,null,null,null,null,null,null,null,null,null,null,null,null,null,null,null,"Реагенты",null,"Период","Год","I полугодие","II полугодие"]
[]
[]
[]
[]
[null,null,null,null,null,null,null,null,null,null,null,null,null,null,null,null,null,null,null,null,null,null,null,null,null,null,null,null,null,null,null,null,null,null,null,null,null,null,null,null,null,null,null,null,null,"Добавить"]
[null,null,null,null,null,null,null,null,null,null,null,null,null,null,null,null,null,null,null,null,null,null,null,null,null,null,null,null,null,null,null,null,null,null,null,null,null,null,"№ п/п","Наименование показателя","Единица измерения","Всего по организации",null,null,0]
[]
[null,null,null,null,null,null,null,null,null,null,null,null,null,null,null,null,null,null,null,null,null,null,null,null,null,null,null,null,null,null,null,null,null,null,null,null,null,null,null,"Является ли организация плательщиком НДС"]
[null,null,null,null,null,null,null,null,null,null,null,null,null,null,null,null,null,null,null,null,null,null,null,null,null,null,null,null,null,null,null,null,null,null,null,null,null,null,null,"Выбор используемых реагентов - двойным щелчком мыши в расчётном блоке (в колонке \"Год\") напротив наименования"]
[]
[]
[null,null,null,null,null,null,null,null,null,null,null,null,null,null,null,null,null,null,null,null,null,null,null,null,null,null,null,null,null,null,null,null,null,null,null,null,null,null,"1.1.1","Итого","тыс.руб.",{"$f":"SUMIF($AS$9:$AT$9,AP$9,$AS25:$AT25)","v":0},{"$f":"SUMIF($AS$9:$AT$9,AQ$9,$AS25:$AT25)","v":0},{"$f":"SUMIF($AS$9:$AT$9,AR$9,$AS25:$AT25)","v":0}]
[]
[null,null,null,null,null,null,null,null,null,null,null,null,null,null,null,null,null,null,null,null,null,null,null,null,null,null,null,null,null,null,null,null,null,null,null,null,null,null,"COAG","Коагулянты","тыс.руб.",{"$f":"SUMIF($AS$9:$AT$9,AP$9,$AS27:$AT27)","v":0},{"$f":"SUMIF($AS$9:$AT$9,AQ$9,$AS27:$AT27)","v":0},{"$f":"SUMIF($AS$9:$AT$9,AR$9,$AS27:$AT27)","v":0}]
[]
[null,null,null,null,null,null,null,null,null,null,null,null,null,null,null,null,null,null,null,null,null,null,null,null,null,null,null,null,null,null,null,"ADJUSTABLE.C",null,null,null,null,null,null,"HDSFAL","гидроксохлоросульфат алюминия (коагулянт смешанного типа)","тыс.руб.",{"$f":"SUMIF($AS$9:$AT$9,AP$9,$AS29:$AT29)","v":0},{"$f":"SUMIF($AS$9:$AT$9,AQ$9,$AS29:$AT29)","v":0},{"$f":"SUMIF($AS$9:$AT$9,AR$9,$AS29:$AT29)","v":0}]
[null,null,null,null,null,null,null,null,null,null,null,null,null,null,null,null,null,null,null,null,null,null,null,null,null,null,null,null,null,null,null,"ADJUSTABLE.P",null,null,null,null,null,null,{"$f":"AM29 & \".P\"","v":"HDSFAL.P"},"Цена за единицу","руб./ед.",{"$f":"IF(AP31=0,0,AP29*1000/AP31)","v":0},{"$f":"IF(AQ31=0,0,AQ29*1000/AQ31)","v":0},{"$f":"IF(AR31=0,0,AR29*1000/AR31)","v":0}]
[null,null,null,null,null,null,null,null,null,null,null,null,null,null,null,null,null,null,null,null,null,null,null,null,null,null,null,null,null,null,null,"ADJUSTABLE.V",null,null,null,null,null,null,{"$f":"AM29 & \".V\"","v":"HDSFAL.V"},"Объём","ед.",{"$f":"SUMIF($AS$9:$AT$9,AP$9,$AS31:$AT31)","v":0},0,0]
[null,null,null,null,null,null,null,null,null,null,null,null,null,null,null,null,null,null,null,null,null,null,null,null,null,null,null,null,null,null,null,"ADJUSTABLE.C",null,null,null,null,null,null,"FES","железный купорос","тыс.руб.",0,0,0]
[null,null,null,null,null,null,null,null,null,null,null,null,null,null,null,null,null,null,null,null,null,null,null,null,null,null,null,null,null,null,null,"ADJUSTABLE.P",null,null,null,null,null,null,{"$f":"AM32 & \".P\"","v":"FES.P"},"Цена за единицу","руб./ед.",{"$f":"IF(AP34=0,0,AP32*1000/AP34)","v":0},{"$f":"IF(AQ34=0,0,AQ32*1000/AQ34)","v":0},{"$f":"IF(AR34=0,0,AR32*1000/AR34)","v":0}]
[null,null,null,null,null,null,null,null,null,null,null,null,null,null,null,null,null,null,null,null,null,null,null,null,null,null,null,null,null,null,null,"ADJUSTABLE.V",null,null,null,null,null,null,{"$f":"AM32 & \".V\"","v":"FES.V"},"Объём","ед.",{"$f":"SUMIF($AS$9:$AT$9,AP$9,$AS34:$AT34)","v":0},0,0]
[null,null,null,null,null,null,null,null,null,null,null,null,null,null,null,null,null,null,null,null,null,null,null,null,null,null,null,null,null,null,null,"ADJUSTABLE.C",null,null,null,null,null,null,"OXCLAL","оксихлорид алюминия","тыс.руб.",0,0,0]
[null,null,null,null,null,null,null,null,null,null,null,null,null,null,null,null,null,null,null,null,null,null,null,null,null,null,null,null,null,null,null,"ADJUSTABLE.P",null,null,null,null,null,null,{"$f":"AM35 & \".P\"","v":"OXCLAL.P"},"Цена за единицу","руб./ед.",{"$f":"IF(AP37=0,0,AP35*1000/AP37)","v":0},{"$f":"IF(AQ37=0,0,AQ35*1000/AQ37)","v":0},{"$f":"IF(AR37=0,0,AR35*1000/AR37)","v":0}]
[null,null,null,null,null,null,null,null,null,null,null,null,null,null,null,null,null,null,null,null,null,null,null,null,null,null,null,null,null,null,null,"ADJUSTABLE.V",null,null,null,null,null,null,{"$f":"AM35 & \".V\"","v":"OXCLAL.V"},"Объём","ед.",{"$f":"SUMIF($AS$9:$AT$9,AP$9,$AS37:$AT37)","v":0},0,0]
[null,null,null,null,null,null,null,null,null,null,null,null,null,null,null,null,null,null,null,null,null,null,null,null,null,null,null,null,null,null,null,"ADJUSTABLE.C",null,null,null,null,null,null,"PLOXCLAL","полиоксихлорид алюминия ","тыс.руб.",0,0,0]
[null,null,null,null,null,null,null,null,null,null,null,null,null,null,null,null,null,null,null,null,null,null,null,null,null,null,null,null,null,null,null,"ADJUSTABLE.P",null,null,null,null,null,null,{"$f":"AM38 & \".P\"","v":"PLOXCLAL.P"},"Цена за единицу","руб./ед.",{"$f":"IF(AP40=0,0,AP38*1000/AP40)","v":0},{"$f":"IF(AQ40=0,0,AQ38*1000/AQ40)","v":0},{"$f":"IF(AR40=0,0,AR38*1000/AR40)","v":0}]
[null,null,null,null,null,null,null,null,null,null,null,null,null,null,null,null,null,null,null,null,null,null,null,null,null,null,null,null,null,null,null,"ADJUSTABLE.V",null,null,null,null,null,null,{"$f":"AM38 & \".V\"","v":"PLOXCLAL.V"},"Объём","ед.",{"$f":"SUMIF($AS$9:$AT$9,AP$9,$AS40:$AT40)","v":0},0,0]
[null,null,null,null,null,null,null,null,null,null,null,null,null,null,null,null,null,null,null,null,null,null,null,null,null,null,null,null,null,null,null,"ADJUSTABLE.C",null,null,null,null,null,null,"SFAL","сульфат алюминия ","тыс.руб.",0,0,0]
[null,null,null,null,null,null,null,null,null,null,null,null,null,null,null,null,null,null,null,null,null,null,null,null,null,null,null,null,null,null,null,"ADJUSTABLE.P",null,null,null,null,null,null,{"$f":"AM41 & \".P\"","v":"SFAL.P"},"Цена за единицу","руб./ед.",{"$f":"IF(AP43=0,0,AP41*1000/AP43)","v":0},{"$f":"IF(AQ43=0,0,AQ41*1000/AQ43)","v":0},{"$f":"IF(AR43=0,0,AR41*1000/AR43)","v":0}]
[null,null,null,null,null,null,null,null,null,null,null,null,null,null,null,null,null,null,null,null,null,null,null,null,null,null,null,null,null,null,null,"ADJUSTABLE.V",null,null,null,null,null,null,{"$f":"AM41 & \".V\"","v":"SFAL.V"},"Объём","ед.",{"$f":"SUMIF($AS$9:$AT$9,AP$9,$AS43:$AT43)","v":0},0,0]
[null,null,null,null,null,null,null,null,null,null,null,null,null,null,null,null,null,null,null,null,null,null,null,null,null,null,null,null,null,null,null,"ADJUSTABLE.OTH",null,null,null,null,null,null,"OTH","прочие","тыс.руб.",0,0,0]
[]
[null,null,null,null,null,null,null,null,null,null,null,null,null,null,null,null,null,null,null,null,null,null,null,null,null,null,null,null,null,null,null,null,null,null,null,null,null,null,"FLOC","Флокулянты","тыс.руб.",{"$f":"SUMIF($AS$9:$AT$9,AP$9,$AS46:$AT46)","v":0},{"$f":"SUMIF($AS$9:$AT$9,AQ$9,$AS46:$AT46)","v":0},{"$f":"SUMIF($AS$9:$AT$9,AR$9,$AS46:$AT46)","v":0}]
[]
[null,null,null,null,null,null,null,null,null,null,null,null,null,null,null,null,null,null,null,null,null,null,null,null,null,null,null,null,null,null,null,"ADJUSTABLE.C",null,null,null,null,null,null,"MGFLK","Магнафлок","тыс.руб.",{"$f":"SUMIF($AS$9:$AT$9,AP$9,$AS48:$AT48)","v":0},{"$f":"SUMIF($AS$9:$AT$9,AQ$9,$AS48:$AT48)","v":0},{"$f":"SUMIF($AS$9:$AT$9,AR$9,$AS48:$AT48)","v":0}]
[null,null,null,null,null,null,null,null,null,null,null,null,null,null,null,null,null,null,null,null,null,null,null,null,null,null,null,null,null,null,null,"ADJUSTABLE.P",null,null,null,null,null,null,{"$f":"AM48 & \".P\"","v":"MGFLK.P"},"Цена за единицу","руб./ед.",{"$f":"IF(AP50=0,0,AP48*1000/AP50)","v":0},{"$f":"IF(AQ50=0,0,AQ48*1000/AQ50)","v":0},{"$f":"IF(AR50=0,0,AR48*1000/AR50)","v":0}]
[null,null,null,null,null,null,null,null,null,null,null,null,null,null,null,null,null,null,null,null,null,null,null,null,null,null,null,null,null,null,null,"ADJUSTABLE.V",null,null,null,null,null,null,{"$f":"AM48 & \".V\"","v":"MGFLK.V"},"Объём","ед.",{"$f":"SUMIF($AS$9:$AT$9,AP$9,$AS50:$AT50)","v":0},0,0]
[null,null,null,null,null,null,null,null,null,null,null,null,null,null,null,null,null,null,null,null,null,null,null,null,null,null,null,null,null,null,null,"ADJUSTABLE.C",null,null,null,null,null,null,"PRSTL","Праестол","тыс.руб.",0,0,0]
[null,null,null,null,null,null,null,null,null,null,null,null,null,null,null,null,null,null,null,null,null,null,null,null,null,null,null,null,null,null,null,"ADJUSTABLE.P",null,null,null,null,null,null,{"$f":"AM51 & \".P\"","v":"PRSTL.P"},"Цена за единицу","руб./ед.",{"$f":"IF(AP53=0,0,AP51*1000/AP53)","v":0},{"$f":"IF(AQ53=0,0,AQ51*1000/AQ53)","v":0},{"$f":"IF(AR53=0,0,AR51*1000/AR53)","v":0}]
[null,null,null,null,null,null,null,null,null,null,null,null,null,null,null,null,null,null,null,null,null,null,null,null,null,null,null,null,null,null,null,"ADJUSTABLE.V",null,null,null,null,null,null,{"$f":"AM51 & \".V\"","v":"PRSTL.V"},"Объём","ед.",{"$f":"SUMIF($AS$9:$AT$9,AP$9,$AS53:$AT53)","v":0},0,0]
[null,null,null,null,null,null,null,null,null,null,null,null,null,null,null,null,null,null,null,null,null,null,null,null,null,null,null,null,null,null,null,"ADJUSTABLE.OTH",null,null,null,null,null,null,"OTH","прочие","тыс.руб.",0,0,0]
[]
[null,null,null,null,null,null,null,null,null,null,null,null,null,null,null,null,null,null,null,null,null,null,null,null,null,null,null,null,null,null,null,null,null,null,null,null,null,null,"REAG","Реагенты","тыс.руб.",{"$f":"SUMIF($AS$9:$AT$9,AP$9,$AS56:$AT56)","v":0},{"$f":"SUMIF($AS$9:$AT$9,AQ$9,$AS56:$AT56)","v":0},{"$f":"SUMIF($AS$9:$AT$9,AR$9,$AS56:$AT56)","v":0}]
[]
[null,null,null,null,null,null,null,null,null,null,null,null,null,null,null,null,null,null,null,null,null,null,null,null,null,null,null,null,null,null,null,"ADJUSTABLE.C",null,null,null,null,null,null,"AGRP","агар питательный","тыс.руб.",{"$f":"SUMIF($AS$9:$AT$9,AP$9,$AS58:$AT58)","v":0},{"$f":"SUMIF($AS$9:$AT$9,AQ$9,$AS58:$AT58)","v":0},{"$f":"SUMIF($AS$9:$AT$9,AR$9,$AS58:$AT58)","v":0}]
[null,null,null,null,null,null,null,null,null,null,null,null,null,null,null,null,null,null,null,null,null,null,null,null,null,null,null,null,null,null,null,"ADJUSTABLE.P",null,null,null,null,null,null,{"$f":"AM58 & \".P\"","v":"AGRP.P"},"Цена за единицу","руб./ед.",{"$f":"IF(AP60=0,0,AP58*1000/AP60)","v":0},{"$f":"IF(AQ60=0,0,AQ58*1000/AQ60)","v":0},{"$f":"IF(AR60=0,0,AR58*1000/AR60)","v":0}]
[null,null,null,null,null,null,null,null,null,null,null,null,null,null,null,null,null,null,null,null,null,null,null,null,null,null,null,null,null,null,null,"ADJUSTABLE.V",null,null,null,null,null,null,{"$f":"AM58 & \".V\"","v":"AGRP.V"},"Объём","ед.",{"$f":"SUMIF($AS$9:$AT$9,AP$9,$AS60:$AT60)","v":0},0,0]
[null,null,null,null,null,null,null,null,null,null,null,null,null,null,null,null,null,null,null,null,null,null,null,null,null,null,null,null,null,null,null,"ADJUSTABLE.C",null,null,null,null,null,null,"AGRE","агар Эндо","тыс.руб.",0,0,0]
[null,null,null,null,null,null,null,null,null,null,null,null,null,null,null,null,null,null,null,null,null,null,null,null,null,null,null,null,null,null,null,"ADJUSTABLE.P",null,null,null,null,null,null,{"$f":"AM61 & \".P\"","v":"AGRE.P"},"Цена за единицу","руб./ед.",{"$f":"IF(AP63=0,0,AP61*1000/AP63)","v":0},{"$f":"IF(AQ63=0,0,AQ61*1000/AQ63)","v":0},{"$f":"IF(AR63=0,0,AR61*1000/AR63)","v":0}]
[null,null,null,null,null,null,null,null,null,null,null,null,null,null,null,null,null,null,null,null,null,null,null,null,null,null,null,null,null,null,null,"ADJUSTABLE.V",null,null,null,null,null,null,{"$f":"AM61 & \".V\"","v":"AGRE.V"},"Объём","ед.",{"$f":"SUMIF($AS$9:$AT$9,AP$9,$AS63:$AT63)","v":0},0,0]
[null,null,null,null,null,null,null,null,null,null,null,null,null,null,null,null,null,null,null,null,null,null,null,null,null,null,null,null,null,null,null,"ADJUSTABLE.C",null,null,null,null,null,null,"ALOX","алюминий окись","тыс.руб.",0,0,0]
[null,null,null,null,null,null,null,null,null,null,null,null,null,null,null,null,null,null,null,null,null,null,null,null,null,null,null,null,null,null,null,"ADJUSTABLE.P",null,null,null,null,null,null,{"$f":"AM64 & \".P\"","v":"ALOX.P"},"Цена за единицу","руб./ед.",{"$f":"IF(AP66=0,0,AP64*1000/AP66)","v":0},{"$f":"IF(AQ66=0,0,AQ64*1000/AQ66)","v":0},{"$f":"IF(AR66=0,0,AR64*1000/AR66)","v":0}]
[null,null,null,null,null,null,null,null,null,null,null,null,null,null,null,null,null,null,null,null,null,null,null,null,null,null,null,null,null,null,null,"ADJUSTABLE.V",null,null,null,null,null,null,{"$f":"AM64 & \".V\"","v":"ALOX.V"},"Объём","ед.",{"$f":"SUMIF($AS$9:$AT$9,AP$9,$AS66:$AT66)","v":0},0,0]
[null,null,null,null,null,null,null,null,null,null,null,null,null,null,null,null,null,null,null,null,null,null,null,null,null,null,null,null,null,null,null,"ADJUSTABLE.C",null,null,null,null,null,null,"ALS","алюминий сернокислый","тыс.руб.",0,0,0]
[null,null,null,null,null,null,null,null,null,null,null,null,null,null,null,null,null,null,null,null,null,null,null,null,null,null,null,null,null,null,null,"ADJUSTABLE.P",null,null,null,null,null,null,{"$f":"AM67 & \".P\"","v":"ALS.P"},"Цена за единицу","руб./ед.",{"$f":"IF(AP69=0,0,AP67*1000/AP69)","v":0},{"$f":"IF(AQ69=0,0,AQ67*1000/AQ69)","v":0},{"$f":"IF(AR69=0,0,AR67*1000/AR69)","v":0}]
[null,null,null,null,null,null,null,null,null,null,null,null,null,null,null,null,null,null,null,null,null,null,null,null,null,null,null,null,null,null,null,"ADJUSTABLE.V",null,null,null,null,null,null,{"$f":"AM67 & \".V\"","v":"ALS.V"},"Объём","ед.",{"$f":"SUMIF($AS$9:$AT$9,AP$9,$AS69:$AT69)","v":0},0,0]
[null,null,null,null,null,null,null,null,null,null,null,null,null,null,null,null,null,null,null,null,null,null,null,null,null,null,null,null,null,null,null,"ADJUSTABLE.C",null,null,null,null,null,null,"AM","аммиак","тыс.руб.",0,0,0]
[null,null,null,null,null,null,null,null,null,null,null,null,null,null,null,null,null,null,null,null,null,null,null,null,null,null,null,null,null,null,null,"ADJUSTABLE.P",null,null,null,null,null,null,{"$f":"AM70 & \".P\"","v":"AM.P"},"Цена за единицу","руб./ед.",{"$f":"IF(AP72=0,0,AP70*1000/AP72)","v":0},{"$f":"IF(AQ72=0,0,AQ70*1000/AQ72)","v":0},{"$f":"IF(AR72=0,0,AR70*1000/AR72)","v":0}]
[null,null,null,null,null,null,null,null,null,null,null,null,null,null,null,null,null,null,null,null,null,null,null,null,null,null,null,null,null,null,null,"ADJUSTABLE.V",null,null,null,null,null,null,{"$f":"AM70 & \".V\"","v":"AM.V"},"Объём","ед.",{"$f":"SUMIF($AS$9:$AT$9,AP$9,$AS72:$AT72)","v":0},0,0]
[null,null,null,null,null,null,null,null,null,null,null,null,null,null,null,null,null,null,null,null,null,null,null,null,null,null,null,null,null,null,null,"ADJUSTABLE.C",null,null,null,null,null,null,"AMW","аммиачная вода","тыс.руб.",0,0,0]
[null,null,null,null,null,null,null,null,null,null,null,null,null,null,null,null,null,null,null,null,null,null,null,null,null,null,null,null,null,null,null,"ADJUSTABLE.P",null,null,null,null,null,null,{"$f":"AM73 & \".P\"","v":"AMW.P"},"Цена за единицу","руб./ед.",{"$f":"IF(AP75=0,0,AP73*1000/AP75)","v":0},{"$f":"IF(AQ75=0,0,AQ73*1000/AQ75)","v":0},{"$f":"IF(AR75=0,0,AR73*1000/AR75)","v":0}]
[null,null,null,null,null,null,null,null,null,null,null,null,null,null,null,null,null,null,null,null,null,null,null,null,null,null,null,null,null,null,null,"ADJUSTABLE.V",null,null,null,null,null,null,{"$f":"AM73 & \".V\"","v":"AMW.V"},"Объём","ед.",{"$f":"SUMIF($AS$9:$AT$9,AP$9,$AS75:$AT75)","v":0},0,0]
[null,null,null,null,null,null,null,null,null,null,null,null,null,null,null,null,null,null,null,null,null,null,null,null,null,null,null,null,null,null,null,"ADJUSTABLE.C",null,null,null,null,null,null,"AMN","аммоний","тыс.руб.",0,0,0]
[null,null,null,null,null,null,null,null,null,null,null,null,null,null,null,null,null,null,null,null,null,null,null,null,null,null,null,null,null,null,null,"ADJUSTABLE.P",null,null,null,null,null,null,{"$f":"AM76 & \".P\"","v":"AMN.P"},"Цена за единицу","руб./ед.",{"$f":"IF(AP78=0,0,AP76*1000/AP78)","v":0},{"$f":"IF(AQ78=0,0,AQ76*1000/AQ78)","v":0},{"$f":"IF(AR78=0,0,AR76*1000/AR78)","v":0}]
[null,null,null,null,null,null,null,null,null,null,null,null,null,null,null,null,null,null,null,null,null,null,null,null,null,null,null,null,null,null,null,"ADJUSTABLE.V",null,null,null,null,null,null,{"$f":"AM76 & \".V\"","v":"AMN.V"},"Объём","ед.",{"$f":"SUMIF($AS$9:$AT$9,AP$9,$AS78:$AT78)","v":0},0,0]
[null,null,null,null,null,null,null,null,null,null,null,null,null,null,null,null,null,null,null,null,null,null,null,null,null,null,null,null,null,null,null,"ADJUSTABLE.C",null,null,null,null,null,null,"AMNCL","аммоний хлористый","тыс.руб.",0,0,0]
[null,null,null,null,null,null,null,null,null,null,null,null,null,null,null,null,null,null,null,null,null,null,null,null,null,null,null,null,null,null,null,"ADJUSTABLE.P",null,null,null,null,null,null,{"$f":"AM79 & \".P\"","v":"AMNCL.P"},"Цена за единицу","руб./ед.",{"$f":"IF(AP81=0,0,AP79*1000/AP81)","v":0},{"$f":"IF(AQ81=0,0,AQ79*1000/AQ81)","v":0},{"$f":"IF(AR81=0,0,AR79*1000/AR81)","v":0}]
[null,null,null,null,null,null,null,null,null,null,null,null,null,null,null,null,null,null,null,null,null,null,null,null,null,null,null,null,null,null,null,"ADJUSTABLE.V",null,null,null,null,null,null,{"$f":"AM79 & \".V\"","v":"AMNCL.V"},"Объём","ед.",{"$f":"SUMIF($AS$9:$AT$9,AP$9,$AS81:$AT81)","v":0},0,0]
[null,null,null,null,null,null,null,null,null,null,null,null,null,null,null,null,null,null,null,null,null,null,null,null,null,null,null,null,null,null,null,"ADJUSTABLE.C",null,null,null,null,null,null,"BACL","барий хлористый","тыс.руб.",0,0,0]
[null,null,null,null,null,null,null,null,null,null,null,null,null,null,null,null,null,null,null,null,null,null,null,null,null,null,null,null,null,null,null,"ADJUSTABLE.P",null,null,null,null,null,null,{"$f":"AM82 & \".P\"","v":"BACL.P"},"Цена за единицу","руб./ед.",{"$f":"IF(AP84=0,0,AP82*1000/AP84)","v":0},{"$f":"IF(AQ84=0,0,AQ82*1000/AQ84)","v":0},{"$f":"IF(AR84=0,0,AR82*1000/AR84)","v":0}]
[null,null,null,null,null,null,null,null,null,null,null,null,null,null,null,null,null,null,null,null,null,null,null,null,null,null,null,null,null,null,null,"ADJUSTABLE.V",null,null,null,null,null,null,{"$f":"AM82 & \".V\"","v":"BACL.V"},"Объём","ед.",{"$f":"SUMIF($AS$9:$AT$9,AP$9,$AS84:$AT84)","v":0},0,0]
[null,null,null,null,null,null,null,null,null,null,null,null,null,null,null,null,null,null,null,null,null,null,null,null,null,null,null,null,null,null,null,"ADJUSTABLE.C",null,null,null,null,null,null,"BIOX","биоксимин","тыс.руб.",0,0,0]
[null,null,null,null,null,null,null,null,null,null,null,null,null,null,null,null,null,null,null,null,null,null,null,null,null,null,null,null,null,null,null,"ADJUSTABLE.P",null,null,null,null,null,null,{"$f":"AM85 & \".P\"","v":"BIOX.P"},"Цена за единицу","руб./ед.",{"$f":"IF(AP87=0,0,AP85*1000/AP87)","v":0},{"$f":"IF(AQ87=0,0,AQ85*1000/AQ87)","v":0},{"$f":"IF(AR87=0,0,AR85*1000/AR87)","v":0}]
[null,null,null,null,null,null,null,null,null,null,null,null,null,null,null,null,null,null,null,null,null,null,null,null,null,null,null,null,null,null,null,"ADJUSTABLE.V",null,null,null,null,null,null,{"$f":"AM85 & \".V\"","v":"BIOX.V"},"Объём","ед.",{"$f":"SUMIF($AS$9:$AT$9,AP$9,$AS87:$AT87)","v":0},0,0]
[null,null,null,null,null,null,null,null,null,null,null,null,null,null,null,null,null,null,null,null,null,null,null,null,null,null,null,null,null,null,null,"ADJUSTABLE.C",null,null,null,null,null,null,"BRFNL","бромфеноловый синий","тыс.руб.",0,0,0]
[null,null,null,null,null,null,null,null,null,null,null,null,null,null,null,null,null,null,null,null,null,null,null,null,null,null,null,null,null,null,null,"ADJUSTABLE.P",null,null,null,null,null,null,{"$f":"AM88 & \".P\"","v":"BRFNL.P"},"Цена за единицу","руб./ед.",{"$f":"IF(AP90=0,0,AP88*1000/AP90)","v":0},{"$f":"IF(AQ90=0,0,AQ88*1000/AQ90)","v":0},{"$f":"IF(AR90=0,0,AR88*1000/AR90)","v":0}]
[null,null,null,null,null,null,null,null,null,null,null,null,null,null,null,null,null,null,null,null,null,null,null,null,null,null,null,null,null,null,null,"ADJUSTABLE.V",null,null,null,null,null,null,{"$f":"AM88 & \".V\"","v":"BRFNL.V"},"Объём","ед.",{"$f":"SUMIF($AS$9:$AT$9,AP$9,$AS90:$AT90)","v":0},0,0]
[null,null,null,null,null,null,null,null,null,null,null,null,null,null,null,null,null,null,null,null,null,null,null,null,null,null,null,null,null,null,null,"ADJUSTABLE.C",null,null,null,null,null,null,"HDOX","водорода перекись","тыс.руб.",0,0,0]
[null,null,null,null,null,null,null,null,null,null,null,null,null,null,null,null,null,null,null,null,null,null,null,null,null,null,null,null,null,null,null,"ADJUSTABLE.P",null,null,null,null,null,null,{"$f":"AM91 & \".P\"","v":"HDOX.P"},"Цена за единицу","руб./ед.",{"$f":"IF(AP93=0,0,AP91*1000/AP93)","v":0},{"$f":"IF(AQ93=0,0,AQ91*1000/AQ93)","v":0},{"$f":"IF(AR93=0,0,AR91*1000/AR93)","v":0}]
[null,null,null,null,null,null,null,null,null,null,null,null,null,null,null,null,null,null,null,null,null,null,null,null,null,null,null,null,null,null,null,"ADJUSTABLE.V",null,null,null,null,null,null,{"$f":"AM91 & \".V\"","v":"HDOX.V"},"Объём","ед.",{"$f":"SUMIF($AS$9:$AT$9,AP$9,$AS93:$AT93)","v":0},0,0]
[null,null,null,null,null,null,null,null,null,null,null,null,null,null,null,null,null,null,null,null,null,null,null,null,null,null,null,null,null,null,null,"ADJUSTABLE.C",null,null,null,null,null,null,"GEXN","гексан","тыс.руб.",0,0,0]
[null,null,null,null,null,null,null,null,null,null,null,null,null,null,null,null,null,null,null,null,null,null,null,null,null,null,null,null,null,null,null,"ADJUSTABLE.P",null,null,null,null,null,null,{"$f":"AM94 & \".P\"","v":"GEXN.P"},"Цена за единицу","руб./ед.",{"$f":"IF(AP96=0,0,AP94*1000/AP96)","v":0},{"$f":"IF(AQ96=0,0,AQ94*1000/AQ96)","v":0},{"$f":"IF(AR96=0,0,AR94*1000/AR96)","v":0}]
[null,null,null,null,null,null,null,null,null,null,null,null,null,null,null,null,null,null,null,null,null,null,null,null,null,null,null,null,null,null,null,"ADJUSTABLE.V",null,null,null,null,null,null,{"$f":"AM94 & \".V\"","v":"GEXN.V"},"Объём","ед.",{"$f":"SUMIF($AS$9:$AT$9,AP$9,$AS96:$AT96)","v":0},0,0]
[null,null,null,null,null,null,null,null,null,null,null,null,null,null,null,null,null,null,null,null,null,null,null,null,null,null,null,null,null,null,null,"ADJUSTABLE.C",null,null,null,null,null,null,"HDOXCL","гидроксиламин солянокислый","тыс.руб.",0,0,0]
[null,null,null,null,null,null,null,null,null,null,null,null,null,null,null,null,null,null,null,null,null,null,null,null,null,null,null,null,null,null,null,"ADJUSTABLE.P",null,null,null,null,null,null,{"$f":"AM97 & \".P\"","v":"HDOXCL.P"},"Цена за единицу","руб./ед.",{"$f":"IF(AP99=0,0,AP97*1000/AP99)","v":0},{"$f":"IF(AQ99=0,0,AQ97*1000/AQ99)","v":0},{"$f":"IF(AR99=0,0,AR97*1000/AR99)","v":0}]
[null,null,null,null,null,null,null,null,null,null,null,null,null,null,null,null,null,null,null,null,null,null,null,null,null,null,null,null,null,null,null,"ADJUSTABLE.V",null,null,null,null,null,null,{"$f":"AM97 & \".V\"","v":"HDOXCL.V"},"Объём","ед.",{"$f":"SUMIF($AS$9:$AT$9,AP$9,$AS99:$AT99)","v":0},0,0]
[null,null,null,null,null,null,null,null,null,null,null,null,null,null,null,null,null,null,null,null,null,null,null,null,null,null,null,null,null,null,null,"ADJUSTABLE.C",null,null,null,null,null,null,"HDCLCA","гидрохлорид кальция","тыс.руб.",0,0,0]
[null,null,null,null,null,null,null,null,null,null,null,null,null,null,null,null,null,null,null,null,null,null,null,null,null,null,null,null,null,null,null,"ADJUSTABLE.P",null,null,null,null,null,null,{"$f":"AM100 & \".P\"","v":"HDCLCA.P"},"Цена за единицу","руб./ед.",{"$f":"IF(AP102=0,0,AP100*1000/AP102)","v":0},{"$f":"IF(AQ102=0,0,AQ100*1000/AQ102)","v":0},{"$f":"IF(AR102=0,0,AR100*1000/AR102)","v":0}]
[null,null,null,null,null,null,null,null,null,null,null,null,null,null,null,null,null,null,null,null,null,null,null,null,null,null,null,null,null,null,null,"ADJUSTABLE.V",null,null,null,null,null,null,{"$f":"AM100 & \".V\"","v":"HDCLCA.V"},"Объём","ед.",{"$f":"SUMIF($AS$9:$AT$9,AP$9,$AS102:$AT102)","v":0},0,0]
[null,null,null,null,null,null,null,null,null,null,null,null,null,null,null,null,null,null,null,null,null,null,null,null,null,null,null,null,null,null,null,"ADJUSTABLE.C",null,null,null,null,null,null,"HPCLCA","гипохлорит кальция","тыс.руб.",0,0,0]
[null,null,null,null,null,null,null,null,null,null,null,null,null,null,null,null,null,null,null,null,null,null,null,null,null,null,null,null,null,null,null,"ADJUSTABLE.P",null,null,null,null,null,null,{"$f":"AM103 & \".P\"","v":"HPCLCA.P"},"Цена за единицу","руб./ед.",{"$f":"IF(AP105=0,0,AP103*1000/AP105)","v":0},{"$f":"IF(AQ105=0,0,AQ103*1000/AQ105)","v":0},{"$f":"IF(AR105=0,0,AR103*1000/AR105)","v":0}]
[null,null,null,null,null,null,null,null,null,null,null,null,null,null,null,null,null,null,null,null,null,null,null,null,null,null,null,null,null,null,null,"ADJUSTABLE.V",null,null,null,null,null,null,{"$f":"AM103 & \".V\"","v":"HPCLCA.V"},"Объём","ед.",{"$f":"SUMIF($AS$9:$AT$9,AP$9,$AS105:$AT105)","v":0},0,0]
[null,null,null,null,null,null,null,null,null,null,null,null,null,null,null,null,null,null,null,null,null,null,null,null,null,null,null,null,null,null,null,"ADJUSTABLE.C",null,null,null,null,null,null,"HPCLNA","гипохлорит натрия","тыс.руб.",0,0,0]
[null,null,null,null,null,null,null,null,null,null,null,null,null,null,null,null,null,null,null,null,null,null,null,null,null,null,null,null,null,null,null,"ADJUSTABLE.P",null,null,null,null,null,null,{"$f":"AM106 & \".P\"","v":"HPCLNA.P"},"Цена за единицу","руб./ед.",{"$f":"IF(AP108=0,0,AP106*1000/AP108)","v":0},{"$f":"IF(AQ108=0,0,AQ106*1000/AQ108)","v":0},{"$f":"IF(AR108=0,0,AR106*1000/AR108)","v":0}]
[null,null,null,null,null,null,null,null,null,null,null,null,null,null,null,null,null,null,null,null,null,null,null,null,null,null,null,null,null,null,null,"ADJUSTABLE.V",null,null,null,null,null,null,{"$f":"AM106 & \".V\"","v":"HPCLNA.V"},"Объём","ед.",{"$f":"SUMIF($AS$9:$AT$9,AP$9,$AS108:$AT108)","v":0},0,0]
[null,null,null,null,null,null,null,null,null,null,null,null,null,null,null,null,null,null,null,null,null,null,null,null,null,null,null,null,null,null,null,"ADJUSTABLE.C",null,null,null,null,null,null,"GLC","глицерин","тыс.руб.",0,0,0]
[null,null,null,null,null,null,null,null,null,null,null,null,null,null,null,null,null,null,null,null,null,null,null,null,null,null,null,null,null,null,null,"ADJUSTABLE.P",null,null,null,null,null,null,{"$f":"AM109 & \".P\"","v":"GLC.P"},"Цена за единицу","руб./ед.",{"$f":"IF(AP111=0,0,AP109*1000/AP111)","v":0},{"$f":"IF(AQ111=0,0,AQ109*1000/AQ111)","v":0},{"$f":"IF(AR111=0,0,AR109*1000/AR111)","v":0}]
[null,null,null,null,null,null,null,null,null,null,null,null,null,null,null,null,null,null,null,null,null,null,null,null,null,null,null,null,null,null,null,"ADJUSTABLE.V",null,null,null,null,null,null,{"$f":"AM109 & \".V\"","v":"GLC.V"},"Объём","ед.",{"$f":"SUMIF($AS$9:$AT$9,AP$9,$AS111:$AT111)","v":0},0,0]
[null,null,null,null,null,null,null,null,null,null,null,null,null,null,null,null,null,null,null,null,null,null,null,null,null,null,null,null,null,null,null,"ADJUSTABLE.C",null,null,null,null,null,null,"DFNLCD","дифенилкарбазид","тыс.руб.",0,0,0]
[null,null,null,null,null,null,null,null,null,null,null,null,null,null,null,null,null,null,null,null,null,null,null,null,null,null,null,null,null,null,null,"ADJUSTABLE.P",null,null,null,null,null,null,{"$f":"AM112 & \".P\"","v":"DFNLCD.P"},"Цена за единицу","руб./ед.",{"$f":"IF(AP114=0,0,AP112*1000/AP114)","v":0},{"$f":"IF(AQ114=0,0,AQ112*1000/AQ114)","v":0},{"$f":"IF(AR114=0,0,AR112*1000/AR114)","v":0}]
[null,null,null,null,null,null,null,null,null,null,null,null,null,null,null,null,null,null,null,null,null,null,null,null,null,null,null,null,null,null,null,"ADJUSTABLE.V",null,null,null,null,null,null,{"$f":"AM112 & \".V\"","v":"DFNLCD.V"},"Объём","ед.",{"$f":"SUMIF($AS$9:$AT$9,AP$9,$AS114:$AT114)","v":0},0,0]
[null,null,null,null,null,null,null,null,null,null,null,null,null,null,null,null,null,null,null,null,null,null,null,null,null,null,null,null,null,null,null,"ADJUSTABLE.C",null,null,null,null,null,null,"DFNLCN","дифенилкарбазон","тыс.руб.",0,0,0]
[null,null,null,null,null,null,null,null,null,null,null,null,null,null,null,null,null,null,null,null,null,null,null,null,null,null,null,null,null,null,null,"ADJUSTABLE.P",null,null,null,null,null,null,{"$f":"AM115 & \".P\"","v":"DFNLCN.P"},"Цена за единицу","руб./ед.",{"$f":"IF(AP117=0,0,AP115*1000/AP117)","v":0},{"$f":"IF(AQ117=0,0,AQ115*1000/AQ117)","v":0},{"$f":"IF(AR117=0,0,AR115*1000/AR117)","v":0}]
[null,null,null,null,null,null,null,null,null,null,null,null,null,null,null,null,null,null,null,null,null,null,null,null,null,null,null,null,null,null,null,"ADJUSTABLE.V",null,null,null,null,null,null,{"$f":"AM115 & \".V\"","v":"DFNLCN.V"},"Объём","ед.",{"$f":"SUMIF($AS$9:$AT$9,AP$9,$AS117:$AT117)","v":0},0,0]
[null,null,null,null,null,null,null,null,null,null,null,null,null,null,null,null,null,null,null,null,null,null,null,null,null,null,null,null,null,null,null,"ADJUSTABLE.C",null,null,null,null,null,null,"FES","железо сернокислое","тыс.руб.",0,0,0]
[null,null,null,null,null,null,null,null,null,null,null,null,null,null,null,null,null,null,null,null,null,null,null,null,null,null,null,null,null,null,null,"ADJUSTABLE.P",null,null,null,null,null,null,{"$f":"AM118 & \".P\"","v":"FES.P"},"Цена за единицу","руб./ед.",{"$f":"IF(AP120=0,0,AP118*1000/AP120)","v":0},{"$f":"IF(AQ120=0,0,AQ118*1000/AQ120)","v":0},{"$f":"IF(AR120=0,0,AR118*1000/AR120)","v":0}]
[null,null,null,null,null,null,null,null,null,null,null,null,null,null,null,null,null,null,null,null,null,null,null,null,null,null,null,null,null,null,null,"ADJUSTABLE.V",null,null,null,null,null,null,{"$f":"AM118 & \".V\"","v":"FES.V"},"Объём","ед.",{"$f":"SUMIF($AS$9:$AT$9,AP$9,$AS120:$AT120)","v":0},0,0]
[null,null,null,null,null,null,null,null,null,null,null,null,null,null,null,null,null,null,null,null,null,null,null,null,null,null,null,null,null,null,null,"ADJUSTABLE.C",null,null,null,null,null,null,"FECL","железо трёххлористое","тыс.руб.",0,0,0]
[null,null,null,null,null,null,null,null,null,null,null,null,null,null,null,null,null,null,null,null,null,null,null,null,null,null,null,null,null,null,null,"ADJUSTABLE.P",null,null,null,null,null,null,{"$f":"AM121 & \".P\"","v":"FECL.P"},"Цена за единицу","руб./ед.",{"$f":"IF(AP123=0,0,AP121*1000/AP123)","v":0},{"$f":"IF(AQ123=0,0,AQ121*1000/AQ123)","v":0},{"$f":"IF(AR123=0,0,AR121*1000/AR123)","v":0}]
[null,null,null,null,null,null,null,null,null,null,null,null,null,null,null,null,null,null,null,null,null,null,null,null,null,null,null,null,null,null,null,"ADJUSTABLE.V",null,null,null,null,null,null,{"$f":"AM121 & \".V\"","v":"FECL.V"},"Объём","ед.",{"$f":"SUMIF($AS$9:$AT$9,AP$9,$AS123:$AT123)","v":0},0,0]
[null,null,null,null,null,null,null,null,null,null,null,null,null,null,null,null,null,null,null,null,null,null,null,null,null,null,null,null,null,null,null,"ADJUSTABLE.C",null,null,null,null,null,null,"LIMENP","известь негашёная (порошок)","тыс.руб.",0,0,0]
[null,null,null,null,null,null,null,null,null,null,null,null,null,null,null,null,null,null,null,null,null,null,null,null,null,null,null,null,null,null,null,"ADJUSTABLE.P",null,null,null,null,null,null,{"$f":"AM124 & \".P\"","v":"LIMENP.P"},"Цена за единицу","руб./ед.",{"$f":"IF(AP126=0,0,AP124*1000/AP126)","v":0},{"$f":"IF(AQ126=0,0,AQ124*1000/AQ126)","v":0},{"$f":"IF(AR126=0,0,AR124*1000/AR126)","v":0}]
[null,null,null,null,null,null,null,null,null,null,null,null,null,null,null,null,null,null,null,null,null,null,null,null,null,null,null,null,null,null,null,"ADJUSTABLE.V",null,null,null,null,null,null,{"$f":"AM124 & \".V\"","v":"LIMENP.V"},"Объём","ед.",{"$f":"SUMIF($AS$9:$AT$9,AP$9,$AS126:$AT126)","v":0},0,0]
[null,null,null,null,null,null,null,null,null,null,null,null,null,null,null,null,null,null,null,null,null,null,null,null,null,null,null,null,null,null,null,"ADJUSTABLE.C",null,null,null,null,null,null,"LIMENH","известь негашёная гидратная","тыс.руб.",0,0,0]
[null,null,null,null,null,null,null,null,null,null,null,null,null,null,null,null,null,null,null,null,null,null,null,null,null,null,null,null,null,null,null,"ADJUSTABLE.P",null,null,null,null,null,null,{"$f":"AM127 & \".P\"","v":"LIMENH.P"},"Цена за единицу","руб./ед.",{"$f":"IF(AP129=0,0,AP127*1000/AP129)","v":0},{"$f":"IF(AQ129=0,0,AQ127*1000/AQ129)","v":0},{"$f":"IF(AR129=0,0,AR127*1000/AR129)","v":0}]
[null,null,null,null,null,null,null,null,null,null,null,null,null,null,null,null,null,null,null,null,null,null,null,null,null,null,null,null,null,null,null,"ADJUSTABLE.V",null,null,null,null,null,null,{"$f":"AM127 & \".V\"","v":"LIMENH.V"},"Объём","ед.",{"$f":"SUMIF($AS$9:$AT$9,AP$9,$AS129:$AT129)","v":0},0,0]
[null,null,null,null,null,null,null,null,null,null,null,null,null,null,null,null,null,null,null,null,null,null,null,null,null,null,null,null,null,null,null,"ADJUSTABLE.C",null,null,null,null,null,null,"LIMECL","известь хлорная","тыс.руб.",0,0,0]
[null,null,null,null,null,null,null,null,null,null,null,null,null,null,null,null,null,null,null,null,null,null,null,null,null,null,null,null,null,null,null,"ADJUSTABLE.P",null,null,null,null,null,null,{"$f":"AM130 & \".P\"","v":"LIMECL.P"},"Цена за единицу","руб./ед.",{"$f":"IF(AP132=0,0,AP130*1000/AP132)","v":0},{"$f":"IF(AQ132=0,0,AQ130*1000/AQ132)","v":0},{"$f":"IF(AR132=0,0,AR130*1000/AR132)","v":0}]
[null,null,null,null,null,null,null,null,null,null,null,null,null,null,null,null,null,null,null,null,null,null,null,null,null,null,null,null,null,null,null,"ADJUSTABLE.V",null,null,null,null,null,null,{"$f":"AM130 & \".V\"","v":"LIMECL.V"},"Объём","ед.",{"$f":"SUMIF($AS$9:$AT$9,AP$9,$AS132:$AT132)","v":0},0,0]
[null,null,null,null,null,null,null,null,null,null,null,null,null,null,null,null,null,null,null,null,null,null,null,null,null,null,null,null,null,null,null,"ADJUSTABLE.C",null,null,null,null,null,null,"KN","калий азотнокислый","тыс.руб.",0,0,0]
[null,null,null,null,null,null,null,null,null,null,null,null,null,null,null,null,null,null,null,null,null,null,null,null,null,null,null,null,null,null,null,"ADJUSTABLE.P",null,null,null,null,null,null,{"$f":"AM133 & \".P\"","v":"KN.P"},"Цена за единицу","руб./ед.",{"$f":"IF(AP135=0,0,AP133*1000/AP135)","v":0},{"$f":"IF(AQ135=0,0,AQ133*1000/AQ135)","v":0},{"$f":"IF(AR135=0,0,AR133*1000/AR135)","v":0}]
[null,null,null,null,null,null,null,null,null,null,null,null,null,null,null,null,null,null,null,null,null,null,null,null,null,null,null,null,null,null,null,"ADJUSTABLE.V",null,null,null,null,null,null,{"$f":"AM133 & \".V\"","v":"KN.V"},"Объём","ед.",{"$f":"SUMIF($AS$9:$AT$9,AP$9,$AS135:$AT135)","v":0},0,0]
[null,null,null,null,null,null,null,null,null,null,null,null,null,null,null,null,null,null,null,null,null,null,null,null,null,null,null,null,null,null,null,"ADJUSTABLE.C",null,null,null,null,null,null,"KCR","калий двухромовокислый","тыс.руб.",0,0,0]
[null,null,null,null,null,null,null,null,null,null,null,null,null,null,null,null,null,null,null,null,null,null,null,null,null,null,null,null,null,null,null,"ADJUSTABLE.P",null,null,null,null,null,null,{"$f":"AM136 & \".P\"","v":"KCR.P"},"Цена за единицу","руб./ед.",{"$f":"IF(AP138=0,0,AP136*1000/AP138)","v":0},{"$f":"IF(AQ138=0,0,AQ136*1000/AQ138)","v":0},{"$f":"IF(AR138=0,0,AR136*1000/AR138)","v":0}]
[null,null,null,null,null,null,null,null,null,null,null,null,null,null,null,null,null,null,null,null,null,null,null,null,null,null,null,null,null,null,null,"ADJUSTABLE.V",null,null,null,null,null,null,{"$f":"AM136 & \".V\"","v":"KCR.V"},"Объём","ед.",{"$f":"SUMIF($AS$9:$AT$9,AP$9,$AS138:$AT138)","v":0},0,0]
[null,null,null,null,null,null,null,null,null,null,null,null,null,null,null,null,null,null,null,null,null,null,null,null,null,null,null,null,null,null,null,"ADJUSTABLE.C",null,null,null,null,null,null,"KI","калий йодистый","тыс.руб.",0,0,0]
[null,null,null,null,null,null,null,null,null,null,null,null,null,null,null,null,null,null,null,null,null,null,null,null,null,null,null,null,null,null,null,"ADJUSTABLE.P",null,null,null,null,null,null,{"$f":"AM139 & \".P\"","v":"KI.P"},"Цена за единицу","руб./ед.",{"$f":"IF(AP141=0,0,AP139*1000/AP141)","v":0},{"$f":"IF(AQ141=0,0,AQ139*1000/AQ141)","v":0},{"$f":"IF(AR141=0,0,AR139*1000/AR141)","v":0}]
[null,null,null,null,null,null,null,null,null,null,null,null,null,null,null,null,null,null,null,null,null,null,null,null,null,null,null,null,null,null,null,"ADJUSTABLE.V",null,null,null,null,null,null,{"$f":"AM139 & \".V\"","v":"KI.V"},"Объём","ед.",{"$f":"SUMIF($AS$9:$AT$9,AP$9,$AS141:$AT141)","v":0},0,0]
[null,null,null,null,null,null,null,null,null,null,null,null,null,null,null,null,null,null,null,null,null,null,null,null,null,null,null,null,null,null,null,"ADJUSTABLE.C",null,null,null,null,null,null,"KMN","калий марганцевокислый","тыс.руб.",0,0,0]
[null,null,null,null,null,null,null,null,null,null,null,null,null,null,null,null,null,null,null,null,null,null,null,null,null,null,null,null,null,null,null,"ADJUSTABLE.P",null,null,null,null,null,null,{"$f":"AM142 & \".P\"","v":"KMN.P"},"Цена за единицу","руб./ед.",{"$f":"IF(AP144=0,0,AP142*1000/AP144)","v":0},{"$f":"IF(AQ144=0,0,AQ142*1000/AQ144)","v":0},{"$f":"IF(AR144=0,0,AR142*1000/AR144)","v":0}]
[null,null,null,null,null,null,null,null,null,null,null,null,null,null,null,null,null,null,null,null,null,null,null,null,null,null,null,null,null,null,null,"ADJUSTABLE.V",null,null,null,null,null,null,{"$f":"AM142 & \".V\"","v":"KMN.V"},"Объём","ед.",{"$f":"SUMIF($AS$9:$AT$9,AP$9,$AS144:$AT144)","v":0},0,0]
[null,null,null,null,null,null,null,null,null,null,null,null,null,null,null,null,null,null,null,null,null,null,null,null,null,null,null,null,null,null,null,"ADJUSTABLE.C",null,null,null,null,null,null,"KP","калий фосфорнокислый","тыс.руб.",0,0,0]
[null,null,null,null,null,null,null,null,null,null,null,null,null,null,null,null,null,null,null,null,null,null,null,null,null,null,null,null,null,null,null,"ADJUSTABLE.P",null,null,null,null,null,null,{"$f":"AM145 & \".P\"","v":"KP.P"},"Цена за единицу","руб./ед.",{"$f":"IF(AP147=0,0,AP145*1000/AP147)","v":0},{"$f":"IF(AQ147=0,0,AQ145*1000/AQ147)","v":0},{"$f":"IF(AR147=0,0,AR145*1000/AR147)","v":0}]
[null,null,null,null,null,null,null,null,null,null,null,null,null,null,null,null,null,null,null,null,null,null,null,null,null,null,null,null,null,null,null,"ADJUSTABLE.V",null,null,null,null,null,null,{"$f":"AM145 & \".V\"","v":"KP.V"},"Объём","ед.",{"$f":"SUMIF($AS$9:$AT$9,AP$9,$AS147:$AT147)","v":0},0,0]
[null,null,null,null,null,null,null,null,null,null,null,null,null,null,null,null,null,null,null,null,null,null,null,null,null,null,null,null,null,null,null,"ADJUSTABLE.C",null,null,null,null,null,null,"HCL","калий хлористый","тыс.руб.",0,0,0]
[null,null,null,null,null,null,null,null,null,null,null,null,null,null,null,null,null,null,null,null,null,null,null,null,null,null,null,null,null,null,null,"ADJUSTABLE.P",null,null,null,null,null,null,{"$f":"AM148 & \".P\"","v":"HCL.P"},"Цена за единицу","руб./ед.",{"$f":"IF(AP150=0,0,AP148*1000/AP150)","v":0},{"$f":"IF(AQ150=0,0,AQ148*1000/AQ150)","v":0},{"$f":"IF(AR150=0,0,AR148*1000/AR150)","v":0}]
[null,null,null,null,null,null,null,null,null,null,null,null,null,null,null,null,null,null,null,null,null,null,null,null,null,null,null,null,null,null,null,"ADJUSTABLE.V",null,null,null,null,null,null,{"$f":"AM148 & \".V\"","v":"HCL.V"},"Объём","ед.",{"$f":"SUMIF($AS$9:$AT$9,AP$9,$AS150:$AT150)","v":0},0,0]
[null,null,null,null,null,null,null,null,null,null,null,null,null,null,null,null,null,null,null,null,null,null,null,null,null,null,null,null,null,null,null,"ADJUSTABLE.C",null,null,null,null,null,null,"KNA","калий-натрий виннокислый","тыс.руб.",0,0,0]
[null,null,null,null,null,null,null,null,null,null,null,null,null,null,null,null,null,null,null,null,null,null,null,null,null,null,null,null,null,null,null,"ADJUSTABLE.P",null,null,null,null,null,null,{"$f":"AM151 & \".P\"","v":"KNA.P"},"Цена за единицу","руб./ед.",{"$f":"IF(AP153=0,0,AP151*1000/AP153)","v":0},{"$f":"IF(AQ153=0,0,AQ151*1000/AQ153)","v":0},{"$f":"IF(AR153=0,0,AR151*1000/AR153)","v":0}]
[null,null,null,null,null,null,null,null,null,null,null,null,null,null,null,null,null,null,null,null,null,null,null,null,null,null,null,null,null,null,null,"ADJUSTABLE.V",null,null,null,null,null,null,{"$f":"AM151 & \".V\"","v":"KNA.V"},"Объём","ед.",{"$f":"SUMIF($AS$9:$AT$9,AP$9,$AS153:$AT153)","v":0},0,0]
[null,null,null,null,null,null,null,null,null,null,null,null,null,null,null,null,null,null,null,null,null,null,null,null,null,null,null,null,null,null,null,"ADJUSTABLE.C",null,null,null,null,null,null,"CAC","кальций углекислый","тыс.руб.",0,0,0]
[null,null,null,null,null,null,null,null,null,null,null,null,null,null,null,null,null,null,null,null,null,null,null,null,null,null,null,null,null,null,null,"ADJUSTABLE.P",null,null,null,null,null,null,{"$f":"AM154 & \".P\"","v":"CAC.P"},"Цена за единицу","руб./ед.",{"$f":"IF(AP156=0,0,AP154*1000/AP156)","v":0},{"$f":"IF(AQ156=0,0,AQ154*1000/AQ156)","v":0},{"$f":"IF(AR156=0,0,AR154*1000/AR156)","v":0}]
[null,null,null,null,null,null,null,null,null,null,null,null,null,null,null,null,null,null,null,null,null,null,null,null,null,null,null,null,null,null,null,"ADJUSTABLE.V",null,null,null,null,null,null,{"$f":"AM154 & \".V\"","v":"CAC.V"},"Объём","ед.",{"$f":"SUMIF($AS$9:$AT$9,AP$9,$AS156:$AT156)","v":0},0,0]
[null,null,null,null,null,null,null,null,null,null,null,null,null,null,null,null,null,null,null,null,null,null,null,null,null,null,null,null,null,null,null,"ADJUSTABLE.C",null,null,null,null,null,null,"CACL","кальций хлористый","тыс.руб.",0,0,0]
[null,null,null,null,null,null,null,null,null,null,null,null,null,null,null,null,null,null,null,null,null,null,null,null,null,null,null,null,null,null,null,"ADJUSTABLE.P",null,null,null,null,null,null,{"$f":"AM157 & \".P\"","v":"CACL.P"},"Цена за единицу","руб./ед.",{"$f":"IF(AP159=0,0,AP157*1000/AP159)","v":0},{"$f":"IF(AQ159=0,0,AQ157*1000/AQ159)","v":0},{"$f":"IF(AR159=0,0,AR157*1000/AR159)","v":0}]
[null,null,null,null,null,null,null,null,null,null,null,null,null,null,null,null,null,null,null,null,null,null,null,null,null,null,null,null,null,null,null,"ADJUSTABLE.V",null,null,null,null,null,null,{"$f":"AM157 & \".V\"","v":"CACL.V"},"Объём","ед.",{"$f":"SUMIF($AS$9:$AT$9,AP$9,$AS159:$AT159)","v":0},0,0]
[null,null,null,null,null,null,null,null,null,null,null,null,null,null,null,null,null,null,null,null,null,null,null,null,null,null,null,null,null,null,null,"ADJUSTABLE.C",null,null,null,null,null,null,"CAHPCL","кальция гипохлорит","тыс.руб.",0,0,0]
[null,null,null,null,null,null,null,null,null,null,null,null,null,null,null,null,null,null,null,null,null,null,null,null,null,null,null,null,null,null,null,"ADJUSTABLE.P",null,null,null,null,null,null,{"$f":"AM160 & \".P\"","v":"CAHPCL.P"},"Цена за единицу","руб./ед.",{"$f":"IF(AP162=0,0,AP160*1000/AP162)","v":0},{"$f":"IF(AQ162=0,0,AQ160*1000/AQ162)","v":0},{"$f":"IF(AR162=0,0,AR160*1000/AR162)","v":0}]
[null,null,null,null,null,null,null,null,null,null,null,null,null,null,null,null,null,null,null,null,null,null,null,null,null,null,null,null,null,null,null,"ADJUSTABLE.V",null,null,null,null,null,null,{"$f":"AM160 & \".V\"","v":"CAHPCL.V"},"Объём","ед.",{"$f":"SUMIF($AS$9:$AT$9,AP$9,$AS162:$AT162)","v":0},0,0]
[null,null,null,null,null,null,null,null,null,null,null,null,null,null,null,null,null,null,null,null,null,null,null,null,null,null,null,null,null,null,null,"ADJUSTABLE.C",null,null,null,null,null,null,"SAND","кварцевый песок","тыс.руб.",0,0,0]
[null,null,null,null,null,null,null,null,null,null,null,null,null,null,null,null,null,null,null,null,null,null,null,null,null,null,null,null,null,null,null,"ADJUSTABLE.P",null,null,null,null,null,null,{"$f":"AM163 & \".P\"","v":"SAND.P"},"Цена за единицу","руб./ед.",{"$f":"IF(AP165=0,0,AP163*1000/AP165)","v":0},{"$f":"IF(AQ165=0,0,AQ163*1000/AQ165)","v":0},{"$f":"IF(AR165=0,0,AR163*1000/AR165)","v":0}]
[null,null,null,null,null,null,null,null,null,null,null,null,null,null,null,null,null,null,null,null,null,null,null,null,null,null,null,null,null,null,null,"ADJUSTABLE.V",null,null,null,null,null,null,{"$f":"AM163 & \".V\"","v":"SAND.V"},"Объём","ед.",{"$f":"SUMIF($AS$9:$AT$9,AP$9,$AS165:$AT165)","v":0},0,0]
[null,null,null,null,null,null,null,null,null,null,null,null,null,null,null,null,null,null,null,null,null,null,null,null,null,null,null,null,null,null,null,"ADJUSTABLE.C",null,null,null,null,null,null,"ACIDN","кислота азотная","тыс.руб.",0,0,0]
[null,null,null,null,null,null,null,null,null,null,null,null,null,null,null,null,null,null,null,null,null,null,null,null,null,null,null,null,null,null,null,"ADJUSTABLE.P",null,null,null,null,null,null,{"$f":"AM166 & \".P\"","v":"ACIDN.P"},"Цена за единицу","руб./ед.",{"$f":"IF(AP168=0,0,AP166*1000/AP168)","v":0},{"$f":"IF(AQ168=0,0,AQ166*1000/AQ168)","v":0},{"$f":"IF(AR168=0,0,AR166*1000/AR168)","v":0}]
[null,null,null,null,null,null,null,null,null,null,null,null,null,null,null,null,null,null,null,null,null,null,null,null,null,null,null,null,null,null,null,"ADJUSTABLE.V",null,null,null,null,null,null,{"$f":"AM166 & \".V\"","v":"ACIDN.V"},"Объём","ед.",{"$f":"SUMIF($AS$9:$AT$9,AP$9,$AS168:$AT168)","v":0},0,0]
[null,null,null,null,null,null,null,null,null,null,null,null,null,null,null,null,null,null,null,null,null,null,null,null,null,null,null,null,null,null,null,"ADJUSTABLE.C",null,null,null,null,null,null,"ACIDA","кислота аскорбиновая","тыс.руб.",0,0,0]
[null,null,null,null,null,null,null,null,null,null,null,null,null,null,null,null,null,null,null,null,null,null,null,null,null,null,null,null,null,null,null,"ADJUSTABLE.P",null,null,null,null,null,null,{"$f":"AM169 & \".P\"","v":"ACIDA.P"},"Цена за единицу","руб./ед.",{"$f":"IF(AP171=0,0,AP169*1000/AP171)","v":0},{"$f":"IF(AQ171=0,0,AQ169*1000/AQ171)","v":0},{"$f":"IF(AR171=0,0,AR169*1000/AR171)","v":0}]
[null,null,null,null,null,null,null,null,null,null,null,null,null,null,null,null,null,null,null,null,null,null,null,null,null,null,null,null,null,null,null,"ADJUSTABLE.V",null,null,null,null,null,null,{"$f":"AM169 & \".V\"","v":"ACIDA.V"},"Объём","ед.",{"$f":"SUMIF($AS$9:$AT$9,AP$9,$AS171:$AT171)","v":0},0,0]
[null,null,null,null,null,null,null,null,null,null,null,null,null,null,null,null,null,null,null,null,null,null,null,null,null,null,null,null,null,null,null,"ADJUSTABLE.C",null,null,null,null,null,null,"ACIDL","кислота лимонная","тыс.руб.",0,0,0]
[null,null,null,null,null,null,null,null,null,null,null,null,null,null,null,null,null,null,null,null,null,null,null,null,null,null,null,null,null,null,null,"ADJUSTABLE.P",null,null,null,null,null,null,{"$f":"AM172 & \".P\"","v":"ACIDL.P"},"Цена за единицу","руб./ед.",{"$f":"IF(AP174=0,0,AP172*1000/AP174)","v":0},{"$f":"IF(AQ174=0,0,AQ172*1000/AQ174)","v":0},{"$f":"IF(AR174=0,0,AR172*1000/AR174)","v":0}]
[null,null,null,null,null,null,null,null,null,null,null,null,null,null,null,null,null,null,null,null,null,null,null,null,null,null,null,null,null,null,null,"ADJUSTABLE.V",null,null,null,null,null,null,{"$f":"AM172 & \".V\"","v":"ACIDL.V"},"Объём","ед.",{"$f":"SUMIF($AS$9:$AT$9,AP$9,$AS174:$AT174)","v":0},0,0]
[null,null,null,null,null,null,null,null,null,null,null,null,null,null,null,null,null,null,null,null,null,null,null,null,null,null,null,null,null,null,null,"ADJUSTABLE.C",null,null,null,null,null,null,"AURIN","кислота розоловая (аурин)","тыс.руб.",0,0,0]
[null,null,null,null,null,null,null,null,null,null,null,null,null,null,null,null,null,null,null,null,null,null,null,null,null,null,null,null,null,null,null,"ADJUSTABLE.P",null,null,null,null,null,null,{"$f":"AM175 & \".P\"","v":"AURIN.P"},"Цена за единицу","руб./ед.",{"$f":"IF(AP177=0,0,AP175*1000/AP177)","v":0},{"$f":"IF(AQ177=0,0,AQ175*1000/AQ177)","v":0},{"$f":"IF(AR177=0,0,AR175*1000/AR177)","v":0}]
[null,null,null,null,null,null,null,null,null,null,null,null,null,null,null,null,null,null,null,null,null,null,null,null,null,null,null,null,null,null,null,"ADJUSTABLE.V",null,null,null,null,null,null,{"$f":"AM175 & \".V\"","v":"AURIN.V"},"Объём","ед.",{"$f":"SUMIF($AS$9:$AT$9,AP$9,$AS177:$AT177)","v":0},0,0]
[null,null,null,null,null,null,null,null,null,null,null,null,null,null,null,null,null,null,null,null,null,null,null,null,null,null,null,null,null,null,null,"ADJUSTABLE.C",null,null,null,null,null,null,"ACIDS","кислота серная","тыс.руб.",0,0,0]
[null,null,null,null,null,null,null,null,null,null,null,null,null,null,null,null,null,null,null,null,null,null,null,null,null,null,null,null,null,null,null,"ADJUSTABLE.P",null,null,null,null,null,null,{"$f":"AM178 & \".P\"","v":"ACIDS.P"},"Цена за единицу","руб./ед.",{"$f":"IF(AP180=0,0,AP178*1000/AP180)","v":0},{"$f":"IF(AQ180=0,0,AQ178*1000/AQ180)","v":0},{"$f":"IF(AR180=0,0,AR178*1000/AR180)","v":0}]
[null,null,null,null,null,null,null,null,null,null,null,null,null,null,null,null,null,null,null,null,null,null,null,null,null,null,null,null,null,null,null,"ADJUSTABLE.V",null,null,null,null,null,null,{"$f":"AM178 & \".V\"","v":"ACIDS.V"},"Объём","ед.",{"$f":"SUMIF($AS$9:$AT$9,AP$9,$AS180:$AT180)","v":0},0,0]
[null,null,null,null,null,null,null,null,null,null,null,null,null,null,null,null,null,null,null,null,null,null,null,null,null,null,null,null,null,null,null,"ADJUSTABLE.C",null,null,null,null,null,null,"ADIDCL","кислота соляная","тыс.руб.",0,0,0]
[null,null,null,null,null,null,null,null,null,null,null,null,null,null,null,null,null,null,null,null,null,null,null,null,null,null,null,null,null,null,null,"ADJUSTABLE.P",null,null,null,null,null,null,{"$f":"AM181 & \".P\"","v":"ADIDCL.P"},"Цена за единицу","руб./ед.",{"$f":"IF(AP183=0,0,AP181*1000/AP183)","v":0},{"$f":"IF(AQ183=0,0,AQ181*1000/AQ183)","v":0},{"$f":"IF(AR183=0,0,AR181*1000/AR183)","v":0}]
[null,null,null,null,null,null,null,null,null,null,null,null,null,null,null,null,null,null,null,null,null,null,null,null,null,null,null,null,null,null,null,"ADJUSTABLE.V",null,null,null,null,null,null,{"$f":"AM181 & \".V\"","v":"ADIDCL.V"},"Объём","ед.",{"$f":"SUMIF($AS$9:$AT$9,AP$9,$AS183:$AT183)","v":0},0,0]
[null,null,null,null,null,null,null,null,null,null,null,null,null,null,null,null,null,null,null,null,null,null,null,null,null,null,null,null,null,null,null,"ADJUSTABLE.C",null,null,null,null,null,null,"ACIDAC","кислота уксусная","тыс.руб.",0,0,0]
[null,null,null,null,null,null,null,null,null,null,null,null,null,null,null,null,null,null,null,null,null,null,null,null,null,null,null,null,null,null,null,"ADJUSTABLE.P",null,null,null,null,null,null,{"$f":"AM184 & \".P\"","v":"ACIDAC.P"},"Цена за единицу","руб./ед.",{"$f":"IF(AP186=0,0,AP184*1000/AP186)","v":0},{"$f":"IF(AQ186=0,0,AQ184*1000/AQ186)","v":0},{"$f":"IF(AR186=0,0,AR184*1000/AR186)","v":0}]
[null,null,null,null,null,null,null,null,null,null,null,null,null,null,null,null,null,null,null,null,null,null,null,null,null,null,null,null,null,null,null,"ADJUSTABLE.V",null,null,null,null,null,null,{"$f":"AM184 & \".V\"","v":"ACIDAC.V"},"Объём","ед.",{"$f":"SUMIF($AS$9:$AT$9,AP$9,$AS186:$AT186)","v":0},0,0]
[null,null,null,null,null,null,null,null,null,null,null,null,null,null,null,null,null,null,null,null,null,null,null,null,null,null,null,null,null,null,null,"ADJUSTABLE.C",null,null,null,null,null,null,"ACIDOX","кислота щавелевая","тыс.руб.",0,0,0]
[null,null,null,null,null,null,null,null,null,null,null,null,null,null,null,null,null,null,null,null,null,null,null,null,null,null,null,null,null,null,null,"ADJUSTABLE.P",null,null,null,null,null,null,{"$f":"AM187 & \".P\"","v":"ACIDOX.P"},"Цена за единицу","руб./ед.",{"$f":"IF(AP189=0,0,AP187*1000/AP189)","v":0},{"$f":"IF(AQ189=0,0,AQ187*1000/AQ189)","v":0},{"$f":"IF(AR189=0,0,AR187*1000/AR189)","v":0}]
[null,null,null,null,null,null,null,null,null,null,null,null,null,null,null,null,null,null,null,null,null,null,null,null,null,null,null,null,null,null,null,"ADJUSTABLE.V",null,null,null,null,null,null,{"$f":"AM187 & \".V\"","v":"ACIDOX.V"},"Объём","ед.",{"$f":"SUMIF($AS$9:$AT$9,AP$9,$AS189:$AT189)","v":0},0,0]
[null,null,null,null,null,null,null,null,null,null,null,null,null,null,null,null,null,null,null,null,null,null,null,null,null,null,null,null,null,null,null,"ADJUSTABLE.C",null,null,null,null,null,null,"STARCH","крахмал","тыс.руб.",0,0,0]
[null,null,null,null,null,null,null,null,null,null,null,null,null,null,null,null,null,null,null,null,null,null,null,null,null,null,null,null,null,null,null,"ADJUSTABLE.P",null,null,null,null,null,null,{"$f":"AM190 & \".P\"","v":"STARCH.P"},"Цена за единицу","руб./ед.",{"$f":"IF(AP192=0,0,AP190*1000/AP192)","v":0},{"$f":"IF(AQ192=0,0,AQ190*1000/AQ192)","v":0},{"$f":"IF(AR192=0,0,AR190*1000/AR192)","v":0}]
[null,null,null,null,null,null,null,null,null,null,null,null,null,null,null,null,null,null,null,null,null,null,null,null,null,null,null,null,null,null,null,"ADJUSTABLE.V",null,null,null,null,null,null,{"$f":"AM190 & \".V\"","v":"STARCH.V"},"Объём","ед.",{"$f":"SUMIF($AS$9:$AT$9,AP$9,$AS192:$AT192)","v":0},0,0]
[null,null,null,null,null,null,null,null,null,null,null,null,null,null,null,null,null,null,null,null,null,null,null,null,null,null,null,null,null,null,null,"ADJUSTABLE.C",null,null,null,null,null,null,"LANTN","лантан азотнокислый","тыс.руб.",0,0,0]
[null,null,null,null,null,null,null,null,null,null,null,null,null,null,null,null,null,null,null,null,null,null,null,null,null,null,null,null,null,null,null,"ADJUSTABLE.P",null,null,null,null,null,null,{"$f":"AM193 & \".P\"","v":"LANTN.P"},"Цена за единицу","руб./ед.",{"$f":"IF(AP195=0,0,AP193*1000/AP195)","v":0},{"$f":"IF(AQ195=0,0,AQ193*1000/AQ195)","v":0},{"$f":"IF(AR195=0,0,AR193*1000/AR195)","v":0}]
[null,null,null,null,null,null,null,null,null,null,null,null,null,null,null,null,null,null,null,null,null,null,null,null,null,null,null,null,null,null,null,"ADJUSTABLE.V",null,null,null,null,null,null,{"$f":"AM193 & \".V\"","v":"LANTN.V"},"Объём","ед.",{"$f":"SUMIF($AS$9:$AT$9,AP$9,$AS195:$AT195)","v":0},0,0]
[null,null,null,null,null,null,null,null,null,null,null,null,null,null,null,null,null,null,null,null,null,null,null,null,null,null,null,null,null,null,null,"ADJUSTABLE.C",null,null,null,null,null,null,"MGS","магний сернокислый","тыс.руб.",0,0,0]
[null,null,null,null,null,null,null,null,null,null,null,null,null,null,null,null,null,null,null,null,null,null,null,null,null,null,null,null,null,null,null,"ADJUSTABLE.P",null,null,null,null,null,null,{"$f":"AM196 & \".P\"","v":"MGS.P"},"Цена за единицу","руб./ед.",{"$f":"IF(AP198=0,0,AP196*1000/AP198)","v":0},{"$f":"IF(AQ198=0,0,AQ196*1000/AQ198)","v":0},{"$f":"IF(AR198=0,0,AR196*1000/AR198)","v":0}]
[null,null,null,null,null,null,null,null,null,null,null,null,null,null,null,null,null,null,null,null,null,null,null,null,null,null,null,null,null,null,null,"ADJUSTABLE.V",null,null,null,null,null,null,{"$f":"AM196 & \".V\"","v":"MGS.V"},"Объём","ед.",{"$f":"SUMIF($AS$9:$AT$9,AP$9,$AS198:$AT198)","v":0},0,0]
[null,null,null,null,null,null,null,null,null,null,null,null,null,null,null,null,null,null,null,null,null,null,null,null,null,null,null,null,null,null,null,"ADJUSTABLE.C",null,null,null,null,null,null,"NATR","натр едкий","тыс.руб.",0,0,0]
[null,null,null,null,null,null,null,null,null,null,null,null,null,null,null,null,null,null,null,null,null,null,null,null,null,null,null,null,null,null,null,"ADJUSTABLE.P",null,null,null,null,null,null,{"$f":"AM199 & \".P\"","v":"NATR.P"},"Цена за единицу","руб./ед.",{"$f":"IF(AP201=0,0,AP199*1000/AP201)","v":0},{"$f":"IF(AQ201=0,0,AQ199*1000/AQ201)","v":0},{"$f":"IF(AR201=0,0,AR199*1000/AR201)","v":0}]
[null,null,null,null,null,null,null,null,null,null,null,null,null,null,null,null,null,null,null,null,null,null,null,null,null,null,null,null,null,null,null,"ADJUSTABLE.V",null,null,null,null,null,null,{"$f":"AM199 & \".V\"","v":"NATR.V"},"Объём","ед.",{"$f":"SUMIF($AS$9:$AT$9,AP$9,$AS201:$AT201)","v":0},0,0]
[null,null,null,null,null,null,null,null,null,null,null,null,null,null,null,null,null,null,null,null,null,null,null,null,null,null,null,null,null,null,null,"ADJUSTABLE.C",null,null,null,null,null,null,"NAHDOX","натрий гидроокись","тыс.руб.",0,0,0]
[null,null,null,null,null,null,null,null,null,null,null,null,null,null,null,null,null,null,null,null,null,null,null,null,null,null,null,null,null,null,null,"ADJUSTABLE.P",null,null,null,null,null,null,{"$f":"AM202 & \".P\"","v":"NAHDOX.P"},"Цена за единицу","руб./ед.",{"$f":"IF(AP204=0,0,AP202*1000/AP204)","v":0},{"$f":"IF(AQ204=0,0,AQ202*1000/AQ204)","v":0},{"$f":"IF(AR204=0,0,AR202*1000/AR204)","v":0}]
[null,null,null,null,null,null,null,null,null,null,null,null,null,null,null,null,null,null,null,null,null,null,null,null,null,null,null,null,null,null,null,"ADJUSTABLE.V",null,null,null,null,null,null,{"$f":"AM202 & \".V\"","v":"NAHDOX.V"},"Объём","ед.",{"$f":"SUMIF($AS$9:$AT$9,AP$9,$AS204:$AT204)","v":0},0,0]
[null,null,null,null,null,null,null,null,null,null,null,null,null,null,null,null,null,null,null,null,null,null,null,null,null,null,null,null,null,null,null,"ADJUSTABLE.C",null,null,null,null,null,null,"NASLC","натрий салициловокислый","тыс.руб.",0,0,0]
[null,null,null,null,null,null,null,null,null,null,null,null,null,null,null,null,null,null,null,null,null,null,null,null,null,null,null,null,null,null,null,"ADJUSTABLE.P",null,null,null,null,null,null,{"$f":"AM205 & \".P\"","v":"NASLC.P"},"Цена за единицу","руб./ед.",{"$f":"IF(AP207=0,0,AP205*1000/AP207)","v":0},{"$f":"IF(AQ207=0,0,AQ205*1000/AQ207)","v":0},{"$f":"IF(AR207=0,0,AR205*1000/AR207)","v":0}]
[null,null,null,null,null,null,null,null,null,null,null,null,null,null,null,null,null,null,null,null,null,null,null,null,null,null,null,null,null,null,null,"ADJUSTABLE.V",null,null,null,null,null,null,{"$f":"AM205 & \".V\"","v":"NASLC.V"},"Объём","ед.",{"$f":"SUMIF($AS$9:$AT$9,AP$9,$AS207:$AT207)","v":0},0,0]
[null,null,null,null,null,null,null,null,null,null,null,null,null,null,null,null,null,null,null,null,null,null,null,null,null,null,null,null,null,null,null,"ADJUSTABLE.C",null,null,null,null,null,null,"NAS","натрий сернокислый","тыс.руб.",0,0,0]
[null,null,null,null,null,null,null,null,null,null,null,null,null,null,null,null,null,null,null,null,null,null,null,null,null,null,null,null,null,null,null,"ADJUSTABLE.P",null,null,null,null,null,null,{"$f":"AM208 & \".P\"","v":"NAS.P"},"Цена за единицу","руб./ед.",{"$f":"IF(AP210=0,0,AP208*1000/AP210)","v":0},{"$f":"IF(AQ210=0,0,AQ208*1000/AQ210)","v":0},{"$f":"IF(AR210=0,0,AR208*1000/AR210)","v":0}]
[null,null,null,null,null,null,null,null,null,null,null,null,null,null,null,null,null,null,null,null,null,null,null,null,null,null,null,null,null,null,null,"ADJUSTABLE.V",null,null,null,null,null,null,{"$f":"AM208 & \".V\"","v":"NAS.V"},"Объём","ед.",{"$f":"SUMIF($AS$9:$AT$9,AP$9,$AS210:$AT210)","v":0},0,0]
[null,null,null,null,null,null,null,null,null,null,null,null,null,null,null,null,null,null,null,null,null,null,null,null,null,null,null,null,null,null,null,"ADJUSTABLE.C",null,null,null,null,null,null,"NAC","натрий углекислый","тыс.руб.",0,0,0]
[null,null,null,null,null,null,null,null,null,null,null,null,null,null,null,null,null,null,null,null,null,null,null,null,null,null,null,null,null,null,null,"ADJUSTABLE.P",null,null,null,null,null,null,{"$f":"AM211 & \".P\"","v":"NAC.P"},"Цена за единицу","руб./ед.",{"$f":"IF(AP213=0,0,AP211*1000/AP213)","v":0},{"$f":"IF(AQ213=0,0,AQ211*1000/AQ213)","v":0},{"$f":"IF(AR213=0,0,AR211*1000/AR213)","v":0}]
[null,null,null,null,null,null,null,null,null,null,null,null,null,null,null,null,null,null,null,null,null,null,null,null,null,null,null,null,null,null,null,"ADJUSTABLE.V",null,null,null,null,null,null,{"$f":"AM211 & \".V\"","v":"NAC.V"},"Объём","ед.",{"$f":"SUMIF($AS$9:$AT$9,AP$9,$AS213:$AT213)","v":0},0,0]
[null,null,null,null,null,null,null,null,null,null,null,null,null,null,null,null,null,null,null,null,null,null,null,null,null,null,null,null,null,null,null,"ADJUSTABLE.C",null,null,null,null,null,null,"NAAC","натрий уксуснокислый","тыс.руб.",0,0,0]
[null,null,null,null,null,null,null,null,null,null,null,null,null,null,null,null,null,null,null,null,null,null,null,null,null,null,null,null,null,null,null,"ADJUSTABLE.P",null,null,null,null,null,null,{"$f":"AM214 & \".P\"","v":"NAAC.P"},"Цена за единицу","руб./ед.",{"$f":"IF(AP216=0,0,AP214*1000/AP216)","v":0},{"$f":"IF(AQ216=0,0,AQ214*1000/AQ216)","v":0},{"$f":"IF(AR216=0,0,AR214*1000/AR216)","v":0}]
[null,null,null,null,null,null,null,null,null,null,null,null,null,null,null,null,null,null,null,null,null,null,null,null,null,null,null,null,null,null,null,"ADJUSTABLE.V",null,null,null,null,null,null,{"$f":"AM214 & \".V\"","v":"NAAC.V"},"Объём","ед.",{"$f":"SUMIF($AS$9:$AT$9,AP$9,$AS216:$AT216)","v":0},0,0]
[null,null,null,null,null,null,null,null,null,null,null,null,null,null,null,null,null,null,null,null,null,null,null,null,null,null,null,null,null,null,null,"ADJUSTABLE.C",null,null,null,null,null,null,"NACL","натрий хлористый","тыс.руб.",0,0,0]
[null,null,null,null,null,null,null,null,null,null,null,null,null,null,null,null,null,null,null,null,null,null,null,null,null,null,null,null,null,null,null,"ADJUSTABLE.P",null,null,null,null,null,null,{"$f":"AM217 & \".P\"","v":"NACL.P"},"Цена за единицу","руб./ед.",{"$f":"IF(AP219=0,0,AP217*1000/AP219)","v":0},{"$f":"IF(AQ219=0,0,AQ217*1000/AQ219)","v":0},{"$f":"IF(AR219=0,0,AR217*1000/AR219)","v":0}]
[null,null,null,null,null,null,null,null,null,null,null,null,null,null,null,null,null,null,null,null,null,null,null,null,null,null,null,null,null,null,null,"ADJUSTABLE.V",null,null,null,null,null,null,{"$f":"AM217 & \".V\"","v":"NACL.V"},"Объём","ед.",{"$f":"SUMIF($AS$9:$AT$9,AP$9,$AS219:$AT219)","v":0},0,0]
[null,null,null,null,null,null,null,null,null,null,null,null,null,null,null,null,null,null,null,null,null,null,null,null,null,null,null,null,null,null,null,"ADJUSTABLE.C",null,null,null,null,null,null,"RGRS","реактив Грисса","тыс.руб.",0,0,0]
[null,null,null,null,null,null,null,null,null,null,null,null,null,null,null,null,null,null,null,null,null,null,null,null,null,null,null,null,null,null,null,"ADJUSTABLE.P",null,null,null,null,null,null,{"$f":"AM220 & \".P\"","v":"RGRS.P"},"Цена за единицу","руб./ед.",{"$f":"IF(AP222=0,0,AP220*1000/AP222)","v":0},{"$f":"IF(AQ222=0,0,AQ220*1000/AQ222)","v":0},{"$f":"IF(AR222=0,0,AR220*1000/AR222)","v":0}]
[null,null,null,null,null,null,null,null,null,null,null,null,null,null,null,null,null,null,null,null,null,null,null,null,null,null,null,null,null,null,null,"ADJUSTABLE.V",null,null,null,null,null,null,{"$f":"AM220 & \".V\"","v":"RGRS.V"},"Объём","ед.",{"$f":"SUMIF($AS$9:$AT$9,AP$9,$AS222:$AT222)","v":0},0,0]
[null,null,null,null,null,null,null,null,null,null,null,null,null,null,null,null,null,null,null,null,null,null,null,null,null,null,null,null,null,null,null,"ADJUSTABLE.C",null,null,null,null,null,null,"RNSL","реактив Несслера","тыс.руб.",0,0,0]
[null,null,null,null,null,null,null,null,null,null,null,null,null,null,null,null,null,null,null,null,null,null,null,null,null,null,null,null,null,null,null,"ADJUSTABLE.P",null,null,null,null,null,null,{"$f":"AM223 & \".P\"","v":"RNSL.P"},"Цена за единицу","руб./ед.",{"$f":"IF(AP225=0,0,AP223*1000/AP225)","v":0},{"$f":"IF(AQ225=0,0,AQ223*1000/AQ225)","v":0},{"$f":"IF(AR225=0,0,AR223*1000/AR225)","v":0}]
[null,null,null,null,null,null,null,null,null,null,null,null,null,null,null,null,null,null,null,null,null,null,null,null,null,null,null,null,null,null,null,"ADJUSTABLE.V",null,null,null,null,null,null,{"$f":"AM223 & \".V\"","v":"RNSL.V"},"Объём","ед.",{"$f":"SUMIF($AS$9:$AT$9,AP$9,$AS225:$AT225)","v":0},0,0]
[null,null,null,null,null,null,null,null,null,null,null,null,null,null,null,null,null,null,null,null,null,null,null,null,null,null,null,null,null,null,null,"ADJUSTABLE.C",null,null,null,null,null,null,"PBAC","свинец уксуснокислый","тыс.руб.",0,0,0]
[null,null,null,null,null,null,null,null,null,null,null,null,null,null,null,null,null,null,null,null,null,null,null,null,null,null,null,null,null,null,null,"ADJUSTABLE.P",null,null,null,null,null,null,{"$f":"AM226 & \".P\"","v":"PBAC.P"},"Цена за единицу","руб./ед.",{"$f":"IF(AP228=0,0,AP226*1000/AP228)","v":0},{"$f":"IF(AQ228=0,0,AQ226*1000/AQ228)","v":0},{"$f":"IF(AR228=0,0,AR226*1000/AR228)","v":0}]
[null,null,null,null,null,null,null,null,null,null,null,null,null,null,null,null,null,null,null,null,null,null,null,null,null,null,null,null,null,null,null,"ADJUSTABLE.V",null,null,null,null,null,null,{"$f":"AM226 & \".V\"","v":"PBAC.V"},"Объём","ед.",{"$f":"SUMIF($AS$9:$AT$9,AP$9,$AS228:$AT228)","v":0},0,0]
[null,null,null,null,null,null,null,null,null,null,null,null,null,null,null,null,null,null,null,null,null,null,null,null,null,null,null,null,null,null,null,"ADJUSTABLE.C",null,null,null,null,null,null,"AGN","серебро азотнокислое","тыс.руб.",0,0,0]
[null,null,null,null,null,null,null,null,null,null,null,null,null,null,null,null,null,null,null,null,null,null,null,null,null,null,null,null,null,null,null,"ADJUSTABLE.P",null,null,null,null,null,null,{"$f":"AM229 & \".P\"","v":"AGN.P"},"Цена за единицу","руб./ед.",{"$f":"IF(AP231=0,0,AP229*1000/AP231)","v":0},{"$f":"IF(AQ231=0,0,AQ229*1000/AQ231)","v":0},{"$f":"IF(AR231=0,0,AR229*1000/AR231)","v":0}]
[null,null,null,null,null,null,null,null,null,null,null,null,null,null,null,null,null,null,null,null,null,null,null,null,null,null,null,null,null,null,null,"ADJUSTABLE.V",null,null,null,null,null,null,{"$f":"AM229 & \".V\"","v":"AGN.V"},"Объём","ед.",{"$f":"SUMIF($AS$9:$AT$9,AP$9,$AS231:$AT231)","v":0},0,0]
[null,null,null,null,null,null,null,null,null,null,null,null,null,null,null,null,null,null,null,null,null,null,null,null,null,null,null,null,null,null,null,"ADJUSTABLE.C",null,null,null,null,null,null,"AGS","серебро сернокислое","тыс.руб.",0,0,0]
[null,null,null,null,null,null,null,null,null,null,null,null,null,null,null,null,null,null,null,null,null,null,null,null,null,null,null,null,null,null,null,"ADJUSTABLE.P",null,null,null,null,null,null,{"$f":"AM232 & \".P\"","v":"AGS.P"},"Цена за единицу","руб./ед.",{"$f":"IF(AP234=0,0,AP232*1000/AP234)","v":0},{"$f":"IF(AQ234=0,0,AQ232*1000/AQ234)","v":0},{"$f":"IF(AR234=0,0,AR232*1000/AR234)","v":0}]
[null,null,null,null,null,null,null,null,null,null,null,null,null,null,null,null,null,null,null,null,null,null,null,null,null,null,null,null,null,null,null,"ADJUSTABLE.V",null,null,null,null,null,null,{"$f":"AM232 & \".V\"","v":"AGS.V"},"Объём","ед.",{"$f":"SUMIF($AS$9:$AT$9,AP$9,$AS234:$AT234)","v":0},0,0]
[null,null,null,null,null,null,null,null,null,null,null,null,null,null,null,null,null,null,null,null,null,null,null,null,null,null,null,null,null,null,null,"ADJUSTABLE.C",null,null,null,null,null,null,"SODACA","сода кальцинированная","тыс.руб.",0,0,0]
[null,null,null,null,null,null,null,null,null,null,null,null,null,null,null,null,null,null,null,null,null,null,null,null,null,null,null,null,null,null,null,"ADJUSTABLE.P",null,null,null,null,null,null,{"$f":"AM235 & \".P\"","v":"SODACA.P"},"Цена за единицу","руб./ед.",{"$f":"IF(AP237=0,0,AP235*1000/AP237)","v":0},{"$f":"IF(AQ237=0,0,AQ235*1000/AQ237)","v":0},{"$f":"IF(AR237=0,0,AR235*1000/AR237)","v":0}]
[null,null,null,null,null,null,null,null,null,null,null,null,null,null,null,null,null,null,null,null,null,null,null,null,null,null,null,null,null,null,null,"ADJUSTABLE.V",null,null,null,null,null,null,{"$f":"AM235 & \".V\"","v":"SODACA.V"},"Объём","ед.",{"$f":"SUMIF($AS$9:$AT$9,AP$9,$AS237:$AT237)","v":0},0,0]
[null,null,null,null,null,null,null,null,null,null,null,null,null,null,null,null,null,null,null,null,null,null,null,null,null,null,null,null,null,null,null,"ADJUSTABLE.C",null,null,null,null,null,null,"SODACS","сода каустическая","тыс.руб.",0,0,0]
[null,null,null,null,null,null,null,null,null,null,null,null,null,null,null,null,null,null,null,null,null,null,null,null,null,null,null,null,null,null,null,"ADJUSTABLE.P",null,null,null,null,null,null,{"$f":"AM238 & \".P\"","v":"SODACS.P"},"Цена за единицу","руб./ед.",{"$f":"IF(AP240=0,0,AP238*1000/AP240)","v":0},{"$f":"IF(AQ240=0,0,AQ238*1000/AQ240)","v":0},{"$f":"IF(AR240=0,0,AR238*1000/AR240)","v":0}]
[null,null,null,null,null,null,null,null,null,null,null,null,null,null,null,null,null,null,null,null,null,null,null,null,null,null,null,null,null,null,null,"ADJUSTABLE.V",null,null,null,null,null,null,{"$f":"AM238 & \".V\"","v":"SODACS.V"},"Объём","ед.",{"$f":"SUMIF($AS$9:$AT$9,AP$9,$AS240:$AT240)","v":0},0,0]
[null,null,null,null,null,null,null,null,null,null,null,null,null,null,null,null,null,null,null,null,null,null,null,null,null,null,null,null,null,null,null,"ADJUSTABLE.C",null,null,null,null,null,null,"SALT1G","соль 1 сорт","тыс.руб.",0,0,0]
[null,null,null,null,null,null,null,null,null,null,null,null,null,null,null,null,null,null,null,null,null,null,null,null,null,null,null,null,null,null,null,"ADJUSTABLE.P",null,null,null,null,null,null,{"$f":"AM241 & \".P\"","v":"SALT1G.P"},"Цена за единицу","руб./ед.",{"$f":"IF(AP243=0,0,AP241*1000/AP243)","v":0},{"$f":"IF(AQ243=0,0,AQ241*1000/AQ243)","v":0},{"$f":"IF(AR243=0,0,AR241*1000/AR243)","v":0}]
[null,null,null,null,null,null,null,null,null,null,null,null,null,null,null,null,null,null,null,null,null,null,null,null,null,null,null,null,null,null,null,"ADJUSTABLE.V",null,null,null,null,null,null,{"$f":"AM241 & \".V\"","v":"SALT1G.V"},"Объём","ед.",{"$f":"SUMIF($AS$9:$AT$9,AP$9,$AS243:$AT243)","v":0},0,0]
[null,null,null,null,null,null,null,null,null,null,null,null,null,null,null,null,null,null,null,null,null,null,null,null,null,null,null,null,null,null,null,"ADJUSTABLE.C",null,null,null,null,null,null,"SALT","соль пищевая поваренная","тыс.руб.",0,0,0]
[null,null,null,null,null,null,null,null,null,null,null,null,null,null,null,null,null,null,null,null,null,null,null,null,null,null,null,null,null,null,null,"ADJUSTABLE.P",null,null,null,null,null,null,{"$f":"AM244 & \".P\"","v":"SALT.P"},"Цена за единицу","руб./ед.",{"$f":"IF(AP246=0,0,AP244*1000/AP246)","v":0},{"$f":"IF(AQ246=0,0,AQ244*1000/AQ246)","v":0},{"$f":"IF(AR246=0,0,AR244*1000/AR246)","v":0}]
[null,null,null,null,null,null,null,null,null,null,null,null,null,null,null,null,null,null,null,null,null,null,null,null,null,null,null,null,null,null,null,"ADJUSTABLE.V",null,null,null,null,null,null,{"$f":"AM244 & \".V\"","v":"SALT.V"},"Объём","ед.",{"$f":"SUMIF($AS$9:$AT$9,AP$9,$AS246:$AT246)","v":0},0,0]
[null,null,null,null,null,null,null,null,null,null,null,null,null,null,null,null,null,null,null,null,null,null,null,null,null,null,null,null,null,null,null,"ADJUSTABLE.C",null,null,null,null,null,null,"SALTPL","соль таблетированная","тыс.руб.",0,0,0]
[null,null,null,null,null,null,null,null,null,null,null,null,null,null,null,null,null,null,null,null,null,null,null,null,null,null,null,null,null,null,null,"ADJUSTABLE.P",null,null,null,null,null,null,{"$f":"AM247 & \".P\"","v":"SALTPL.P"},"Цена за единицу","руб./ед.",{"$f":"IF(AP249=0,0,AP247*1000/AP249)","v":0},{"$f":"IF(AQ249=0,0,AQ247*1000/AQ249)","v":0},{"$f":"IF(AR249=0,0,AR247*1000/AR249)","v":0}]
[null,null,null,null,null,null,null,null,null,null,null,null,null,null,null,null,null,null,null,null,null,null,null,null,null,null,null,null,null,null,null,"ADJUSTABLE.V",null,null,null,null,null,null,{"$f":"AM247 & \".V\"","v":"SALTPL.V"},"Объём","ед.",{"$f":"SUMIF($AS$9:$AT$9,AP$9,$AS249:$AT249)","v":0},0,0]
[null,null,null,null,null,null,null,null,null,null,null,null,null,null,null,null,null,null,null,null,null,null,null,null,null,null,null,null,null,null,null,"ADJUSTABLE.C",null,null,null,null,null,null,"SALTTH","соль техническая","тыс.руб.",0,0,0]
[null,null,null,null,null,null,null,null,null,null,null,null,null,null,null,null,null,null,null,null,null,null,null,null,null,null,null,null,null,null,null,"ADJUSTABLE.P",null,null,null,null,null,null,{"$f":"AM250 & \".P\"","v":"SALTTH.P"},"Цена за единицу","руб./ед.",{"$f":"IF(AP252=0,0,AP250*1000/AP252)","v":0},{"$f":"IF(AQ252=0,0,AQ250*1000/AQ252)","v":0},{"$f":"IF(AR252=0,0,AR250*1000/AR252)","v":0}]
[null,null,null,null,null,null,null,null,null,null,null,null,null,null,null,null,null,null,null,null,null,null,null,null,null,null,null,null,null,null,null,"ADJUSTABLE.V",null,null,null,null,null,null,{"$f":"AM250 & \".V\"","v":"SALTTH.V"},"Объём","ед.",{"$f":"SUMIF($AS$9:$AT$9,AP$9,$AS252:$AT252)","v":0},0,0]
[null,null,null,null,null,null,null,null,null,null,null,null,null,null,null,null,null,null,null,null,null,null,null,null,null,null,null,null,null,null,null,"ADJUSTABLE.C",null,null,null,null,null,null,"SALTEX","соль экстра","тыс.руб.",0,0,0]
[null,null,null,null,null,null,null,null,null,null,null,null,null,null,null,null,null,null,null,null,null,null,null,null,null,null,null,null,null,null,null,"ADJUSTABLE.P",null,null,null,null,null,null,{"$f":"AM253 & \".P\"","v":"SALTEX.P"},"Цена за единицу","руб./ед.",{"$f":"IF(AP255=0,0,AP253*1000/AP255)","v":0},{"$f":"IF(AQ255=0,0,AQ253*1000/AQ255)","v":0},{"$f":"IF(AR255=0,0,AR253*1000/AR255)","v":0}]
[null,null,null,null,null,null,null,null,null,null,null,null,null,null,null,null,null,null,null,null,null,null,null,null,null,null,null,null,null,null,null,"ADJUSTABLE.V",null,null,null,null,null,null,{"$f":"AM253 & \".V\"","v":"SALTEX.V"},"Объём","ед.",{"$f":"SUMIF($AS$9:$AT$9,AP$9,$AS255:$AT255)","v":0},0,0]
[null,null,null,null,null,null,null,null,null,null,null,null,null,null,null,null,null,null,null,null,null,null,null,null,null,null,null,null,null,null,null,"ADJUSTABLE.C",null,null,null,null,null,null,"C2H5OH","спирт","тыс.руб.",0,0,0]
[null,null,null,null,null,null,null,null,null,null,null,null,null,null,null,null,null,null,null,null,null,null,null,null,null,null,null,null,null,null,null,"ADJUSTABLE.P",null,null,null,null,null,null,{"$f":"AM256 & \".P\"","v":"C2H5OH.P"},"Цена за единицу","руб./ед.",{"$f":"IF(AP258=0,0,AP256*1000/AP258)","v":0},{"$f":"IF(AQ258=0,0,AQ256*1000/AQ258)","v":0},{"$f":"IF(AR258=0,0,AR256*1000/AR258)","v":0}]
[null,null,null,null,null,null,null,null,null,null,null,null,null,null,null,null,null,null,null,null,null,null,null,null,null,null,null,null,null,null,null,"ADJUSTABLE.V",null,null,null,null,null,null,{"$f":"AM256 & \".V\"","v":"C2H5OH.V"},"Объём","ед.",{"$f":"SUMIF($AS$9:$AT$9,AP$9,$AS258:$AT258)","v":0},0,0]
[null,null,null,null,null,null,null,null,null,null,null,null,null,null,null,null,null,null,null,null,null,null,null,null,null,null,null,null,null,null,null,"ADJUSTABLE.C",null,null,null,null,null,null,"SFAL1G","сульфат алюминия 1 сорт","тыс.руб.",0,0,0]
[null,null,null,null,null,null,null,null,null,null,null,null,null,null,null,null,null,null,null,null,null,null,null,null,null,null,null,null,null,null,null,"ADJUSTABLE.P",null,null,null,null,null,null,{"$f":"AM259 & \".P\"","v":"SFAL1G.P"},"Цена за единицу","руб./ед.",{"$f":"IF(AP261=0,0,AP259*1000/AP261)","v":0},{"$f":"IF(AQ261=0,0,AQ259*1000/AQ261)","v":0},{"$f":"IF(AR261=0,0,AR259*1000/AR261)","v":0}]
[null,null,null,null,null,null,null,null,null,null,null,null,null,null,null,null,null,null,null,null,null,null,null,null,null,null,null,null,null,null,null,"ADJUSTABLE.V",null,null,null,null,null,null,{"$f":"AM259 & \".V\"","v":"SFAL1G.V"},"Объём","ед.",{"$f":"SUMIF($AS$9:$AT$9,AP$9,$AS261:$AT261)","v":0},0,0]
[null,null,null,null,null,null,null,null,null,null,null,null,null,null,null,null,null,null,null,null,null,null,null,null,null,null,null,null,null,null,null,"ADJUSTABLE.C",null,null,null,null,null,null,"SFALLQD","сульфат алюминия жидкий","тыс.руб.",0,0,0]
[null,null,null,null,null,null,null,null,null,null,null,null,null,null,null,null,null,null,null,null,null,null,null,null,null,null,null,null,null,null,null,"ADJUSTABLE.P",null,null,null,null,null,null,{"$f":"AM262 & \".P\"","v":"SFALLQD.P"},"Цена за единицу","руб./ед.",{"$f":"IF(AP264=0,0,AP262*1000/AP264)","v":0},{"$f":"IF(AQ264=0,0,AQ262*1000/AQ264)","v":0},{"$f":"IF(AR264=0,0,AR262*1000/AR264)","v":0}]
[null,null,null,null,null,null,null,null,null,null,null,null,null,null,null,null,null,null,null,null,null,null,null,null,null,null,null,null,null,null,null,"ADJUSTABLE.V",null,null,null,null,null,null,{"$f":"AM262 & \".V\"","v":"SFALLQD.V"},"Объём","ед.",{"$f":"SUMIF($AS$9:$AT$9,AP$9,$AS264:$AT264)","v":0},0,0]
[null,null,null,null,null,null,null,null,null,null,null,null,null,null,null,null,null,null,null,null,null,null,null,null,null,null,null,null,null,null,null,"ADJUSTABLE.C",null,null,null,null,null,null,"SFALT","сульфат алюминия технический","тыс.руб.",0,0,0]
[null,null,null,null,null,null,null,null,null,null,null,null,null,null,null,null,null,null,null,null,null,null,null,null,null,null,null,null,null,null,null,"ADJUSTABLE.P",null,null,null,null,null,null,{"$f":"AM265 & \".P\"","v":"SFALT.P"},"Цена за единицу","руб./ед.",{"$f":"IF(AP267=0,0,AP265*1000/AP267)","v":0},{"$f":"IF(AQ267=0,0,AQ265*1000/AQ267)","v":0},{"$f":"IF(AR267=0,0,AR265*1000/AR267)","v":0}]
[null,null,null,null,null,null,null,null,null,null,null,null,null,null,null,null,null,null,null,null,null,null,null,null,null,null,null,null,null,null,null,"ADJUSTABLE.V",null,null,null,null,null,null,{"$f":"AM265 & \".V\"","v":"SFALT.V"},"Объём","ед.",{"$f":"SUMIF($AS$9:$AT$9,AP$9,$AS267:$AT267)","v":0},0,0]
[null,null,null,null,null,null,null,null,null,null,null,null,null,null,null,null,null,null,null,null,null,null,null,null,null,null,null,null,null,null,null,"ADJUSTABLE.C",null,null,null,null,null,null,"SFAMN","сульфат аммония","тыс.руб.",0,0,0]
[null,null,null,null,null,null,null,null,null,null,null,null,null,null,null,null,null,null,null,null,null,null,null,null,null,null,null,null,null,null,null,"ADJUSTABLE.P",null,null,null,null,null,null,{"$f":"AM268 & \".P\"","v":"SFAMN.P"},"Цена за единицу","руб./ед.",{"$f":"IF(AP270=0,0,AP268*1000/AP270)","v":0},{"$f":"IF(AQ270=0,0,AQ268*1000/AQ270)","v":0},{"$f":"IF(AR270=0,0,AR268*1000/AR270)","v":0}]
[null,null,null,null,null,null,null,null,null,null,null,null,null,null,null,null,null,null,null,null,null,null,null,null,null,null,null,null,null,null,null,"ADJUSTABLE.V",null,null,null,null,null,null,{"$f":"AM268 & \".V\"","v":"SFAMN.V"},"Объём","ед.",{"$f":"SUMIF($AS$9:$AT$9,AP$9,$AS270:$AT270)","v":0},0,0]
[null,null,null,null,null,null,null,null,null,null,null,null,null,null,null,null,null,null,null,null,null,null,null,null,null,null,null,null,null,null,null,"ADJUSTABLE.C",null,null,null,null,null,null,"TM","тиомочевина","тыс.руб.",0,0,0]
[null,null,null,null,null,null,null,null,null,null,null,null,null,null,null,null,null,null,null,null,null,null,null,null,null,null,null,null,null,null,null,"ADJUSTABLE.P",null,null,null,null,null,null,{"$f":"AM271 & \".P\"","v":"TM.P"},"Цена за единицу","руб./ед.",{"$f":"IF(AP273=0,0,AP271*1000/AP273)","v":0},{"$f":"IF(AQ273=0,0,AQ271*1000/AQ273)","v":0},{"$f":"IF(AR273=0,0,AR271*1000/AR273)","v":0}]
[null,null,null,null,null,null,null,null,null,null,null,null,null,null,null,null,null,null,null,null,null,null,null,null,null,null,null,null,null,null,null,"ADJUSTABLE.V",null,null,null,null,null,null,{"$f":"AM271 & \".V\"","v":"TM.V"},"Объём","ед.",{"$f":"SUMIF($AS$9:$AT$9,AP$9,$AS273:$AT273)","v":0},0,0]
[null,null,null,null,null,null,null,null,null,null,null,null,null,null,null,null,null,null,null,null,null,null,null,null,null,null,null,null,null,null,null,"ADJUSTABLE.C",null,null,null,null,null,null,"TSFNA","тиосульфат натрия","тыс.руб.",0,0,0]
[null,null,null,null,null,null,null,null,null,null,null,null,null,null,null,null,null,null,null,null,null,null,null,null,null,null,null,null,null,null,null,"ADJUSTABLE.P",null,null,null,null,null,null,{"$f":"AM274 & \".P\"","v":"TSFNA.P"},"Цена за единицу","руб./ед.",{"$f":"IF(AP276=0,0,AP274*1000/AP276)","v":0},{"$f":"IF(AQ276=0,0,AQ274*1000/AQ276)","v":0},{"$f":"IF(AR276=0,0,AR274*1000/AR276)","v":0}]
[null,null,null,null,null,null,null,null,null,null,null,null,null,null,null,null,null,null,null,null,null,null,null,null,null,null,null,null,null,null,null,"ADJUSTABLE.V",null,null,null,null,null,null,{"$f":"AM274 & \".V\"","v":"TSFNA.V"},"Объём","ед.",{"$f":"SUMIF($AS$9:$AT$9,AP$9,$AS276:$AT276)","v":0},0,0]
[null,null,null,null,null,null,null,null,null,null,null,null,null,null,null,null,null,null,null,null,null,null,null,null,null,null,null,null,null,null,null,"ADJUSTABLE.C",null,null,null,null,null,null,"CCL4","углерод четырёххлористый","тыс.руб.",0,0,0]
[null,null,null,null,null,null,null,null,null,null,null,null,null,null,null,null,null,null,null,null,null,null,null,null,null,null,null,null,null,null,null,"ADJUSTABLE.P",null,null,null,null,null,null,{"$f":"AM277 & \".P\"","v":"CCL4.P"},"Цена за единицу","руб./ед.",{"$f":"IF(AP279=0,0,AP277*1000/AP279)","v":0},{"$f":"IF(AQ279=0,0,AQ277*1000/AQ279)","v":0},{"$f":"IF(AR279=0,0,AR277*1000/AR279)","v":0}]
[null,null,null,null,null,null,null,null,null,null,null,null,null,null,null,null,null,null,null,null,null,null,null,null,null,null,null,null,null,null,null,"ADJUSTABLE.V",null,null,null,null,null,null,{"$f":"AM277 & \".V\"","v":"CCL4.V"},"Объём","ед.",{"$f":"SUMIF($AS$9:$AT$9,AP$9,$AS279:$AT279)","v":0},0,0]
[null,null,null,null,null,null,null,null,null,null,null,null,null,null,null,null,null,null,null,null,null,null,null,null,null,null,null,null,null,null,null,"ADJUSTABLE.C",null,null,null,null,null,null,"FFTLN","фенолфталеин","тыс.руб.",0,0,0]
[null,null,null,null,null,null,null,null,null,null,null,null,null,null,null,null,null,null,null,null,null,null,null,null,null,null,null,null,null,null,null,"ADJUSTABLE.P",null,null,null,null,null,null,{"$f":"AM280 & \".P\"","v":"FFTLN.P"},"Цена за единицу","руб./ед.",{"$f":"IF(AP282=0,0,AP280*1000/AP282)","v":0},{"$f":"IF(AQ282=0,0,AQ280*1000/AQ282)","v":0},{"$f":"IF(AR282=0,0,AR280*1000/AR282)","v":0}]
[null,null,null,null,null,null,null,null,null,null,null,null,null,null,null,null,null,null,null,null,null,null,null,null,null,null,null,null,null,null,null,"ADJUSTABLE.V",null,null,null,null,null,null,{"$f":"AM280 & \".V\"","v":"FFTLN.V"},"Объём","ед.",{"$f":"SUMIF($AS$9:$AT$9,AP$9,$AS282:$AT282)","v":0},0,0]
[null,null,null,null,null,null,null,null,null,null,null,null,null,null,null,null,null,null,null,null,null,null,null,null,null,null,null,null,null,null,null,"ADJUSTABLE.C",null,null,null,null,null,null,"CL","хлор","тыс.руб.",0,0,0]
[null,null,null,null,null,null,null,null,null,null,null,null,null,null,null,null,null,null,null,null,null,null,null,null,null,null,null,null,null,null,null,"ADJUSTABLE.P",null,null,null,null,null,null,{"$f":"AM283 & \".P\"","v":"CL.P"},"Цена за единицу","руб./ед.",{"$f":"IF(AP285=0,0,AP283*1000/AP285)","v":0},{"$f":"IF(AQ285=0,0,AQ283*1000/AQ285)","v":0},{"$f":"IF(AR285=0,0,AR283*1000/AR285)","v":0}]
[null,null,null,null,null,null,null,null,null,null,null,null,null,null,null,null,null,null,null,null,null,null,null,null,null,null,null,null,null,null,null,"ADJUSTABLE.V",null,null,null,null,null,null,{"$f":"AM283 & \".V\"","v":"CL.V"},"Объём","ед.",{"$f":"SUMIF($AS$9:$AT$9,AP$9,$AS285:$AT285)","v":0},0,0]
[null,null,null,null,null,null,null,null,null,null,null,null,null,null,null,null,null,null,null,null,null,null,null,null,null,null,null,null,null,null,null,"ADJUSTABLE.C",null,null,null,null,null,null,"CLLIQ","хлор жидкий","тыс.руб.",0,0,0]
[null,null,null,null,null,null,null,null,null,null,null,null,null,null,null,null,null,null,null,null,null,null,null,null,null,null,null,null,null,null,null,"ADJUSTABLE.P",null,null,null,null,null,null,{"$f":"AM286 & \".P\"","v":"CLLIQ.P"},"Цена за единицу","руб./ед.",{"$f":"IF(AP288=0,0,AP286*1000/AP288)","v":0},{"$f":"IF(AQ288=0,0,AQ286*1000/AQ288)","v":0},{"$f":"IF(AR288=0,0,AR286*1000/AR288)","v":0}]
[null,null,null,null,null,null,null,null,null,null,null,null,null,null,null,null,null,null,null,null,null,null,null,null,null,null,null,null,null,null,null,"ADJUSTABLE.V",null,null,null,null,null,null,{"$f":"AM286 & \".V\"","v":"CLLIQ.V"},"Объём","ед.",{"$f":"SUMIF($AS$9:$AT$9,AP$9,$AS288:$AT288)","v":0},0,0]
[null,null,null,null,null,null,null,null,null,null,null,null,null,null,null,null,null,null,null,null,null,null,null,null,null,null,null,null,null,null,null,"ADJUSTABLE.C",null,null,null,null,null,null,"CLAMN","хлорамин","тыс.руб.",0,0,0]
[null,null,null,null,null,null,null,null,null,null,null,null,null,null,null,null,null,null,null,null,null,null,null,null,null,null,null,null,null,null,null,"ADJUSTABLE.P",null,null,null,null,null,null,{"$f":"AM289 & \".P\"","v":"CLAMN.P"},"Цена за единицу","руб./ед.",{"$f":"IF(AP291=0,0,AP289*1000/AP291)","v":0},{"$f":"IF(AQ291=0,0,AQ289*1000/AQ291)","v":0},{"$f":"IF(AR291=0,0,AR289*1000/AR291)","v":0}]
[null,null,null,null,null,null,null,null,null,null,null,null,null,null,null,null,null,null,null,null,null,null,null,null,null,null,null,null,null,null,null,"ADJUSTABLE.V",null,null,null,null,null,null,{"$f":"AM289 & \".V\"","v":"CLAMN.V"},"Объём","ед.",{"$f":"SUMIF($AS$9:$AT$9,AP$9,$AS291:$AT291)","v":0},0,0]
[null,null,null,null,null,null,null,null,null,null,null,null,null,null,null,null,null,null,null,null,null,null,null,null,null,null,null,null,null,null,null,"ADJUSTABLE.C",null,null,null,null,null,null,"CLFRM","хлороформ","тыс.руб.",0,0,0]
[null,null,null,null,null,null,null,null,null,null,null,null,null,null,null,null,null,null,null,null,null,null,null,null,null,null,null,null,null,null,null,"ADJUSTABLE.P",null,null,null,null,null,null,{"$f":"AM292 & \".P\"","v":"CLFRM.P"},"Цена за единицу","руб./ед.",{"$f":"IF(AP294=0,0,AP292*1000/AP294)","v":0},{"$f":"IF(AQ294=0,0,AQ292*1000/AQ294)","v":0},{"$f":"IF(AR294=0,0,AR292*1000/AR294)","v":0}]
[null,null,null,null,null,null,null,null,null,null,null,null,null,null,null,null,null,null,null,null,null,null,null,null,null,null,null,null,null,null,null,"ADJUSTABLE.V",null,null,null,null,null,null,{"$f":"AM292 & \".V\"","v":"CLFRM.V"},"Объём","ед.",{"$f":"SUMIF($AS$9:$AT$9,AP$9,$AS294:$AT294)","v":0},0,0]
[null,null,null,null,null,null,null,null,null,null,null,null,null,null,null,null,null,null,null,null,null,null,null,null,null,null,null,null,null,null,null,"ADJUSTABLE.C",null,null,null,null,null,null,"ETHL","этиленгликоль","тыс.руб.",0,0,0]
[null,null,null,null,null,null,null,null,null,null,null,null,null,null,null,null,null,null,null,null,null,null,null,null,null,null,null,null,null,null,null,"ADJUSTABLE.P",null,null,null,null,null,null,{"$f":"AM295 & \".P\"","v":"ETHL.P"},"Цена за единицу","руб./ед.",{"$f":"IF(AP297=0,0,AP295*1000/AP297)","v":0},{"$f":"IF(AQ297=0,0,AQ295*1000/AQ297)","v":0},{"$f":"IF(AR297=0,0,AR295*1000/AR297)","v":0}]
[null,null,null,null,null,null,null,null,null,null,null,null,null,null,null,null,null,null,null,null,null,null,null,null,null,null,null,null,null,null,null,"ADJUSTABLE.V",null,null,null,null,null,null,{"$f":"AM295 & \".V\"","v":"ETHL.V"},"Объём","ед.",{"$f":"SUMIF($AS$9:$AT$9,AP$9,$AS297:$AT297)","v":0},0,0]
[null,null,null,null,null,null,null,null,null,null,null,null,null,null,null,null,null,null,null,null,null,null,null,null,null,null,null,null,null,null,null,"ADJUSTABLE.OTH",null,null,null,null,null,null,"OTH","прочие","тыс.руб.",0,0,0]
[]
[]
[null,null,null,null,null,null,null,null,null,null,null,null,null,null,null,null,null,null,null,null,null,null,null,null,null,null,null,null,null,null,null,"ADJUSTABLE.OTH",null,null,null,null,null,null,"OTH","Прочие","тыс.руб.",{"$f":"SUMIF($AS$9:$AT$9,AP$9,$AS301:$AT301)","v":0},{"$f":"SUMIF($AS$9:$AT$9,AQ$9,$AS301:$AT301)","v":0},{"$f":"SUMIF($AS$9:$AT$9,AR$9,$AS301:$AT301)","v":0}]
[]
[null,null,null,null,null,null,null,null,null,null,null,null,null,null,null,null,null,null,null,null,null,null,null,null,null,null,null,null,null,null,null,null,null,null,null,null,null,null,"21","Полезный отпуск продукции всего","тыс.куб.м"]

{"sheet":"ВО.БПр","index":19,"n_rows":132,"n_cols":53,"rows_kept":132,"cut":false,"hidden":true,"merged":[[0,1,27,1],[15,2,27,2],[28,1,55,1],[2,2,14,2],[43,2,55,2],[30,2,42,2],[127,6,128,6],[121,30,122,30],[125,6,126,6],[121,28,122,28],[120,11,122,11],[120,27,122,27],[120,22,120,24],[120,25,122,25],[120,26,122,26],[121,23,122,23],[0,6,1,6],[28,5,29,5],[28,6,29,6],[120,10,122,10],[120,8,122,8],[120,7,122,7],[120,6,122,6],[120,9,122,9],[0,5,1,5],[120,5,122,5],[121,24,122,24],[121,13,121,15],[121,16,121,18],[121,19,121,21],[120,12,120,21],[120,31,122,31],[121,12,122,12],[121,29,122,29],[120,28,120,30],[121,22,122,22]]}
[null,null,{"$f":"F3","v":"0.0"},"-",null,{"$f":"B1","v":0},null,null,null,null,null,null,null,null,null,null,null,null,null,null,null,null,null,null,null,null,null,null,null,null,null,null,null,null,null,null,null,null,null,null,null,null,null,null,null,null,null,null,null,null,null,null,"TOTAL_ORG"]
[]
[null,null,null,null,null,{"$f":"F1 & \".0\"","v":"0.0"},"год",null,null,null,null,null,null,null,null,null,null,null,null,null,null,null,null,null,null,null,null,null,null,null,null,null,null,null,null,null,null,null,null,null,null,null,null,null,null,null,null,null,null,null,null,null,"TOTAL_ORG_YEAR"]
[null,null,null,null,null,{"$f":"F1 & \".1\"","v":"0.1"},"январь",null,null,null,null,null,null,null,null,null,null,null,null,null,null,null,null,null,null,null,null,null,null,null,null,null,null,null,null,null,null,null,null,null,null,null,null,null,null,null,null,null,null,null,null,null,{"$f":"C1 & \"-I\"","v":"0.0-I"}]
[null,null,null,null,null,{"$f":"F1 & \".2\"","v":"0.2"},"февраль",null,null,null,null,null,null,null,null,null,null,null,null,null,null,null,null,null,null,null,null,null,null,null,null,null,null,null,null,null,null,null,null,null,null,null,null,null,null,null,null,null,null,null,null,null,{"$f":"C1 & \"-I\"","v":"0.0-I"}]
[null,null,null,null,null,{"$f":"F1 & \".3\"","v":"0.3"},"март",null,null,null,null,null,null,null,null,null,null,null,null,null,null,null,null,null,null,null,null,null,null,null,null,null,null,null,null,null,null,null,null,null,null,null,null,null,null,null,null,null,null,null,null,null,{"$f":"C1 & \"-I\"","v":"0.0-I"}]
[null,null,null,null,null,{"$f":"F1 & \".4\"","v":"0.4"},"апрель",null,null,null,null,null,null,null,null,null,null,null,null,null,null,null,null,null,null,null,null,null,null,null,null,null,null,null,null,null,null,null,null,null,null,null,null,null,null,null,null,null,null,null,null,null,{"$f":"C1 & \"-I\"","v":"0.0-I"}]
[null,null,null,null,null,{"$f":"F1 & \".5\"","v":"0.5"},"май",null,null,null,null,null,null,null,null,null,null,null,null,null,null,null,null,null,null,null,null,null,null,null,null,null,null,null,null,null,null,null,null,null,null,null,null,null,null,null,null,null,null,null,null,null,{"$f":"C1 & \"-I\"","v":"0.0-I"}]
[null,null,null,null,null,{"$f":"F1 & \".6\"","v":"0.6"},"июнь",null,null,null,null,null,null,null,null,null,null,null,null,null,null,null,null,null,null,null,null,null,null,null,null,null,null,null,null,null,null,null,null,null,null,null,null,null,null,null,null,null,null,null,null,null,{"$f":"C1 & \"-I\"","v":"0.0-I"}]
[null,null,null,null,null,{"$f":"F1 & \".7\"","v":"0.7"},"июль",null,null,null,null,null,null,null,null,null,null,null,null,null,null,null,null,null,null,null,null,null,null,null,null,null,null,null,null,null,null,null,null,null,null,null,null,null,null,null,null,null,null,null,null,null,{"$f":"C1 & \"-II\"","v":"0.0-II"}]
[null,null,null,null,null,{"$f":"F1 & \".8\"","v":"0.8"},"август",null,null,null,null,null,null,null,null,null,null,null,null,null,null,null,null,null,null,null,null,null,null,null,null,null,null,null,null,null,null,null,null,null,null,null,null,null,null,null,null,null,null,null,null,null,{"$f":"C1 & \"-II\"","v":"0.0-II"}]
[null,null,null,null,null,{"$f":"F1 & \".9\"","v":"0.9"},"сентябрь",null,null,null,null,null,null,null,null,null,null,null,null,null,null,null,null,null,null,null,null,null,null,null,null,null,null,null,null,null,null,null,null,null,null,null,null,null,null,null,null,null,null,null,null,null,{"$f":"C1 & \"-II\"","v":"0.0-II"}]
[null,null,null,null,null,{"$f":"F1 & \".10\"","v":"0.10"},"октябрь",null,null,null,null,null,null,null,null,null,null,null,null,null,null,null,null,null,null,null,null,null,null,null,null,null,null,null,null,null,null,null,null,null,null,null,null,null,null,null,null,null,null,null,null,null,{"$f":"C1 & \"-II\"","v":"0.0-II"}]
[null,null,null,null,null,{"$f":"F1 & \".11\"","v":"0.11"},"ноябрь",null,null,null,null,null,null,null,null,null,null,null,null,null,null,null,null,null,null,null,null,null,null,null,null,null,null,null,null,null,null,null,null,null,null,null,null,null,null,null,null,null,null,null,null,null,{"$f":"C1 & \"-II\"","v":"0.0-II"}]
[null,null,null,null,null,{"$f":"F1 & \".12\"","v":"0.12"},"декабрь",null,null,null,null,null,null,null,null,null,null,null,null,null,null,null,null,null,null,null,null,null,null,null,null,null,null,null,null,null,null,null,null,null,null,null,null,null,null,null,null,null,null,null,null,null,{"$f":"C1 & \"-II\"","v":"0.0-II"}]
[]
[]
[]
[]
[]
[]
[]
[]
[]
[]
[]
[]
[]
["TBD",null,{"$f":"F31","v":"0.0"},"-",null,{"$f":"B29","v":0},null,{"$f":"H31","v":0},{"$f":"I31","v":0},{"$f":"A29","v":"TBD"},{"$f":"K31","v":0},{"$f":"L31","v":0},{"$f":"M31","v":0},{"$f":"N31","v":0},{"$f":"O31","v":0},0,0,0,0,0,0,0,{"$f":"W31","v":0},{"$f":"X31","v":0},0,0,0,0,0,0,0,0,null,null,null,null,null,null,null,null,null,null,null,null,null,null,null,null,null,null,null,null,"TOTAL_ORG"]
[]
[null,null,null,null,null,{"$f":"F29 & \".0\"","v":"0.0"},"год",{"$f":"SUMIF('Список объектов'!$R$15:$R$16,$F31,'Список объектов'!$S$15:$S$16)","v":0},{"$f":"SUMIF('Список объектов'!$R$15:$R$16,$F31,'Список объектов'!$T$15:$T$16)","v":0},{"$f":"J29","v":"TBD"},{"$f":"L31+M31","v":0},{"$f":"SUM(L32:L43)","v":0},{"$f":"SUM(M32:M43)","v":0},{"$f":"SUM(N32:N43)","v":0},{"$f":"SUM(O32:O43)","v":0},0,0,0,0,0,0,0,{"$f":"SUM(W32:W43)","v":0},{"$f":"SUM(X32:X43)","v":0},{"$f":"SUM(Y32:Y43)","v":0},null,null,null,{"$f":"AD31+AE31","v":0},null,null,null,null,null,null,null,null,null,null,null,null,null,null,null,null,null,null,{"$f":"IF(K31=0,0,L31/K31*100)","v":0},null,null,null,null,"TOTAL_ORG_YEAR"]
[null,null,null,null,null,{"$f":"F29 & \".1\"","v":"0.1"},"январь",null,null,{"$f":"IF(OFFSET('Список территорий'!CJ$15,$F29,0)=\"a\",\"Y\",\"N\")","v":"N"},{"$f":"L32+M32","v":0},null,{"$f":"SUM(N32,Q32,T32,W32)","v":0},{"$f":"SUM(O32,P32,)","v":0},null,null,{"$f":"SUM(R32,S32,)","v":0},null,null,{"$f":"SUM(U32,V32,)","v":0},null,null,{"$f":"SUM(X32,Y32,)","v":0},null,null,null,null,null,null,null,null,null,null,null,null,null,null,null,null,null,null,null,null,null,null,null,null,null,null,null,null,null,{"$f":"C29 & \"-I\"","v":"0.0-I"}]
[null,null,null,null,null,{"$f":"F29 & \".2\"","v":"0.2"},"февраль",null,null,{"$f":"IF(OFFSET('Список территорий'!CK$15,$F29,0)=\"a\",\"Y\",\"N\")","v":"N"},0,null,{"$f":"SUM(N33,Q33,T33,W33)","v":0},{"$f":"SUM(O33,P33,)","v":0},null,null,{"$f":"SUM(R33,S33,)","v":0},null,null,{"$f":"SUM(U33,V33,)","v":0},null,null,{"$f":"SUM(X33,Y33,)","v":0},null,null,null,null,null,null,null,null,null,null,null,null,null,null,null,null,null,null,null,null,null,null,null,null,null,null,null,null,null,{"$f":"C29 & \"-I\"","v":"0.0-I"}]
[null,null,null,null,null,{"$f":"F29 & \".3\"","v":"0.3"},"март",null,null,{"$f":"IF(OFFSET('Список территорий'!CL$15,$F29,0)=\"a\",\"Y\",\"N\")","v":"N"},0,null,0,0,null,null,0,null,null,0,null,null,0,null,null,null,null,null,null,null,null,null,null,null,null,null,null,null,null,null,null,null,null,null,null,null,null,null,null,null,null,null,{"$f":"C29 & \"-I\"","v":"0.0-I"}]
[null,null,null,null,null,{"$f":"F29 & \".4\"","v":"0.4"},"апрель",null,null,{"$f":"IF(OFFSET('Список территорий'!CM$15,$F29,0)=\"a\",\"Y\",\"N\")","v":"N"},0,null,0,0,null,null,0,null,null,0,null,null,0,null,null,null,null,null,null,null,null,null,null,null,null,null,null,null,null,null,null,null,null,null,null,null,null,null,null,null,null,null,{"$f":"C29 & \"-I\"","v":"0.0-I"}]
[null,null,null,null,null,{"$f":"F29 & \".5\"","v":"0.5"},"май",null,null,{"$f":"IF(OFFSET('Список территорий'!CN$15,$F29,0)=\"a\",\"Y\",\"N\")","v":"N"},0,null,0,0,null,null,0,null,null,0,null,null,0,null,null,null,null,null,null,null,null,null,null,null,null,null,null,null,null,null,null,null,null,null,null,null,null,null,null,null,null,null,{"$f":"C29 & \"-I\"","v":"0.0-I"}]
[null,null,null,null,null,{"$f":"F29 & \".6\"","v":"0.6"},"июнь",null,null,{"$f":"IF(OFFSET('Список территорий'!CO$15,$F29,0)=\"a\",\"Y\",\"N\")","v":"N"},0,null,0,0,null,null,0,null,null,0,null,null,0,null,null,null,null,null,null,null,null,null,null,null,null,null,null,null,null,null,null,null,null,null,null,null,null,null,null,null,null,null,{"$f":"C29 & \"-I\"","v":"0.0-I"}]
[null,null,null,null,null,{"$f":"F29 & \".7\"","v":"0.7"},"июль",null,null,{"$f":"IF(OFFSET('Список территорий'!CP$15,$F29,0)=\"a\",\"Y\",\"N\")","v":"N"},0,null,0,0,null,null,0,null,null,0,null,null,0,null,null,null,null,null,null,null,null,null,null,null,null,null,null,null,null,null,null,null,null,null,null,null,null,null,null,null,null,null,{"$f":"C29 & \"-II\"","v":"0.0-II"}]
[null,null,null,null,null,{"$f":"F29 & \".8\"","v":"0.8"},"август",null,null,{"$f":"IF(OFFSET('Список территорий'!CQ$15,$F29,0)=\"a\",\"Y\",\"N\")","v":"N"},0,null,0,0,null,null,0,null,null,0,null,null,0,null,null,null,null,null,null,null,null,null,null,null,null,null,null,null,null,null,null,null,null,null,null,null,null,null,null,null,null,null,{"$f":"C29 & \"-II\"","v":"0.0-II"}]
[null,null,null,null,null,{"$f":"F29 & \".9\"","v":"0.9"},"сентябрь",null,null,{"$f":"IF(OFFSET('Список территорий'!CR$15,$F29,0)=\"a\",\"Y\",\"N\")","v":"N"},0,null,0,0,null,null,0,null,null,0,null,null,0,null,null,null,null,null,null,null,null,null,null,null,null,null,null,null,null,null,null,null,null,null,null,null,null,null,null,null,null,null,{"$f":"C29 & \"-II\"","v":"0.0-II"}]
[null,null,null,null,null,{"$f":"F29 & \".10\"","v":"0.10"},"октябрь",null,null,{"$f":"IF(OFFSET('Список территорий'!CS$15,$F29,0)=\"a\",\"Y\",\"N\")","v":"N"},0,null,0,0,null,null,0,null,null,0,null,null,0,null,null,null,null,null,null,null,null,null,null,null,null,null,null,null,null,null,null,null,null,null,null,null,null,null,null,null,null,null,{"$f":"C29 & \"-II\"","v":"0.0-II"}]
[null,null,null,null,null,{"$f":"F29 & \".11\"","v":"0.11"},"ноябрь",null,null,{"$f":"IF(OFFSET('Список территорий'!CT$15,$F29,0)=\"a\",\"Y\",\"N\")","v":"N"},0,null,0,0,null,null,0,null,null,0,null,null,0,null,null,null,null,null,null,null,null,null,null,null,null,null,null,null,null,null,null,null,null,null,null,null,null,null,null,null,null,null,{"$f":"C29 & \"-II\"","v":"0.0-II"}]
[null,null,null,null,null,{"$f":"F29 & \".12\"","v":"0.12"},"декабрь",null,null,{"$f":"IF(OFFSET('Список территорий'!CU$15,$F29,0)=\"a\",\"Y\",\"N\")","v":"N"},0,null,0,0,null,null,0,null,null,0,null,null,0,null,null,null,null,null,null,null,null,null,null,null,null,null,null,null,null,null,null,null,null,null,null,null,null,null,null,null,null,null,{"$f":"C29 & \"-II\"","v":"0.0-II"}]
[]
[]
[]
[]
[]
[]
[]
[]
[]
[]
[]
[]
[]
[]
[]
[]
[]
[]
[]
[]
[]
[]
[]
[]
[]
[]
[]
[]
[]
[]
[]
[]
[]
[]
[]
[]
[]
[]
[]
[]
[]
[]
[]
[]
[]
[]
[]
[]
[]
[]
[]
[]
[]
[]
[]
[]
[]
[]
[]
[]
[]
[]
[]
[]
[]
[]
[]
[]
[]
[]
[]
[]
[]
[]
[]
[null,null,null,null,null,{"$f":"\"Баланс \" & TEMPLATE_SPHERE & \" (производство)\"","v":"Баланс  (производство)"}]
[null,null,null,null,null,"куб.м"]
[null,null,null,null,null,"№ п/п","Субъект баланса","Установленная мощность, куб.м/час","Подключённая (фактическая) нагрузка, куб.м/час","Вид стоков","Принято сточных вод, всего","Хозяйственные нужды предприятия","Принято по категориям потребителей",null,null,null,null,null,null,null,null,null,"Принято сточных вод от других канализационных сетей",null,null,"Неучтённый приток сточных вод (справочно)","Объём сточных вод, прошедших очистку (справочно)","Пропущено через cобственные очистные сооружения","Передано сточных вод другим канализациям",null,null,"Сброшенные воды без очистки"]
[null,null,null,null,null,null,null,null,null,null,null,null,"Всего","Финансируемые из бюджетов всех уровней",null,null,"Население",null,null,"Прочие",null,null,"Всего","по приборам учёта","по нормативам",null,null,null,"Всего","На очистные сооружения","В канализационную сеть"]
[null,null,null,null,null,null,null,null,null,null,null,null,null,"Всего","по приборам учёта","по нормативам","Всего","по приборам учёта","по нормативам","Всего","по приборам учёта","по нормативам"]
[null,null,null,null,null,null,"А","IC","CL","Б","1","1.1","1.2","1.2.1","1.2.1.1","1.2.1.2","1.2.2","1.2.2.1","1.2.2.2","1.2.3","1.2.3.1","1.2.3.2","1.2.4","1.2.4.1","1.2.4.2","1.3","1.4","2","3","3.1","3.2","4"]
[]
[null,null,null,"-",null,{"$f":"IF(TEMPLATE_SPHERE_CODE=\"COLDVSNA\",\"0.1.P\",\"0.1\")","v":"0.1"},"Всего по организации",null,null,null,{"$f":"SUMIF($BA131:$BA132,$BA126,K131:K132)","v":0},0,0,0,0,0,0,0,0,0,0,0,0,0,0,0,0,0,0,0,0,0,null,null,null,null,null,null,null,null,null,null,null,null,null,null,null,null,null,null,null,null,"TOTAL_ORG_YEAR"]
[null,null,null,null,null,{"$f":"IF(TEMPLATE_SPHERE_CODE=\"COLDVSNA\",\"0.1.T\",\"\")","v":""}]
[]
[]
[]
[null,0]
[null,null,null,null,null,null,"Добавить"]

{"sheet":"ВО.БТр","index":20,"n_rows":132,"n_cols":53,"rows_kept":132,"cut":false,"hidden":true,"merged":[[0,1,27,1],[0,5,1,5],[0,6,1,6],[2,2,14,2],[15,2,27,2],[28,1,55,1],[28,5,29,5],[30,2,42,2],[120,14,120,27],[127,6,128,6],[125,6,126,6],[28,6,29,6],[43,2,55,2],[120,11,122,11],[120,12,122,12],[121,16,121,18],[120,5,122,5],[120,6,122,6],[121,25,121,27],[120,13,122,13],[121,14,122,14],[121,15,122,15],[120,7,122,7],[120,8,122,8],[120,9,122,9],[120,10,122,10],[121,19,121,21],[121,22,121,24]]}
[null,null,{"$f":"F3","v":"0.0"},"-",null,{"$f":"B1","v":0},null,null,null,null,null,null,null,null,null,null,null,null,null,null,null,null,null,null,null,null,null,null,null,null,null,null,null,null,null,null,null,null,null,null,null,null,null,null,null,null,null,null,null,null,null,null,"TOTAL_ORG"]
[]
[null,null,null,null,null,{"$f":"F1 & \".0\"","v":"0.0"},"год",null,null,null,null,null,null,null,null,null,null,null,null,null,null,null,null,null,null,null,null,null,null,null,null,null,null,null,null,null,null,null,null,null,null,null,null,null,null,null,null,null,null,null,null,null,"TOTAL_ORG_YEAR"]
[null,null,null,null,null,{"$f":"F1 & \".1\"","v":"0.1"},"январь",null,null,null,null,null,null,null,null,null,null,null,null,null,null,null,null,null,null,null,null,null,null,null,null,null,null,null,null,null,null,null,null,null,null,null,null,null,null,null,null,null,null,null,null,null,{"$f":"C1 & \"-I\"","v":"0.0-I"}]
[null,null,null,null,null,{"$f":"F1 & \".2\"","v":"0.2"},"февраль",null,null,null,null,null,null,null,null,null,null,null,null,null,null,null,null,null,null,null,null,null,null,null,null,null,null,null,null,null,null,null,null,null,null,null,null,null,null,null,null,null,null,null,null,null,{"$f":"C1 & \"-I\"","v":"0.0-I"}]
[null,null,null,null,null,{"$f":"F1 & \".3\"","v":"0.3"},"март",null,null,null,null,null,null,null,null,null,null,null,null,null,null,null,null,null,null,null,null,null,null,null,null,null,null,null,null,null,null,null,null,null,null,null,null,null,null,null,null,null,null,null,null,null,{"$f":"C1 & \"-I\"","v":"0.0-I"}]
[null,null,null,null,null,{"$f":"F1 & \".4\"","v":"0.4"},"апрель",null,null,null,null,null,null,null,null,null,null,null,null,null,null,null,null,null,null,null,null,null,null,null,null,null,null,null,null,null,null,null,null,null,null,null,null,null,null,null,null,null,null,null,null,null,{"$f":"C1 & \"-I\"","v":"0.0-I"}]
[null,null,null,null,null,{"$f":"F1 & \".5\"","v":"0.5"},"май",null,null,null,null,null,null,null,null,null,null,null,null,null,null,null,null,null,null,null,null,null,null,null,null,null,null,null,null,null,null,null,null,null,null,null,null,null,null,null,null,null,null,null,null,null,{"$f":"C1 & \"-I\"","v":"0.0-I"}]
[null,null,null,null,null,{"$f":"F1 & \".6\"","v":"0.6"},"июнь",null,null,null,null,null,null,null,null,null,null,null,null,null,null,null,null,null,null,null,null,null,null,null,null,null,null,null,null,null,null,null,null,null,null,null,null,null,null,null,null,null,null,null,null,null,{"$f":"C1 & \"-I\"","v":"0.0-I"}]
[null,null,null,null,null,{"$f":"F1 & \".7\"","v":"0.7"},"июль",null,null,null,null,null,null,null,null,null,null,null,null,null,null,null,null,null,null,null,null,null,null,null,null,null,null,null,null,null,null,null,null,null,null,null,null,null,null,null,null,null,null,null,null,null,{"$f":"C1 & \"-II\"","v":"0.0-II"}]
[null,null,null,null,null,{"$f":"F1 & \".8\"","v":"0.8"},"август",null,null,null,null,null,null,null,null,null,null,null,null,null,null,null,null,null,null,null,null,null,null,null,null,null,null,null,null,null,null,null,null,null,null,null,null,null,null,null,null,null,null,null,null,null,{"$f":"C1 & \"-II\"","v":"0.0-II"}]
[null,null,null,null,null,{"$f":"F1 & \".9\"","v":"0.9"},"сентябрь",null,null,null,null,null,null,null,null,null,null,null,null,null,null,null,null,null,null,null,null,null,null,null,null,null,null,null,null,null,null,null,null,null,null,null,null,null,null,null,null,null,null,null,null,null,{"$f":"C1 & \"-II\"","v":"0.0-II"}]
[null,null,null,null,null,{"$f":"F1 & \".10\"","v":"0.10"},"октябрь",null,null,null,null,null,null,null,null,null,null,null,null,null,null,null,null,null,null,null,null,null,null,null,null,null,null,null,null,null,null,null,null,null,null,null,null,null,null,null,null,null,null,null,null,null,{"$f":"C1 & \"-II\"","v":"0.0-II"}]
[null,null,null,null,null,{"$f":"F1 & \".11\"","v":"0.11"},"ноябрь",null,null,null,null,null,null,null,null,null,null,null,null,null,null,null,null,null,null,null,null,null,null,null,null,null,null,null,null,null,null,null,null,null,null,null,null,null,null,null,null,null,null,null,null,null,{"$f":"C1 & \"-II\"","v":"0.0-II"}]
[null,null,null,null,null,{"$f":"F1 & \".12\"","v":"0.12"},"декабрь",null,null,null,null,null,null,null,null,null,null,null,null,null,null,null,null,null,null,null,null,null,null,null,null,null,null,null,null,null,null,null,null,null,null,null,null,null,null,null,null,null,null,null,null,null,{"$f":"C1 & \"-II\"","v":"0.0-II"}]
[]
[]
[]
[]
[]
[]
[]
[]
[]
[]
[]
[]
[]
["TBD",null,{"$f":"F31","v":"0.0"},"-",null,{"$f":"B29","v":0},null,{"$f":"H31","v":0},{"$f":"I31","v":0},{"$f":"A29","v":"TBD"},{"$f":"K31","v":0},0,0,0,0,0,0,0,0,0,{"$f":"U31","v":0},0,0,0,0,0,0,{"$f":"AB31","v":0},null,null,null,null,null,null,null,null,null,null,null,null,null,null,null,null,null,null,null,null,null,null,null,null,"TOTAL_ORG"]
[]
[null,null,null,null,null,{"$f":"F29 & \".0\"","v":"0.0"},"год",{"$f":"SUMIF('Список объектов'!$R$15:$R$16,$F31,'Список объектов'!$W$15:$W$16)","v":0},{"$f":"SUMIF('Список объектов'!$R$15:$R$16,$F31,'Список объектов'!$X$15:$X$16)","v":0},{"$f":"J29","v":"TBD"},{"$f":"N31+O31","v":0},null,null,null,{"$f":"SUM(O32:O43)","v":0},0,0,0,0,0,{"$f":"SUM(U32:U43)","v":0},0,{"$f":"SUM(W32:W43)","v":0},0,0,{"$f":"SUM(Z32:Z43)","v":0},0,{"$f":"SUM(AB32:AB43)","v":0},null,null,null,null,null,null,null,null,null,null,null,null,null,null,null,null,null,null,null,null,null,null,null,null,"TOTAL_ORG_YEAR"]
[null,null,null,null,null,{"$f":"F29 & \".1\"","v":"0.1"},"январь",null,null,{"$f":"IF(OFFSET('Список территорий'!CJ$15,$F29,0)=\"a\",\"Y\",\"N\")","v":"N"},null,null,null,null,{"$f":"SUM(P32,Q32,T32,W32,Z32)","v":0},null,{"$f":"SUM(R32,S32)","v":0},null,null,{"$f":"SUM(U32,V32)","v":0},null,null,{"$f":"SUM(X32,Y32)","v":0},null,null,{"$f":"SUM(AA32,AB32)","v":0},null,null,null,null,null,null,null,null,null,null,null,null,null,null,null,null,null,null,null,null,null,null,null,null,null,null,{"$f":"C29 & \"-I\"","v":"0.0-I"}]
[null,null,null,null,null,{"$f":"F29 & \".2\"","v":"0.2"},"февраль",null,null,{"$f":"IF(OFFSET('Список территорий'!CK$15,$F29,0)=\"a\",\"Y\",\"N\")","v":"N"},null,null,null,null,{"$f":"SUM(P33,Q33,T33,W33,Z33)","v":0},null,{"$f":"SUM(R33,S33)","v":0},null,null,{"$f":"SUM(U33,V33)","v":0},null,null,{"$f":"SUM(X33,Y33)","v":0},null,null,{"$f":"SUM(AA33,AB33)","v":0},null,null,null,null,null,null,null,null,null,null,null,null,null,null,null,null,null,null,null,null,null,null,null,null,null,null,{"$f":"C29 & \"-I\"","v":"0.0-I"}]
[null,null,null,null,null,{"$f":"F29 & \".3\"","v":"0.3"},"март",null,null,{"$f":"IF(OFFSET('Список территорий'!CL$15,$F29,0)=\"a\",\"Y\",\"N\")","v":"N"},null,null,null,null,0,null,0,null,null,0,null,null,0,null,null,0,null,null,null,null,null,null,null,null,null,null,null,null,null,null,null,null,null,null,null,null,null,null,null,null,null,null,{"$f":"C29 & \"-I\"","v":"0.0-I"}]
[null,null,null,null,null,{"$f":"F29 & \".4\"","v":"0.4"},"апрель",null,null,{"$f":"IF(OFFSET('Список территорий'!CM$15,$F29,0)=\"a\",\"Y\",\"N\")","v":"N"},null,null,null,null,0,null,0,null,null,0,null,null,0,null,null,0,null,null,null,null,null,null,null,null,null,null,null,null,null,null,null,null,null,null,null,null,null,null,null,null,null,null,{"$f":"C29 & \"-I\"","v":"0.0-I"}]
[null,null,null,null,null,{"$f":"F29 & \".5\"","v":"0.5"},"май",null,null,{"$f":"IF(OFFSET('Список территорий'!CN$15,$F29,0)=\"a\",\"Y\",\"N\")","v":"N"},null,null,null,null,0,null,0,null,null,0,null,null,0,null,null,0,null,null,null,null,null,null,null,null,null,null,null,null,null,null,null,null,null,null,null,null,null,null,null,null,null,null,{"$f":"C29 & \"-I\"","v":"0.0-I"}]
[null,null,null,null,null,{"$f":"F29 & \".6\"","v":"0.6"},"июнь",null,null,{"$f":"IF(OFFSET('Список территорий'!CO$15,$F29,0)=\"a\",\"Y\",\"N\")","v":"N"},null,null,null,null,0,null,0,null,null,0,null,null,0,null,null,0,null,null,null,null,null,null,null,null,null,null,null,null,null,null,null,null,null,null,null,null,null,null,null,null,null,null,{"$f":"C29 & \"-I\"","v":"0.0-I"}]
[null,null,null,null,null,{"$f":"F29 & \".7\"","v":"0.7"},"июль",null,null,{"$f":"IF(OFFSET('Список территорий'!CP$15,$F29,0)=\"a\",\"Y\",\"N\")","v":"N"},null,null,null,null,0,null,0,null,null,0,null,null,0,null,null,0,null,null,null,null,null,null,null,null,null,null,null,null,null,null,null,null,null,null,null,null,null,null,null,null,null,null,{"$f":"C29 & \"-II\"","v":"0.0-II"}]
[null,null,null,null,null,{"$f":"F29 & \".8\"","v":"0.8"},"август",null,null,{"$f":"IF(OFFSET('Список территорий'!CQ$15,$F29,0)=\"a\",\"Y\",\"N\")","v":"N"},null,null,null,null,0,null,0,null,null,0,null,null,0,null,null,0,null,null,null,null,null,null,null,null,null,null,null,null,null,null,null,null,null,null,null,null,null,null,null,null,null,null,{"$f":"C29 & \"-II\"","v":"0.0-II"}]
[null,null,null,null,null,{"$f":"F29 & \".9\"","v":"0.9"},"сентябрь",null,null,{"$f":"IF(OFFSET('Список территорий'!CR$15,$F29,0)=\"a\",\"Y\",\"N\")","v":"N"},null,null,null,null,0,null,0,null,null,0,null,null,0,null,null,0,null,null,null,null,null,null,null,null,null,null,null,null,null,null,null,null,null,null,null,null,null,null,null,null,null,null,{"$f":"C29 & \"-II\"","v":"0.0-II"}]
[null,null,null,null,null,{"$f":"F29 & \".10\"","v":"0.10"},"октябрь",null,null,{"$f":"IF(OFFSET('Список территорий'!CS$15,$F29,0)=\"a\",\"Y\",\"N\")","v":"N"},null,null,null,null,0,null,0,null,null,0,null,null,0,null,null,0,null,null,null,null,null,null,null,null,null,null,null,null,null,null,null,null,null,null,null,null,null,null,null,null,null,null,{"$f":"C29 & \"-II\"","v":"0.0-II"}]
[null,null,null,null,null,{"$f":"F29 & \".11\"","v":"0.11"},"ноябрь",null,null,{"$f":"IF(OFFSET('Список территорий'!CT$15,$F29,0)=\"a\",\"Y\",\"N\")","v":"N"},null,null,null,null,0,null,0,null,null,0,null,null,0,null,null,0,null,null,null,null,null,null,null,null,null,null,null,null,null,null,null,null,null,null,null,null,null,null,null,null,null,null,{"$f":"C29 & \"-II\"","v":"0.0-II"}]
[null,null,null,null,null,{"$f":"F29 & \".12\"","v":"0.12"},"декабрь",null,null,{"$f":"IF(OFFSET('Список территорий'!CU$15,$F29,0)=\"a\",\"Y\",\"N\")","v":"N"},null,null,null,null,0,null,0,null,null,0,null,null,0,null,null,0,null,null,null,null,null,null,null,null,null,null,null,null,null,null,null,null,null,null,null,null,null,null,null,null,null,null,{"$f":"C29 & \"-II\"","v":"0.0-II"}]
[]
[]
[]
[]
[]
[]
[]
[]
[]
[]
[]
[]
[]
[]
[]
[]
[]
[]
[]
[]
[]
[]
[]
[]
[]
[]
[]
[]
[]
[]
[]
[]
[]
[]
[]
[]
[]
[]
[]
[]
[]
[]
[]
[]
[]
[]
[]
[]
[]
[]
[]
[]
[]
[]
[]
[]
[]
[]
[]
[]
[]
[]
[]
[]
[]
[]
[]
[]
[]
[]
[]
[]
[]
[]
[]
[null,null,null,null,null,{"$f":"\"Баланс \" & TEMPLATE_SPHERE & \" (транспортировка)\"","v":"Баланс  (транспортировка)"}]
[null,null,null,null,null,"куб.м"]
[null,null,null,null,null,"№ п/п","Субъект баланса","Установленная мощность, куб.м/час","Подключённая (фактическая) нагрузка, куб.м/час","Вид стоков","Объём транспортируемых сточных вод","в том числе на собственные очистные сооружения","в том числе другим организациям","Потери","Приём сточных вод, поступающих на очистные сооружения"]
[null,null,null,null,null,null,null,null,null,null,null,null,null,null,"Всего","от собственных нужд","от других канализаций или отдельных канализационных сетей",null,null,"от бюджетных потребителей",null,null,"от населения",null,null,"от прочих потребителей"]
[null,null,null,null,null,null,null,null,null,null,null,null,null,null,null,null,"Всего","по приборам учёта","по нормативам","Всего","по приборам учёта","по нормативам","Всего","по приборам учёта","по нормативам","Всего","по приборам учёта","по нормативам"]
[null,null,null,null,null,null,"А","IC","CL","Б",1,"1.1","1.2",2,3,"3.1","3.2","3.2.1","3.2.2","3.3","3.3.1","3.3.2","3.4","3.4.1","3.4.2","3.5","3.5.1","3.5.2"]
[]
[null,null,null,"-",null,{"$f":"IF(TEMPLATE_SPHERE_CODE=\"COLDVSNA\",\"0.1.P\",\"0.1\")","v":"0.1"},"Всего по организации",null,null,null,{"$f":"SUMIF($BA131:$BA132,$BA126,K131:K132)","v":0},0,0,0,0,0,0,0,0,0,0,0,0,0,0,0,0,0,null,null,null,null,null,null,null,null,null,null,null,null,null,null,null,null,null,null,null,null,null,null,null,null,"TOTAL_ORG_YEAR"]
[null,null,null,null,null,{"$f":"IF(TEMPLATE_SPHERE_CODE=\"COLDVSNA\",\"0.1.T\",\"\")","v":""}]
[]
[]
[]
[null,0]
[null,null,null,null,null,null,"Добавить"]

{"sheet":"ВО.РО","index":21,"n_rows":289,"n_cols":46,"rows_kept":289,"cut":false,"hidden":true,"merged":[[18,40,19,40],[18,41,19,43],[18,38,19,38],[18,39,19,39],[12,38,13,39],[13,41,13,43]]}
[]
[]
[]
[]
[]
[null,null,null,null,null,null,null,null,null,null,null,null,null,null,null,null,null,null,null,null,null,null,null,null,null,null,null,null,null,null,null,null,null,null,null,null,null,null,null,null,null,12,6,6]
[]
[]
[null,null,null,null,null,null,null,null,null,null,null,null,null,null,null,null,null,null,null,null,null,null,null,null,null,null,null,null,null,null,null,null,null,null,null,null,null,null,null,null,null,"Y","I","II"]
[null,null,null,null,null,null,null,null,null,null,null,null,null,null,null,null,null,null,null,null,null,null,null,null,null,null,null,null,null,null,null,null,null,null,null,null,null,null,null,null,null,null,null,null,"START","END"]
[]
[null,null,null,null,null,null,null,null,null,null,null,null,null,null,null,null,null,null,null,null,null,null,null,null,null,null,null,null,null,null,null,null,null,null,null,null,null,null,null,"Необходимо указывать значения по полугодиям (6 и 6 месяцев)"]
["FULL_MODE",null,null,null,null,null,null,null,null,null,null,null,null,null,null,null,null,null,null,null,null,null,null,null,null,null,null,null,null,null,null,null,null,null,null,null,null,null,"Расходы организации",null,"Период","Год","I полугодие","II полугодие"]
[]
[]
[]
[]
[null,null,null,null,null,null,null,null,null,null,null,null,null,null,null,null,null,null,null,null,null,null,null,null,null,null,null,null,null,null,null,null,null,null,null,null,null,null,null,null,null,null,null,null,null,"Добавить"]
[null,null,null,null,null,null,null,null,null,null,null,null,null,null,null,null,null,null,null,null,null,null,null,null,null,null,null,null,null,null,null,null,null,null,null,null,null,null,"№ п/п","Наименование показателя","Единица измерения","Всего по организации",null,null,0]
[]
[null,null,null,null,null,null,null,null,null,null,null,null,null,null,null,null,null,null,null,null,null,null,null,null,null,null,null,null,null,null,null,null,null,null,null,null,null,null,null,"Является ли организация плательщиком НДС"]
[null,null,null,null,null,null,null,null,null,null,null,null,null,null,null,null,null,null,null,null,null,null,null,null,null,null,null,null,null,null,null,null,null,null,null,null,null,null,null,{"$f":"IF(CALC_IDENTIFIER=\"\",\"\",CALC_IDENTIFIER)","v":""}]
[null,null,null,null,null,null,null,null,null,null,null,null,null,null,null,null,null,null,null,null,null,null,null,null,null,null,null,null,null,null,null,null,null,null,null,null,null,null,"1","Производственные расходы","тыс.руб.",{"$f":"SUMIF($AS$9:$AT$9,AP$9,$AS23:$AT23)","v":0},0,0]
[null,null,null,null,null,null,null,null,null,null,null,null,null,null,null,null,null,null,null,null,null,null,null,null,null,null,null,null,null,null,null,null,null,null,null,null,null,null,"1.1","Расходы на приобретение сырья и материалов и их хранение","тыс.руб.",0,0,0]
[null,null,null,null,null,null,null,null,null,null,null,null,null,null,null,null,null,null,null,null,null,null,null,null,null,null,null,null,null,null,null,null,null,null,null,null,null,null,"1.1.1","Реагенты ","тыс.руб.",0,0,0]
[null,null,null,null,null,null,null,null,null,null,null,null,null,null,null,null,null,null,null,null,null,null,null,null,null,null,null,null,null,null,null,null,null,null,null,null,null,null,"1.1.2","Горюче-смазочные материалы","тыс.руб.",0,0,0]
[null,null,null,null,null,null,null,null,null,null,null,null,null,null,null,null,null,null,null,null,null,null,null,null,null,null,null,null,null,null,null,null,null,null,null,null,null,null,"1.1.3","Материалы и малоценные основные средства","тыс.руб.",0,0,0]
[null,null,null,null,null,null,null,null,null,null,null,null,null,null,null,null,null,null,null,null,null,null,null,null,null,null,null,null,null,null,null,null,null,null,null,null,null,null,"1.2","Расходы на энергетические ресурсы и холодную воду","тыс.руб.",0,0,0]
[null,null,null,null,null,null,null,null,null,null,null,null,null,null,null,null,null,null,null,null,null,null,null,null,null,null,null,null,null,null,null,null,null,null,null,null,null,null,"1.2.1","электроэнергия ","тыс.руб.",0,0,0]
[null,null,null,null,null,null,null,null,null,null,null,null,null,null,null,null,null,null,null,null,null,null,null,null,null,null,null,null,null,null,null,null,null,null,null,null,null,null,"1.2.1.1","Объём покупной энергии"]
[null,null,null,null,null,null,null,null,null,null,null,null,null,null,null,null,null,null,null,null,null,null,null,null,null,null,null,null,null,null,null,null,null,null,null,null,null,null,"1.2.1.1.1","Объём покупной энергии по одноставочному тарифу","тыс.кВт*ч",{"$f":"SUMIF($AS$9:$AT$9,AP$9,$AS31:$AT31)","v":0},0,0]
[null,null,null,null,null,null,null,null,null,null,null,null,null,null,null,null,null,null,null,null,null,null,null,null,null,null,null,null,null,null,null,null,null,null,null,null,null,null,"1.2.1.1.1.1","НН","тыс.кВт*ч",0,0,0]
[null,null,null,null,null,null,null,null,null,null,null,null,null,null,null,null,null,null,null,null,null,null,null,null,null,null,null,null,null,null,null,null,null,null,null,null,null,null,"1.2.1.1.1.2","СН1","тыс.кВт*ч",0,0,0]
[null,null,null,null,null,null,null,null,null,null,null,null,null,null,null,null,null,null,null,null,null,null,null,null,null,null,null,null,null,null,null,null,null,null,null,null,null,null,"1.2.1.1.1.3","СН2","тыс.кВт*ч",0,0,0]
[null,null,null,null,null,null,null,null,null,null,null,null,null,null,null,null,null,null,null,null,null,null,null,null,null,null,null,null,null,null,null,null,null,null,null,null,null,null,"1.2.1.1.1.4","ВН","тыс.кВт*ч",0,0,0]
[null,null,null,null,null,null,null,null,null,null,null,null,null,null,null,null,null,null,null,null,null,null,null,null,null,null,null,null,null,null,null,null,null,null,null,null,null,null,"1.2.1.1.1.5","без разбивки по напряжению","тыс.кВт*ч",0,0,0]
[null,null,null,null,null,null,null,null,null,null,null,null,null,null,null,null,null,null,null,null,null,null,null,null,null,null,null,null,null,null,null,null,null,null,null,null,null,null,"1.2.1.1.2","Объём покупной электроэнергии по двухставочному тарифу"]
[null,null,null,null,null,null,null,null,null,null,null,null,null,null,null,null,null,null,null,null,null,null,null,null,null,null,null,null,null,null,null,null,null,null,null,null,null,null,"1.2.1.1.2.1","Мощность","МВт*мес",{"$f":"SUMIF($AS$9:$AT$9,AP$9,$AS38:$AT38)","v":0},0,0]
[null,null,null,null,null,null,null,null,null,null,null,null,null,null,null,null,null,null,null,null,null,null,null,null,null,null,null,null,null,null,null,null,null,null,null,null,null,null,"1.2.1.1.2.1.1","НН","МВт*мес",0,0,0]
[null,null,null,null,null,null,null,null,null,null,null,null,null,null,null,null,null,null,null,null,null,null,null,null,null,null,null,null,null,null,null,null,null,null,null,null,null,null,"1.2.1.1.2.1.2","СН1","МВт*мес",0,0,0]
[null,null,null,null,null,null,null,null,null,null,null,null,null,null,null,null,null,null,null,null,null,null,null,null,null,null,null,null,null,null,null,null,null,null,null,null,null,null,"1.2.1.1.2.1.3","СН2","МВт*мес",0,0,0]
[null,null,null,null,null,null,null,null,null,null,null,null,null,null,null,null,null,null,null,null,null,null,null,null,null,null,null,null,null,null,null,null,null,null,null,null,null,null,"1.2.1.1.2.1.4","ВН","МВт*мес",0,0,0]
[null,null,null,null,null,null,null,null,null,null,null,null,null,null,null,null,null,null,null,null,null,null,null,null,null,null,null,null,null,null,null,null,null,null,null,null,null,null,"1.2.1.1.2.1.5","ГН","МВт*мес",0,0,0]
[null,null,null,null,null,null,null,null,null,null,null,null,null,null,null,null,null,null,null,null,null,null,null,null,null,null,null,null,null,null,null,null,null,null,null,null,null,null,"1.2.1.1.2.2","Активная электроэнергия","тыс.кВт*ч",0,0,0]
[null,null,null,null,null,null,null,null,null,null,null,null,null,null,null,null,null,null,null,null,null,null,null,null,null,null,null,null,null,null,null,null,null,null,null,null,null,null,"1.2.1.1.2.2.1","НН","тыс.кВт*ч",0,0,0]
[null,null,null,null,null,null,null,null,null,null,null,null,null,null,null,null,null,null,null,null,null,null,null,null,null,null,null,null,null,null,null,null,null,null,null,null,null,null,"1.2.1.1.2.2.2","СН1","тыс.кВт*ч",0,0,0]
[null,null,null,null,null,null,null,null,null,null,null,null,null,null,null,null,null,null,null,null,null,null,null,null,null,null,null,null,null,null,null,null,null,null,null,null,null,null,"1.2.1.1.2.2.3","СН2","тыс.кВт*ч",0,0,0]
[null,null,null,null,null,null,null,null,null,null,null,null,null,null,null,null,null,null,null,null,null,null,null,null,null,null,null,null,null,null,null,null,null,null,null,null,null,null,"1.2.1.1.2.2.4","ВН","тыс.кВт*ч",0,0,0]
[null,null,null,null,null,null,null,null,null,null,null,null,null,null,null,null,null,null,null,null,null,null,null,null,null,null,null,null,null,null,null,null,null,null,null,null,null,null,"1.2.1.1.2.2.5","ГН","тыс.кВт*ч",0,0,0]
[null,null,null,null,null,null,null,null,null,null,null,null,null,null,null,null,null,null,null,null,null,null,null,null,null,null,null,null,null,null,null,null,null,null,null,null,null,null,"1.2.1.2","Тариф на электроэнергию и мощность"]
[null,null,null,null,null,null,null,null,null,null,null,null,null,null,null,null,null,null,null,null,null,null,null,null,null,null,null,null,null,null,null,null,null,null,null,null,null,null,"1.2.1.2.1","по одноставочному тарифу"]
[null,null,null,null,null,null,null,null,null,null,null,null,null,null,null,null,null,null,null,null,null,null,null,null,null,null,null,null,null,null,null,null,null,null,null,null,null,null,"1.2.1.2.1.1","НН","руб./кВт*ч",{"$f":"IF(AP32=0,0,AP72/AP32)","v":0},{"$f":"IF(AQ32=0,0,AQ72/AQ32)","v":0},{"$f":"IF(AR32=0,0,AR72/AR32)","v":0}]
[null,null,null,null,null,null,null,null,null,null,null,null,null,null,null,null,null,null,null,null,null,null,null,null,null,null,null,null,null,null,null,null,null,null,null,null,null,null,"1.2.1.2.1.2","СН1","руб./кВт*ч",{"$f":"IF(AP33=0,0,AP73/AP33)","v":0},0,0]
[null,null,null,null,null,null,null,null,null,null,null,null,null,null,null,null,null,null,null,null,null,null,null,null,null,null,null,null,null,null,null,null,null,null,null,null,null,null,"1.2.1.2.1.3","СН2","руб./кВт*ч",0,0,0]
[null,null,null,null,null,null,null,null,null,null,null,null,null,null,null,null,null,null,null,null,null,null,null,null,null,null,null,null,null,null,null,null,null,null,null,null,null,null,"1.2.1.2.1.4","ВН","руб./кВт*ч",0,0,0]
[null,null,null,null,null,null,null,null,null,null,null,null,null,null,null,null,null,null,null,null,null,null,null,null,null,null,null,null,null,null,null,null,null,null,null,null,null,null,"1.2.1.2.1.5","без разбивки по напряжению","руб./кВт*ч",0,0,0]
[null,null,null,null,null,null,null,null,null,null,null,null,null,null,null,null,null,null,null,null,null,null,null,null,null,null,null,null,null,null,null,null,null,null,null,null,null,null,"1.2.1.2.1.6","Средний одноставочный тариф на электрическую энергию","руб./кВт*ч",{"$f":"IF(AP31=0,0,AP71/AP31)","v":0},{"$f":"IF(AQ31=0,0,AQ71/AQ31)","v":0},{"$f":"IF(AR31=0,0,AR71/AR31)","v":0}]
[null,null,null,null,null,null,null,null,null,null,null,null,null,null,null,null,null,null,null,null,null,null,null,null,null,null,null,null,null,null,null,null,null,null,null,null,null,null,"1.2.1.2.2","по двухставочному тарифу"]
[null,null,null,null,null,null,null,null,null,null,null,null,null,null,null,null,null,null,null,null,null,null,null,null,null,null,null,null,null,null,null,null,null,null,null,null,null,null,"1.2.1.2.2.1","ставка за мощность","руб./МВт*мес",{"$f":"IF(AP38=0,0,AP77*1000/AP38)","v":0},0,0]
[null,null,null,null,null,null,null,null,null,null,null,null,null,null,null,null,null,null,null,null,null,null,null,null,null,null,null,null,null,null,null,null,null,null,null,null,null,null,"1.2.1.2.2.1.1","НН","руб./МВт*мес",0,0,0]
[null,null,null,null,null,null,null,null,null,null,null,null,null,null,null,null,null,null,null,null,null,null,null,null,null,null,null,null,null,null,null,null,null,null,null,null,null,null,"1.2.1.2.2.1.2","СН1","руб./МВт*мес",0,0,0]
[null,null,null,null,null,null,null,null,null,null,null,null,null,null,null,null,null,null,null,null,null,null,null,null,null,null,null,null,null,null,null,null,null,null,null,null,null,null,"1.2.1.2.2.1.3","СН2","руб./МВт*мес",0,0,0]
[null,null,null,null,null,null,null,null,null,null,null,null,null,null,null,null,null,null,null,null,null,null,null,null,null,null,null,null,null,null,null,null,null,null,null,null,null,null,"1.2.1.2.2.1.4","ВН","руб./МВт*мес",0,0,0]
[null,null,null,null,null,null,null,null,null,null,null,null,null,null,null,null,null,null,null,null,null,null,null,null,null,null,null,null,null,null,null,null,null,null,null,null,null,null,"1.2.1.2.2.1.5","ГН","руб./МВт*мес",0,0,0]
[null,null,null,null,null,null,null,null,null,null,null,null,null,null,null,null,null,null,null,null,null,null,null,null,null,null,null,null,null,null,null,null,null,null,null,null,null,null,"1.2.1.2.2.2","ставка за электроэнергию","руб./кВт*мес",{"$f":"IF(AP44=0,0,AP83/AP44)","v":0},{"$f":"IF(AQ44=0,0,AQ83/AQ44)","v":0},{"$f":"IF(AR44=0,0,AR83/AR44)","v":0}]
[null,null,null,null,null,null,null,null,null,null,null,null,null,null,null,null,null,null,null,null,null,null,null,null,null,null,null,null,null,null,null,null,null,null,null,null,null,null,"1.2.1.2.2.2.1","НН","руб./кВт*мес",{"$f":"IF(AP45=0,0,AP84/AP45)","v":0},0,0]
[null,null,null,null,null,null,null,null,null,null,null,null,null,null,null,null,null,null,null,null,null,null,null,null,null,null,null,null,null,null,null,null,null,null,null,null,null,null,"1.2.1.2.2.2.2","СН1","руб./кВт*мес",0,0,0]
[null,null,null,null,null,null,null,null,null,null,null,null,null,null,null,null,null,null,null,null,null,null,null,null,null,null,null,null,null,null,null,null,null,null,null,null,null,null,"1.2.1.2.2.2.3","СН2","руб./кВт*мес",0,0,0]
[null,null,null,null,null,null,null,null,null,null,null,null,null,null,null,null,null,null,null,null,null,null,null,null,null,null,null,null,null,null,null,null,null,null,null,null,null,null,"1.2.1.2.2.2.4","ВН","руб./кВт*мес",0,0,0]
[null,null,null,null,null,null,null,null,null,null,null,null,null,null,null,null,null,null,null,null,null,null,null,null,null,null,null,null,null,null,null,null,null,null,null,null,null,null,"1.2.1.2.2.2.5","ГН","руб./кВт*мес",0,0,0]
[null,null,null,null,null,null,null,null,null,null,null,null,null,null,null,null,null,null,null,null,null,null,null,null,null,null,null,null,null,null,null,null,null,null,null,null,null,null,"1.2.1.3","Затраты на покупку энергии по одноставочному тарифу","тыс.руб.",{"$f":"SUMIF($AS$9:$AT$9,AP$9,$AS71:$AT71)","v":0},0,0]
[null,null,null,null,null,null,null,null,null,null,null,null,null,null,null,null,null,null,null,null,null,null,null,null,null,null,null,null,null,null,null,null,null,null,null,null,null,null,"1.2.1.3.1","НН","тыс.руб.",0,0,0]
[null,null,null,null,null,null,null,null,null,null,null,null,null,null,null,null,null,null,null,null,null,null,null,null,null,null,null,null,null,null,null,null,null,null,null,null,null,null,"1.2.1.3.2","СН1","тыс.руб.",0,0,0]
[null,null,null,null,null,null,null,null,null,null,null,null,null,null,null,null,null,null,null,null,null,null,null,null,null,null,null,null,null,null,null,null,null,null,null,null,null,null,"1.2.1.3.3","СН2","тыс.руб.",0,0,0]
[null,null,null,null,null,null,null,null,null,null,null,null,null,null,null,null,null,null,null,null,null,null,null,null,null,null,null,null,null,null,null,null,null,null,null,null,null,null,"1.2.1.3.4","ВН","тыс.руб.",0,0,0]
[null,null,null,null,null,null,null,null,null,null,null,null,null,null,null,null,null,null,null,null,null,null,null,null,null,null,null,null,null,null,null,null,null,null,null,null,null,null,"1.2.1.3.5","без разбивки по напряжению","тыс.руб.",0,0,0]
[null,null,null,null,null,null,null,null,null,null,null,null,null,null,null,null,null,null,null,null,null,null,null,null,null,null,null,null,null,null,null,null,null,null,null,null,null,null,"1.2.1.4","Затраты на покупку мощности по двухставочному тарифу","тыс.руб.",0,0,0]
[null,null,null,null,null,null,null,null,null,null,null,null,null,null,null,null,null,null,null,null,null,null,null,null,null,null,null,null,null,null,null,null,null,null,null,null,null,null,"1.2.1.4.1","НН","тыс.руб.",0,0,0]
[null,null,null,null,null,null,null,null,null,null,null,null,null,null,null,null,null,null,null,null,null,null,null,null,null,null,null,null,null,null,null,null,null,null,null,null,null,null,"1.2.1.4.2","СН1","тыс.руб.",0,0,0]
[null,null,null,null,null,null,null,null,null,null,null,null,null,null,null,null,null,null,null,null,null,null,null,null,null,null,null,null,null,null,null,null,null,null,null,null,null,null,"1.2.1.4.3","СН2","тыс.руб.",0,0,0]
[null,null,null,null,null,null,null,null,null,null,null,null,null,null,null,null,null,null,null,null,null,null,null,null,null,null,null,null,null,null,null,null,null,null,null,null,null,null,"1.2.1.4.4","ВН","тыс.руб.",0,0,0]
[null,null,null,null,null,null,null,null,null,null,null,null,null,null,null,null,null,null,null,null,null,null,null,null,null,null,null,null,null,null,null,null,null,null,null,null,null,null,"1.2.1.4.5","ГН","тыс.руб.",0,0,0]
[null,null,null,null,null,null,null,null,null,null,null,null,null,null,null,null,null,null,null,null,null,null,null,null,null,null,null,null,null,null,null,null,null,null,null,null,null,null,"1.2.1.5","Затраты на покупку энергии по двухставочному тарифу","тыс.руб.",0,0,0]
[null,null,null,null,null,null,null,null,null,null,null,null,null,null,null,null,null,null,null,null,null,null,null,null,null,null,null,null,null,null,null,null,null,null,null,null,null,null,"1.2.1.5.1","НН","тыс.руб.",0,0,0]
[null,null,null,null,null,null,null,null,null,null,null,null,null,null,null,null,null,null,null,null,null,null,null,null,null,null,null,null,null,null,null,null,null,null,null,null,null,null,"1.2.1.5.2","СН1","тыс.руб.",0,0,0]
[null,null,null,null,null,null,null,null,null,null,null,null,null,null,null,null,null,null,null,null,null,null,null,null,null,null,null,null,null,null,null,null,null,null,null,null,null,null,"1.2.1.5.3","СН2","тыс.руб.",0,0,0]
[null,null,null,null,null,null,null,null,null,null,null,null,null,null,null,null,null,null,null,null,null,null,null,null,null,null,null,null,null,null,null,null,null,null,null,null,null,null,"1.2.1.5.4","ВН","тыс.руб.",0,0,0]
[null,null,null,null,null,null,null,null,null,null,null,null,null,null,null,null,null,null,null,null,null,null,null,null,null,null,null,null,null,null,null,null,null,null,null,null,null,null,"1.2.1.5.5","ГН","тыс.руб.",0,0,0]
[null,null,null,null,null,null,null,null,null,null,null,null,null,null,null,null,null,null,null,null,null,null,null,null,null,null,null,null,null,null,null,null,null,null,null,null,null,null,"1.2.2","теплоэнергия","тыс.руб.",0,0,0]
[null,null,null,null,null,null,null,null,null,null,null,null,null,null,null,null,null,null,null,null,null,null,null,null,null,null,null,null,null,null,null,null,null,null,null,null,null,null,"1.2.3","теплоноситель","тыс.руб.",0,0,0]
[null,null,null,null,null,null,null,null,null,null,null,null,null,null,null,null,null,null,null,null,null,null,null,null,null,null,null,null,null,null,null,null,null,null,null,null,null,null,"1.2.4","топливо","тыс.руб.",0,0,0]
[]
[]
[]
[]
[null,null,null,null,null,null,null,null,null,null,null,null,null,null,null,null,null,null,null,null,null,null,null,null,null,null,null,null,null,null,null,null,null,null,null,null,null,null,"1.2.5","холодная вода","тыс.руб.",{"$f":"SUMIF($AS$9:$AT$9,AP$9,$AS96:$AT96)","v":0},{"$f":"SUMIF($AS$9:$AT$9,AQ$9,$AS96:$AT96)","v":0},{"$f":"SUMIF($AS$9:$AT$9,AR$9,$AS96:$AT96)","v":0}]
[null,null,null,null,null,null,null,null,null,null,null,null,null,null,null,null,null,null,null,null,null,null,null,null,null,null,null,null,null,null,null,null,null,null,null,null,null,null,"1.2.5.1","цена","руб./куб.м",{"$f":"IF(AP98=0,0,AP96/AP98)","v":0},{"$f":"IF(AQ98=0,0,AQ96/AQ98)","v":0},{"$f":"IF(AR98=0,0,AR96/AR98)","v":0}]
[null,null,null,null,null,null,null,null,null,null,null,null,null,null,null,null,null,null,null,null,null,null,null,null,null,null,null,null,null,null,null,null,null,null,null,null,null,null,"1.2.5.2","объём","тыс.куб.м",{"$f":"SUMIF($AS$9:$AT$9,AP$9,$AS98:$AT98)","v":0},{"$f":"SUMIF($AS$9:$AT$9,AQ$9,$AS98:$AT98)","v":0},{"$f":"SUMIF($AS$9:$AT$9,AR$9,$AS98:$AT98)","v":0}]
[]
[]
[]
[]
[]
[]
[]
[null,null,null,null,null,null,null,null,null,null,null,null,null,null,null,null,null,null,null,null,null,null,null,null,null,null,null,null,null,null,null,null,null,null,null,null,null,null,"1.3","Расходы на оплату работ и услуг, выполняемые сторонними организациями и индивидуальными предпринимателями, связанные с эксплуатацией централизованных систем либо объектов в составе таких систем","тыс.руб.",{"$f":"SUMIF($AS$9:$AT$9,AP$9,$AS106:$AT106)","v":0},0,0]
[null,null,null,null,null,null,null,null,null,null,null,null,null,null,null,null,null,null,null,null,null,null,null,null,null,null,null,null,null,null,null,null,null,null,null,null,null,null,"1.4","Расходы на оплату труда и отчисления на социальные нужды основного производственного персонала, в том числе налоги и сборы ","тыс.руб.",0,0,0]
[null,null,null,null,null,null,null,null,null,null,null,null,null,null,null,null,null,null,null,null,null,null,null,null,null,null,null,null,null,null,null,null,null,null,null,null,null,null,"1.4.1","Расходы на оплату труда производственного персонала","тыс.руб.",0,0,0]
[null,null,null,null,null,null,null,null,null,null,null,null,null,null,null,null,null,null,null,null,null,null,null,null,null,null,null,null,null,null,null,null,null,null,null,null,null,null,"1.4.1.1","Численность (среднесписочная), принятая для расчёта","ед.",0,0,0]
[null,null,null,null,null,null,null,null,null,null,null,null,null,null,null,null,null,null,null,null,null,null,null,null,null,null,null,null,null,null,null,null,null,null,null,null,null,null,"1.4.1.2","Среднемесячная оплата труда основного производственного персонала","руб./мес.",{"$f":"IF(AP109=0,0,AP108/AP109*1000/AP$6)","v":0},{"$f":"IF(AQ109=0,0,AQ108/AQ109*1000/AQ$6)","v":0},{"$f":"IF(AR109=0,0,AR108/AR109*1000/AR$6)","v":0}]
[null,null,null,null,null,null,null,null,null,null,null,null,null,null,null,null,null,null,null,null,null,null,null,null,null,null,null,null,null,null,null,null,null,null,null,null,null,null,"1.4.1.3","Фактическая численность основного производственного персонала, относимого на регулируемый вид деятельности","ед.",{"$f":"SUMIF($AS$9:$AT$9,AP$9,$AS111:$AT111)","v":0},0,0]
[null,null,null,null,null,null,null,null,null,null,null,null,null,null,null,null,null,null,null,null,null,null,null,null,null,null,null,null,null,null,null,null,null,null,null,null,null,null,"1.4.1.4","Справочно: нормативная численность основного производственного персонала, относимого на регулируемый вид деятельности","ед.",0,0,0]
[null,null,null,null,null,null,null,null,null,null,null,null,null,null,null,null,null,null,null,null,null,null,null,null,null,null,null,null,null,null,null,null,null,null,null,null,null,null,"1.4.1.5","Тарифная ставка рабочего 1-го разряда","руб./мес."]
[null,null,null,null,null,null,null,null,null,null,null,null,null,null,null,null,null,null,null,null,null,null,null,null,null,null,null,null,null,null,null,null,null,null,null,null,null,null,"1.4.1.6","Индекс роста номинальной заработной платы"]
[null,null,null,null,null,null,null,null,null,null,null,null,null,null,null,null,null,null,null,null,null,null,null,null,null,null,null,null,null,null,null,null,null,null,null,null,null,null,"1.4.1.7","Тарифная ставка рабочего 1-го разряда с учётом дефлятора","руб./мес."]
[null,null,null,null,null,null,null,null,null,null,null,null,null,null,null,null,null,null,null,null,null,null,null,null,null,null,null,null,null,null,null,null,null,null,null,null,null,null,"1.4.1.8","Средний тарифный коэффициент"]
[null,null,null,null,null,null,null,null,null,null,null,null,null,null,null,null,null,null,null,null,null,null,null,null,null,null,null,null,null,null,null,null,null,null,null,null,null,null,"1.4.1.9","Среднемесячная тарифная ставка","руб./мес."]
[null,null,null,null,null,null,null,null,null,null,null,null,null,null,null,null,null,null,null,null,null,null,null,null,null,null,null,null,null,null,null,null,null,null,null,null,null,null,"1.4.1.10","Минимальный размер оплаты труда по отраслевому тарифному соглашению","руб./мес."]
[null,null,null,null,null,null,null,null,null,null,null,null,null,null,null,null,null,null,null,null,null,null,null,null,null,null,null,null,null,null,null,null,null,null,null,null,null,null,"1.4.2","Отчисления на социальные нужды производственного персонала, в том числе налоги и сборы","тыс.руб.",{"$f":"SUMIF($AS$9:$AT$9,AP$9,$AS119:$AT119)","v":0},0,0]
[null,null,null,null,null,null,null,null,null,null,null,null,null,null,null,null,null,null,null,null,null,null,null,null,null,null,null,null,null,null,null,null,null,null,null,null,null,null,"1.5","Расходы на уплату процентов по займам и кредитам, не учитываемые при определении налогооблагаемой базы налога на прибыль","тыс.руб.",0,0,0]
[null,null,null,null,null,null,null,null,null,null,null,null,null,null,null,null,null,null,null,null,null,null,null,null,null,null,null,null,null,null,null,null,null,null,null,null,null,null,"1.6","Общехозяйственные расходы","тыс.руб.",0,0,0]
[null,null,null,null,null,null,null,null,null,null,null,null,null,null,null,null,null,null,null,null,null,null,null,null,null,null,null,null,null,null,null,null,null,null,null,null,null,null,"1.7","Прочие производственные расходы","тыс.руб.",0,0,0]
[null,null,null,null,null,null,null,null,null,null,null,null,null,null,null,null,null,null,null,null,null,null,null,null,null,null,null,null,null,null,null,null,null,null,null,null,null,null,"1.7.1","Расходы на амортизацию транспорта","тыс.руб.",0,0,0]
[null,null,null,null,null,null,null,null,null,null,null,null,null,null,null,null,null,null,null,null,null,null,null,null,null,null,null,null,null,null,null,null,null,null,null,null,null,null,{"$f":"IF(TEMPLATE_SPHERE_CODE=\"COLDVSNA\",\"1.7.2\",IF(TEMPLATE_SPHERE_CODE=\"VOTV\",\"1.7.2\",\"\"))","v":""},{"$f":"IF(TEMPLATE_SPHERE_CODE=\"COLDVSNA\",\"Контроль качества воды\",IF(TEMPLATE_SPHERE_CODE=\"VOTV\",\"Контроль сточных вод\",\"\"))","v":""},"тыс.руб.",0,0,0]
[null,null,null,null,null,null,null,null,null,null,null,null,null,null,null,null,null,null,null,null,null,null,null,null,null,null,null,null,null,null,null,null,null,null,null,null,null,null,"1.7.3","Расходы на аварийно-диспетчерское обслуживание","тыс.руб.",0,0,0]
[null,null,null,null,null,null,null,null,null,null,null,null,null,null,null,null,null,null,null,null,null,null,null,null,null,null,null,null,null,null,null,null,null,null,null,null,null,null,{"$f":"IF(TEMPLATE_SPHERE_CODE=\"COLDVSNA\",\"\",IF(TEMPLATE_SPHERE_CODE=\"VOTV\",\"1.7.4\",\"\"))","v":""},{"$f":"IF(TEMPLATE_SPHERE_CODE=\"COLDVSNA\",\"\",IF(TEMPLATE_SPHERE_CODE=\"VOTV\",\"Услуги по обращению с осадком сточных вод\",\"\"))","v":""},{"$f":"IF(TEMPLATE_SPHERE_CODE=\"COLDVSNA\",\"\",IF(TEMPLATE_SPHERE_CODE=\"VOTV\",\"тыс.руб.\",\"\"))","v":""},{"$f":"IF(TEMPLATE_SPHERE_CODE=\"COLDVSNA\",\"\",SUMIF($AS$9:$AT$9,AP$9,$AS126:$AT126))","v":0},{"$f":"IF(TEMPLATE_SPHERE_CODE=\"COLDVSNA\",\"\",SUMIF($AS$9:$AT$9,AQ$9,$AS126:$AT126))","v":0},{"$f":"IF(TEMPLATE_SPHERE_CODE=\"COLDVSNA\",\"\",SUMIF($AS$9:$AT$9,AR$9,$AS126:$AT126))","v":0}]
[null,null,null,null,null,null,null,null,null,null,null,null,null,null,null,null,null,null,null,null,null,null,null,null,null,null,null,null,null,null,null,null,null,null,null,null,null,null,"1.8","Цеховые расходы","тыс.руб.",{"$f":"SUMIF($AS$9:$AT$9,AP$9,$AS127:$AT127)","v":0},0,0]
[null,null,null,null,null,null,null,null,null,null,null,null,null,null,null,null,null,null,null,null,null,null,null,null,null,null,null,null,null,null,null,null,null,null,null,null,null,null,"1.8.1","Расходы на оплату труда цехового персонала","тыс.руб.",0,0,0]
[null,null,null,null,null,null,null,null,null,null,null,null,null,null,null,null,null,null,null,null,null,null,null,null,null,null,null,null,null,null,null,null,null,null,null,null,null,null,"1.8.2","Отчисления на социальные нужды цехового персонала, в том числе налоги и сборы","тыс.руб.",0,0,0]
[null,null,null,null,null,null,null,null,null,null,null,null,null,null,null,null,null,null,null,null,null,null,null,null,null,null,null,null,null,null,null,null,null,null,null,null,null,null,"1.8.3","Расходы на охрану труда","тыс.руб.",0,0,0]
[null,null,null,null,null,null,null,null,null,null,null,null,null,null,null,null,null,null,null,null,null,null,null,null,null,null,null,null,null,null,null,null,null,null,null,null,null,null,"1.8.4","Прочие","тыс.руб.",0,0,0]
[null,null,null,null,null,null,null,null,null,null,null,null,null,null,null,null,null,null,null,null,null,null,null,null,null,null,null,null,null,null,null,null,null,null,null,null,null,null,"2","Ремонтные расходы","тыс.руб.",0,0,0]
[null,null,null,null,null,null,null,null,null,null,null,null,null,null,null,null,null,null,null,null,null,null,null,null,null,null,null,null,null,null,null,null,null,null,null,null,null,null,"2.1","Расходы на текущий ремонт централизованных систем водоснабжения и (или) водоотведения либо объектов, входящих в состав таких систем","тыс.руб.",0,0,0]
[null,null,null,null,null,null,null,null,null,null,null,null,null,null,null,null,null,null,null,null,null,null,null,null,null,null,null,null,null,null,null,null,null,null,null,null,null,null,"2.1.1","Справочно: расходы на текущий ремонт, предусмотренные производственной программой регулируемой организации","тыс.руб.",0,0,0]
[null,null,null,null,null,null,null,null,null,null,null,null,null,null,null,null,null,null,null,null,null,null,null,null,null,null,null,null,null,null,null,null,null,null,null,null,null,null,"2.2","Расходы на капитальный ремонт централизованных систем водоснабжения и (или водоотведения) либо объектов, входящих в состав таких систем","тыс.руб.",0,0,0]
[null,null,null,null,null,null,null,null,null,null,null,null,null,null,null,null,null,null,null,null,null,null,null,null,null,null,null,null,null,null,null,null,null,null,null,null,null,null,"2.2.1","Справочно: расходы на капитальный ремонт, предусмотренные производственной программой регулируемой организации","тыс.руб.",0,0,0]
[null,null,null,null,null,null,null,null,null,null,null,null,null,null,null,null,null,null,null,null,null,null,null,null,null,null,null,null,null,null,null,null,null,null,null,null,null,null,"2.3","Расходы на оплату труда и отчисления на социальные нужды ремонтного персонала, в том числе налоги и сборы","тыс.руб.",0,0,0]
[null,null,null,null,null,null,null,null,null,null,null,null,null,null,null,null,null,null,null,null,null,null,null,null,null,null,null,null,null,null,null,null,null,null,null,null,null,null,"2.3.1","Расходы на оплату труда ремонтного персонала","тыс.руб.",0,0,0]
[null,null,null,null,null,null,null,null,null,null,null,null,null,null,null,null,null,null,null,null,null,null,null,null,null,null,null,null,null,null,null,null,null,null,null,null,null,null,"2.3.1.1","Численность (среднесписочная), принятая для расчёта","ед.",0,0,0]
[null,null,null,null,null,null,null,null,null,null,null,null,null,null,null,null,null,null,null,null,null,null,null,null,null,null,null,null,null,null,null,null,null,null,null,null,null,null,"2.3.1.2","Среднемесячная оплата труда ремонтного персонала","руб./мес.",{"$f":"IF(AP139=0,0,AP138/AP139*1000/AP$6)","v":0},{"$f":"IF(AQ139=0,0,AQ138/AQ139*1000/AQ$6)","v":0},{"$f":"IF(AR139=0,0,AR138/AR139*1000/AR$6)","v":0}]
[null,null,null,null,null,null,null,null,null,null,null,null,null,null,null,null,null,null,null,null,null,null,null,null,null,null,null,null,null,null,null,null,null,null,null,null,null,null,"2.3.1.3","Фактическая численность ремонтного персонала, относимого на регулируемый вид деятельности","ед.",{"$f":"SUMIF($AS$9:$AT$9,AP$9,$AS141:$AT141)","v":0},0,0]
[null,null,null,null,null,null,null,null,null,null,null,null,null,null,null,null,null,null,null,null,null,null,null,null,null,null,null,null,null,null,null,null,null,null,null,null,null,null,"2.3.1.4","Справочно: нормативная численность ремонтного персонала, относимого на регулируемый вид деятельности","ед.",0,0,0]
[null,null,null,null,null,null,null,null,null,null,null,null,null,null,null,null,null,null,null,null,null,null,null,null,null,null,null,null,null,null,null,null,null,null,null,null,null,null,"2.3.1.5","Тарифная ставка рабочего 1-го разряда","руб./мес."]
[null,null,null,null,null,null,null,null,null,null,null,null,null,null,null,null,null,null,null,null,null,null,null,null,null,null,null,null,null,null,null,null,null,null,null,null,null,null,"2.3.1.6","Индекс роста номинальной заработной платы"]
[null,null,null,null,null,null,null,null,null,null,null,null,null,null,null,null,null,null,null,null,null,null,null,null,null,null,null,null,null,null,null,null,null,null,null,null,null,null,"2.3.1.7","Тарифная ставка рабочего 1-го разряда с учётом дефлятора","руб./мес."]
[null,null,null,null,null,null,null,null,null,null,null,null,null,null,null,null,null,null,null,null,null,null,null,null,null,null,null,null,null,null,null,null,null,null,null,null,null,null,"2.3.1.8","Средний тарифный коэффициент"]
[null,null,null,null,null,null,null,null,null,null,null,null,null,null,null,null,null,null,null,null,null,null,null,null,null,null,null,null,null,null,null,null,null,null,null,null,null,null,"2.3.1.9","Среднемесячная тарифная ставка","руб./мес."]
[null,null,null,null,null,null,null,null,null,null,null,null,null,null,null,null,null,null,null,null,null,null,null,null,null,null,null,null,null,null,null,null,null,null,null,null,null,null,"2.3.1.10","Минимальный размер оплаты труда по отраслевому тарифному соглашению","руб./мес."]
[null,null,null,null,null,null,null,null,null,null,null,null,null,null,null,null,null,null,null,null,null,null,null,null,null,null,null,null,null,null,null,null,null,null,null,null,null,null,"2.3.2","Отчисления на социальные нужды ремонтного персонала, в том числе налоги и сборы","тыс.руб.",{"$f":"SUMIF($AS$9:$AT$9,AP$9,$AS149:$AT149)","v":0},0,0]
[null,null,null,null,null,null,null,null,null,null,null,null,null,null,null,null,null,null,null,null,null,null,null,null,null,null,null,null,null,null,null,null,null,null,null,null,null,null,3,"Административные расходы","тыс.руб.",0,0,0]
[null,null,null,null,null,null,null,null,null,null,null,null,null,null,null,null,null,null,null,null,null,null,null,null,null,null,null,null,null,null,null,null,null,null,null,null,null,null,"3.1","Расходы на оплату работ и услуг, выполняемых сторонними организациями","тыс.руб.",0,0,0]
[null,null,null,null,null,null,null,null,null,null,null,null,null,null,null,null,null,null,null,null,null,null,null,null,null,null,null,null,null,null,null,null,null,null,null,null,null,null,"3.1.1","услуги связи и интернет","тыс.руб.",0,0,0]
[null,null,null,null,null,null,null,null,null,null,null,null,null,null,null,null,null,null,null,null,null,null,null,null,null,null,null,null,null,null,null,null,null,null,null,null,null,null,"3.1.2","юридические услуги","тыс.руб.",0,0,0]
[null,null,null,null,null,null,null,null,null,null,null,null,null,null,null,null,null,null,null,null,null,null,null,null,null,null,null,null,null,null,null,null,null,null,null,null,null,null,"3.1.3","аудиторские услуги","тыс.руб.",0,0,0]
[null,null,null,null,null,null,null,null,null,null,null,null,null,null,null,null,null,null,null,null,null,null,null,null,null,null,null,null,null,null,null,null,null,null,null,null,null,null,"3.1.4","консультационные услуги","тыс.руб.",0,0,0]
[null,null,null,null,null,null,null,null,null,null,null,null,null,null,null,null,null,null,null,null,null,null,null,null,null,null,null,null,null,null,null,null,null,null,null,null,null,null,"3.1.5","услуги по вневедомственной охране объектов и территорий","тыс.руб.",0,0,0]
[null,null,null,null,null,null,null,null,null,null,null,null,null,null,null,null,null,null,null,null,null,null,null,null,null,null,null,null,null,null,null,null,null,null,null,null,null,null,"3.1.6","информационные услуги","тыс.руб.",0,0,0]
[null,null,null,null,null,null,null,null,null,null,null,null,null,null,null,null,null,null,null,null,null,null,null,null,null,null,null,null,null,null,null,null,null,null,null,null,null,null,"3.2","Расходы на оплату труда и отчисления на социальные нужды административно-управленческого персонала, в том числе налоги и сборы","тыс.руб.",0,0,0]
[null,null,null,null,null,null,null,null,null,null,null,null,null,null,null,null,null,null,null,null,null,null,null,null,null,null,null,null,null,null,null,null,null,null,null,null,null,null,"3.2.1","Расходы на оплату труда административно-управленческого персонала","тыс.руб.",0,0,0]
[null,null,null,null,null,null,null,null,null,null,null,null,null,null,null,null,null,null,null,null,null,null,null,null,null,null,null,null,null,null,null,null,null,null,null,null,null,null,"3.2.1.1","Численность (среднесписочная), принятая для расчёта","ед.",0,0,0]
[null,null,null,null,null,null,null,null,null,null,null,null,null,null,null,null,null,null,null,null,null,null,null,null,null,null,null,null,null,null,null,null,null,null,null,null,null,null,"3.2.1.2","Среднемесячная оплата труда административно-управленческого персонала","руб./мес.",{"$f":"IF(AP160=0,0,AP159/AP160*1000/AP$6)","v":0},{"$f":"IF(AQ160=0,0,AQ159/AQ160*1000/AQ$6)","v":0},{"$f":"IF(AR160=0,0,AR159/AR160*1000/AR$6)","v":0}]
[null,null,null,null,null,null,null,null,null,null,null,null,null,null,null,null,null,null,null,null,null,null,null,null,null,null,null,null,null,null,null,null,null,null,null,null,null,null,"3.2.1.3","Фактическая численность административно-управленческого персонала, относимого на регулируемый вид деятельности","ед.",{"$f":"SUMIF($AS$9:$AT$9,AP$9,$AS162:$AT162)","v":0},0,0]
[null,null,null,null,null,null,null,null,null,null,null,null,null,null,null,null,null,null,null,null,null,null,null,null,null,null,null,null,null,null,null,null,null,null,null,null,null,null,"3.2.1.4","Справочно: нормативная численность административно-управленческого персонала, относимого на регулируемый вид деятельности","ед.",0,0,0]
[null,null,null,null,null,null,null,null,null,null,null,null,null,null,null,null,null,null,null,null,null,null,null,null,null,null,null,null,null,null,null,null,null,null,null,null,null,null,"3.2.1.5","Тарифная ставка рабочего 1-го разряда","руб./мес."]
[null,null,null,null,null,null,null,null,null,null,null,null,null,null,null,null,null,null,null,null,null,null,null,null,null,null,null,null,null,null,null,null,null,null,null,null,null,null,"3.2.1.6","Индекс роста номинальной заработной платы"]
[null,null,null,null,null,null,null,null,null,null,null,null,null,null,null,null,null,null,null,null,null,null,null,null,null,null,null,null,null,null,null,null,null,null,null,null,null,null,"3.2.1.7","Тарифная ставка рабочего 1-го разряда с учётом дефлятора","руб./мес."]
[null,null,null,null,null,null,null,null,null,null,null,null,null,null,null,null,null,null,null,null,null,null,null,null,null,null,null,null,null,null,null,null,null,null,null,null,null,null,"3.2.1.8","Средний тарифный коэффициент"]
[null,null,null,null,null,null,null,null,null,null,null,null,null,null,null,null,null,null,null,null,null,null,null,null,null,null,null,null,null,null,null,null,null,null,null,null,null,null,"3.2.1.9","Среднемесячная тарифная ставка","руб./мес."]
[null,null,null,null,null,null,null,null,null,null,null,null,null,null,null,null,null,null,null,null,null,null,null,null,null,null,null,null,null,null,null,null,null,null,null,null,null,null,"3.2.1.10","Минимальный размер оплаты труда по отраслевому тарифному соглашению","руб./мес."]
[null,null,null,null,null,null,null,null,null,null,null,null,null,null,null,null,null,null,null,null,null,null,null,null,null,null,null,null,null,null,null,null,null,null,null,null,null,null,"3.2.2","Отчисления на социальные нужды административно-управленческого персонала, в том числе налоги и сборы","тыс.руб.",{"$f":"SUMIF($AS$9:$AT$9,AP$9,$AS170:$AT170)","v":0},0,0]
[null,null,null,null,null,null,null,null,null,null,null,null,null,null,null,null,null,null,null,null,null,null,null,null,null,null,null,null,null,null,null,null,null,null,null,null,null,null,"3.3","Арендная плата, лизинговые платежи, не связанные с арендой (лизингом) централизованных систем водоснабжения и (или) водоотведения либо объектов, входящих в состав таких систем","тыс.руб.",0,0,0]
[null,null,null,null,null,null,null,null,null,null,null,null,null,null,null,null,null,null,null,null,null,null,null,null,null,null,null,null,null,null,null,null,null,null,null,null,null,null,"3.4","Служебные командировки","тыс.руб.",0,0,0]
[null,null,null,null,null,null,null,null,null,null,null,null,null,null,null,null,null,null,null,null,null,null,null,null,null,null,null,null,null,null,null,null,null,null,null,null,null,null,"3.5","Обучение персонала","тыс.руб.",0,0,0]
[null,null,null,null,null,null,null,null,null,null,null,null,null,null,null,null,null,null,null,null,null,null,null,null,null,null,null,null,null,null,null,null,null,null,null,null,null,null,"3.6","Страхование производственных объектов","тыс.руб.",0,0,0]
[null,null,null,null,null,null,null,null,null,null,null,null,null,null,null,null,null,null,null,null,null,null,null,null,null,null,null,null,null,null,null,null,null,null,null,null,null,null,"3.7","Прочие административные расходы","тыс.руб.",0,0,0]
[null,null,null,null,null,null,null,null,null,null,null,null,null,null,null,null,null,null,null,null,null,null,null,null,null,null,null,null,null,null,null,null,null,null,null,null,null,null,"3.7.1","Расходы на амортизацию непроизводственных активов","тыс.руб.",0,0,0]
[null,null,null,null,null,null,null,null,null,null,null,null,null,null,null,null,null,null,null,null,null,null,null,null,null,null,null,null,null,null,null,null,null,null,null,null,null,null,"3.7.2","Расходы по охране объектов и территорий","тыс.руб.",0,0,0]
[null,null,null,null,null,null,null,null,null,null,null,null,null,null,null,null,null,null,null,null,null,null,null,null,null,null,null,null,null,null,null,null,null,null,null,null,null,null,4,"Сбытовые расходы гарантирующих организаций","тыс.руб.",0,0,0]
[null,null,null,null,null,null,null,null,null,null,null,null,null,null,null,null,null,null,null,null,null,null,null,null,null,null,null,null,null,null,null,null,null,null,null,null,null,null,"4.1","Расходы по сомнительным долгам, в размере не более 2% НВВ","тыс.руб.",0,0,0]
[null,null,null,null,null,null,null,null,null,null,null,null,null,null,null,null,null,null,null,null,null,null,null,null,null,null,null,null,null,null,null,null,null,null,null,null,null,null,5,"Амортизация","тыс.руб.",0,0,0]
[null,null,null,null,null,null,null,null,null,null,null,null,null,null,null,null,null,null,null,null,null,null,null,null,null,null,null,null,null,null,null,null,null,null,null,null,null,null,"5.1","Амортизация основных средств и нематериальных активов, относимых к объектам централизованной системы водоснабжения и водоотведения","тыс.руб.",0,0,0]
[null,null,null,null,null,null,null,null,null,null,null,null,null,null,null,null,null,null,null,null,null,null,null,null,null,null,null,null,null,null,null,null,null,null,null,null,null,null,6,"Расходы на арендную плату, лизинговые платежи, концессионную плату, связанные с арендой (лизингом) централизованных систем водоснабжения и (или) водоотведения либо объектов, входящих в состав таких систем","тыс.руб.",0,0,0]
[null,null,null,null,null,null,null,null,null,null,null,null,null,null,null,null,null,null,null,null,null,null,null,null,null,null,null,null,null,null,null,null,null,null,null,null,null,null,"6.1","Аренда имущества","тыс.руб.",0,0,0]
[null,null,null,null,null,null,null,null,null,null,null,null,null,null,null,null,null,null,null,null,null,null,null,null,null,null,null,null,null,null,null,null,null,null,null,null,null,null,"6.1.1","Аренда объектов в государственной собственности","тыс.руб.",0,0,0]
[null,null,null,null,null,null,null,null,null,null,null,null,null,null,null,null,null,null,null,null,null,null,null,null,null,null,null,null,null,null,null,null,null,null,null,null,null,null,"6.1.2","Аренда объектов в муниципальной собственности","тыс.руб.",0,0,0]
[null,null,null,null,null,null,null,null,null,null,null,null,null,null,null,null,null,null,null,null,null,null,null,null,null,null,null,null,null,null,null,null,null,null,null,null,null,null,"6.1.3","Прочее","тыс.руб.",0,0,0]
[null,null,null,null,null,null,null,null,null,null,null,null,null,null,null,null,null,null,null,null,null,null,null,null,null,null,null,null,null,null,null,null,null,null,null,null,null,null,"6.2","Концессионная плата","тыс.руб.",0,0,0]
[null,null,null,null,null,null,null,null,null,null,null,null,null,null,null,null,null,null,null,null,null,null,null,null,null,null,null,null,null,null,null,null,null,null,null,null,null,null,"6.3","Лизинговые платежи","тыс.руб.",0,0,0]
[null,null,null,null,null,null,null,null,null,null,null,null,null,null,null,null,null,null,null,null,null,null,null,null,null,null,null,null,null,null,null,null,null,null,null,null,null,null,"6.4","Аренда земельных участков","тыс.руб.",0,0,0]
[null,null,null,null,null,null,null,null,null,null,null,null,null,null,null,null,null,null,null,null,null,null,null,null,null,null,null,null,null,null,null,null,null,null,null,null,null,null,"6.5","Иное","тыс.руб.",0,0,0]
[null,null,null,null,null,null,null,null,null,null,null,null,null,null,null,null,null,null,null,null,null,null,null,null,null,null,null,null,null,null,null,null,null,null,null,null,null,null,7,"Расходы, связанные с уплатой налогов и сборов, связанные с арендой (лизингом) централизованных систем водоснабжения и (или) водоотведения либо объектов, входящих в состав таких систем","тыс.руб.",0,0,0]
[null,null,null,null,null,null,null,null,null,null,null,null,null,null,null,null,null,null,null,null,null,null,null,null,null,null,null,null,null,null,null,null,null,null,null,null,null,null,"7.1","Налог на прибыль","тыс.руб.",0,0,0]
[null,null,null,null,null,null,null,null,null,null,null,null,null,null,null,null,null,null,null,null,null,null,null,null,null,null,null,null,null,null,null,null,null,null,null,null,null,null,"7.2","Налог на имущество организаций","тыс.руб.",0,0,0]
[null,null,null,null,null,null,null,null,null,null,null,null,null,null,null,null,null,null,null,null,null,null,null,null,null,null,null,null,null,null,null,null,null,null,null,null,null,null,"7.3","Плата за негативное воздействие на окружающую среду","тыс.руб.",0,0,0]
[null,null,null,null,null,null,null,null,null,null,null,null,null,null,null,null,null,null,null,null,null,null,null,null,null,null,null,null,null,null,null,null,null,null,null,null,null,null,"7.4","Водный налог и плата за пользование водным объектом","тыс.руб.",0,0,0]
[null,null,null,null,null,null,null,null,null,null,null,null,null,null,null,null,null,null,null,null,null,null,null,null,null,null,null,null,null,null,null,null,null,null,null,null,null,null,"7.5","Земельный налог","тыс.руб.",0,0,0]
[null,null,null,null,null,null,null,null,null,null,null,null,null,null,null,null,null,null,null,null,null,null,null,null,null,null,null,null,null,null,null,null,null,null,null,null,null,null,"7.6","Транспортный налог","тыс.руб.",0,0,0]
[null,null,null,null,null,null,null,null,null,null,null,null,null,null,null,null,null,null,null,null,null,null,null,null,null,null,null,null,null,null,null,null,null,null,null,null,null,null,"7.7","Прочие налоги и сборы, за исключением налогов и сборов с фонда оплаты труда, учитываемых в составе производственных, ремонтных и административных расходов","тыс.руб.",0,0,0]
[null,null,null,null,null,null,null,null,null,null,null,null,null,null,null,null,null,null,null,null,null,null,null,null,null,null,null,null,null,null,null,null,null,null,null,null,null,null,"8","Расходы на оплату товаров (услуг, работ), приобретаемых у других организаций, осуществляющих регулируемые виды деятельности","тыс.руб.",0,0,0]
[null,null,null,null,null,null,null,null,null,null,null,null,null,null,null,null,null,null,null,null,null,null,null,null,null,null,null,null,null,null,null,null,null,null,null,null,null,null,"9","Расходы на обслуживание бесхозяйных сетей","тыс.руб.",0,0,0]
[null,null,null,null,null,null,null,null,null,null,null,null,null,null,null,null,null,null,null,null,null,null,null,null,null,null,null,null,null,null,null,null,null,null,null,null,null,null,"10","Прочие неподконтрольные расходы","тыс.руб.",0,0,0]
[]
[null,null,null,null,null,null,null,null,null,null,null,null,null,null,null,null,null,null,null,null,null,null,null,null,null,null,null,null,null,null,null,null,null,null,null,null,null,null,"РО","Итого расходы","тыс.руб.",{"$f":"SUMIF($AS$9:$AT$9,AP$9,$AS203:$AT203)","v":0},{"$f":"SUMIF($AS$9:$AT$9,AQ$9,$AS203:$AT203)","v":0},{"$f":"SUMIF($AS$9:$AT$9,AR$9,$AS203:$AT203)","v":0}]
[]
[null,null,null,null,null,null,null,null,null,null,null,null,null,null,null,null,null,null,null,null,null,null,null,null,null,null,null,null,null,null,null,null,null,null,null,null,null,null,"РР","Итого расходы на реализацию","тыс.руб.",{"$f":"SUMIF($AS$9:$AT$9,AP$9,$AS205:$AT205)","v":0},{"$f":"SUMIF($AS$9:$AT$9,AQ$9,$AS205:$AT205)","v":0},{"$f":"SUMIF($AS$9:$AT$9,AR$9,$AS205:$AT205)","v":0}]
[]
[null,null,null,null,null,null,null,null,null,null,null,null,null,null,null,null,null,null,null,null,null,null,null,null,null,null,null,null,null,null,null,null,null,null,null,null,null,null,"У","Убыток","тыс.руб.",{"$f":"SUMIF($AS$9:$AT$9,AP$9,$AS207:$AT207)","v":0},0,0]
[null,null,null,null,null,null,null,null,null,null,null,null,null,null,null,null,null,null,null,null,null,null,null,null,null,null,null,null,null,null,null,null,null,null,null,null,null,null,"П","Прибыль","тыс.руб.",0,0,0]
[]
[null,null,null,null,null,null,null,null,null,null,null,null,null,null,null,null,null,null,null,null,null,null,null,null,null,null,null,null,null,null,null,null,null,null,null,null,null,null,"П.1","Прибыль на развитие производства (капитальные вложения)","тыс.руб.",{"$f":"SUMIF($AS$9:$AT$9,AP$9,$AS210:$AT210)","v":0},0,0]
[null,null,null,null,null,null,null,null,null,null,null,null,null,null,null,null,null,null,null,null,null,null,null,null,null,null,null,null,null,null,null,null,null,null,null,null,null,null,"П.2","Прибыль на социальное развитие","тыс.руб.",0,0,0]
[null,null,null,null,null,null,null,null,null,null,null,null,null,null,null,null,null,null,null,null,null,null,null,null,null,null,null,null,null,null,null,null,null,null,null,null,null,null,"П.3","Прибыль на поощрение","тыс.руб.",0,0,0]
[null,null,null,null,null,null,null,null,null,null,null,null,null,null,null,null,null,null,null,null,null,null,null,null,null,null,null,null,null,null,null,null,null,null,null,null,null,null,"П.4","Прибыль на прочие цели","тыс.руб.",0,0,0]
[]
[]
[]
[]
[]
[]
[]
[]
[null,null,null,null,null,null,null,null,null,null,null,null,null,null,null,null,null,null,null,null,null,null,null,null,null,null,null,null,null,null,null,null,null,null,null,null,null,null,"РП","Итого расходы с учётом расходов из прибыли","тыс.руб.",{"$f":"SUMIF($AS$9:$AT$9,AP$9,$AS222:$AT222)","v":0},{"$f":"SUMIF($AS$9:$AT$9,AQ$9,$AS222:$AT222)","v":0},{"$f":"SUMIF($AS$9:$AT$9,AR$9,$AS222:$AT222)","v":0}]
[]
[]
[]
[]
[]
[]
[]
[]
[]
[]
[]
[]
[]
[]
[]
[]
[]
[null,null,null,null,null,null,null,null,null,null,null,null,null,null,null,null,null,null,null,null,null,null,null,null,null,null,null,null,null,null,null,null,null,null,null,null,null,null,"UI.TOTAL","Полезный отпуск продукции всего:\n[БТр!п.3] - транспортировка\n[БПр!п.5.2] - производство","тыс.куб.м",{"$f":"SUMIF($AS$9:$AT$9,AP$9,$AS240:$AT240)","v":0},0,0]
[null,null,null,null,null,null,null,null,null,null,null,null,null,null,null,null,null,null,null,null,null,null,null,null,null,null,null,null,null,null,null,null,null,null,null,null,null,null,"UI.EC","Полезный отпуск на реализацию потребителям:\n[БТр!п.3.2:3.5] - транспортировка\n[БПр!п.5.2.2 + БПр!п.5.2.3] - производство","тыс.куб.м",0,0,0]
[null,null,null,null,null,null,null,null,null,null,null,null,null,null,null,null,null,null,null,null,null,null,null,null,null,null,null,null,null,null,null,null,null,null,null,null,null,null,"UI.COEF","Коэффициент (доля) на реализацию потребителям",null,{"$f":"IF(AP240=0,0,AP241/AP240)","v":0},{"$f":"IF(AQ240=0,0,AQ241/AQ240)","v":0},{"$f":"IF(AR240=0,0,AR241/AR240)","v":0}]
[null,null,null,null,null,null,null,null,null,null,null,null,null,null,null,null,null,null,null,null,null,null,null,null,null,null,null,null,null,null,null,null,null,null,null,null,null,null,"UI.PURE.EC","Полезный отпуск на реализацию потребителям:\n[БТр!п.3.3:3.5] - транспортировка\n[БПр!п.5.2.3] - производство","тыс.куб.м",{"$f":"SUMIF($AS$9:$AT$9,AP$9,$AS243:$AT243)","v":0},{"$f":"SUMIF($AS$9:$AT$9,AQ$9,$AS243:$AT243)","v":0},{"$f":"SUMIF($AS$9:$AT$9,AR$9,$AS243:$AT243)","v":0}]
[]
[null,null,null,null,null,null,null,null,null,null,null,null,null,null,null,null,null,null,null,null,null,null,null,null,null,null,null,null,null,null,null,null,null,null,null,null,null,null,"UI.TTL",{"$f":"IF(TEMPLATE_SPHERE_CODE=\"COLDVSNA\",\"Объём отпуска воды\",IF(TEMPLATE_SPHERE_CODE=\"VOTV\",\"Объём сточных вод\",\"\"))","v":""},"тыс.куб.м",{"$f":"SUMIF($AS$9:$AT$9,AP$9,$AS245:$AT245)","v":0},{"$f":"SUMIF($AS$9:$AT$9,AQ$9,$AS245:$AT245)","v":0},{"$f":"SUMIF($AS$9:$AT$9,AR$9,$AS245:$AT245)","v":0}]
[]
[null,null,null,null,null,null,null,null,null,null,null,null,null,null,null,null,null,null,null,null,null,null,null,null,null,null,null,null,null,null,null,null,null,null,null,null,null,null,"PROFITABILITY","Рентабельность","%",{"$f":"IF(AP203=0,0,AP218/AP203*100)","v":0},{"$f":"IF(AQ203=0,0,AQ218/AQ203*100)","v":0},{"$f":"IF(AR203=0,0,AR218/AR203*100)","v":0}]
[null,null,null,null,null,null,null,null,null,null,null,null,null,null,null,null,null,null,null,null,null,null,null,null,null,null,null,null,null,null,null,null,null,null,null,null,null,null,null,"Подстановка тарифов I и II полугодий одновременно","a"]
[null,null,null,null,null,null,null,null,null,null,null,null,null,null,null,null,null,null,null,null,null,null,null,null,null,null,null,null,null,null,null,null,null,null,null,null,null,null,"D","Справочно: результат деятельности в периоде регулирования","тыс.руб.",{"$f":"SUMIF($AS$9:$AT$9,AP$9,$AS249:$AT249)","v":0},0,0]
[null,null,null,null,null,null,null,null,null,null,null,null,null,null,null,null,null,null,null,null,null,null,null,null,null,null,null,null,null,null,null,null,null,null,null,null,null,null,{"$f":"AM249 & \".0.1\"","v":"D.0.1"},"Общий доход от реализации потребителям без учёта НДС, исходя из утверждённых тарифов","тыс.руб.",0,0,0]
[null,null,null,null,null,null,null,null,null,null,null,null,null,null,null,null,null,null,null,null,null,null,null,null,null,null,null,null,null,null,null,null,null,null,null,null,null,null,{"$f":"AM249 & \".0.2\"","v":"D.0.2"},"Полезный отпуск продукции на реализацию потребителям","тыс.куб.м",0,0,0]
[null,null,null,null,null,null,null,null,null,null,null,null,null,null,null,null,null,null,null,null,null,null,null,null,null,null,null,null,null,null,null,null,null,null,null,null,null,null,{"$f":"AM249 & \".1\"","v":"D.1"},"Организации-перепродавцы","тыс.руб.",0,0,0]
[null,null,null,null,null,null,null,null,null,null,null,null,null,null,null,null,null,null,null,null,null,null,null,null,null,null,null,null,null,null,null,null,null,null,null,null,null,null,{"$f":"AM252 & \".1\"","v":"D.1.1"},"средневзвешенный тариф","руб./куб.м",{"$f":"IF(AP254=0,0,AP252/AP254)","v":0},{"$f":"IF(AQ254=0,0,AQ252/AQ254)","v":0},{"$f":"IF(AR254=0,0,AR252/AR254)","v":0}]
[null,null,null,null,null,null,null,null,null,null,null,null,null,null,null,null,null,null,null,null,null,null,null,null,null,null,null,null,null,null,null,null,null,null,null,null,null,null,{"$f":"AM252 & \".2\"","v":"D.1.2"},"объём","тыс.куб.м",{"$f":"SUMIF($AS$9:$AT$9,AP$9,$AS254:$AT254)","v":0},0,0]
[null,null,null,null,null,null,null,null,null,null,null,null,null,null,null,null,null,null,null,null,null,null,null,null,null,null,null,null,null,null,null,null,null,null,null,null,null,null,{"$f":"AM249 & \".2\"","v":"D.2"},"Бюджетные потребители","тыс.руб.",0,0,0]
[null,null,null,null,null,null,null,null,null,null,null,null,null,null,null,null,null,null,null,null,null,null,null,null,null,null,null,null,null,null,null,null,null,null,null,null,null,null,{"$f":"AM255 & \".1\"","v":"D.2.1"},"средневзвешенный тариф","руб./куб.м",{"$f":"IF(AP257=0,0,AP255/AP257)","v":0},{"$f":"IF(AQ257=0,0,AQ255/AQ257)","v":0},{"$f":"IF(AR257=0,0,AR255/AR257)","v":0}]
[null,null,null,null,null,null,null,null,null,null,null,null,null,null,null,null,null,null,null,null,null,null,null,null,null,null,null,null,null,null,null,null,null,null,null,null,null,null,{"$f":"AM255 & \".2\"","v":"D.2.2"},"объём","тыс.куб.м",{"$f":"SUMIF($AS$9:$AT$9,AP$9,$AS257:$AT257)","v":0},0,0]
[null,null,null,null,null,null,null,null,null,null,null,null,null,null,null,null,null,null,null,null,null,null,null,null,null,null,null,null,null,null,null,null,null,null,null,null,null,null,{"$f":"AM249 & \".3\"","v":"D.3"},"Население","тыс.руб.",0,0,0]
[null,null,null,null,null,null,null,null,null,null,null,null,null,null,null,null,null,null,null,null,null,null,null,null,null,null,null,null,null,null,null,null,null,null,null,null,null,null,{"$f":"AM258 & \".1\"","v":"D.3.1"},"средневзвешенный тариф","руб./куб.м",{"$f":"IF(AP260=0,0,AP258/AP260)","v":0},{"$f":"IF(AQ260=0,0,AQ258/AQ260)","v":0},{"$f":"IF(AR260=0,0,AR258/AR260)","v":0}]
[null,null,null,null,null,null,null,null,null,null,null,null,null,null,null,null,null,null,null,null,null,null,null,null,null,null,null,null,null,null,null,null,null,null,null,null,null,null,{"$f":"AM258 & \".2\"","v":"D.3.2"},"объём","тыс.куб.м",{"$f":"SUMIF($AS$9:$AT$9,AP$9,$AS260:$AT260)","v":0},0,0]
[null,null,null,null,null,null,null,null,null,null,null,null,null,null,null,null,null,null,null,null,null,null,null,null,null,null,null,null,null,null,null,null,null,null,null,null,null,null,{"$f":"AM249 & \".4\"","v":"D.4"},"Прочие","тыс.руб.",0,0,0]
[null,null,null,null,null,null,null,null,null,null,null,null,null,null,null,null,null,null,null,null,null,null,null,null,null,null,null,null,null,null,null,null,null,null,null,null,null,null,{"$f":"AM261 & \".1\"","v":"D.4.1"},"средневзвешенный тариф","руб./куб.м",{"$f":"IF(AP263=0,0,AP261/AP263)","v":0},{"$f":"IF(AQ263=0,0,AQ261/AQ263)","v":0},{"$f":"IF(AR263=0,0,AR261/AR263)","v":0}]
[null,null,null,null,null,null,null,null,null,null,null,null,null,null,null,null,null,null,null,null,null,null,null,null,null,null,null,null,null,null,null,null,null,null,null,null,null,null,{"$f":"AM261 & \".2\"","v":"D.4.2"},"объём","тыс.куб.м",{"$f":"SUMIF($AS$9:$AT$9,AP$9,$AS263:$AT263)","v":0},0,0]
[null,null,null,null,null,null,null,null,null,null,null,null,null,null,null,null,null,null,null,null,null,null,null,null,null,null,null,null,null,null,null,null,null,null,null,null,null,null,{"$f":"AM249 & \".5\"","v":"D.5"},"Объём дотаций из всех уровней бюджета","тыс.руб.",0,0,0]
[null,null,null,null,null,null,null,null,null,null,null,null,null,null,null,null,null,null,null,null,null,null,null,null,null,null,null,null,null,null,null,null,null,null,null,null,null,null,{"$f":"AM249 & \".6\"","v":"D.6"},"Доходы, полученные сверх реализации по утверждённым тарифам","тыс.руб.",0,0,0]
[]
[]
[]
[]
[]
[]
[null,null,null,null,null,null,null,null,null,null,null,null,null,null,null,null,null,null,null,null,null,null,null,null,null,null,null,null,null,null,null,null,null,null,null,null,null,null,null,"Дополнительные показатели"]
[null,null,null,null,null,null,null,null,null,null,null,null,null,null,null,null,null,null,null,null,null,null,null,null,null,null,null,null,null,null,null,null,null,null,null,null,null,null,null,"Производство"]
[null,null,null,null,null,null,null,null,null,null,null,null,null,null,null,null,null,null,null,null,null,null,null,null,null,null,null,null,null,null,null,null,null,null,null,null,null,null,null,{"$f":"\"Стоимость основных средств, относимых на источники производства (приём) \" & RESOURCE_IDENTIFIER","v":"Стоимость основных средств, относимых на источники производства (приём) "},"тыс.руб."]
[null,null,null,null,null,null,null,null,null,null,null,null,null,null,null,null,null,null,null,null,null,null,null,null,null,null,null,null,null,null,null,null,null,null,null,null,null,null,null,{"$f":"\"Количество \" & TEMPLATE_SPHERE_OKK_SOURCE","v":"Количество "},"ед."]
[null,null,null,null,null,null,null,null,null,null,null,null,null,null,null,null,null,null,null,null,null,null,null,null,null,null,null,null,null,null,null,null,null,null,null,null,null,null,null,"Износ основных средств","%"]
[null,null,null,null,null,null,null,null,null,null,null,null,null,null,null,null,null,null,null,null,null,null,null,null,null,null,null,null,null,null,null,null,null,null,null,null,null,null,null,"Очистка"]
[null,null,null,null,null,null,null,null,null,null,null,null,null,null,null,null,null,null,null,null,null,null,null,null,null,null,null,null,null,null,null,null,null,null,null,null,null,null,null,{"$f":"\"Стоимость основных средств, относимых на системы / сооружения для очистки \" & RESOURCE_IDENTIFIER","v":"Стоимость основных средств, относимых на системы / сооружения для очистки "},"тыс.руб."]
[null,null,null,null,null,null,null,null,null,null,null,null,null,null,null,null,null,null,null,null,null,null,null,null,null,null,null,null,null,null,null,null,null,null,null,null,null,null,null,"Учёт технологий обработки осадка","Индекс группы"]
[null,null,null,null,null,null,null,null,null,null,null,null,null,null,null,null,null,null,null,null,null,null,null,null,null,null,null,null,null,null,null,null,null,null,null,null,null,null,null,"Собственная очистка сточных вод","Индекс группы"]
[null,null,null,null,null,null,null,null,null,null,null,null,null,null,null,null,null,null,null,null,null,null,null,null,null,null,null,null,null,null,null,null,null,null,null,null,null,null,null,"Износ основных средств","%"]
[null,null,null,null,null,null,null,null,null,null,null,null,null,null,null,null,null,null,null,null,null,null,null,null,null,null,null,null,null,null,null,null,null,null,null,null,null,null,null,"Транспортировка"]
[null,null,null,null,null,null,null,null,null,null,null,null,null,null,null,null,null,null,null,null,null,null,null,null,null,null,null,null,null,null,null,null,null,null,null,null,null,null,null,"Стоимость основных средств, относимых на транспортировку стоков","тыс.руб."]
[null,null,null,null,null,null,null,null,null,null,null,null,null,null,null,null,null,null,null,null,null,null,null,null,null,null,null,null,null,null,null,null,null,null,null,null,null,null,null,"Протяженность сетей","км"]
[null,null,null,null,null,null,null,null,null,null,null,null,null,null,null,null,null,null,null,null,null,null,null,null,null,null,null,null,null,null,null,null,null,null,null,null,null,null,null,"Протяженность сетей, подлежащих замене (износ 100%)","км"]
[null,null,null,null,null,null,null,null,null,null,null,null,null,null,null,null,null,null,null,null,null,null,null,null,null,null,null,null,null,null,null,null,null,null,null,null,null,null,null,"Сбыт"]
[null,null,null,null,null,null,null,null,null,null,null,null,null,null,null,null,null,null,null,null,null,null,null,null,null,null,null,null,null,null,null,null,null,null,null,null,null,null,null,"Полезный отпуск (приём стоков) от наиболее крупного единичного потребителя","тыс.куб.м"]
[null,null,null,null,null,null,null,null,null,null,null,null,null,null,null,null,null,null,null,null,null,null,null,null,null,null,null,null,null,null,null,null,null,null,null,null,null,null,null,"Численность обслуживаемого населения","чел."]
[null,null,null,null,null,null,null,null,null,null,null,null,null,null,null,null,null,null,null,null,null,null,null,null,null,null,null,null,null,null,null,null,null,null,null,null,null,null,null,"Количество абонентов","тыс.ед."]

{"sheet":"ВО.Р","index":22,"n_rows":303,"n_cols":46,"rows_kept":303,"cut":false,"hidden":true,"merged":[[12,38,13,39],[13,41,13,43],[18,38,19,38],[18,39,19,39],[18,40,19,40],[18,41,19,43]]}
[]
[]
[]
[]
[]
[null,null,null,null,null,null,null,null,null,null,null,null,null,null,null,null,null,null,null,null,null,null,null,null,null,null,null,null,null,null,null,null,null,null,null,null,null,null,null,null,null,12,6,6]
[]
[]
[null,null,null,null,null,null,null,null,null,null,null,null,null,null,null,null,null,null,null,null,null,null,null,null,null,null,null,null,null,null,null,null,null,null,null,null,null,null,null,null,null,"Y","I","II"]
[null,null,null,null,null,null,null,null,null,null,null,null,null,null,null,null,null,null,null,null,null,null,null,null,null,null,null,null,null,null,null,null,null,null,null,null,null,null,null,null,null,null,null,null,"START","END"]
[]
[null,null,null,null,null,null,null,null,null,null,null,null,null,null,null,null,null,null,null,null,null,null,null,null,null,null,null,null,null,null,null,null,null,null,null,null,null,null,null,"Необходимо указывать значения по полугодиям (6 и 6 месяцев)"]
["FULL_MODE",null,null,null,null,null,null,null,null,null,null,null,null,null,null,null,null,null,null,null,null,null,null,null,null,null,null,null,null,null,null,null,null,null,null,null,null,null,"Реагенты",null,"Период","Год","I полугодие","II полугодие"]
[]
[]
[]
[]
[null,null,null,null,null,null,null,null,null,null,null,null,null,null,null,null,null,null,null,null,null,null,null,null,null,null,null,null,null,null,null,null,null,null,null,null,null,null,null,null,null,null,null,null,null,"Добавить"]
[null,null,null,null,null,null,null,null,null,null,null,null,null,null,null,null,null,null,null,null,null,null,null,null,null,null,null,null,null,null,null,null,null,null,null,null,null,null,"№ п/п","Наименование показателя","Единица измерения","Всего по организации",null,null,0]
[]
[null,null,null,null,null,null,null,null,null,null,null,null,null,null,null,null,null,null,null,null,null,null,null,null,null,null,null,null,null,null,null,null,null,null,null,null,null,null,null,"Является ли организация плательщиком НДС"]
[null,null,null,null,null,null,null,null,null,null,null,null,null,null,null,null,null,null,null,null,null,null,null,null,null,null,null,null,null,null,null,null,null,null,null,null,null,null,null,"Выбор используемых реагентов - двойным щелчком мыши в расчётном блоке (в колонке \"Год\") напротив наименования"]
[]
[]
[null,null,null,null,null,null,null,null,null,null,null,null,null,null,null,null,null,null,null,null,null,null,null,null,null,null,null,null,null,null,null,null,null,null,null,null,null,null,"1.1.1","Итого","тыс.руб.",{"$f":"SUMIF($AS$9:$AT$9,AP$9,$AS25:$AT25)","v":0},{"$f":"SUMIF($AS$9:$AT$9,AQ$9,$AS25:$AT25)","v":0},{"$f":"SUMIF($AS$9:$AT$9,AR$9,$AS25:$AT25)","v":0}]
[]
[null,null,null,null,null,null,null,null,null,null,null,null,null,null,null,null,null,null,null,null,null,null,null,null,null,null,null,null,null,null,null,null,null,null,null,null,null,null,"COAG","Коагулянты","тыс.руб.",{"$f":"SUMIF($AS$9:$AT$9,AP$9,$AS27:$AT27)","v":0},{"$f":"SUMIF($AS$9:$AT$9,AQ$9,$AS27:$AT27)","v":0},{"$f":"SUMIF($AS$9:$AT$9,AR$9,$AS27:$AT27)","v":0}]
[]
[null,null,null,null,null,null,null,null,null,null,null,null,null,null,null,null,null,null,null,null,null,null,null,null,null,null,null,null,null,null,null,"ADJUSTABLE.C",null,null,null,null,null,null,"HDSFAL","гидроксохлоросульфат алюминия (коагулянт смешанного типа)","тыс.руб.",{"$f":"SUMIF($AS$9:$AT$9,AP$9,$AS29:$AT29)","v":0},{"$f":"SUMIF($AS$9:$AT$9,AQ$9,$AS29:$AT29)","v":0},{"$f":"SUMIF($AS$9:$AT$9,AR$9,$AS29:$AT29)","v":0}]
[null,null,null,null,null,null,null,null,null,null,null,null,null,null,null,null,null,null,null,null,null,null,null,null,null,null,null,null,null,null,null,"ADJUSTABLE.P",null,null,null,null,null,null,{"$f":"AM29 & \".P\"","v":"HDSFAL.P"},"Цена за единицу","руб./ед.",{"$f":"IF(AP31=0,0,AP29*1000/AP31)","v":0},{"$f":"IF(AQ31=0,0,AQ29*1000/AQ31)","v":0},{"$f":"IF(AR31=0,0,AR29*1000/AR31)","v":0}]
[null,null,null,null,null,null,null,null,null,null,null,null,null,null,null,null,null,null,null,null,null,null,null,null,null,null,null,null,null,null,null,"ADJUSTABLE.V",null,null,null,null,null,null,{"$f":"AM29 & \".V\"","v":"HDSFAL.V"},"Объём","ед.",{"$f":"SUMIF($AS$9:$AT$9,AP$9,$AS31:$AT31)","v":0},0,0]
[null,null,null,null,null,null,null,null,null,null,null,null,null,null,null,null,null,null,null,null,null,null,null,null,null,null,null,null,null,null,null,"ADJUSTABLE.C",null,null,null,null,null,null,"FES","железный купорос","тыс.руб.",0,0,0]
[null,null,null,null,null,null,null,null,null,null,null,null,null,null,null,null,null,null,null,null,null,null,null,null,null,null,null,null,null,null,null,"ADJUSTABLE.P",null,null,null,null,null,null,{"$f":"AM32 & \".P\"","v":"FES.P"},"Цена за единицу","руб./ед.",{"$f":"IF(AP34=0,0,AP32*1000/AP34)","v":0},{"$f":"IF(AQ34=0,0,AQ32*1000/AQ34)","v":0},{"$f":"IF(AR34=0,0,AR32*1000/AR34)","v":0}]
[null,null,null,null,null,null,null,null,null,null,null,null,null,null,null,null,null,null,null,null,null,null,null,null,null,null,null,null,null,null,null,"ADJUSTABLE.V",null,null,null,null,null,null,{"$f":"AM32 & \".V\"","v":"FES.V"},"Объём","ед.",{"$f":"SUMIF($AS$9:$AT$9,AP$9,$AS34:$AT34)","v":0},0,0]
[null,null,null,null,null,null,null,null,null,null,null,null,null,null,null,null,null,null,null,null,null,null,null,null,null,null,null,null,null,null,null,"ADJUSTABLE.C",null,null,null,null,null,null,"OXCLAL","оксихлорид алюминия","тыс.руб.",0,0,0]
[null,null,null,null,null,null,null,null,null,null,null,null,null,null,null,null,null,null,null,null,null,null,null,null,null,null,null,null,null,null,null,"ADJUSTABLE.P",null,null,null,null,null,null,{"$f":"AM35 & \".P\"","v":"OXCLAL.P"},"Цена за единицу","руб./ед.",{"$f":"IF(AP37=0,0,AP35*1000/AP37)","v":0},{"$f":"IF(AQ37=0,0,AQ35*1000/AQ37)","v":0},{"$f":"IF(AR37=0,0,AR35*1000/AR37)","v":0}]
[null,null,null,null,null,null,null,null,null,null,null,null,null,null,null,null,null,null,null,null,null,null,null,null,null,null,null,null,null,null,null,"ADJUSTABLE.V",null,null,null,null,null,null,{"$f":"AM35 & \".V\"","v":"OXCLAL.V"},"Объём","ед.",{"$f":"SUMIF($AS$9:$AT$9,AP$9,$AS37:$AT37)","v":0},0,0]
[null,null,null,null,null,null,null,null,null,null,null,null,null,null,null,null,null,null,null,null,null,null,null,null,null,null,null,null,null,null,null,"ADJUSTABLE.C",null,null,null,null,null,null,"PLOXCLAL","полиоксихлорид алюминия ","тыс.руб.",0,0,0]
[null,null,null,null,null,null,null,null,null,null,null,null,null,null,null,null,null,null,null,null,null,null,null,null,null,null,null,null,null,null,null,"ADJUSTABLE.P",null,null,null,null,null,null,{"$f":"AM38 & \".P\"","v":"PLOXCLAL.P"},"Цена за единицу","руб./ед.",{"$f":"IF(AP40=0,0,AP38*1000/AP40)","v":0},{"$f":"IF(AQ40=0,0,AQ38*1000/AQ40)","v":0},{"$f":"IF(AR40=0,0,AR38*1000/AR40)","v":0}]
[null,null,null,null,null,null,null,null,null,null,null,null,null,null,null,null,null,null,null,null,null,null,null,null,null,null,null,null,null,null,null,"ADJUSTABLE.V",null,null,null,null,null,null,{"$f":"AM38 & \".V\"","v":"PLOXCLAL.V"},"Объём","ед.",{"$f":"SUMIF($AS$9:$AT$9,AP$9,$AS40:$AT40)","v":0},0,0]
[null,null,null,null,null,null,null,null,null,null,null,null,null,null,null,null,null,null,null,null,null,null,null,null,null,null,null,null,null,null,null,"ADJUSTABLE.C",null,null,null,null,null,null,"SFAL","сульфат алюминия ","тыс.руб.",0,0,0]
[null,null,null,null,null,null,null,null,null,null,null,null,null,null,null,null,null,null,null,null,null,null,null,null,null,null,null,null,null,null,null,"ADJUSTABLE.P",null,null,null,null,null,null,{"$f":"AM41 & \".P\"","v":"SFAL.P"},"Цена за единицу","руб./ед.",{"$f":"IF(AP43=0,0,AP41*1000/AP43)","v":0},{"$f":"IF(AQ43=0,0,AQ41*1000/AQ43)","v":0},{"$f":"IF(AR43=0,0,AR41*1000/AR43)","v":0}]
[null,null,null,null,null,null,null,null,null,null,null,null,null,null,null,null,null,null,null,null,null,null,null,null,null,null,null,null,null,null,null,"ADJUSTABLE.V",null,null,null,null,null,null,{"$f":"AM41 & \".V\"","v":"SFAL.V"},"Объём","ед.",{"$f":"SUMIF($AS$9:$AT$9,AP$9,$AS43:$AT43)","v":0},0,0]
[null,null,null,null,null,null,null,null,null,null,null,null,null,null,null,null,null,null,null,null,null,null,null,null,null,null,null,null,null,null,null,"ADJUSTABLE.OTH",null,null,null,null,null,null,"OTH","прочие","тыс.руб.",0,0,0]
[]
[null,null,null,null,null,null,null,null,null,null,null,null,null,null,null,null,null,null,null,null,null,null,null,null,null,null,null,null,null,null,null,null,null,null,null,null,null,null,"FLOC","Флокулянты","тыс.руб.",{"$f":"SUMIF($AS$9:$AT$9,AP$9,$AS46:$AT46)","v":0},{"$f":"SUMIF($AS$9:$AT$9,AQ$9,$AS46:$AT46)","v":0},{"$f":"SUMIF($AS$9:$AT$9,AR$9,$AS46:$AT46)","v":0}]
[]
[null,null,null,null,null,null,null,null,null,null,null,null,null,null,null,null,null,null,null,null,null,null,null,null,null,null,null,null,null,null,null,"ADJUSTABLE.C",null,null,null,null,null,null,"MGFLK","Магнафлок","тыс.руб.",{"$f":"SUMIF($AS$9:$AT$9,AP$9,$AS48:$AT48)","v":0},{"$f":"SUMIF($AS$9:$AT$9,AQ$9,$AS48:$AT48)","v":0},{"$f":"SUMIF($AS$9:$AT$9,AR$9,$AS48:$AT48)","v":0}]
[null,null,null,null,null,null,null,null,null,null,null,null,null,null,null,null,null,null,null,null,null,null,null,null,null,null,null,null,null,null,null,"ADJUSTABLE.P",null,null,null,null,null,null,{"$f":"AM48 & \".P\"","v":"MGFLK.P"},"Цена за единицу","руб./ед.",{"$f":"IF(AP50=0,0,AP48*1000/AP50)","v":0},{"$f":"IF(AQ50=0,0,AQ48*1000/AQ50)","v":0},{"$f":"IF(AR50=0,0,AR48*1000/AR50)","v":0}]
[null,null,null,null,null,null,null,null,null,null,null,null,null,null,null,null,null,null,null,null,null,null,null,null,null,null,null,null,null,null,null,"ADJUSTABLE.V",null,null,null,null,null,null,{"$f":"AM48 & \".V\"","v":"MGFLK.V"},"Объём","ед.",{"$f":"SUMIF($AS$9:$AT$9,AP$9,$AS50:$AT50)","v":0},0,0]
[null,null,null,null,null,null,null,null,null,null,null,null,null,null,null,null,null,null,null,null,null,null,null,null,null,null,null,null,null,null,null,"ADJUSTABLE.C",null,null,null,null,null,null,"PRSTL","Праестол","тыс.руб.",0,0,0]
[null,null,null,null,null,null,null,null,null,null,null,null,null,null,null,null,null,null,null,null,null,null,null,null,null,null,null,null,null,null,null,"ADJUSTABLE.P",null,null,null,null,null,null,{"$f":"AM51 & \".P\"","v":"PRSTL.P"},"Цена за единицу","руб./ед.",{"$f":"IF(AP53=0,0,AP51*1000/AP53)","v":0},{"$f":"IF(AQ53=0,0,AQ51*1000/AQ53)","v":0},{"$f":"IF(AR53=0,0,AR51*1000/AR53)","v":0}]
[null,null,null,null,null,null,null,null,null,null,null,null,null,null,null,null,null,null,null,null,null,null,null,null,null,null,null,null,null,null,null,"ADJUSTABLE.V",null,null,null,null,null,null,{"$f":"AM51 & \".V\"","v":"PRSTL.V"},"Объём","ед.",{"$f":"SUMIF($AS$9:$AT$9,AP$9,$AS53:$AT53)","v":0},0,0]
[null,null,null,null,null,null,null,null,null,null,null,null,null,null,null,null,null,null,null,null,null,null,null,null,null,null,null,null,null,null,null,"ADJUSTABLE.OTH",null,null,null,null,null,null,"OTH","прочие","тыс.руб.",0,0,0]
[]
[null,null,null,null,null,null,null,null,null,null,null,null,null,null,null,null,null,null,null,null,null,null,null,null,null,null,null,null,null,null,null,null,null,null,null,null,null,null,"REAG","Реагенты","тыс.руб.",{"$f":"SUMIF($AS$9:$AT$9,AP$9,$AS56:$AT56)","v":0},{"$f":"SUMIF($AS$9:$AT$9,AQ$9,$AS56:$AT56)","v":0},{"$f":"SUMIF($AS$9:$AT$9,AR$9,$AS56:$AT56)","v":0}]
[]
[null,null,null,null,null,null,null,null,null,null,null,null,null,null,null,null,null,null,null,null,null,null,null,null,null,null,null,null,null,null,null,"ADJUSTABLE.C",null,null,null,null,null,null,"AGRP","агар питательный","тыс.руб.",{"$f":"SUMIF($AS$9:$AT$9,AP$9,$AS58:$AT58)","v":0},{"$f":"SUMIF($AS$9:$AT$9,AQ$9,$AS58:$AT58)","v":0},{"$f":"SUMIF($AS$9:$AT$9,AR$9,$AS58:$AT58)","v":0}]
[null,null,null,null,null,null,null,null,null,null,null,null,null,null,null,null,null,null,null,null,null,null,null,null,null,null,null,null,null,null,null,"ADJUSTABLE.P",null,null,null,null,null,null,{"$f":"AM58 & \".P\"","v":"AGRP.P"},"Цена за единицу","руб./ед.",{"$f":"IF(AP60=0,0,AP58*1000/AP60)","v":0},{"$f":"IF(AQ60=0,0,AQ58*1000/AQ60)","v":0},{"$f":"IF(AR60=0,0,AR58*1000/AR60)","v":0}]
[null,null,null,null,null,null,null,null,null,null,null,null,null,null,null,null,null,null,null,null,null,null,null,null,null,null,null,null,null,null,null,"ADJUSTABLE.V",null,null,null,null,null,null,{"$f":"AM58 & \".V\"","v":"AGRP.V"},"Объём","ед.",{"$f":"SUMIF($AS$9:$AT$9,AP$9,$AS60:$AT60)","v":0},0,0]
[null,null,null,null,null,null,null,null,null,null,null,null,null,null,null,null,null,null,null,null,null,null,null,null,null,null,null,null,null,null,null,"ADJUSTABLE.C",null,null,null,null,null,null,"AGRE","агар Эндо","тыс.руб.",0,0,0]
[null,null,null,null,null,null,null,null,null,null,null,null,null,null,null,null,null,null,null,null,null,null,null,null,null,null,null,null,null,null,null,"ADJUSTABLE.P",null,null,null,null,null,null,{"$f":"AM61 & \".P\"","v":"AGRE.P"},"Цена за единицу","руб./ед.",{"$f":"IF(AP63=0,0,AP61*1000/AP63)","v":0},{"$f":"IF(AQ63=0,0,AQ61*1000/AQ63)","v":0},{"$f":"IF(AR63=0,0,AR61*1000/AR63)","v":0}]
[null,null,null,null,null,null,null,null,null,null,null,null,null,null,null,null,null,null,null,null,null,null,null,null,null,null,null,null,null,null,null,"ADJUSTABLE.V",null,null,null,null,null,null,{"$f":"AM61 & \".V\"","v":"AGRE.V"},"Объём","ед.",{"$f":"SUMIF($AS$9:$AT$9,AP$9,$AS63:$AT63)","v":0},0,0]
[null,null,null,null,null,null,null,null,null,null,null,null,null,null,null,null,null,null,null,null,null,null,null,null,null,null,null,null,null,null,null,"ADJUSTABLE.C",null,null,null,null,null,null,"ALOX","алюминий окись","тыс.руб.",0,0,0]
[null,null,null,null,null,null,null,null,null,null,null,null,null,null,null,null,null,null,null,null,null,null,null,null,null,null,null,null,null,null,null,"ADJUSTABLE.P",null,null,null,null,null,null,{"$f":"AM64 & \".P\"","v":"ALOX.P"},"Цена за единицу","руб./ед.",{"$f":"IF(AP66=0,0,AP64*1000/AP66)","v":0},{"$f":"IF(AQ66=0,0,AQ64*1000/AQ66)","v":0},{"$f":"IF(AR66=0,0,AR64*1000/AR66)","v":0}]
[null,null,null,null,null,null,null,null,null,null,null,null,null,null,null,null,null,null,null,null,null,null,null,null,null,null,null,null,null,null,null,"ADJUSTABLE.V",null,null,null,null,null,null,{"$f":"AM64 & \".V\"","v":"ALOX.V"},"Объём","ед.",{"$f":"SUMIF($AS$9:$AT$9,AP$9,$AS66:$AT66)","v":0},0,0]
[null,null,null,null,null,null,null,null,null,null,null,null,null,null,null,null,null,null,null,null,null,null,null,null,null,null,null,null,null,null,null,"ADJUSTABLE.C",null,null,null,null,null,null,"ALS","алюминий сернокислый","тыс.руб.",0,0,0]
[null,null,null,null,null,null,null,null,null,null,null,null,null,null,null,null,null,null,null,null,null,null,null,null,null,null,null,null,null,null,null,"ADJUSTABLE.P",null,null,null,null,null,null,{"$f":"AM67 & \".P\"","v":"ALS.P"},"Цена за единицу","руб./ед.",{"$f":"IF(AP69=0,0,AP67*1000/AP69)","v":0},{"$f":"IF(AQ69=0,0,AQ67*1000/AQ69)","v":0},{"$f":"IF(AR69=0,0,AR67*1000/AR69)","v":0}]
[null,null,null,null,null,null,null,null,null,null,null,null,null,null,null,null,null,null,null,null,null,null,null,null,null,null,null,null,null,null,null,"ADJUSTABLE.V",null,null,null,null,null,null,{"$f":"AM67 & \".V\"","v":"ALS.V"},"Объём","ед.",{"$f":"SUMIF($AS$9:$AT$9,AP$9,$AS69:$AT69)","v":0},0,0]
[null,null,null,null,null,null,null,null,null,null,null,null,null,null,null,null,null,null,null,null,null,null,null,null,null,null,null,null,null,null,null,"ADJUSTABLE.C",null,null,null,null,null,null,"AM","аммиак","тыс.руб.",0,0,0]
[null,null,null,null,null,null,null,null,null,null,null,null,null,null,null,null,null,null,null,null,null,null,null,null,null,null,null,null,null,null,null,"ADJUSTABLE.P",null,null,null,null,null,null,{"$f":"AM70 & \".P\"","v":"AM.P"},"Цена за единицу","руб./ед.",{"$f":"IF(AP72=0,0,AP70*1000/AP72)","v":0},{"$f":"IF(AQ72=0,0,AQ70*1000/AQ72)","v":0},{"$f":"IF(AR72=0,0,AR70*1000/AR72)","v":0}]
[null,null,null,null,null,null,null,null,null,null,null,null,null,null,null,null,null,null,null,null,null,null,null,null,null,null,null,null,null,null,null,"ADJUSTABLE.V",null,null,null,null,null,null,{"$f":"AM70 & \".V\"","v":"AM.V"},"Объём","ед.",{"$f":"SUMIF($AS$9:$AT$9,AP$9,$AS72:$AT72)","v":0},0,0]
[null,null,null,null,null,null,null,null,null,null,null,null,null,null,null,null,null,null,null,null,null,null,null,null,null,null,null,null,null,null,null,"ADJUSTABLE.C",null,null,null,null,null,null,"AMW","аммиачная вода","тыс.руб.",0,0,0]
[null,null,null,null,null,null,null,null,null,null,null,null,null,null,null,null,null,null,null,null,null,null,null,null,null,null,null,null,null,null,null,"ADJUSTABLE.P",null,null,null,null,null,null,{"$f":"AM73 & \".P\"","v":"AMW.P"},"Цена за единицу","руб./ед.",{"$f":"IF(AP75=0,0,AP73*1000/AP75)","v":0},{"$f":"IF(AQ75=0,0,AQ73*1000/AQ75)","v":0},{"$f":"IF(AR75=0,0,AR73*1000/AR75)","v":0}]
[null,null,null,null,null,null,null,null,null,null,null,null,null,null,null,null,null,null,null,null,null,null,null,null,null,null,null,null,null,null,null,"ADJUSTABLE.V",null,null,null,null,null,null,{"$f":"AM73 & \".V\"","v":"AMW.V"},"Объём","ед.",{"$f":"SUMIF($AS$9:$AT$9,AP$9,$AS75:$AT75)","v":0},0,0]
[null,null,null,null,null,null,null,null,null,null,null,null,null,null,null,null,null,null,null,null,null,null,null,null,null,null,null,null,null,null,null,"ADJUSTABLE.C",null,null,null,null,null,null,"AMN","аммоний","тыс.руб.",0,0,0]
[null,null,null,null,null,null,null,null,null,null,null,null,null,null,null,null,null,null,null,null,null,null,null,null,null,null,null,null,null,null,null,"ADJUSTABLE.P",null,null,null,null,null,null,{"$f":"AM76 & \".P\"","v":"AMN.P"},"Цена за единицу","руб./ед.",{"$f":"IF(AP78=0,0,AP76*1000/AP78)","v":0},{"$f":"IF(AQ78=0,0,AQ76*1000/AQ78)","v":0},{"$f":"IF(AR78=0,0,AR76*1000/AR78)","v":0}]
[null,null,null,null,null,null,null,null,null,null,null,null,null,null,null,null,null,null,null,null,null,null,null,null,null,null,null,null,null,null,null,"ADJUSTABLE.V",null,null,null,null,null,null,{"$f":"AM76 & \".V\"","v":"AMN.V"},"Объём","ед.",{"$f":"SUMIF($AS$9:$AT$9,AP$9,$AS78:$AT78)","v":0},0,0]
[null,null,null,null,null,null,null,null,null,null,null,null,null,null,null,null,null,null,null,null,null,null,null,null,null,null,null,null,null,null,null,"ADJUSTABLE.C",null,null,null,null,null,null,"AMNCL","аммоний хлористый","тыс.руб.",0,0,0]
[null,null,null,null,null,null,null,null,null,null,null,null,null,null,null,null,null,null,null,null,null,null,null,null,null,null,null,null,null,null,null,"ADJUSTABLE.P",null,null,null,null,null,null,{"$f":"AM79 & \".P\"","v":"AMNCL.P"},"Цена за единицу","руб./ед.",{"$f":"IF(AP81=0,0,AP79*1000/AP81)","v":0},{"$f":"IF(AQ81=0,0,AQ79*1000/AQ81)","v":0},{"$f":"IF(AR81=0,0,AR79*1000/AR81)","v":0}]
[null,null,null,null,null,null,null,null,null,null,null,null,null,null,null,null,null,null,null,null,null,null,null,null,null,null,null,null,null,null,null,"ADJUSTABLE.V",null,null,null,null,null,null,{"$f":"AM79 & \".V\"","v":"AMNCL.V"},"Объём","ед.",{"$f":"SUMIF($AS$9:$AT$9,AP$9,$AS81:$AT81)","v":0},0,0]
[null,null,null,null,null,null,null,null,null,null,null,null,null,null,null,null,null,null,null,null,null,null,null,null,null,null,null,null,null,null,null,"ADJUSTABLE.C",null,null,null,null,null,null,"BACL","барий хлористый","тыс.руб.",0,0,0]
[null,null,null,null,null,null,null,null,null,null,null,null,null,null,null,null,null,null,null,null,null,null,null,null,null,null,null,null,null,null,null,"ADJUSTABLE.P",null,null,null,null,null,null,{"$f":"AM82 & \".P\"","v":"BACL.P"},"Цена за единицу","руб./ед.",{"$f":"IF(AP84=0,0,AP82*1000/AP84)","v":0},{"$f":"IF(AQ84=0,0,AQ82*1000/AQ84)","v":0},{"$f":"IF(AR84=0,0,AR82*1000/AR84)","v":0}]
[null,null,null,null,null,null,null,null,null,null,null,null,null,null,null,null,null,null,null,null,null,null,null,null,null,null,null,null,null,null,null,"ADJUSTABLE.V",null,null,null,null,null,null,{"$f":"AM82 & \".V\"","v":"BACL.V"},"Объём","ед.",{"$f":"SUMIF($AS$9:$AT$9,AP$9,$AS84:$AT84)","v":0},0,0]
[null,null,null,null,null,null,null,null,null,null,null,null,null,null,null,null,null,null,null,null,null,null,null,null,null,null,null,null,null,null,null,"ADJUSTABLE.C",null,null,null,null,null,null,"BIOX","биоксимин","тыс.руб.",0,0,0]
[null,null,null,null,null,null,null,null,null,null,null,null,null,null,null,null,null,null,null,null,null,null,null,null,null,null,null,null,null,null,null,"ADJUSTABLE.P",null,null,null,null,null,null,{"$f":"AM85 & \".P\"","v":"BIOX.P"},"Цена за единицу","руб./ед.",{"$f":"IF(AP87=0,0,AP85*1000/AP87)","v":0},{"$f":"IF(AQ87=0,0,AQ85*1000/AQ87)","v":0},{"$f":"IF(AR87=0,0,AR85*1000/AR87)","v":0}]
[null,null,null,null,null,null,null,null,null,null,null,null,null,null,null,null,null,null,null,null,null,null,null,null,null,null,null,null,null,null,null,"ADJUSTABLE.V",null,null,null,null,null,null,{"$f":"AM85 & \".V\"","v":"BIOX.V"},"Объём","ед.",{"$f":"SUMIF($AS$9:$AT$9,AP$9,$AS87:$AT87)","v":0},0,0]
[null,null,null,null,null,null,null,null,null,null,null,null,null,null,null,null,null,null,null,null,null,null,null,null,null,null,null,null,null,null,null,"ADJUSTABLE.C",null,null,null,null,null,null,"BRFNL","бромфеноловый синий","тыс.руб.",0,0,0]
[null,null,null,null,null,null,null,null,null,null,null,null,null,null,null,null,null,null,null,null,null,null,null,null,null,null,null,null,null,null,null,"ADJUSTABLE.P",null,null,null,null,null,null,{"$f":"AM88 & \".P\"","v":"BRFNL.P"},"Цена за единицу","руб./ед.",{"$f":"IF(AP90=0,0,AP88*1000/AP90)","v":0},{"$f":"IF(AQ90=0,0,AQ88*1000/AQ90)","v":0},{"$f":"IF(AR90=0,0,AR88*1000/AR90)","v":0}]
[null,null,null,null,null,null,null,null,null,null,null,null,null,null,null,null,null,null,null,null,null,null,null,null,null,null,null,null,null,null,null,"ADJUSTABLE.V",null,null,null,null,null,null,{"$f":"AM88 & \".V\"","v":"BRFNL.V"},"Объём","ед.",{"$f":"SUMIF($AS$9:$AT$9,AP$9,$AS90:$AT90)","v":0},0,0]
[null,null,null,null,null,null,null,null,null,null,null,null,null,null,null,null,null,null,null,null,null,null,null,null,null,null,null,null,null,null,null,"ADJUSTABLE.C",null,null,null,null,null,null,"HDOX","водорода перекись","тыс.руб.",0,0,0]
[null,null,null,null,null,null,null,null,null,null,null,null,null,null,null,null,null,null,null,null,null,null,null,null,null,null,null,null,null,null,null,"ADJUSTABLE.P",null,null,null,null,null,null,{"$f":"AM91 & \".P\"","v":"HDOX.P"},"Цена за единицу","руб./ед.",{"$f":"IF(AP93=0,0,AP91*1000/AP93)","v":0},{"$f":"IF(AQ93=0,0,AQ91*1000/AQ93)","v":0},{"$f":"IF(AR93=0,0,AR91*1000/AR93)","v":0}]
[null,null,null,null,null,null,null,null,null,null,null,null,null,null,null,null,null,null,null,null,null,null,null,null,null,null,null,null,null,null,null,"ADJUSTABLE.V",null,null,null,null,null,null,{"$f":"AM91 & \".V\"","v":"HDOX.V"},"Объём","ед.",{"$f":"SUMIF($AS$9:$AT$9,AP$9,$AS93:$AT93)","v":0},0,0]
[null,null,null,null,null,null,null,null,null,null,null,null,null,null,null,null,null,null,null,null,null,null,null,null,null,null,null,null,null,null,null,"ADJUSTABLE.C",null,null,null,null,null,null,"GEXN","гексан","тыс.руб.",0,0,0]
[null,null,null,null,null,null,null,null,null,null,null,null,null,null,null,null,null,null,null,null,null,null,null,null,null,null,null,null,null,null,null,"ADJUSTABLE.P",null,null,null,null,null,null,{"$f":"AM94 & \".P\"","v":"GEXN.P"},"Цена за единицу","руб./ед.",{"$f":"IF(AP96=0,0,AP94*1000/AP96)","v":0},{"$f":"IF(AQ96=0,0,AQ94*1000/AQ96)","v":0},{"$f":"IF(AR96=0,0,AR94*1000/AR96)","v":0}]
[null,null,null,null,null,null,null,null,null,null,null,null,null,null,null,null,null,null,null,null,null,null,null,null,null,null,null,null,null,null,null,"ADJUSTABLE.V",null,null,null,null,null,null,{"$f":"AM94 & \".V\"","v":"GEXN.V"},"Объём","ед.",{"$f":"SUMIF($AS$9:$AT$9,AP$9,$AS96:$AT96)","v":0},0,0]
[null,null,null,null,null,null,null,null,null,null,null,null,null,null,null,null,null,null,null,null,null,null,null,null,null,null,null,null,null,null,null,"ADJUSTABLE.C",null,null,null,null,null,null,"HDOXCL","гидроксиламин солянокислый","тыс.руб.",0,0,0]
[null,null,null,null,null,null,null,null,null,null,null,null,null,null,null,null,null,null,null,null,null,null,null,null,null,null,null,null,null,null,null,"ADJUSTABLE.P",null,null,null,null,null,null,{"$f":"AM97 & \".P\"","v":"HDOXCL.P"},"Цена за единицу","руб./ед.",{"$f":"IF(AP99=0,0,AP97*1000/AP99)","v":0},{"$f":"IF(AQ99=0,0,AQ97*1000/AQ99)","v":0},{"$f":"IF(AR99=0,0,AR97*1000/AR99)","v":0}]
[null,null,null,null,null,null,null,null,null,null,null,null,null,null,null,null,null,null,null,null,null,null,null,null,null,null,null,null,null,null,null,"ADJUSTABLE.V",null,null,null,null,null,null,{"$f":"AM97 & \".V\"","v":"HDOXCL.V"},"Объём","ед.",{"$f":"SUMIF($AS$9:$AT$9,AP$9,$AS99:$AT99)","v":0},0,0]
[null,null,null,null,null,null,null,null,null,null,null,null,null,null,null,null,null,null,null,null,null,null,null,null,null,null,null,null,null,null,null,"ADJUSTABLE.C",null,null,null,null,null,null,"HDCLCA","гидрохлорид кальция","тыс.руб.",0,0,0]
[null,null,null,null,null,null,null,null,null,null,null,null,null,null,null,null,null,null,null,null,null,null,null,null,null,null,null,null,null,null,null,"ADJUSTABLE.P",null,null,null,null,null,null,{"$f":"AM100 & \".P\"","v":"HDCLCA.P"},"Цена за единицу","руб./ед.",{"$f":"IF(AP102=0,0,AP100*1000/AP102)","v":0},{"$f":"IF(AQ102=0,0,AQ100*1000/AQ102)","v":0},{"$f":"IF(AR102=0,0,AR100*1000/AR102)","v":0}]
[null,null,null,null,null,null,null,null,null,null,null,null,null,null,null,null,null,null,null,null,null,null,null,null,null,null,null,null,null,null,null,"ADJUSTABLE.V",null,null,null,null,null,null,{"$f":"AM100 & \".V\"","v":"HDCLCA.V"},"Объём","ед.",{"$f":"SUMIF($AS$9:$AT$9,AP$9,$AS102:$AT102)","v":0},0,0]
[null,null,null,null,null,null,null,null,null,null,null,null,null,null,null,null,null,null,null,null,null,null,null,null,null,null,null,null,null,null,null,"ADJUSTABLE.C",null,null,null,null,null,null,"HPCLCA","гипохлорит кальция","тыс.руб.",0,0,0]
[null,null,null,null,null,null,null,null,null,null,null,null,null,null,null,null,null,null,null,null,null,null,null,null,null,null,null,null,null,null,null,"ADJUSTABLE.P",null,null,null,null,null,null,{"$f":"AM103 & \".P\"","v":"HPCLCA.P"},"Цена за единицу","руб./ед.",{"$f":"IF(AP105=0,0,AP103*1000/AP105)","v":0},{"$f":"IF(AQ105=0,0,AQ103*1000/AQ105)","v":0},{"$f":"IF(AR105=0,0,AR103*1000/AR105)","v":0}]
[null,null,null,null,null,null,null,null,null,null,null,null,null,null,null,null,null,null,null,null,null,null,null,null,null,null,null,null,null,null,null,"ADJUSTABLE.V",null,null,null,null,null,null,{"$f":"AM103 & \".V\"","v":"HPCLCA.V"},"Объём","ед.",{"$f":"SUMIF($AS$9:$AT$9,AP$9,$AS105:$AT105)","v":0},0,0]
[null,null,null,null,null,null,null,null,null,null,null,null,null,null,null,null,null,null,null,null,null,null,null,null,null,null,null,null,null,null,null,"ADJUSTABLE.C",null,null,null,null,null,null,"HPCLNA","гипохлорит натрия","тыс.руб.",0,0,0]
[null,null,null,null,null,null,null,null,null,null,null,null,null,null,null,null,null,null,null,null,null,null,null,null,null,null,null,null,null,null,null,"ADJUSTABLE.P",null,null,null,null,null,null,{"$f":"AM106 & \".P\"","v":"HPCLNA.P"},"Цена за единицу","руб./ед.",{"$f":"IF(AP108=0,0,AP106*1000/AP108)","v":0},{"$f":"IF(AQ108=0,0,AQ106*1000/AQ108)","v":0},{"$f":"IF(AR108=0,0,AR106*1000/AR108)","v":0}]
[null,null,null,null,null,null,null,null,null,null,null,null,null,null,null,null,null,null,null,null,null,null,null,null,null,null,null,null,null,null,null,"ADJUSTABLE.V",null,null,null,null,null,null,{"$f":"AM106 & \".V\"","v":"HPCLNA.V"},"Объём","ед.",{"$f":"SUMIF($AS$9:$AT$9,AP$9,$AS108:$AT108)","v":0},0,0]
[null,null,null,null,null,null,null,null,null,null,null,null,null,null,null,null,null,null,null,null,null,null,null,null,null,null,null,null,null,null,null,"ADJUSTABLE.C",null,null,null,null,null,null,"GLC","глицерин","тыс.руб.",0,0,0]
[null,null,null,null,null,null,null,null,null,null,null,null,null,null,null,null,null,null,null,null,null,null,null,null,null,null,null,null,null,null,null,"ADJUSTABLE.P",null,null,null,null,null,null,{"$f":"AM109 & \".P\"","v":"GLC.P"},"Цена за единицу","руб./ед.",{"$f":"IF(AP111=0,0,AP109*1000/AP111)","v":0},{"$f":"IF(AQ111=0,0,AQ109*1000/AQ111)","v":0},{"$f":"IF(AR111=0,0,AR109*1000/AR111)","v":0}]
[null,null,null,null,null,null,null,null,null,null,null,null,null,null,null,null,null,null,null,null,null,null,null,null,null,null,null,null,null,null,null,"ADJUSTABLE.V",null,null,null,null,null,null,{"$f":"AM109 & \".V\"","v":"GLC.V"},"Объём","ед.",{"$f":"SUMIF($AS$9:$AT$9,AP$9,$AS111:$AT111)","v":0},0,0]
[null,null,null,null,null,null,null,null,null,null,null,null,null,null,null,null,null,null,null,null,null,null,null,null,null,null,null,null,null,null,null,"ADJUSTABLE.C",null,null,null,null,null,null,"DFNLCD","дифенилкарбазид","тыс.руб.",0,0,0]
[null,null,null,null,null,null,null,null,null,null,null,null,null,null,null,null,null,null,null,null,null,null,null,null,null,null,null,null,null,null,null,"ADJUSTABLE.P",null,null,null,null,null,null,{"$f":"AM112 & \".P\"","v":"DFNLCD.P"},"Цена за единицу","руб./ед.",{"$f":"IF(AP114=0,0,AP112*1000/AP114)","v":0},{"$f":"IF(AQ114=0,0,AQ112*1000/AQ114)","v":0},{"$f":"IF(AR114=0,0,AR112*1000/AR114)","v":0}]
[null,null,null,null,null,null,null,null,null,null,null,null,null,null,null,null,null,null,null,null,null,null,null,null,null,null,null,null,null,null,null,"ADJUSTABLE.V",null,null,null,null,null,null,{"$f":"AM112 & \".V\"","v":"DFNLCD.V"},"Объём","ед.",{"$f":"SUMIF($AS$9:$AT$9,AP$9,$AS114:$AT114)","v":0},0,0]
[null,null,null,null,null,null,null,null,null,null,null,null,null,null,null,null,null,null,null,null,null,null,null,null,null,null,null,null,null,null,null,"ADJUSTABLE.C",null,null,null,null,null,null,"DFNLCN","дифенилкарбазон","тыс.руб.",0,0,0]
[null,null,null,null,null,null,null,null,null,null,null,null,null,null,null,null,null,null,null,null,null,null,null,null,null,null,null,null,null,null,null,"ADJUSTABLE.P",null,null,null,null,null,null,{"$f":"AM115 & \".P\"","v":"DFNLCN.P"},"Цена за единицу","руб./ед.",{"$f":"IF(AP117=0,0,AP115*1000/AP117)","v":0},{"$f":"IF(AQ117=0,0,AQ115*1000/AQ117)","v":0},{"$f":"IF(AR117=0,0,AR115*1000/AR117)","v":0}]
[null,null,null,null,null,null,null,null,null,null,null,null,null,null,null,null,null,null,null,null,null,null,null,null,null,null,null,null,null,null,null,"ADJUSTABLE.V",null,null,null,null,null,null,{"$f":"AM115 & \".V\"","v":"DFNLCN.V"},"Объём","ед.",{"$f":"SUMIF($AS$9:$AT$9,AP$9,$AS117:$AT117)","v":0},0,0]
[null,null,null,null,null,null,null,null,null,null,null,null,null,null,null,null,null,null,null,null,null,null,null,null,null,null,null,null,null,null,null,"ADJUSTABLE.C",null,null,null,null,null,null,"FES","железо сернокислое","тыс.руб.",0,0,0]
[null,null,null,null,null,null,null,null,null,null,null,null,null,null,null,null,null,null,null,null,null,null,null,null,null,null,null,null,null,null,null,"ADJUSTABLE.P",null,null,null,null,null,null,{"$f":"AM118 & \".P\"","v":"FES.P"},"Цена за единицу","руб./ед.",{"$f":"IF(AP120=0,0,AP118*1000/AP120)","v":0},{"$f":"IF(AQ120=0,0,AQ118*1000/AQ120)","v":0},{"$f":"IF(AR120=0,0,AR118*1000/AR120)","v":0}]
[null,null,null,null,null,null,null,null,null,null,null,null,null,null,null,null,null,null,null,null,null,null,null,null,null,null,null,null,null,null,null,"ADJUSTABLE.V",null,null,null,null,null,null,{"$f":"AM118 & \".V\"","v":"FES.V"},"Объём","ед.",{"$f":"SUMIF($AS$9:$AT$9,AP$9,$AS120:$AT120)","v":0},0,0]
[null,null,null,null,null,null,null,null,null,null,null,null,null,null,null,null,null,null,null,null,null,null,null,null,null,null,null,null,null,null,null,"ADJUSTABLE.C",null,null,null,null,null,null,"FECL","железо трёххлористое","тыс.руб.",0,0,0]
[null,null,null,null,null,null,null,null,null,null,null,null,null,null,null,null,null,null,null,null,null,null,null,null,null,null,null,null,null,null,null,"ADJUSTABLE.P",null,null,null,null,null,null,{"$f":"AM121 & \".P\"","v":"FECL.P"},"Цена за единицу","руб./ед.",{"$f":"IF(AP123=0,0,AP121*1000/AP123)","v":0},{"$f":"IF(AQ123=0,0,AQ121*1000/AQ123)","v":0},{"$f":"IF(AR123=0,0,AR121*1000/AR123)","v":0}]
[null,null,null,null,null,null,null,null,null,null,null,null,null,null,null,null,null,null,null,null,null,null,null,null,null,null,null,null,null,null,null,"ADJUSTABLE.V",null,null,null,null,null,null,{"$f":"AM121 & \".V\"","v":"FECL.V"},"Объём","ед.",{"$f":"SUMIF($AS$9:$AT$9,AP$9,$AS123:$AT123)","v":0},0,0]
[null,null,null,null,null,null,null,null,null,null,null,null,null,null,null,null,null,null,null,null,null,null,null,null,null,null,null,null,null,null,null,"ADJUSTABLE.C",null,null,null,null,null,null,"LIMENP","известь негашёная (порошок)","тыс.руб.",0,0,0]
[null,null,null,null,null,null,null,null,null,null,null,null,null,null,null,null,null,null,null,null,null,null,null,null,null,null,null,null,null,null,null,"ADJUSTABLE.P",null,null,null,null,null,null,{"$f":"AM124 & \".P\"","v":"LIMENP.P"},"Цена за единицу","руб./ед.",{"$f":"IF(AP126=0,0,AP124*1000/AP126)","v":0},{"$f":"IF(AQ126=0,0,AQ124*1000/AQ126)","v":0},{"$f":"IF(AR126=0,0,AR124*1000/AR126)","v":0}]
[null,null,null,null,null,null,null,null,null,null,null,null,null,null,null,null,null,null,null,null,null,null,null,null,null,null,null,null,null,null,null,"ADJUSTABLE.V",null,null,null,null,null,null,{"$f":"AM124 & \".V\"","v":"LIMENP.V"},"Объём","ед.",{"$f":"SUMIF($AS$9:$AT$9,AP$9,$AS126:$AT126)","v":0},0,0]
[null,null,null,null,null,null,null,null,null,null,null,null,null,null,null,null,null,null,null,null,null,null,null,null,null,null,null,null,null,null,null,"ADJUSTABLE.C",null,null,null,null,null,null,"LIMENH","известь негашёная гидратная","тыс.руб.",0,0,0]
[null,null,null,null,null,null,null,null,null,null,null,null,null,null,null,null,null,null,null,null,null,null,null,null,null,null,null,null,null,null,null,"ADJUSTABLE.P",null,null,null,null,null,null,{"$f":"AM127 & \".P\"","v":"LIMENH.P"},"Цена за единицу","руб./ед.",{"$f":"IF(AP129=0,0,AP127*1000/AP129)","v":0},{"$f":"IF(AQ129=0,0,AQ127*1000/AQ129)","v":0},{"$f":"IF(AR129=0,0,AR127*1000/AR129)","v":0}]
[null,null,null,null,null,null,null,null,null,null,null,null,null,null,null,null,null,null,null,null,null,null,null,null,null,null,null,null,null,null,null,"ADJUSTABLE.V",null,null,null,null,null,null,{"$f":"AM127 & \".V\"","v":"LIMENH.V"},"Объём","ед.",{"$f":"SUMIF($AS$9:$AT$9,AP$9,$AS129:$AT129)","v":0},0,0]
[null,null,null,null,null,null,null,null,null,null,null,null,null,null,null,null,null,null,null,null,null,null,null,null,null,null,null,null,null,null,null,"ADJUSTABLE.C",null,null,null,null,null,null,"LIMECL","известь хлорная","тыс.руб.",0,0,0]
[null,null,null,null,null,null,null,null,null,null,null,null,null,null,null,null,null,null,null,null,null,null,null,null,null,null,null,null,null,null,null,"ADJUSTABLE.P",null,null,null,null,null,null,{"$f":"AM130 & \".P\"","v":"LIMECL.P"},"Цена за единицу","руб./ед.",{"$f":"IF(AP132=0,0,AP130*1000/AP132)","v":0},{"$f":"IF(AQ132=0,0,AQ130*1000/AQ132)","v":0},{"$f":"IF(AR132=0,0,AR130*1000/AR132)","v":0}]
[null,null,null,null,null,null,null,null,null,null,null,null,null,null,null,null,null,null,null,null,null,null,null,null,null,null,null,null,null,null,null,"ADJUSTABLE.V",null,null,null,null,null,null,{"$f":"AM130 & \".V\"","v":"LIMECL.V"},"Объём","ед.",{"$f":"SUMIF($AS$9:$AT$9,AP$9,$AS132:$AT132)","v":0},0,0]
[null,null,null,null,null,null,null,null,null,null,null,null,null,null,null,null,null,null,null,null,null,null,null,null,null,null,null,null,null,null,null,"ADJUSTABLE.C",null,null,null,null,null,null,"KN","калий азотнокислый","тыс.руб.",0,0,0]
[null,null,null,null,null,null,null,null,null,null,null,null,null,null,null,null,null,null,null,null,null,null,null,null,null,null,null,null,null,null,null,"ADJUSTABLE.P",null,null,null,null,null,null,{"$f":"AM133 & \".P\"","v":"KN.P"},"Цена за единицу","руб./ед.",{"$f":"IF(AP135=0,0,AP133*1000/AP135)","v":0},{"$f":"IF(AQ135=0,0,AQ133*1000/AQ135)","v":0},{"$f":"IF(AR135=0,0,AR133*1000/AR135)","v":0}]
[null,null,null,null,null,null,null,null,null,null,null,null,null,null,null,null,null,null,null,null,null,null,null,null,null,null,null,null,null,null,null,"ADJUSTABLE.V",null,null,null,null,null,null,{"$f":"AM133 & \".V\"","v":"KN.V"},"Объём","ед.",{"$f":"SUMIF($AS$9:$AT$9,AP$9,$AS135:$AT135)","v":0},0,0]
[null,null,null,null,null,null,null,null,null,null,null,null,null,null,null,null,null,null,null,null,null,null,null,null,null,null,null,null,null,null,null,"ADJUSTABLE.C",null,null,null,null,null,null,"KCR","калий двухромовокислый","тыс.руб.",0,0,0]
[null,null,null,null,null,null,null,null,null,null,null,null,null,null,null,null,null,null,null,null,null,null,null,null,null,null,null,null,null,null,null,"ADJUSTABLE.P",null,null,null,null,null,null,{"$f":"AM136 & \".P\"","v":"KCR.P"},"Цена за единицу","руб./ед.",{"$f":"IF(AP138=0,0,AP136*1000/AP138)","v":0},{"$f":"IF(AQ138=0,0,AQ136*1000/AQ138)","v":0},{"$f":"IF(AR138=0,0,AR136*1000/AR138)","v":0}]
[null,null,null,null,null,null,null,null,null,null,null,null,null,null,null,null,null,null,null,null,null,null,null,null,null,null,null,null,null,null,null,"ADJUSTABLE.V",null,null,null,null,null,null,{"$f":"AM136 & \".V\"","v":"KCR.V"},"Объём","ед.",{"$f":"SUMIF($AS$9:$AT$9,AP$9,$AS138:$AT138)","v":0},0,0]
[null,null,null,null,null,null,null,null,null,null,null,null,null,null,null,null,null,null,null,null,null,null,null,null,null,null,null,null,null,null,null,"ADJUSTABLE.C",null,null,null,null,null,null,"KI","калий йодистый","тыс.руб.",0,0,0]
[null,null,null,null,null,null,null,null,null,null,null,null,null,null,null,null,null,null,null,null,null,null,null,null,null,null,null,null,null,null,null,"ADJUSTABLE.P",null,null,null,null,null,null,{"$f":"AM139 & \".P\"","v":"KI.P"},"Цена за единицу","руб./ед.",{"$f":"IF(AP141=0,0,AP139*1000/AP141)","v":0},{"$f":"IF(AQ141=0,0,AQ139*1000/AQ141)","v":0},{"$f":"IF(AR141=0,0,AR139*1000/AR141)","v":0}]
[null,null,null,null,null,null,null,null,null,null,null,null,null,null,null,null,null,null,null,null,null,null,null,null,null,null,null,null,null,null,null,"ADJUSTABLE.V",null,null,null,null,null,null,{"$f":"AM139 & \".V\"","v":"KI.V"},"Объём","ед.",{"$f":"SUMIF($AS$9:$AT$9,AP$9,$AS141:$AT141)","v":0},0,0]
[null,null,null,null,null,null,null,null,null,null,null,null,null,null,null,null,null,null,null,null,null,null,null,null,null,null,null,null,null,null,null,"ADJUSTABLE.C",null,null,null,null,null,null,"KMN","калий марганцевокислый","тыс.руб.",0,0,0]
[null,null,null,null,null,null,null,null,null,null,null,null,null,null,null,null,null,null,null,null,null,null,null,null,null,null,null,null,null,null,null,"ADJUSTABLE.P",null,null,null,null,null,null,{"$f":"AM142 & \".P\"","v":"KMN.P"},"Цена за единицу","руб./ед.",{"$f":"IF(AP144=0,0,AP142*1000/AP144)","v":0},{"$f":"IF(AQ144=0,0,AQ142*1000/AQ144)","v":0},{"$f":"IF(AR144=0,0,AR142*1000/AR144)","v":0}]
[null,null,null,null,null,null,null,null,null,null,null,null,null,null,null,null,null,null,null,null,null,null,null,null,null,null,null,null,null,null,null,"ADJUSTABLE.V",null,null,null,null,null,null,{"$f":"AM142 & \".V\"","v":"KMN.V"},"Объём","ед.",{"$f":"SUMIF($AS$9:$AT$9,AP$9,$AS144:$AT144)","v":0},0,0]
[null,null,null,null,null,null,null,null,null,null,null,null,null,null,null,null,null,null,null,null,null,null,null,null,null,null,null,null,null,null,null,"ADJUSTABLE.C",null,null,null,null,null,null,"KP","калий фосфорнокислый","тыс.руб.",0,0,0]
[null,null,null,null,null,null,null,null,null,null,null,null,null,null,null,null,null,null,null,null,null,null,null,null,null,null,null,null,null,null,null,"ADJUSTABLE.P",null,null,null,null,null,null,{"$f":"AM145 & \".P\"","v":"KP.P"},"Цена за единицу","руб./ед.",{"$f":"IF(AP147=0,0,AP145*1000/AP147)","v":0},{"$f":"IF(AQ147=0,0,AQ145*1000/AQ147)","v":0},{"$f":"IF(AR147=0,0,AR145*1000/AR147)","v":0}]
[null,null,null,null,null,null,null,null,null,null,null,null,null,null,null,null,null,null,null,null,null,null,null,null,null,null,null,null,null,null,null,"ADJUSTABLE.V",null,null,null,null,null,null,{"$f":"AM145 & \".V\"","v":"KP.V"},"Объём","ед.",{"$f":"SUMIF($AS$9:$AT$9,AP$9,$AS147:$AT147)","v":0},0,0]
[null,null,null,null,null,null,null,null,null,null,null,null,null,null,null,null,null,null,null,null,null,null,null,null,null,null,null,null,null,null,null,"ADJUSTABLE.C",null,null,null,null,null,null,"HCL","калий хлористый","тыс.руб.",0,0,0]
[null,null,null,null,null,null,null,null,null,null,null,null,null,null,null,null,null,null,null,null,null,null,null,null,null,null,null,null,null,null,null,"ADJUSTABLE.P",null,null,null,null,null,null,{"$f":"AM148 & \".P\"","v":"HCL.P"},"Цена за единицу","руб./ед.",{"$f":"IF(AP150=0,0,AP148*1000/AP150)","v":0},{"$f":"IF(AQ150=0,0,AQ148*1000/AQ150)","v":0},{"$f":"IF(AR150=0,0,AR148*1000/AR150)","v":0}]
[null,null,null,null,null,null,null,null,null,null,null,null,null,null,null,null,null,null,null,null,null,null,null,null,null,null,null,null,null,null,null,"ADJUSTABLE.V",null,null,null,null,null,null,{"$f":"AM148 & \".V\"","v":"HCL.V"},"Объём","ед.",{"$f":"SUMIF($AS$9:$AT$9,AP$9,$AS150:$AT150)","v":0},0,0]
[null,null,null,null,null,null,null,null,null,null,null,null,null,null,null,null,null,null,null,null,null,null,null,null,null,null,null,null,null,null,null,"ADJUSTABLE.C",null,null,null,null,null,null,"KNA","калий-натрий виннокислый","тыс.руб.",0,0,0]
[null,null,null,null,null,null,null,null,null,null,null,null,null,null,null,null,null,null,null,null,null,null,null,null,null,null,null,null,null,null,null,"ADJUSTABLE.P",null,null,null,null,null,null,{"$f":"AM151 & \".P\"","v":"KNA.P"},"Цена за единицу","руб./ед.",{"$f":"IF(AP153=0,0,AP151*1000/AP153)","v":0},{"$f":"IF(AQ153=0,0,AQ151*1000/AQ153)","v":0},{"$f":"IF(AR153=0,0,AR151*1000/AR153)","v":0}]
[null,null,null,null,null,null,null,null,null,null,null,null,null,null,null,null,null,null,null,null,null,null,null,null,null,null,null,null,null,null,null,"ADJUSTABLE.V",null,null,null,null,null,null,{"$f":"AM151 & \".V\"","v":"KNA.V"},"Объём","ед.",{"$f":"SUMIF($AS$9:$AT$9,AP$9,$AS153:$AT153)","v":0},0,0]
[null,null,null,null,null,null,null,null,null,null,null,null,null,null,null,null,null,null,null,null,null,null,null,null,null,null,null,null,null,null,null,"ADJUSTABLE.C",null,null,null,null,null,null,"CAC","кальций углекислый","тыс.руб.",0,0,0]
[null,null,null,null,null,null,null,null,null,null,null,null,null,null,null,null,null,null,null,null,null,null,null,null,null,null,null,null,null,null,null,"ADJUSTABLE.P",null,null,null,null,null,null,{"$f":"AM154 & \".P\"","v":"CAC.P"},"Цена за единицу","руб./ед.",{"$f":"IF(AP156=0,0,AP154*1000/AP156)","v":0},{"$f":"IF(AQ156=0,0,AQ154*1000/AQ156)","v":0},{"$f":"IF(AR156=0,0,AR154*1000/AR156)","v":0}]
[null,null,null,null,null,null,null,null,null,null,null,null,null,null,null,null,null,null,null,null,null,null,null,null,null,null,null,null,null,null,null,"ADJUSTABLE.V",null,null,null,null,null,null,{"$f":"AM154 & \".V\"","v":"CAC.V"},"Объём","ед.",{"$f":"SUMIF($AS$9:$AT$9,AP$9,$AS156:$AT156)","v":0},0,0]
[null,null,null,null,null,null,null,null,null,null,null,null,null,null,null,null,null,null,null,null,null,null,null,null,null,null,null,null,null,null,null,"ADJUSTABLE.C",null,null,null,null,null,null,"CACL","кальций хлористый","тыс.руб.",0,0,0]
[null,null,null,null,null,null,null,null,null,null,null,null,null,null,null,null,null,null,null,null,null,null,null,null,null,null,null,null,null,null,null,"ADJUSTABLE.P",null,null,null,null,null,null,{"$f":"AM157 & \".P\"","v":"CACL.P"},"Цена за единицу","руб./ед.",{"$f":"IF(AP159=0,0,AP157*1000/AP159)","v":0},{"$f":"IF(AQ159=0,0,AQ157*1000/AQ159)","v":0},{"$f":"IF(AR159=0,0,AR157*1000/AR159)","v":0}]
[null,null,null,null,null,null,null,null,null,null,null,null,null,null,null,null,null,null,null,null,null,null,null,null,null,null,null,null,null,null,null,"ADJUSTABLE.V",null,null,null,null,null,null,{"$f":"AM157 & \".V\"","v":"CACL.V"},"Объём","ед.",{"$f":"SUMIF($AS$9:$AT$9,AP$9,$AS159:$AT159)","v":0},0,0]
[null,null,null,null,null,null,null,null,null,null,null,null,null,null,null,null,null,null,null,null,null,null,null,null,null,null,null,null,null,null,null,"ADJUSTABLE.C",null,null,null,null,null,null,"CAHPCL","кальция гипохлорит","тыс.руб.",0,0,0]
[null,null,null,null,null,null,null,null,null,null,null,null,null,null,null,null,null,null,null,null,null,null,null,null,null,null,null,null,null,null,null,"ADJUSTABLE.P",null,null,null,null,null,null,{"$f":"AM160 & \".P\"","v":"CAHPCL.P"},"Цена за единицу","руб./ед.",{"$f":"IF(AP162=0,0,AP160*1000/AP162)","v":0},{"$f":"IF(AQ162=0,0,AQ160*1000/AQ162)","v":0},{"$f":"IF(AR162=0,0,AR160*1000/AR162)","v":0}]
[null,null,null,null,null,null,null,null,null,null,null,null,null,null,null,null,null,null,null,null,null,null,null,null,null,null,null,null,null,null,null,"ADJUSTABLE.V",null,null,null,null,null,null,{"$f":"AM160 & \".V\"","v":"CAHPCL.V"},"Объём","ед.",{"$f":"SUMIF($AS$9:$AT$9,AP$9,$AS162:$AT162)","v":0},0,0]
[null,null,null,null,null,null,null,null,null,null,null,null,null,null,null,null,null,null,null,null,null,null,null,null,null,null,null,null,null,null,null,"ADJUSTABLE.C",null,null,null,null,null,null,"SAND","кварцевый песок","тыс.руб.",0,0,0]
[null,null,null,null,null,null,null,null,null,null,null,null,null,null,null,null,null,null,null,null,null,null,null,null,null,null,null,null,null,null,null,"ADJUSTABLE.P",null,null,null,null,null,null,{"$f":"AM163 & \".P\"","v":"SAND.P"},"Цена за единицу","руб./ед.",{"$f":"IF(AP165=0,0,AP163*1000/AP165)","v":0},{"$f":"IF(AQ165=0,0,AQ163*1000/AQ165)","v":0},{"$f":"IF(AR165=0,0,AR163*1000/AR165)","v":0}]
[null,null,null,null,null,null,null,null,null,null,null,null,null,null,null,null,null,null,null,null,null,null,null,null,null,null,null,null,null,null,null,"ADJUSTABLE.V",null,null,null,null,null,null,{"$f":"AM163 & \".V\"","v":"SAND.V"},"Объём","ед.",{"$f":"SUMIF($AS$9:$AT$9,AP$9,$AS165:$AT165)","v":0},0,0]
[null,null,null,null,null,null,null,null,null,null,null,null,null,null,null,null,null,null,null,null,null,null,null,null,null,null,null,null,null,null,null,"ADJUSTABLE.C",null,null,null,null,null,null,"ACIDN","кислота азотная","тыс.руб.",0,0,0]
[null,null,null,null,null,null,null,null,null,null,null,null,null,null,null,null,null,null,null,null,null,null,null,null,null,null,null,null,null,null,null,"ADJUSTABLE.P",null,null,null,null,null,null,{"$f":"AM166 & \".P\"","v":"ACIDN.P"},"Цена за единицу","руб./ед.",{"$f":"IF(AP168=0,0,AP166*1000/AP168)","v":0},{"$f":"IF(AQ168=0,0,AQ166*1000/AQ168)","v":0},{"$f":"IF(AR168=0,0,AR166*1000/AR168)","v":0}]
[null,null,null,null,null,null,null,null,null,null,null,null,null,null,null,null,null,null,null,null,null,null,null,null,null,null,null,null,null,null,null,"ADJUSTABLE.V",null,null,null,null,null,null,{"$f":"AM166 & \".V\"","v":"ACIDN.V"},"Объём","ед.",{"$f":"SUMIF($AS$9:$AT$9,AP$9,$AS168:$AT168)","v":0},0,0]
[null,null,null,null,null,null,null,null,null,null,null,null,null,null,null,null,null,null,null,null,null,null,null,null,null,null,null,null,null,null,null,"ADJUSTABLE.C",null,null,null,null,null,null,"ACIDA","кислота аскорбиновая","тыс.руб.",0,0,0]
[null,null,null,null,null,null,null,null,null,null,null,null,null,null,null,null,null,null,null,null,null,null,null,null,null,null,null,null,null,null,null,"ADJUSTABLE.P",null,null,null,null,null,null,{"$f":"AM169 & \".P\"","v":"ACIDA.P"},"Цена за единицу","руб./ед.",{"$f":"IF(AP171=0,0,AP169*1000/AP171)","v":0},{"$f":"IF(AQ171=0,0,AQ169*1000/AQ171)","v":0},{"$f":"IF(AR171=0,0,AR169*1000/AR171)","v":0}]
[null,null,null,null,null,null,null,null,null,null,null,null,null,null,null,null,null,null,null,null,null,null,null,null,null,null,null,null,null,null,null,"ADJUSTABLE.V",null,null,null,null,null,null,{"$f":"AM169 & \".V\"","v":"ACIDA.V"},"Объём","ед.",{"$f":"SUMIF($AS$9:$AT$9,AP$9,$AS171:$AT171)","v":0},0,0]
[null,null,null,null,null,null,null,null,null,null,null,null,null,null,null,null,null,null,null,null,null,null,null,null,null,null,null,null,null,null,null,"ADJUSTABLE.C",null,null,null,null,null,null,"ACIDL","кислота лимонная","тыс.руб.",0,0,0]
[null,null,null,null,null,null,null,null,null,null,null,null,null,null,null,null,null,null,null,null,null,null,null,null,null,null,null,null,null,null,null,"ADJUSTABLE.P",null,null,null,null,null,null,{"$f":"AM172 & \".P\"","v":"ACIDL.P"},"Цена за единицу","руб./ед.",{"$f":"IF(AP174=0,0,AP172*1000/AP174)","v":0},{"$f":"IF(AQ174=0,0,AQ172*1000/AQ174)","v":0},{"$f":"IF(AR174=0,0,AR172*1000/AR174)","v":0}]
[null,null,null,null,null,null,null,null,null,null,null,null,null,null,null,null,null,null,null,null,null,null,null,null,null,null,null,null,null,null,null,"ADJUSTABLE.V",null,null,null,null,null,null,{"$f":"AM172 & \".V\"","v":"ACIDL.V"},"Объём","ед.",{"$f":"SUMIF($AS$9:$AT$9,AP$9,$AS174:$AT174)","v":0},0,0]
[null,null,null,null,null,null,null,null,null,null,null,null,null,null,null,null,null,null,null,null,null,null,null,null,null,null,null,null,null,null,null,"ADJUSTABLE.C",null,null,null,null,null,null,"AURIN","кислота розоловая (аурин)","тыс.руб.",0,0,0]
[null,null,null,null,null,null,null,null,null,null,null,null,null,null,null,null,null,null,null,null,null,null,null,null,null,null,null,null,null,null,null,"ADJUSTABLE.P",null,null,null,null,null,null,{"$f":"AM175 & \".P\"","v":"AURIN.P"},"Цена за единицу","руб./ед.",{"$f":"IF(AP177=0,0,AP175*1000/AP177)","v":0},{"$f":"IF(AQ177=0,0,AQ175*1000/AQ177)","v":0},{"$f":"IF(AR177=0,0,AR175*1000/AR177)","v":0}]
[null,null,null,null,null,null,null,null,null,null,null,null,null,null,null,null,null,null,null,null,null,null,null,null,null,null,null,null,null,null,null,"ADJUSTABLE.V",null,null,null,null,null,null,{"$f":"AM175 & \".V\"","v":"AURIN.V"},"Объём","ед.",{"$f":"SUMIF($AS$9:$AT$9,AP$9,$AS177:$AT177)","v":0},0,0]
[null,null,null,null,null,null,null,null,null,null,null,null,null,null,null,null,null,null,null,null,null,null,null,null,null,null,null,null,null,null,null,"ADJUSTABLE.C",null,null,null,null,null,null,"ACIDS","кислота серная","тыс.руб.",0,0,0]
[null,null,null,null,null,null,null,null,null,null,null,null,null,null,null,null,null,null,null,null,null,null,null,null,null,null,null,null,null,null,null,"ADJUSTABLE.P",null,null,null,null,null,null,{"$f":"AM178 & \".P\"","v":"ACIDS.P"},"Цена за единицу","руб./ед.",{"$f":"IF(AP180=0,0,AP178*1000/AP180)","v":0},{"$f":"IF(AQ180=0,0,AQ178*1000/AQ180)","v":0},{"$f":"IF(AR180=0,0,AR178*1000/AR180)","v":0}]
[null,null,null,null,null,null,null,null,null,null,null,null,null,null,null,null,null,null,null,null,null,null,null,null,null,null,null,null,null,null,null,"ADJUSTABLE.V",null,null,null,null,null,null,{"$f":"AM178 & \".V\"","v":"ACIDS.V"},"Объём","ед.",{"$f":"SUMIF($AS$9:$AT$9,AP$9,$AS180:$AT180)","v":0},0,0]
[null,null,null,null,null,null,null,null,null,null,null,null,null,null,null,null,null,null,null,null,null,null,null,null,null,null,null,null,null,null,null,"ADJUSTABLE.C",null,null,null,null,null,null,"ADIDCL","кислота соляная","тыс.руб.",0,0,0]
[null,null,null,null,null,null,null,null,null,null,null,null,null,null,null,null,null,null,null,null,null,null,null,null,null,null,null,null,null,null,null,"ADJUSTABLE.P",null,null,null,null,null,null,{"$f":"AM181 & \".P\"","v":"ADIDCL.P"},"Цена за единицу","руб./ед.",{"$f":"IF(AP183=0,0,AP181*1000/AP183)","v":0},{"$f":"IF(AQ183=0,0,AQ181*1000/AQ183)","v":0},{"$f":"IF(AR183=0,0,AR181*1000/AR183)","v":0}]
[null,null,null,null,null,null,null,null,null,null,null,null,null,null,null,null,null,null,null,null,null,null,null,null,null,null,null,null,null,null,null,"ADJUSTABLE.V",null,null,null,null,null,null,{"$f":"AM181 & \".V\"","v":"ADIDCL.V"},"Объём","ед.",{"$f":"SUMIF($AS$9:$AT$9,AP$9,$AS183:$AT183)","v":0},0,0]
[null,null,null,null,null,null,null,null,null,null,null,null,null,null,null,null,null,null,null,null,null,null,null,null,null,null,null,null,null,null,null,"ADJUSTABLE.C",null,null,null,null,null,null,"ACIDAC","кислота уксусная","тыс.руб.",0,0,0]
[null,null,null,null,null,null,null,null,null,null,null,null,null,null,null,null,null,null,null,null,null,null,null,null,null,null,null,null,null,null,null,"ADJUSTABLE.P",null,null,null,null,null,null,{"$f":"AM184 & \".P\"","v":"ACIDAC.P"},"Цена за единицу","руб./ед.",{"$f":"IF(AP186=0,0,AP184*1000/AP186)","v":0},{"$f":"IF(AQ186=0,0,AQ184*1000/AQ186)","v":0},{"$f":"IF(AR186=0,0,AR184*1000/AR186)","v":0}]
[null,null,null,null,null,null,null,null,null,null,null,null,null,null,null,null,null,null,null,null,null,null,null,null,null,null,null,null,null,null,null,"ADJUSTABLE.V",null,null,null,null,null,null,{"$f":"AM184 & \".V\"","v":"ACIDAC.V"},"Объём","ед.",{"$f":"SUMIF($AS$9:$AT$9,AP$9,$AS186:$AT186)","v":0},0,0]
[null,null,null,null,null,null,null,null,null,null,null,null,null,null,null,null,null,null,null,null,null,null,null,null,null,null,null,null,null,null,null,"ADJUSTABLE.C",null,null,null,null,null,null,"ACIDOX","кислота щавелевая","тыс.руб.",0,0,0]
[null,null,null,null,null,null,null,null,null,null,null,null,null,null,null,null,null,null,null,null,null,null,null,null,null,null,null,null,null,null,null,"ADJUSTABLE.P",null,null,null,null,null,null,{"$f":"AM187 & \".P\"","v":"ACIDOX.P"},"Цена за единицу","руб./ед.",{"$f":"IF(AP189=0,0,AP187*1000/AP189)","v":0},{"$f":"IF(AQ189=0,0,AQ187*1000/AQ189)","v":0},{"$f":"IF(AR189=0,0,AR187*1000/AR189)","v":0}]
[null,null,null,null,null,null,null,null,null,null,null,null,null,null,null,null,null,null,null,null,null,null,null,null,null,null,null,null,null,null,null,"ADJUSTABLE.V",null,null,null,null,null,null,{"$f":"AM187 & \".V\"","v":"ACIDOX.V"},"Объём","ед.",{"$f":"SUMIF($AS$9:$AT$9,AP$9,$AS189:$AT189)","v":0},0,0]
[null,null,null,null,null,null,null,null,null,null,null,null,null,null,null,null,null,null,null,null,null,null,null,null,null,null,null,null,null,null,null,"ADJUSTABLE.C",null,null,null,null,null,null,"STARCH","крахмал","тыс.руб.",0,0,0]
[null,null,null,null,null,null,null,null,null,null,null,null,null,null,null,null,null,null,null,null,null,null,null,null,null,null,null,null,null,null,null,"ADJUSTABLE.P",null,null,null,null,null,null,{"$f":"AM190 & \".P\"","v":"STARCH.P"},"Цена за единицу","руб./ед.",{"$f":"IF(AP192=0,0,AP190*1000/AP192)","v":0},{"$f":"IF(AQ192=0,0,AQ190*1000/AQ192)","v":0},{"$f":"IF(AR192=0,0,AR190*1000/AR192)","v":0}]
[null,null,null,null,null,null,null,null,null,null,null,null,null,null,null,null,null,null,null,null,null,null,null,null,null,null,null,null,null,null,null,"ADJUSTABLE.V",null,null,null,null,null,null,{"$f":"AM190 & \".V\"","v":"STARCH.V"},"Объём","ед.",{"$f":"SUMIF($AS$9:$AT$9,AP$9,$AS192:$AT192)","v":0},0,0]
[null,null,null,null,null,null,null,null,null,null,null,null,null,null,null,null,null,null,null,null,null,null,null,null,null,null,null,null,null,null,null,"ADJUSTABLE.C",null,null,null,null,null,null,"LANTN","лантан азотнокислый","тыс.руб.",0,0,0]
[null,null,null,null,null,null,null,null,null,null,null,null,null,null,null,null,null,null,null,null,null,null,null,null,null,null,null,null,null,null,null,"ADJUSTABLE.P",null,null,null,null,null,null,{"$f":"AM193 & \".P\"","v":"LANTN.P"},"Цена за единицу","руб./ед.",{"$f":"IF(AP195=0,0,AP193*1000/AP195)","v":0},{"$f":"IF(AQ195=0,0,AQ193*1000/AQ195)","v":0},{"$f":"IF(AR195=0,0,AR193*1000/AR195)","v":0}]
[null,null,null,null,null,null,null,null,null,null,null,null,null,null,null,null,null,null,null,null,null,null,null,null,null,null,null,null,null,null,null,"ADJUSTABLE.V",null,null,null,null,null,null,{"$f":"AM193 & \".V\"","v":"LANTN.V"},"Объём","ед.",{"$f":"SUMIF($AS$9:$AT$9,AP$9,$AS195:$AT195)","v":0},0,0]
[null,null,null,null,null,null,null,null,null,null,null,null,null,null,null,null,null,null,null,null,null,null,null,null,null,null,null,null,null,null,null,"ADJUSTABLE.C",null,null,null,null,null,null,"MGS","магний сернокислый","тыс.руб.",0,0,0]
[null,null,null,null,null,null,null,null,null,null,null,null,null,null,null,null,null,null,null,null,null,null,null,null,null,null,null,null,null,null,null,"ADJUSTABLE.P",null,null,null,null,null,null,{"$f":"AM196 & \".P\"","v":"MGS.P"},"Цена за единицу","руб./ед.",{"$f":"IF(AP198=0,0,AP196*1000/AP198)","v":0},{"$f":"IF(AQ198=0,0,AQ196*1000/AQ198)","v":0},{"$f":"IF(AR198=0,0,AR196*1000/AR198)","v":0}]
[null,null,null,null,null,null,null,null,null,null,null,null,null,null,null,null,null,null,null,null,null,null,null,null,null,null,null,null,null,null,null,"ADJUSTABLE.V",null,null,null,null,null,null,{"$f":"AM196 & \".V\"","v":"MGS.V"},"Объём","ед.",{"$f":"SUMIF($AS$9:$AT$9,AP$9,$AS198:$AT198)","v":0},0,0]
[null,null,null,null,null,null,null,null,null,null,null,null,null,null,null,null,null,null,null,null,null,null,null,null,null,null,null,null,null,null,null,"ADJUSTABLE.C",null,null,null,null,null,null,"NATR","натр едкий","тыс.руб.",0,0,0]
[null,null,null,null,null,null,null,null,null,null,null,null,null,null,null,null,null,null,null,null,null,null,null,null,null,null,null,null,null,null,null,"ADJUSTABLE.P",null,null,null,null,null,null,{"$f":"AM199 & \".P\"","v":"NATR.P"},"Цена за единицу","руб./ед.",{"$f":"IF(AP201=0,0,AP199*1000/AP201)","v":0},{"$f":"IF(AQ201=0,0,AQ199*1000/AQ201)","v":0},{"$f":"IF(AR201=0,0,AR199*1000/AR201)","v":0}]
[null,null,null,null,null,null,null,null,null,null,null,null,null,null,null,null,null,null,null,null,null,null,null,null,null,null,null,null,null,null,null,"ADJUSTABLE.V",null,null,null,null,null,null,{"$f":"AM199 & \".V\"","v":"NATR.V"},"Объём","ед.",{"$f":"SUMIF($AS$9:$AT$9,AP$9,$AS201:$AT201)","v":0},0,0]
[null,null,null,null,null,null,null,null,null,null,null,null,null,null,null,null,null,null,null,null,null,null,null,null,null,null,null,null,null,null,null,"ADJUSTABLE.C",null,null,null,null,null,null,"NAHDOX","натрий гидроокись","тыс.руб.",0,0,0]
[null,null,null,null,null,null,null,null,null,null,null,null,null,null,null,null,null,null,null,null,null,null,null,null,null,null,null,null,null,null,null,"ADJUSTABLE.P",null,null,null,null,null,null,{"$f":"AM202 & \".P\"","v":"NAHDOX.P"},"Цена за единицу","руб./ед.",{"$f":"IF(AP204=0,0,AP202*1000/AP204)","v":0},{"$f":"IF(AQ204=0,0,AQ202*1000/AQ204)","v":0},{"$f":"IF(AR204=0,0,AR202*1000/AR204)","v":0}]
[null,null,null,null,null,null,null,null,null,null,null,null,null,null,null,null,null,null,null,null,null,null,null,null,null,null,null,null,null,null,null,"ADJUSTABLE.V",null,null,null,null,null,null,{"$f":"AM202 & \".V\"","v":"NAHDOX.V"},"Объём","ед.",{"$f":"SUMIF($AS$9:$AT$9,AP$9,$AS204:$AT204)","v":0},0,0]
[null,null,null,null,null,null,null,null,null,null,null,null,null,null,null,null,null,null,null,null,null,null,null,null,null,null,null,null,null,null,null,"ADJUSTABLE.C",null,null,null,null,null,null,"NASLC","натрий салициловокислый","тыс.руб.",0,0,0]
[null,null,null,null,null,null,null,null,null,null,null,null,null,null,null,null,null,null,null,null,null,null,null,null,null,null,null,null,null,null,null,"ADJUSTABLE.P",null,null,null,null,null,null,{"$f":"AM205 & \".P\"","v":"NASLC.P"},"Цена за единицу","руб./ед.",{"$f":"IF(AP207=0,0,AP205*1000/AP207)","v":0},{"$f":"IF(AQ207=0,0,AQ205*1000/AQ207)","v":0},{"$f":"IF(AR207=0,0,AR205*1000/AR207)","v":0}]
[null,null,null,null,null,null,null,null,null,null,null,null,null,null,null,null,null,null,null,null,null,null,null,null,null,null,null,null,null,null,null,"ADJUSTABLE.V",null,null,null,null,null,null,{"$f":"AM205 & \".V\"","v":"NASLC.V"},"Объём","ед.",{"$f":"SUMIF($AS$9:$AT$9,AP$9,$AS207:$AT207)","v":0},0,0]
[null,null,null,null,null,null,null,null,null,null,null,null,null,null,null,null,null,null,null,null,null,null,null,null,null,null,null,null,null,null,null,"ADJUSTABLE.C",null,null,null,null,null,null,"NAS","натрий сернокислый","тыс.руб.",0,0,0]
[null,null,null,null,null,null,null,null,null,null,null,null,null,null,null,null,null,null,null,null,null,null,null,null,null,null,null,null,null,null,null,"ADJUSTABLE.P",null,null,null,null,null,null,{"$f":"AM208 & \".P\"","v":"NAS.P"},"Цена за единицу","руб./ед.",{"$f":"IF(AP210=0,0,AP208*1000/AP210)","v":0},{"$f":"IF(AQ210=0,0,AQ208*1000/AQ210)","v":0},{"$f":"IF(AR210=0,0,AR208*1000/AR210)","v":0}]
[null,null,null,null,null,null,null,null,null,null,null,null,null,null,null,null,null,null,null,null,null,null,null,null,null,null,null,null,null,null,null,"ADJUSTABLE.V",null,null,null,null,null,null,{"$f":"AM208 & \".V\"","v":"NAS.V"},"Объём","ед.",{"$f":"SUMIF($AS$9:$AT$9,AP$9,$AS210:$AT210)","v":0},0,0]
[null,null,null,null,null,null,null,null,null,null,null,null,null,null,null,null,null,null,null,null,null,null,null,null,null,null,null,null,null,null,null,"ADJUSTABLE.C",null,null,null,null,null,null,"NAC","натрий углекислый","тыс.руб.",0,0,0]
[null,null,null,null,null,null,null,null,null,null,null,null,null,null,null,null,null,null,null,null,null,null,null,null,null,null,null,null,null,null,null,"ADJUSTABLE.P",null,null,null,null,null,null,{"$f":"AM211 & \".P\"","v":"NAC.P"},"Цена за единицу","руб./ед.",{"$f":"IF(AP213=0,0,AP211*1000/AP213)","v":0},{"$f":"IF(AQ213=0,0,AQ211*1000/AQ213)","v":0},{"$f":"IF(AR213=0,0,AR211*1000/AR213)","v":0}]
[null,null,null,null,null,null,null,null,null,null,null,null,null,null,null,null,null,null,null,null,null,null,null,null,null,null,null,null,null,null,null,"ADJUSTABLE.V",null,null,null,null,null,null,{"$f":"AM211 & \".V\"","v":"NAC.V"},"Объём","ед.",{"$f":"SUMIF($AS$9:$AT$9,AP$9,$AS213:$AT213)","v":0},0,0]
[null,null,null,null,null,null,null,null,null,null,null,null,null,null,null,null,null,null,null,null,null,null,null,null,null,null,null,null,null,null,null,"ADJUSTABLE.C",null,null,null,null,null,null,"NAAC","натрий уксуснокислый","тыс.руб.",0,0,0]
[null,null,null,null,null,null,null,null,null,null,null,null,null,null,null,null,null,null,null,null,null,null,null,null,null,null,null,null,null,null,null,"ADJUSTABLE.P",null,null,null,null,null,null,{"$f":"AM214 & \".P\"","v":"NAAC.P"},"Цена за единицу","руб./ед.",{"$f":"IF(AP216=0,0,AP214*1000/AP216)","v":0},{"$f":"IF(AQ216=0,0,AQ214*1000/AQ216)","v":0},{"$f":"IF(AR216=0,0,AR214*1000/AR216)","v":0}]
[null,null,null,null,null,null,null,null,null,null,null,null,null,null,null,null,null,null,null,null,null,null,null,null,null,null,null,null,null,null,null,"ADJUSTABLE.V",null,null,null,null,null,null,{"$f":"AM214 & \".V\"","v":"NAAC.V"},"Объём","ед.",{"$f":"SUMIF($AS$9:$AT$9,AP$9,$AS216:$AT216)","v":0},0,0]
[null,null,null,null,null,null,null,null,null,null,null,null,null,null,null,null,null,null,null,null,null,null,null,null,null,null,null,null,null,null,null,"ADJUSTABLE.C",null,null,null,null,null,null,"NACL","натрий хлористый","тыс.руб.",0,0,0]
[null,null,null,null,null,null,null,null,null,null,null,null,null,null,null,null,null,null,null,null,null,null,null,null,null,null,null,null,null,null,null,"ADJUSTABLE.P",null,null,null,null,null,null,{"$f":"AM217 & \".P\"","v":"NACL.P"},"Цена за единицу","руб./ед.",{"$f":"IF(AP219=0,0,AP217*1000/AP219)","v":0},{"$f":"IF(AQ219=0,0,AQ217*1000/AQ219)","v":0},{"$f":"IF(AR219=0,0,AR217*1000/AR219)","v":0}]
[null,null,null,null,null,null,null,null,null,null,null,null,null,null,null,null,null,null,null,null,null,null,null,null,null,null,null,null,null,null,null,"ADJUSTABLE.V",null,null,null,null,null,null,{"$f":"AM217 & \".V\"","v":"NACL.V"},"Объём","ед.",{"$f":"SUMIF($AS$9:$AT$9,AP$9,$AS219:$AT219)","v":0},0,0]
[null,null,null,null,null,null,null,null,null,null,null,null,null,null,null,null,null,null,null,null,null,null,null,null,null,null,null,null,null,null,null,"ADJUSTABLE.C",null,null,null,null,null,null,"RGRS","реактив Грисса","тыс.руб.",0,0,0]
[null,null,null,null,null,null,null,null,null,null,null,null,null,null,null,null,null,null,null,null,null,null,null,null,null,null,null,null,null,null,null,"ADJUSTABLE.P",null,null,null,null,null,null,{"$f":"AM220 & \".P\"","v":"RGRS.P"},"Цена за единицу","руб./ед.",{"$f":"IF(AP222=0,0,AP220*1000/AP222)","v":0},{"$f":"IF(AQ222=0,0,AQ220*1000/AQ222)","v":0},{"$f":"IF(AR222=0,0,AR220*1000/AR222)","v":0}]
[null,null,null,null,null,null,null,null,null,null,null,null,null,null,null,null,null,null,null,null,null,null,null,null,null,null,null,null,null,null,null,"ADJUSTABLE.V",null,null,null,null,null,null,{"$f":"AM220 & \".V\"","v":"RGRS.V"},"Объём","ед.",{"$f":"SUMIF($AS$9:$AT$9,AP$9,$AS222:$AT222)","v":0},0,0]
[null,null,null,null,null,null,null,null,null,null,null,null,null,null,null,null,null,null,null,null,null,null,null,null,null,null,null,null,null,null,null,"ADJUSTABLE.C",null,null,null,null,null,null,"RNSL","реактив Несслера","тыс.руб.",0,0,0]
[null,null,null,null,null,null,null,null,null,null,null,null,null,null,null,null,null,null,null,null,null,null,null,null,null,null,null,null,null,null,null,"ADJUSTABLE.P",null,null,null,null,null,null,{"$f":"AM223 & \".P\"","v":"RNSL.P"},"Цена за единицу","руб./ед.",{"$f":"IF(AP225=0,0,AP223*1000/AP225)","v":0},{"$f":"IF(AQ225=0,0,AQ223*1000/AQ225)","v":0},{"$f":"IF(AR225=0,0,AR223*1000/AR225)","v":0}]
[null,null,null,null,null,null,null,null,null,null,null,null,null,null,null,null,null,null,null,null,null,null,null,null,null,null,null,null,null,null,null,"ADJUSTABLE.V",null,null,null,null,null,null,{"$f":"AM223 & \".V\"","v":"RNSL.V"},"Объём","ед.",{"$f":"SUMIF($AS$9:$AT$9,AP$9,$AS225:$AT225)","v":0},0,0]
[null,null,null,null,null,null,null,null,null,null,null,null,null,null,null,null,null,null,null,null,null,null,null,null,null,null,null,null,null,null,null,"ADJUSTABLE.C",null,null,null,null,null,null,"PBAC","свинец уксуснокислый","тыс.руб.",0,0,0]
[null,null,null,null,null,null,null,null,null,null,null,null,null,null,null,null,null,null,null,null,null,null,null,null,null,null,null,null,null,null,null,"ADJUSTABLE.P",null,null,null,null,null,null,{"$f":"AM226 & \".P\"","v":"PBAC.P"},"Цена за единицу","руб./ед.",{"$f":"IF(AP228=0,0,AP226*1000/AP228)","v":0},{"$f":"IF(AQ228=0,0,AQ226*1000/AQ228)","v":0},{"$f":"IF(AR228=0,0,AR226*1000/AR228)","v":0}]
[null,null,null,null,null,null,null,null,null,null,null,null,null,null,null,null,null,null,null,null,null,null,null,null,null,null,null,null,null,null,null,"ADJUSTABLE.V",null,null,null,null,null,null,{"$f":"AM226 & \".V\"","v":"PBAC.V"},"Объём","ед.",{"$f":"SUMIF($AS$9:$AT$9,AP$9,$AS228:$AT228)","v":0},0,0]
[null,null,null,null,null,null,null,null,null,null,null,null,null,null,null,null,null,null,null,null,null,null,null,null,null,null,null,null,null,null,null,"ADJUSTABLE.C",null,null,null,null,null,null,"AGN","серебро азотнокислое","тыс.руб.",0,0,0]
[null,null,null,null,null,null,null,null,null,null,null,null,null,null,null,null,null,null,null,null,null,null,null,null,null,null,null,null,null,null,null,"ADJUSTABLE.P",null,null,null,null,null,null,{"$f":"AM229 & \".P\"","v":"AGN.P"},"Цена за единицу","руб./ед.",{"$f":"IF(AP231=0,0,AP229*1000/AP231)","v":0},{"$f":"IF(AQ231=0,0,AQ229*1000/AQ231)","v":0},{"$f":"IF(AR231=0,0,AR229*1000/AR231)","v":0}]
[null,null,null,null,null,null,null,null,null,null,null,null,null,null,null,null,null,null,null,null,null,null,null,null,null,null,null,null,null,null,null,"ADJUSTABLE.V",null,null,null,null,null,null,{"$f":"AM229 & \".V\"","v":"AGN.V"},"Объём","ед.",{"$f":"SUMIF($AS$9:$AT$9,AP$9,$AS231:$AT231)","v":0},0,0]
[null,null,null,null,null,null,null,null,null,null,null,null,null,null,null,null,null,null,null,null,null,null,null,null,null,null,null,null,null,null,null,"ADJUSTABLE.C",null,null,null,null,null,null,"AGS","серебро сернокислое","тыс.руб.",0,0,0]
[null,null,null,null,null,null,null,null,null,null,null,null,null,null,null,null,null,null,null,null,null,null,null,null,null,null,null,null,null,null,null,"ADJUSTABLE.P",null,null,null,null,null,null,{"$f":"AM232 & \".P\"","v":"AGS.P"},"Цена за единицу","руб./ед.",{"$f":"IF(AP234=0,0,AP232*1000/AP234)","v":0},{"$f":"IF(AQ234=0,0,AQ232*1000/AQ234)","v":0},{"$f":"IF(AR234=0,0,AR232*1000/AR234)","v":0}]
[null,null,null,null,null,null,null,null,null,null,null,null,null,null,null,null,null,null,null,null,null,null,null,null,null,null,null,null,null,null,null,"ADJUSTABLE.V",null,null,null,null,null,null,{"$f":"AM232 & \".V\"","v":"AGS.V"},"Объём","ед.",{"$f":"SUMIF($AS$9:$AT$9,AP$9,$AS234:$AT234)","v":0},0,0]
[null,null,null,null,null,null,null,null,null,null,null,null,null,null,null,null,null,null,null,null,null,null,null,null,null,null,null,null,null,null,null,"ADJUSTABLE.C",null,null,null,null,null,null,"SODACA","сода кальцинированная","тыс.руб.",0,0,0]
[null,null,null,null,null,null,null,null,null,null,null,null,null,null,null,null,null,null,null,null,null,null,null,null,null,null,null,null,null,null,null,"ADJUSTABLE.P",null,null,null,null,null,null,{"$f":"AM235 & \".P\"","v":"SODACA.P"},"Цена за единицу","руб./ед.",{"$f":"IF(AP237=0,0,AP235*1000/AP237)","v":0},{"$f":"IF(AQ237=0,0,AQ235*1000/AQ237)","v":0},{"$f":"IF(AR237=0,0,AR235*1000/AR237)","v":0}]
[null,null,null,null,null,null,null,null,null,null,null,null,null,null,null,null,null,null,null,null,null,null,null,null,null,null,null,null,null,null,null,"ADJUSTABLE.V",null,null,null,null,null,null,{"$f":"AM235 & \".V\"","v":"SODACA.V"},"Объём","ед.",{"$f":"SUMIF($AS$9:$AT$9,AP$9,$AS237:$AT237)","v":0},0,0]
[null,null,null,null,null,null,null,null,null,null,null,null,null,null,null,null,null,null,null,null,null,null,null,null,null,null,null,null,null,null,null,"ADJUSTABLE.C",null,null,null,null,null,null,"SODACS","сода каустическая","тыс.руб.",0,0,0]
[null,null,null,null,null,null,null,null,null,null,null,null,null,null,null,null,null,null,null,null,null,null,null,null,null,null,null,null,null,null,null,"ADJUSTABLE.P",null,null,null,null,null,null,{"$f":"AM238 & \".P\"","v":"SODACS.P"},"Цена за единицу","руб./ед.",{"$f":"IF(AP240=0,0,AP238*1000/AP240)","v":0},{"$f":"IF(AQ240=0,0,AQ238*1000/AQ240)","v":0},{"$f":"IF(AR240=0,0,AR238*1000/AR240)","v":0}]
[null,null,null,null,null,null,null,null,null,null,null,null,null,null,null,null,null,null,null,null,null,null,null,null,null,null,null,null,null,null,null,"ADJUSTABLE.V",null,null,null,null,null,null,{"$f":"AM238 & \".V\"","v":"SODACS.V"},"Объём","ед.",{"$f":"SUMIF($AS$9:$AT$9,AP$9,$AS240:$AT240)","v":0},0,0]
[null,null,null,null,null,null,null,null,null,null,null,null,null,null,null,null,null,null,null,null,null,null,null,null,null,null,null,null,null,null,null,"ADJUSTABLE.C",null,null,null,null,null,null,"SALT1G","соль 1 сорт","тыс.руб.",0,0,0]
[null,null,null,null,null,null,null,null,null,null,null,null,null,null,null,null,null,null,null,null,null,null,null,null,null,null,null,null,null,null,null,"ADJUSTABLE.P",null,null,null,null,null,null,{"$f":"AM241 & \".P\"","v":"SALT1G.P"},"Цена за единицу","руб./ед.",{"$f":"IF(AP243=0,0,AP241*1000/AP243)","v":0},{"$f":"IF(AQ243=0,0,AQ241*1000/AQ243)","v":0},{"$f":"IF(AR243=0,0,AR241*1000/AR243)","v":0}]
[null,null,null,null,null,null,null,null,null,null,null,null,null,null,null,null,null,null,null,null,null,null,null,null,null,null,null,null,null,null,null,"ADJUSTABLE.V",null,null,null,null,null,null,{"$f":"AM241 & \".V\"","v":"SALT1G.V"},"Объём","ед.",{"$f":"SUMIF($AS$9:$AT$9,AP$9,$AS243:$AT243)","v":0},0,0]
[null,null,null,null,null,null,null,null,null,null,null,null,null,null,null,null,null,null,null,null,null,null,null,null,null,null,null,null,null,null,null,"ADJUSTABLE.C",null,null,null,null,null,null,"SALT","соль пищевая поваренная","тыс.руб.",0,0,0]
[null,null,null,null,null,null,null,null,null,null,null,null,null,null,null,null,null,null,null,null,null,null,null,null,null,null,null,null,null,null,null,"ADJUSTABLE.P",null,null,null,null,null,null,{"$f":"AM244 & \".P\"","v":"SALT.P"},"Цена за единицу","руб./ед.",{"$f":"IF(AP246=0,0,AP244*1000/AP246)","v":0},{"$f":"IF(AQ246=0,0,AQ244*1000/AQ246)","v":0},{"$f":"IF(AR246=0,0,AR244*1000/AR246)","v":0}]
[null,null,null,null,null,null,null,null,null,null,null,null,null,null,null,null,null,null,null,null,null,null,null,null,null,null,null,null,null,null,null,"ADJUSTABLE.V",null,null,null,null,null,null,{"$f":"AM244 & \".V\"","v":"SALT.V"},"Объём","ед.",{"$f":"SUMIF($AS$9:$AT$9,AP$9,$AS246:$AT246)","v":0},0,0]
[null,null,null,null,null,null,null,null,null,null,null,null,null,null,null,null,null,null,null,null,null,null,null,null,null,null,null,null,null,null,null,"ADJUSTABLE.C",null,null,null,null,null,null,"SALTPL","соль таблетированная","тыс.руб.",0,0,0]
[null,null,null,null,null,null,null,null,null,null,null,null,null,null,null,null,null,null,null,null,null,null,null,null,null,null,null,null,null,null,null,"ADJUSTABLE.P",null,null,null,null,null,null,{"$f":"AM247 & \".P\"","v":"SALTPL.P"},"Цена за единицу","руб./ед.",{"$f":"IF(AP249=0,0,AP247*1000/AP249)","v":0},{"$f":"IF(AQ249=0,0,AQ247*1000/AQ249)","v":0},{"$f":"IF(AR249=0,0,AR247*1000/AR249)","v":0}]
[null,null,null,null,null,null,null,null,null,null,null,null,null,null,null,null,null,null,null,null,null,null,null,null,null,null,null,null,null,null,null,"ADJUSTABLE.V",null,null,null,null,null,null,{"$f":"AM247 & \".V\"","v":"SALTPL.V"},"Объём","ед.",{"$f":"SUMIF($AS$9:$AT$9,AP$9,$AS249:$AT249)","v":0},0,0]
[null,null,null,null,null,null,null,null,null,null,null,null,null,null,null,null,null,null,null,null,null,null,null,null,null,null,null,null,null,null,null,"ADJUSTABLE.C",null,null,null,null,null,null,"SALTTH","соль техническая","тыс.руб.",0,0,0]
[null,null,null,null,null,null,null,null,null,null,null,null,null,null,null,null,null,null,null,null,null,null,null,null,null,null,null,null,null,null,null,"ADJUSTABLE.P",null,null,null,null,null,null,{"$f":"AM250 & \".P\"","v":"SALTTH.P"},"Цена за единицу","руб./ед.",{"$f":"IF(AP252=0,0,AP250*1000/AP252)","v":0},{"$f":"IF(AQ252=0,0,AQ250*1000/AQ252)","v":0},{"$f":"IF(AR252=0,0,AR250*1000/AR252)","v":0}]
[null,null,null,null,null,null,null,null,null,null,null,null,null,null,null,null,null,null,null,null,null,null,null,null,null,null,null,null,null,null,null,"ADJUSTABLE.V",null,null,null,null,null,null,{"$f":"AM250 & \".V\"","v":"SALTTH.V"},"Объём","ед.",{"$f":"SUMIF($AS$9:$AT$9,AP$9,$AS252:$AT252)","v":0},0,0]
[null,null,null,null,null,null,null,null,null,null,null,null,null,null,null,null,null,null,null,null,null,null,null,null,null,null,null,null,null,null,null,"ADJUSTABLE.C",null,null,null,null,null,null,"SALTEX","соль экстра","тыс.руб.",0,0,0]
[null,null,null,null,null,null,null,null,null,null,null,null,null,null,null,null,null,null,null,null,null,null,null,null,null,null,null,null,null,null,null,"ADJUSTABLE.P",null,null,null,null,null,null,{"$f":"AM253 & \".P\"","v":"SALTEX.P"},"Цена за единицу","руб./ед.",{"$f":"IF(AP255=0,0,AP253*1000/AP255)","v":0},{"$f":"IF(AQ255=0,0,AQ253*1000/AQ255)","v":0},{"$f":"IF(AR255=0,0,AR253*1000/AR255)","v":0}]
[null,null,null,null,null,null,null,null,null,null,null,null,null,null,null,null,null,null,null,null,null,null,null,null,null,null,null,null,null,null,null,"ADJUSTABLE.V",null,null,null,null,null,null,{"$f":"AM253 & \".V\"","v":"SALTEX.V"},"Объём","ед.",{"$f":"SUMIF($AS$9:$AT$9,AP$9,$AS255:$AT255)","v":0},0,0]
[null,null,null,null,null,null,null,null,null,null,null,null,null,null,null,null,null,null,null,null,null,null,null,null,null,null,null,null,null,null,null,"ADJUSTABLE.C",null,null,null,null,null,null,"C2H5OH","спирт","тыс.руб.",0,0,0]
[null,null,null,null,null,null,null,null,null,null,null,null,null,null,null,null,null,null,null,null,null,null,null,null,null,null,null,null,null,null,null,"ADJUSTABLE.P",null,null,null,null,null,null,{"$f":"AM256 & \".P\"","v":"C2H5OH.P"},"Цена за единицу","руб./ед.",{"$f":"IF(AP258=0,0,AP256*1000/AP258)","v":0},{"$f":"IF(AQ258=0,0,AQ256*1000/AQ258)","v":0},{"$f":"IF(AR258=0,0,AR256*1000/AR258)","v":0}]
[null,null,null,null,null,null,null,null,null,null,null,null,null,null,null,null,null,null,null,null,null,null,null,null,null,null,null,null,null,null,null,"ADJUSTABLE.V",null,null,null,null,null,null,{"$f":"AM256 & \".V\"","v":"C2H5OH.V"},"Объём","ед.",{"$f":"SUMIF($AS$9:$AT$9,AP$9,$AS258:$AT258)","v":0},0,0]
[null,null,null,null,null,null,null,null,null,null,null,null,null,null,null,null,null,null,null,null,null,null,null,null,null,null,null,null,null,null,null,"ADJUSTABLE.C",null,null,null,null,null,null,"SFAL1G","сульфат алюминия 1 сорт","тыс.руб.",0,0,0]
[null,null,null,null,null,null,null,null,null,null,null,null,null,null,null,null,null,null,null,null,null,null,null,null,null,null,null,null,null,null,null,"ADJUSTABLE.P",null,null,null,null,null,null,{"$f":"AM259 & \".P\"","v":"SFAL1G.P"},"Цена за единицу","руб./ед.",{"$f":"IF(AP261=0,0,AP259*1000/AP261)","v":0},{"$f":"IF(AQ261=0,0,AQ259*1000/AQ261)","v":0},{"$f":"IF(AR261=0,0,AR259*1000/AR261)","v":0}]
[null,null,null,null,null,null,null,null,null,null,null,null,null,null,null,null,null,null,null,null,null,null,null,null,null,null,null,null,null,null,null,"ADJUSTABLE.V",null,null,null,null,null,null,{"$f":"AM259 & \".V\"","v":"SFAL1G.V"},"Объём","ед.",{"$f":"SUMIF($AS$9:$AT$9,AP$9,$AS261:$AT261)","v":0},0,0]
[null,null,null,null,null,null,null,null,null,null,null,null,null,null,null,null,null,null,null,null,null,null,null,null,null,null,null,null,null,null,null,"ADJUSTABLE.C",null,null,null,null,null,null,"SFALLQD","сульфат алюминия жидкий","тыс.руб.",0,0,0]
[null,null,null,null,null,null,null,null,null,null,null,null,null,null,null,null,null,null,null,null,null,null,null,null,null,null,null,null,null,null,null,"ADJUSTABLE.P",null,null,null,null,null,null,{"$f":"AM262 & \".P\"","v":"SFALLQD.P"},"Цена за единицу","руб./ед.",{"$f":"IF(AP264=0,0,AP262*1000/AP264)","v":0},{"$f":"IF(AQ264=0,0,AQ262*1000/AQ264)","v":0},{"$f":"IF(AR264=0,0,AR262*1000/AR264)","v":0}]
[null,null,null,null,null,null,null,null,null,null,null,null,null,null,null,null,null,null,null,null,null,null,null,null,null,null,null,null,null,null,null,"ADJUSTABLE.V",null,null,null,null,null,null,{"$f":"AM262 & \".V\"","v":"SFALLQD.V"},"Объём","ед.",{"$f":"SUMIF($AS$9:$AT$9,AP$9,$AS264:$AT264)","v":0},0,0]
[null,null,null,null,null,null,null,null,null,null,null,null,null,null,null,null,null,null,null,null,null,null,null,null,null,null,null,null,null,null,null,"ADJUSTABLE.C",null,null,null,null,null,null,"SFALT","сульфат алюминия технический","тыс.руб.",0,0,0]
[null,null,null,null,null,null,null,null,null,null,null,null,null,null,null,null,null,null,null,null,null,null,null,null,null,null,null,null,null,null,null,"ADJUSTABLE.P",null,null,null,null,null,null,{"$f":"AM265 & \".P\"","v":"SFALT.P"},"Цена за единицу","руб./ед.",{"$f":"IF(AP267=0,0,AP265*1000/AP267)","v":0},{"$f":"IF(AQ267=0,0,AQ265*1000/AQ267)","v":0},{"$f":"IF(AR267=0,0,AR265*1000/AR267)","v":0}]
[null,null,null,null,null,null,null,null,null,null,null,null,null,null,null,null,null,null,null,null,null,null,null,null,null,null,null,null,null,null,null,"ADJUSTABLE.V",null,null,null,null,null,null,{"$f":"AM265 & \".V\"","v":"SFALT.V"},"Объём","ед.",{"$f":"SUMIF($AS$9:$AT$9,AP$9,$AS267:$AT267)","v":0},0,0]
[null,null,null,null,null,null,null,null,null,null,null,null,null,null,null,null,null,null,null,null,null,null,null,null,null,null,null,null,null,null,null,"ADJUSTABLE.C",null,null,null,null,null,null,"SFAMN","сульфат аммония","тыс.руб.",0,0,0]
[null,null,null,null,null,null,null,null,null,null,null,null,null,null,null,null,null,null,null,null,null,null,null,null,null,null,null,null,null,null,null,"ADJUSTABLE.P",null,null,null,null,null,null,{"$f":"AM268 & \".P\"","v":"SFAMN.P"},"Цена за единицу","руб./ед.",{"$f":"IF(AP270=0,0,AP268*1000/AP270)","v":0},{"$f":"IF(AQ270=0,0,AQ268*1000/AQ270)","v":0},{"$f":"IF(AR270=0,0,AR268*1000/AR270)","v":0}]
[null,null,null,null,null,null,null,null,null,null,null,null,null,null,null,null,null,null,null,null,null,null,null,null,null,null,null,null,null,null,null,"ADJUSTABLE.V",null,null,null,null,null,null,{"$f":"AM268 & \".V\"","v":"SFAMN.V"},"Объём","ед.",{"$f":"SUMIF($AS$9:$AT$9,AP$9,$AS270:$AT270)","v":0},0,0]
[null,null,null,null,null,null,null,null,null,null,null,null,null,null,null,null,null,null,null,null,null,null,null,null,null,null,null,null,null,null,null,"ADJUSTABLE.C",null,null,null,null,null,null,"TM","тиомочевина","тыс.руб.",0,0,0]
[null,null,null,null,null,null,null,null,null,null,null,null,null,null,null,null,null,null,null,null,null,null,null,null,null,null,null,null,null,null,null,"ADJUSTABLE.P",null,null,null,null,null,null,{"$f":"AM271 & \".P\"","v":"TM.P"},"Цена за единицу","руб./ед.",{"$f":"IF(AP273=0,0,AP271*1000/AP273)","v":0},{"$f":"IF(AQ273=0,0,AQ271*1000/AQ273)","v":0},{"$f":"IF(AR273=0,0,AR271*1000/AR273)","v":0}]
[null,null,null,null,null,null,null,null,null,null,null,null,null,null,null,null,null,null,null,null,null,null,null,null,null,null,null,null,null,null,null,"ADJUSTABLE.V",null,null,null,null,null,null,{"$f":"AM271 & \".V\"","v":"TM.V"},"Объём","ед.",{"$f":"SUMIF($AS$9:$AT$9,AP$9,$AS273:$AT273)","v":0},0,0]
[null,null,null,null,null,null,null,null,null,null,null,null,null,null,null,null,null,null,null,null,null,null,null,null,null,null,null,null,null,null,null,"ADJUSTABLE.C",null,null,null,null,null,null,"TSFNA","тиосульфат натрия","тыс.руб.",0,0,0]
[null,null,null,null,null,null,null,null,null,null,null,null,null,null,null,null,null,null,null,null,null,null,null,null,null,null,null,null,null,null,null,"ADJUSTABLE.P",null,null,null,null,null,null,{"$f":"AM274 & \".P\"","v":"TSFNA.P"},"Цена за единицу","руб./ед.",{"$f":"IF(AP276=0,0,AP274*1000/AP276)","v":0},{"$f":"IF(AQ276=0,0,AQ274*1000/AQ276)","v":0},{"$f":"IF(AR276=0,0,AR274*1000/AR276)","v":0}]
[null,null,null,null,null,null,null,null,null,null,null,null,null,null,null,null,null,null,null,null,null,null,null,null,null,null,null,null,null,null,null,"ADJUSTABLE.V",null,null,null,null,null,null,{"$f":"AM274 & \".V\"","v":"TSFNA.V"},"Объём","ед.",{"$f":"SUMIF($AS$9:$AT$9,AP$9,$AS276:$AT276)","v":0},0,0]
[null,null,null,null,null,null,null,null,null,null,null,null,null,null,null,null,null,null,null,null,null,null,null,null,null,null,null,null,null,null,null,"ADJUSTABLE.C",null,null,null,null,null,null,"CCL4","углерод четырёххлористый","тыс.руб.",0,0,0]
[null,null,null,null,null,null,null,null,null,null,null,null,null,null,null,null,null,null,null,null,null,null,null,null,null,null,null,null,null,null,null,"ADJUSTABLE.P",null,null,null,null,null,null,{"$f":"AM277 & \".P\"","v":"CCL4.P"},"Цена за единицу","руб./ед.",{"$f":"IF(AP279=0,0,AP277*1000/AP279)","v":0},{"$f":"IF(AQ279=0,0,AQ277*1000/AQ279)","v":0},{"$f":"IF(AR279=0,0,AR277*1000/AR279)","v":0}]
[null,null,null,null,null,null,null,null,null,null,null,null,null,null,null,null,null,null,null,null,null,null,null,null,null,null,null,null,null,null,null,"ADJUSTABLE.V",null,null,null,null,null,null,{"$f":"AM277 & \".V\"","v":"CCL4.V"},"Объём","ед.",{"$f":"SUMIF($AS$9:$AT$9,AP$9,$AS279:$AT279)","v":0},0,0]
[null,null,null,null,null,null,null,null,null,null,null,null,null,null,null,null,null,null,null,null,null,null,null,null,null,null,null,null,null,null,null,"ADJUSTABLE.C",null,null,null,null,null,null,"FFTLN","фенолфталеин","тыс.руб.",0,0,0]
[null,null,null,null,null,null,null,null,null,null,null,null,null,null,null,null,null,null,null,null,null,null,null,null,null,null,null,null,null,null,null,"ADJUSTABLE.P",null,null,null,null,null,null,{"$f":"AM280 & \".P\"","v":"FFTLN.P"},"Цена за единицу","руб./ед.",{"$f":"IF(AP282=0,0,AP280*1000/AP282)","v":0},{"$f":"IF(AQ282=0,0,AQ280*1000/AQ282)","v":0},{"$f":"IF(AR282=0,0,AR280*1000/AR282)","v":0}]
[null,null,null,null,null,null,null,null,null,null,null,null,null,null,null,null,null,null,null,null,null,null,null,null,null,null,null,null,null,null,null,"ADJUSTABLE.V",null,null,null,null,null,null,{"$f":"AM280 & \".V\"","v":"FFTLN.V"},"Объём","ед.",{"$f":"SUMIF($AS$9:$AT$9,AP$9,$AS282:$AT282)","v":0},0,0]
[null,null,null,null,null,null,null,null,null,null,null,null,null,null,null,null,null,null,null,null,null,null,null,null,null,null,null,null,null,null,null,"ADJUSTABLE.C",null,null,null,null,null,null,"CL","хлор","тыс.руб.",0,0,0]
[null,null,null,null,null,null,null,null,null,null,null,null,null,null,null,null,null,null,null,null,null,null,null,null,null,null,null,null,null,null,null,"ADJUSTABLE.P",null,null,null,null,null,null,{"$f":"AM283 & \".P\"","v":"CL.P"},"Цена за единицу","руб./ед.",{"$f":"IF(AP285=0,0,AP283*1000/AP285)","v":0},{"$f":"IF(AQ285=0,0,AQ283*1000/AQ285)","v":0},{"$f":"IF(AR285=0,0,AR283*1000/AR285)","v":0}]
[null,null,null,null,null,null,null,null,null,null,null,null,null,null,null,null,null,null,null,null,null,null,null,null,null,null,null,null,null,null,null,"ADJUSTABLE.V",null,null,null,null,null,null,{"$f":"AM283 & \".V\"","v":"CL.V"},"Объём","ед.",{"$f":"SUMIF($AS$9:$AT$9,AP$9,$AS285:$AT285)","v":0},0,0]
[null,null,null,null,null,null,null,null,null,null,null,null,null,null,null,null,null,null,null,null,null,null,null,null,null,null,null,null,null,null,null,"ADJUSTABLE.C",null,null,null,null,null,null,"CLLIQ","хлор жидкий","тыс.руб.",0,0,0]
[null,null,null,null,null,null,null,null,null,null,null,null,null,null,null,null,null,null,null,null,null,null,null,null,null,null,null,null,null,null,null,"ADJUSTABLE.P",null,null,null,null,null,null,{"$f":"AM286 & \".P\"","v":"CLLIQ.P"},"Цена за единицу","руб./ед.",{"$f":"IF(AP288=0,0,AP286*1000/AP288)","v":0},{"$f":"IF(AQ288=0,0,AQ286*1000/AQ288)","v":0},{"$f":"IF(AR288=0,0,AR286*1000/AR288)","v":0}]
[null,null,null,null,null,null,null,null,null,null,null,null,null,null,null,null,null,null,null,null,null,null,null,null,null,null,null,null,null,null,null,"ADJUSTABLE.V",null,null,null,null,null,null,{"$f":"AM286 & \".V\"","v":"CLLIQ.V"},"Объём","ед.",{"$f":"SUMIF($AS$9:$AT$9,AP$9,$AS288:$AT288)","v":0},0,0]
[null,null,null,null,null,null,null,null,null,null,null,null,null,null,null,null,null,null,null,null,null,null,null,null,null,null,null,null,null,null,null,"ADJUSTABLE.C",null,null,null,null,null,null,"CLAMN","хлорамин","тыс.руб.",0,0,0]
[null,null,null,null,null,null,null,null,null,null,null,null,null,null,null,null,null,null,null,null,null,null,null,null,null,null,null,null,null,null,null,"ADJUSTABLE.P",null,null,null,null,null,null,{"$f":"AM289 & \".P\"","v":"CLAMN.P"},"Цена за единицу","руб./ед.",{"$f":"IF(AP291=0,0,AP289*1000/AP291)","v":0},{"$f":"IF(AQ291=0,0,AQ289*1000/AQ291)","v":0},{"$f":"IF(AR291=0,0,AR289*1000/AR291)","v":0}]
[null,null,null,null,null,null,null,null,null,null,null,null,null,null,null,null,null,null,null,null,null,null,null,null,null,null,null,null,null,null,null,"ADJUSTABLE.V",null,null,null,null,null,null,{"$f":"AM289 & \".V\"","v":"CLAMN.V"},"Объём","ед.",{"$f":"SUMIF($AS$9:$AT$9,AP$9,$AS291:$AT291)","v":0},0,0]
[null,null,null,null,null,null,null,null,null,null,null,null,null,null,null,null,null,null,null,null,null,null,null,null,null,null,null,null,null,null,null,"ADJUSTABLE.C",null,null,null,null,null,null,"CLFRM","хлороформ","тыс.руб.",0,0,0]
[null,null,null,null,null,null,null,null,null,null,null,null,null,null,null,null,null,null,null,null,null,null,null,null,null,null,null,null,null,null,null,"ADJUSTABLE.P",null,null,null,null,null,null,{"$f":"AM292 & \".P\"","v":"CLFRM.P"},"Цена за единицу","руб./ед.",{"$f":"IF(AP294=0,0,AP292*1000/AP294)","v":0},{"$f":"IF(AQ294=0,0,AQ292*1000/AQ294)","v":0},{"$f":"IF(AR294=0,0,AR292*1000/AR294)","v":0}]
[null,null,null,null,null,null,null,null,null,null,null,null,null,null,null,null,null,null,null,null,null,null,null,null,null,null,null,null,null,null,null,"ADJUSTABLE.V",null,null,null,null,null,null,{"$f":"AM292 & \".V\"","v":"CLFRM.V"},"Объём","ед.",{"$f":"SUMIF($AS$9:$AT$9,AP$9,$AS294:$AT294)","v":0},0,0]
[null,null,null,null,null,null,null,null,null,null,null,null,null,null,null,null,null,null,null,null,null,null,null,null,null,null,null,null,null,null,null,"ADJUSTABLE.C",null,null,null,null,null,null,"ETHL","этиленгликоль","тыс.руб.",0,0,0]
[null,null,null,null,null,null,null,null,null,null,null,null,null,null,null,null,null,null,null,null,null,null,null,null,null,null,null,null,null,null,null,"ADJUSTABLE.P",null,null,null,null,null,null,{"$f":"AM295 & \".P\"","v":"ETHL.P"},"Цена за единицу","руб./ед.",{"$f":"IF(AP297=0,0,AP295*1000/AP297)","v":0},{"$f":"IF(AQ297=0,0,AQ295*1000/AQ297)","v":0},{"$f":"IF(AR297=0,0,AR295*1000/AR297)","v":0}]
[null,null,null,null,null,null,null,null,null,null,null,null,null,null,null,null,null,null,null,null,null,null,null,null,null,null,null,null,null,null,null,"ADJUSTABLE.V",null,null,null,null,null,null,{"$f":"AM295 & \".V\"","v":"ETHL.V"},"Объём","ед.",{"$f":"SUMIF($AS$9:$AT$9,AP$9,$AS297:$AT297)","v":0},0,0]
[null,null,null,null,null,null,null,null,null,null,null,null,null,null,null,null,null,null,null,null,null,null,null,null,null,null,null,null,null,null,null,"ADJUSTABLE.OTH",null,null,null,null,null,null,"OTH","прочие","тыс.руб.",0,0,0]
[]
[]
[null,null,null,null,null,null,null,null,null,null,null,null,null,null,null,null,null,null,null,null,null,null,null,null,null,null,null,null,null,null,null,"ADJUSTABLE.OTH",null,null,null,null,null,null,"OTH","Прочие","тыс.руб.",{"$f":"SUMIF($AS$9:$AT$9,AP$9,$AS301:$AT301)","v":0},{"$f":"SUMIF($AS$9:$AT$9,AQ$9,$AS301:$AT301)","v":0},{"$f":"SUMIF($AS$9:$AT$9,AR$9,$AS301:$AT301)","v":0}]
[]
[null,null,null,null,null,null,null,null,null,null,null,null,null,null,null,null,null,null,null,null,null,null,null,null,null,null,null,null,null,null,null,null,null,null,null,null,null,null,"21","Полезный отпуск продукции всего","тыс.куб.м"]

{"sheet":"Комментарии","index":23,"n_rows":9,"n_cols":6,"rows_kept":9,"cut":false,"hidden":true,"merged":[]}
[]
[]
[]
[]
[]
[]
[]
[]
[null,null,null,null,null,"Ниже вы можете оставить свои комментарии"]

{"sheet":"Проверка","index":24,"n_rows":11,"n_cols":8,"rows_kept":11,"cut":false,"hidden":true,"merged":[[8,4,8,7]]}
[]
[]
[]
[]
[]
[]
[]
[]
[null,null,null,null,"Результаты проверки"]
[]
[null,null,null,null,"Ссылка 1","Ссылка 2","Описание причины","Обязательность выполнения"]

{"sheet":"REESTR_MO","index":25,"n_rows":0,"n_cols":0,"rows_kept":0,"cut":false,"hidden":true,"merged":[]}

{"sheet":"REESTR_LOCATION","index":26,"n_rows":0,"n_cols":0,"rows_kept":0,"cut":false,"hidden":true,"merged":[]}

{"sheet":"AUTHORISATION","index":27,"n_rows":1,"n_cols":1,"rows_kept":1,"cut":false,"hidden":true,"merged":[]}
["L1"]

{"sheet":"DICTIONARIES","index":28,"n_rows":120,"n_cols":2,"rows_kept":120,"cut":false,"hidden":true,"merged":[]}
["DIC_NAME","DIC_VALUE"]
["FULL_STATE_SHARE_OKOPF_LIST","6 51 00 | Унитарные предприятия, основанные на праве оперативного управления (казенные предприятия)"]
["FULL_STATE_SHARE_OKOPF_LIST","6 51 41 | Федеральные казенные предприятия"]
["FULL_STATE_SHARE_OKOPF_LIST","6 51 42 | Казенные предприятия субъектов Российской Федерации"]
["FULL_STATE_SHARE_OKOPF_LIST","6 51 43 | Муниципальные казенные предприятия"]
["FULL_STATE_SHARE_OKOPF_LIST","6 52 00 | Унитарные предприятия, основанные на праве хозяйственного ведения"]
["FULL_STATE_SHARE_OKOPF_LIST","6 52 41 | Федеральные государственные унитарные предприятия"]
["FULL_STATE_SHARE_OKOPF_LIST","6 52 42 | Государственные унитарные предприятия субъектов Российской Федерации"]
["FULL_STATE_SHARE_OKOPF_LIST","6 52 43 | Муниципальные унитарные предприятия"]
["FULL_STATE_SHARE_OKOPF_LIST","7 51 00 | Учреждения, созданные Российской Федерацией"]
["FULL_STATE_SHARE_OKOPF_LIST","7 51 01 | Федеральные государственные автономные учреждения"]
["FULL_STATE_SHARE_OKOPF_LIST","7 51 03 | Федеральные государственные бюджетные учреждения"]
["FULL_STATE_SHARE_OKOPF_LIST","7 51 04 | Федеральные государственные казенные учреждения"]
["FULL_STATE_SHARE_OKOPF_LIST","7 52 00 | Учреждения, созданные субъектами Российской Федерации"]
["FULL_STATE_SHARE_OKOPF_LIST","7 52 01 | Государственные автономные учреждения субъектов Российской Федерации"]
["FULL_STATE_SHARE_OKOPF_LIST","7 52 03 | Государственные бюджетные учреждения субъектов Российской Федерации"]
["FULL_STATE_SHARE_OKOPF_LIST","7 52 04 | Государственные казенные учреждения субъектов Российской Федерации"]
["FULL_STATE_SHARE_OKOPF_LIST","7 53 00 | Государственные академии наук"]
["FULL_STATE_SHARE_OKOPF_LIST","7 54 00 | Учреждения, созданные муниципальными образованиями"]
["FULL_STATE_SHARE_OKOPF_LIST","7 54 01 | Муниципальные автономные учреждения"]
["FULL_STATE_SHARE_OKOPF_LIST","7 54 03 | Муниципальные бюджетные учреждения"]
["FULL_STATE_SHARE_OKOPF_LIST","7 54 04 | Муниципальные казенные учреждения"]
["OKOPF_LIST","1 10 51 | Полные товарищества"]
["OKOPF_LIST","1 10 64 | Товарищества на вере (коммандитные товарищества)"]
["OKOPF_LIST","1 22 47 | Публичные акционерные общества"]
["OKOPF_LIST","1 22 67 | Непубличные акционерные общества"]
["OKOPF_LIST","1 23 00 | Общества с ограниченной ответственностью"]
["OKOPF_LIST","1 30 00 | Хозяйственные партнерства"]
["OKOPF_LIST","1 41 53 | Сельскохозяйственные артели (колхозы)"]
["OKOPF_LIST","1 41 54 | Рыболовецкие артели (колхозы)"]
["OKOPF_LIST","1 41 55 | Кооперативные хозяйства (коопхозы)"]
["OKOPF_LIST","1 42 00 | Производственные кооперативы (кроме сельскохозяйственных производственных кооперативов)"]
["OKOPF_LIST","1 53 00 | Крестьянские (фермерские) хозяйства"]
["OKOPF_LIST","1 90 00 | Прочие юридические лица, являющиеся коммерческими организациями"]
["OKOPF_LIST","2 01 01 | Гаражные и гаражно-строительные кооперативы"]
["OKOPF_LIST","2 01 02 | Жилищные или жилищно-строительные кооперативы"]
["OKOPF_LIST","2 01 03 | Жилищные накопительные кооперативы"]
["OKOPF_LIST","2 01 04 | Кредитные потребительские кооперативы"]
["OKOPF_LIST","2 01 05 | Кредитные потребительские кооперативы граждан"]
["OKOPF_LIST","2 01 06 | Кредитные кооперативы второго уровня"]
["OKOPF_LIST","2 01 07 | Потребительские общества"]
["OKOPF_LIST","2 01 08 | Общества взаимного страхования"]
["OKOPF_LIST","2 01 09 | Сельскохозяйственные потребительские перерабатывающие кооперативы"]
["OKOPF_LIST","2 01 10 | Сельскохозяйственные потребительские сбытовые (торговые) кооперативы"]
["OKOPF_LIST","2 01 11 | Сельскохозяйственные потребительские обслуживающие кооперативы"]
["OKOPF_LIST","2 01 12 | Сельскохозяйственные потребительские снабженческие кооперативы"]
["OKOPF_LIST","2 01 13 | Сельскохозяйственные потребительские садоводческие кооперативы"]
["OKOPF_LIST","2 01 14 | Сельскохозяйственные потребительские огороднические кооперативы"]
["OKOPF_LIST","2 01 15 | Сельскохозяйственные потребительские животноводческие кооперативы"]
["OKOPF_LIST","2 01 20 | Садоводческие, огороднические или дачные потребительские кооперативы"]
["OKOPF_LIST","2 01 21 | Фонды проката"]
["OKOPF_LIST","2 02 01 | Политические партии"]
["OKOPF_LIST","2 02 02 | Профсоюзные организации"]
["OKOPF_LIST","2 02 10 | Общественные движения"]
["OKOPF_LIST","2 02 11 | Органы общественной самодеятельности"]
["OKOPF_LIST","2 02 17 | Территориальные общественные самоуправления"]
["OKOPF_LIST","2 06 01 | Ассоциации (союзы) экономического взаимодействия субъектов Российской Федерации"]
["OKOPF_LIST","2 06 03 | Советы муниципальных образований субъектов Российской Федерации"]
["OKOPF_LIST","2 06 04 | Союзы (ассоциации) кредитных кооперативов"]
["OKOPF_LIST","2 06 05 | Союзы (ассоциации) кооперативов"]
["OKOPF_LIST","2 06 06 | Союзы (ассоциации) общественных объединений"]
["OKOPF_LIST","2 06 07 | Союзы (ассоциации) общин малочисленных народов"]
["OKOPF_LIST","2 06 08 | Союзы потребительских обществ"]
["OKOPF_LIST","2 06 09 | Адвокатские палаты"]
["OKOPF_LIST","2 06 10 | Нотариальные палаты"]
["OKOPF_LIST","2 06 11 | Торгово-промышленные палаты"]
["OKOPF_LIST","2 06 12 | Объединения работодателей"]
["OKOPF_LIST","2 06 13 | Объединения фермерских хозяйств"]
["OKOPF_LIST","2 06 14 | Некоммерческие партнерства"]
["OKOPF_LIST","2 06 15 | Адвокатские бюро"]
["OKOPF_LIST","2 06 16 | Коллегии адвокатов"]
["OKOPF_LIST","2 06 17 | Садоводческие, огороднические или дачные некоммерческие партнерства"]
["OKOPF_LIST","2 06 18 | Ассоциации (союзы) садоводческих, огороднических и дачных некоммерческих объединений"]
["OKOPF_LIST","2 06 19 | Саморегулируемые организации"]
["OKOPF_LIST","2 06 20 | Объединения (ассоциации и союзы) благотворительных организаций"]
["OKOPF_LIST","2 07 01 | Садоводческие, огороднические или дачные некоммерческие товарищества"]
["OKOPF_LIST","2 07 16 | Товарищества собственников жилья"]
["OKOPF_LIST","2 11 00 | Казачьи общества, внесенные в государственный реестр казачьих обществ в Российской Федерации"]
["OKOPF_LIST","2 12 00 | Общины коренных малочисленных народов Российской Федерации"]
["OKOPF_LIST","3 00 01 | Представительства юридических лиц"]
["OKOPF_LIST","3 00 02 | Филиалы юридических лиц"]
["OKOPF_LIST","3 00 03 | Обособленные подразделения юридических лиц"]
["OKOPF_LIST","3 00 04 | Структурные подразделения обособленных подразделений юридических лиц"]
["OKOPF_LIST","3 00 05 | Паевые инвестиционные фонды"]
["OKOPF_LIST","3 00 06 | Простые товарищества"]
["OKOPF_LIST","3 00 08 | Районные суды, городские суды, межрайонные суды (районные суды)"]
["OKOPF_LIST","4 00 01 | Межправительственные международные организации"]
["OKOPF_LIST","4 00 02 | Неправительственные международные организации"]
["OKOPF_LIST","5 01 01 | Главы крестьянских (фермерских) хозяйств"]
["OKOPF_LIST","5 01 02 | Индивидуальные предприниматели"]
["OKOPF_LIST","5 02 01 | Адвокаты, учредившие адвокатский кабинет"]
["OKOPF_LIST","5 02 02 | Нотариусы, занимающиеся частной практикой"]
["OKOPF_LIST","6 51 41 | Федеральные казенные предприятия"]
["OKOPF_LIST","6 51 42 | Казенные предприятия субъектов Российской Федерации"]
["OKOPF_LIST","6 51 43 | Муниципальные казенные предприятия"]
["OKOPF_LIST","6 52 41 | Федеральные государственные унитарные предприятия"]
["OKOPF_LIST","6 52 42 | Государственные унитарные предприятия субъектов Российской Федерации"]
["OKOPF_LIST","6 52 43 | Муниципальные унитарные предприятия"]
["OKOPF_LIST","7 04 01 | Благотворительные фонды"]
["OKOPF_LIST","7 04 02 | Негосударственные пенсионные фонды"]
["OKOPF_LIST","7 04 03 | Общественные фонды"]
["OKOPF_LIST","7 04 04 | Экологические фонды"]
["OKOPF_LIST","7 14 00 | Автономные некоммерческие организации"]
["OKOPF_LIST","7 15 00 | Религиозные организации"]
["OKOPF_LIST","7 16 01 | Государственные корпорации"]
["OKOPF_LIST","7 16 02 | Государственные компании"]
["OKOPF_LIST","7 16 10 | Отделения иностранных некоммерческих неправительственных организаций"]
["OKOPF_LIST","7 51 01 | Федеральные государственные автономные учреждения"]
["OKOPF_LIST","7 51 03 | Федеральные государственные бюджетные учреждения"]
["OKOPF_LIST","7 51 04 | Федеральные государственные казенные учреждения"]
["OKOPF_LIST","7 52 01 | Государственные автономные учреждения субъектов Российской Федерации"]
["OKOPF_LIST","7 52 03 | Государственные бюджетные учреждения субъектов Российской Федерации"]
["OKOPF_LIST","7 52 04 | Государственные казенные учреждения субъектов Российской Федерации"]
["OKOPF_LIST","7 53 00 | Государственные академии наук"]
["OKOPF_LIST","7 54 01 | Муниципальные автономные учреждения"]
["OKOPF_LIST","7 54 03 | Муниципальные бюджетные учреждения"]
["OKOPF_LIST","7 54 04 | Муниципальные казенные учреждения"]
["OKOPF_LIST","7 55 00 | Частные учреждения"]
["OKOPF_LIST","7 55 02 | Благотворительные учреждения"]
["OKOPF_LIST","7 55 05 | Общественные учреждения"]

{"sheet":"FILE_STORE_DATA","index":29,"n_rows":0,"n_cols":0,"rows_kept":0,"cut":false,"hidden":true,"merged":[]}

{"sheet":"PLAN1X_LIST_ORG","index":30,"n_rows":0,"n_cols":0,"rows_kept":0,"cut":false,"hidden":true,"merged":[]}

{"sheet":"PLAN1X_LIST_MO","index":31,"n_rows":0,"n_cols":0,"rows_kept":0,"cut":false,"hidden":true,"merged":[]}

{"sheet":"PLAN1X_LIST_SUBSIDIARY","index":32,"n_rows":0,"n_cols":0,"rows_kept":0,"cut":false,"hidden":true,"merged":[]}

{"sheet":"PLAN1X_LIST_DPR","index":33,"n_rows":0,"n_cols":0,"rows_kept":0,"cut":false,"hidden":true,"merged":[]}

{"sheet":"PLAN1X_LIST_SRC","index":34,"n_rows":1,"n_cols":25,"rows_kept":1,"cut":false,"hidden":true,"merged":[]}
["CONTEXT_ID","№",null,null,null,"Организация","ИНН","КПП","Филиал","№","Объект","Тип","Адрес. МР","Адрес. МО","Адрес. ОКТМО","Адрес. НП","Адрес. НП ОКТМО","Адрес. Улица","Адрес. Дом","","Территория. МР","Территория. МО","Территория. ОКТМО","Территория. НП","Территория. НП ОКТМО"]

{"sheet":"PLAN1X_LIST_TMX","index":35,"n_rows":0,"n_cols":0,"rows_kept":0,"cut":false,"hidden":true,"merged":[]}

{"sheet":"modGetGeoBase","index":36,"n_rows":0,"n_cols":0,"rows_kept":0,"cut":false,"hidden":true,"merged":[]}

{"sheet":"modInfo","index":37,"n_rows":3,"n_cols":2,"rows_kept":3,"cut":false,"hidden":true,"merged":[]}
[]
[]
[null,"Нет доступных обновлений, версия отчёта актуальна"]

{"sheet":"modUIButtons","index":38,"n_rows":0,"n_cols":0,"rows_kept":0,"cut":false,"hidden":true,"merged":[]}

{"sheet":"modVLDCommon","index":39,"n_rows":0,"n_cols":0,"rows_kept":0,"cut":false,"hidden":true,"merged":[]}

{"sheet":"modVLDIntegrity","index":40,"n_rows":0,"n_cols":0,"rows_kept":0,"cut":false,"hidden":true,"merged":[]}

{"sheet":"modVLDData","index":41,"n_rows":0,"n_cols":0,"rows_kept":0,"cut":false,"hidden":true,"merged":[]}

{"sheet":"modGeneralAPI","index":42,"n_rows":0,"n_cols":0,"rows_kept":0,"cut":false,"hidden":true,"merged":[]}

{"sheet":"modBalPr","index":43,"n_rows":0,"n_cols":0,"rows_kept":0,"cut":false,"hidden":true,"merged":[]}

{"sheet":"modBalTr","index":44,"n_rows":0,"n_cols":0,"rows_kept":0,"cut":false,"hidden":true,"merged":[]}

{"sheet":"modCalc","index":45,"n_rows":0,"n_cols":0,"rows_kept":0,"cut":false,"hidden":true,"merged":[]}

{"sheet":"modFuel","index":46,"n_rows":0,"n_cols":0,"rows_kept":0,"cut":false,"hidden":true,"merged":[]}

{"sheet":"modReagent","index":47,"n_rows":0,"n_cols":0,"rows_kept":0,"cut":false,"hidden":true,"merged":[]}

{"sheet":"modListMO","index":48,"n_rows":0,"n_cols":0,"rows_kept":0,"cut":false,"hidden":true,"merged":[]}

{"sheet":"modListObjects","index":49,"n_rows":0,"n_cols":0,"rows_kept":0,"cut":false,"hidden":true,"merged":[]}

{"sheet":"modRequestSpecificData","index":50,"n_rows":0,"n_cols":0,"rows_kept":0,"cut":false,"hidden":true,"merged":[]}

{"sheet":"modRequestGenericData","index":51,"n_rows":0,"n_cols":0,"rows_kept":0,"cut":false,"hidden":true,"merged":[]}

{"sheet":"modfrmRegion","index":52,"n_rows":0,"n_cols":0,"rows_kept":0,"cut":false,"hidden":true,"merged":[]}

{"sheet":"modServiceAPI","index":53,"n_rows":0,"n_cols":0,"rows_kept":0,"cut":false,"hidden":true,"merged":[]}

{"sheet":"modVLDGeneral","index":54,"n_rows":0,"n_cols":0,"rows_kept":0,"cut":false,"hidden":true,"merged":[]}

{"sheet":"modPLAN1XUpdate","index":55,"n_rows":0,"n_cols":0,"rows_kept":0,"cut":false,"hidden":true,"merged":[]}

{"sheet":"modVLDUniqueness","index":56,"n_rows":0,"n_cols":0,"rows_kept":0,"cut":false,"hidden":true,"merged":[]}

{"sheet":"modfrmReestr","index":57,"n_rows":0,"n_cols":0,"rows_kept":0,"cut":false,"hidden":true,"merged":[]}

{"sheet":"modfrmOrg","index":58,"n_rows":0,"n_cols":0,"rows_kept":0,"cut":false,"hidden":true,"merged":[]}

{"sheet":"modUpdTemplMain","index":59,"n_rows":0,"n_cols":0,"rows_kept":0,"cut":false,"hidden":true,"merged":[]}

{"sheet":"modfrmCheckUpdates","index":60,"n_rows":0,"n_cols":0,"rows_kept":0,"cut":false,"hidden":true,"merged":[]}

{"sheet":"modfrmDateChoose","index":61,"n_rows":0,"n_cols":0,"rows_kept":0,"cut":false,"hidden":true,"merged":[]}

{"sheet":"modIHLCommandBar","index":62,"n_rows":0,"n_cols":0,"rows_kept":0,"cut":false,"hidden":true,"merged":[]}

{"sheet":"modfrmHEATAdditionalOrgData","index":63,"n_rows":0,"n_cols":0,"rows_kept":0,"cut":false,"hidden":true,"merged":[]}

{"sheet":"modfrmHEATFUELSelector","index":64,"n_rows":0,"n_cols":0,"rows_kept":0,"cut":false,"hidden":true,"merged":[]}

{"sheet":"modfrmPLAN1XCheckIn","index":65,"n_rows":0,"n_cols":0,"rows_kept":0,"cut":false,"hidden":true,"merged":[]}

{"sheet":"modfrmPLAN1XUpdate","index":66,"n_rows":0,"n_cols":0,"rows_kept":0,"cut":false,"hidden":true,"merged":[]}

{"sheet":"modfrmReportMode","index":67,"n_rows":0,"n_cols":0,"rows_kept":0,"cut":false,"hidden":true,"merged":[]}

{"sheet":"modPOSTData","index":68,"n_rows":0,"n_cols":0,"rows_kept":0,"cut":false,"hidden":true,"merged":[]}

{"sheet":"modfrmDPRConstructor","index":69,"n_rows":0,"n_cols":0,"rows_kept":0,"cut":false,"hidden":true,"merged":[]}