{"text_format":"1","workbook":"xlsx","n_sheets":136,"sheets":["Инструкция","modVLDProv","modCommandButton","modVLDProvLIST_MO","modfrmRegion","Лог обновления","Титульный","modCheckCyan","modDOC","Список листов","Сопроводительные материалы","Библиотека документов","Регионы аналоги","PATTERN_COSTS","3_Форма раскрытия информации","4_Полезный отпуск","5_ЛЭП у.е","6 _ПС у.е","7_Свод УЕ ","4.1","4.2. расчет K_об","Прил. 1","Прил. 2-6","индекс эффективности ОПР","modLT","баз. ур. подк. расх. ","8_Расчет НВВ ","9 Тариф","9_Расчет тарифов","9 Тариф снизу","ЭЗ","11_Корректировка НВВ","12_Сырье и материалы","modMaterials","13_РПР Ремонт ","modRPR_Repair","14_Ремонты ЭСХ","modESX_Repair","15_Информация по ТО","modInformation_TO","modStaff","16_Персонал","modPpr","TECHSHEET","17_ППР","18_ФСК","19_Аренда ЭСХ факт","modRent_ESX_FACT","modCONS_STRUCT_FACT","20_Структура потребления факт","modRent_ESX_PLAN","modCONS_STRUCT_PLAN","21_Аренда ЭСХ план","22_Структура потребления план","23_Лизинг ЭСХ факт","modLEASING_ESX_FACT","24_Лизинг ЭСХ план","modLEASING_ESX_PLAN","25_Аренда прочее им. факт","modRENT_OTHER_FACT","26_Аренда прочее им. план ","modRENT_OTHER_PLAN","27_Лизинг прочее им. факт","modLEASING_OTHER_FACT","28_Лизинг прочее им. план","modLEASING_OTHER_PLAN","modRENT_FACT","29_Аренда земли факт","30_Аренда земли план","modRENT_PLAN","modNPR","31_Прочие НПР ","modCalcAmortFact","32_Расчет амортизации факт","32_Расчет амортизации факт макс","modCalcAmortFactMax","modCalcAmortPlan","33_Расчет Амортизации план","34_Амортизация свод ","35_Средняя стоимость ОС","36_Прибыль","37_Факт потери","modLosses","modProceedsFact","38_товарная выручка факт","39_ФСК факт","40_ИПР факт ","41_Бездоговор","modNoContract","42_финансовые показатели","modProfit","43_Депозиты","modDeposits","modCredit","44_кредиты","modInstruction","modSheetTitle","modUncontrolledExpenses","modDocs","tech","45_НВВ РСК","46_PEREDACHA.XX.FACT.EXPENSES","47_PEREDACHA.M.ХХ Индекс","modfrmReestr","modReestr","REESTR_MO","REESTR_LOCATION","REESTR_STREET","REESTR_ORG","modPass","Бухгалтерский баланс. Раздел А","Бухгалтерский баланс. Раздел П","Отчет о финансовых результатах","Стоимость активов","Оценка ликвидности","Оценка фин. уст","Оценка дел. активность","Обоб. анализ","Комментарии","Проверка","modfrmDocumentPicker","modDocumentsAPI","SELECTED_DOCS","DOCS_DEPENDENCY","modGetGeoBase","modVLDProvGeneralProc","modUpdTemplMain","modfrmCheckUpdates","modIHLCommandBar","modGeneralProcedures","modInfo","modHLIcons","modfrmDateChoose","modfrmActivity","modTech","modfrmURL"],"not_rendered":{"charts":0,"images":20,"macros":1,"external_links":7,"defined_names":4994,"comments":1,"pivot_tables":0},"unopened":[],"bounds":{"document_bytes":16777216,"sheet_cells":100000,"rows_first":2000,"rows_last":500,"rows_between":2000,"halvings":0,"cell_chars":16384,"cell_head_chars":4096},"cells_cut":0,"cells_raw":0,"read":"whole","date_system":"1900"}

{"sheet":"Инструкция","index":0,"n_rows":91,"n_cols":27,"rows_kept":91,"cut":false,"hidden":false,"merged":[[1,1,1,6],[2,1,2,2],[4,1,4,24],[6,4,18,23],[34,4,38,23],[21,15,21,23],[20,15,20,23],[20,5,20,12],[19,5,19,12],[19,15,19,23],[21,5,21,13],[22,5,22,12],[69,4,83,24],[84,4,84,23],[85,4,85,23],[107,4,107,23],[90,5,90,23],[86,4,86,23],[88,5,88,18],[58,4,58,23],[39,4,39,23],[40,4,44,23],[45,4,56,23],[59,4,59,23]]}
[" ",null,null,null,null,null,null,null,null,null,null,null,null,null,null,null,null,null,null,null,null,null,null,null,null,null," (требуется обновление)"]
[null,{"$f":"\"Код отчёта: \" & GetCode()","v":"Код отчёта: ENERGY.CALC.NVV.TSO"}]
[null,{"$f":"\"Версия \" & GetVersion()","v":"Версия 1.1.5"}]
[]
[null,"Расчет плановой необходимой валовой выручки от оказания услуг по передаче электрической энергии для территориальных сетевых организаций"]
[]
[null,null,null,null,"• На рабочем месте должен быть установлен MS Office 2007 SP3, 2010, 2013, 2016 с полной версией MS Excel\n\n• Макросы во время работы должны быть включены (!)\n\n• Для корректной работы отчёта требуется выбрать низкий уровень безопасности\n(В меню MS Excel 2007/2010/2013/2016: Параметры Excel | Центр управления безопасностью | Параметры центра управления безопасностью | Параметры макросов | Включить все макросы | ОК)\n\n• При работе в формате XLSB заметно быстрее происходит сохранение файла, а также уменьшается размер по сравнению с форматами XLS и XLSM\n\n• Не рекомендуется снимать защиту с листов и каким-либо образом модифицировать защищаемые формулы и расчётные поля, в противном случае, отчёт будет отклонён системой\n\n• При сохранении не следует выбирать формат XLSX (Книга Excel), так как в указанном формате макросы, необходимые для работы отчёта, безвозвратно удаляются"]
[]
[]
[]
[]
[]
[]
[]
[]
[]
[]
[]
[]
[null,null,null,null,"A"," - предназначенные для заполнения",null,null,null,null,null,null,null,null,"A"," - ссылки и автозаполняемые поля"]
[null,null,null,null,"A"," - с формулами и константами",null,null,null,null,null,null,null,null,"A"," - обязательные для заполнения"]
[null,null,null,null,"A"," - выбором значений до двойному клику"]
[]
[]
[]
[]
[]
[]
[]
[]
[]
[]
[]
[]
[null,null,null,null,"Если в предложенном Вам списке необходимая организация, МР/МО отсутствуют, обновите реестры с помощью кнопок\n\nВ результате синхронизации с базой данных список организаций (МР/МО) будет заменён актуальным (механизм синхронизации требует подключения к сети Интернет и основан на использовании протокола HTTPS (TCP порт 443))\n\nЕсли после обновления Вам не удалось найти необходимую организацию в списке, обратитесь к ответственному за поддержание реестра Вашего региона. "]
[]
[]
[]
[]
[]
[]
[]
[]
[]
[]
[null,null,null,null,"• При сохранении шаблона осуществляется проверка корректности данных, в том числе на наличие значений в ячейках, обязательных для заполнения\n\n• Если какая-то ячейка не удовлетворяет условию проверки, на лист «Проверка» добавляется гиперссылка на данную ячейку и указывается причина ошибки\n\n• В колонке «Статус» для каждого сообщения возможны 2 значения: ошибка и предупреждение\n\n• При наличии сообщений со статусом «Ошибка» шаблон будет отклонён системой и не будет загружен в хранилище данных, сообщения со статусом «Предупреждение» носят информационный характер, и такой шаблон будет принят системой"]
[]
[]
[]
[]
[]
[]
[]
[]
[]
[]
[]
[]
[null,null,null,null,"Консультация службы поддержки"]
[null,null,null,null,"База знаний"]
[]
[]
[]
[]
[]
[]
[]
[]
[]
[null,null,null,null,"Законодательная основа шаблона\nПостановление Правительства Российской Федерации от 29.12.2011 № 1178 «О ценообразовании в области регулируемых цен (тарифов) в электроэнергетике»\n\nПринципы работы с шаблоном\nНа листе «Титульный» нужно заполнить все ячейки голубого цвета. Затем необходимо нажать кнопку \"Приступить к заполнению\" на листе \"Титульный\", после чего в шаблоне отобразятся листы для дальнейшего заполнения.\n\nЕсли какой-либо из показателей на расчетных листах для Вашей организации отсутствует, введите в поле, обязательное для заполнение, «0» (для числовых показателей) и «-» (для текстовых)."]
[]
[]
[]
[]
[]
[]
[]
[]
[]
[]
[]
[]
[]
[]
[null,null,null,null,"Инструкция по загрузке сопроводительных материалов с помощью 'ЕИАС Мониторинг'"]
[null,null,null,null,"Руководство пользователя"]
[null,null,null,null,"При наличии подключения к Интернет, можно автоматически проверять наличие доступных обновлений. Выберите способ оповещения о наличии обновлений для отчёта:"]
[]
[null,null,null,null,null,"проверять доступные обновления (рекомендуется)",null,null,null,null,null,null,null,null,null,null,null,null,null,null,null,null,null,null,null,null,"y"]
[]
[null,null,null,null,null,"никогда не проверять наличие обновлений (не рекомендуется)"]

{"sheet":"modVLDProv","index":1,"n_rows":0,"n_cols":0,"rows_kept":0,"cut":false,"hidden":true,"merged":[]}

{"sheet":"modCommandButton","index":2,"n_rows":0,"n_cols":0,"rows_kept":0,"cut":false,"hidden":true,"merged":[]}

{"sheet":"modVLDProvLIST_MO","index":3,"n_rows":1,"n_cols":4,"rows_kept":1,"cut":false,"hidden":true,"merged":[]}
["NSRF","MR_NAME","MO_NAME","OKTMO_NAME"]

{"sheet":"modfrmRegion","index":4,"n_rows":0,"n_cols":0,"rows_kept":0,"cut":false,"hidden":true,"merged":[]}

{"sheet":"Лог обновления","index":5,"n_rows":18,"n_cols":4,"rows_kept":18,"cut":false,"hidden":true,"merged":[]}
[]
["3/17/2012  12:12:41 AM","Дата/Время","Сообщение","Статус"]
[null,"3/26/2020  2:19:34 PM","Проверка доступных обновлений...","Информация"]
[null,"3/26/2020  2:19:35 PM","Нет доступных обновлений для отчёта с кодом ENERGY.CALC.NVV.TSO!","Информация"]
[null,"3/26/2020  2:40:30 PM","Проверка доступных обновлений...","Информация"]
[null,"3/26/2020  2:40:31 PM","Нет доступных обновлений для отчёта с кодом ENERGY.CALC.NVV.TSO!","Информация"]
[null,"3/26/2020  3:21:24 PM","Проверка доступных обновлений...","Информация"]
[null,"3/26/2020  3:21:39 PM","Нет доступных обновлений для отчёта с кодом ENERGY.CALC.NVV.TSO!","Информация"]
[null,"4/28/2020  2:26:32 PM","Проверка доступных обновлений...","Информация"]
[null,"4/28/2020  2:26:34 PM","Доступно обновление до версии 1.1.5","Информация"]
[null,"4/28/2020  2:26:35 PM","Описание изменений: Версия 1.1.5:\n- Скорректированы формулы на листах '3_Форма раскрытия информации', 'Титульный' , '33_Расчет Амортизации план', '8_Расчет НВВ ', '9 Тариф', 'ЭЗ', '31_Прочие НПР ', '11_Корректировка НВВ', '33_Расчет Амортизации план', '37_Факт потери', '13_РПР Ремонт ', '40_ИПР факт '\n\nВерсия 1.1.4:\n- Скорректированы формулы на листах '3_Форма раскрытия информации', '8_Расчет НВВ' , '33_Расчет Амортизации план', '41_Бездоговор', '16_Персонал'\n\nВерсия 1.1.3:\n- Скорректированы формулы на листах '17_ППР' , '31_Прочие НПР', '11_Корректировка НВВ', '32_Расчет амортизации факт', '32_Расчет амортизации факт макс', '33_Расчет Амортизации план', '46_PEREDACHA.XX.FACT.EXPENSES', '47_PEREDACHA.M.ХХ Индекс'\n\nВерсия 1.1.2:\n- Индексация статей затрат подконтрольных расходов, отображены расходы по аренде, дивидендах и прочим расходам из прибыли\n- Скорректированы формулы на листах '8_Расчет НВВ' , '3_Форма раскрытия информации', '32_Расчет амортизации факт', '32_Расчет амортизации факт макс', '33_Расчет Амортизации план', '37_Факт потери', 'ЭЗ', '11_Корректировка НВВ', '21_Аренда ЭСХ план', '29_Аренда земли факт', '30_Аренда земли план', '36_Прибыль', '31_Прочие НПР'\n\nВерсия 1.1.1:\n- Скорректированы формулы на листах '8_Расчет НВВ', '3_Форма раскрытия информации', '32_Расчет амортизации факт', '32_Расчет амортизации факт макс', '33_Расчет Амортизации план', '37_Факт потери', 'ЭЗ', '11_Корректировка НВВ', '21_Аренда ЭСХ план', '29_Аренда земли факт', '30_Аренда земли план', '36_Прибыль', '14_Ремонты ЭСХ', '31_Прочие НПР', '13_РПР Ремонт'","Информация"]
[null,"4/28/2020  2:26:35 PM","Размер файла обновления: 340033 байт","Информация"]
[null,"4/28/2020  2:26:47 PM","Подготовка к обновлению...","Информация"]
[null,"4/28/2020  2:27:10 PM","Сохранение файла резервной копии: C:\\Users\\vo_okromelidze\\Desktop\\11.BKP.xlsb","Информация"]
[null,"4/28/2020  2:27:10 PM","Резервная копия создана: C:\\Users\\vo_okromelidze\\Desktop\\11.BKP.xlsb","Информация"]
[null,"4/28/2020  2:27:11 PM","Создание книги для установки обновлений...","Информация"]
[null,"4/28/2020  2:27:12 PM","Файл обновления загружен: C:\\Users\\vo_okromelidze\\Desktop\\UPDATE.ENERGY.CALC.NVV.TSO.TO.1.1.5.48.xls","Информация"]
[null,"4/28/2020  2:28:02 PM","Обновление успешно завершено! Шаблон ENERGY.CALC.NVV.TSO.xlsb сохранен под именем 'ENERGY.CALC.NVV.TSO(v1.1.5).xlsb'","Информация"]

{"sheet":"Титульный","index":6,"n_rows":70,"n_cols":5,"rows_kept":70,"cut":false,"hidden":true,"merged":[[2,3,2,4]]}
[]
[null,null,null,null,{"$f":"version","v":"Версия 1.1.5"}]
[null,null,null,"Расчет плановой необходимой валовой выручки от оказания услуг по передаче электрической энергии для территориальных сетевых организаций"]
[]
[null,null,null,"Субъект Российской Федерации"]
[]
[null,null,null,"Версия","Версия организации"]
[]
[null,null,null,"Наименование организации"]
[]
[null,null,null,"Организационно правовая форма"]
[]
[null,null,null,"ИНН"]
[null,null,null,"КПП"]
[]
[]
[null,null,null,"Метод"]
[]
[null,null,null,"Первый год текущего долгосрочного периода"]
[]
[null,null,null,"Количество лет регулирования"]
[]
[null,null,null,"Период регулирования"]
[]
[null,null,null,"Долгосрочный период регулирования",{"$f":"IF(god=0,\"\",FIRST_PERIOD_IN_LT &\"-\"& FIRST_PERIOD_IN_LT + PERIOD_LENGTH -1)","v":""}]
[]
[]
[null,null,null,"Укажите основной вид деятельности"]
[]
[null,null,null,"Преобладающее право владения электросетевым имуществом"]
[]
[null,null,null,"Наименование смежной сетевой организации (котлодержатель)"]
[]
[null,null,null,"ИНН"]
[null,null,null,"КПП"]
[]
[null,null,null,"Количество точек поставки"]
[]
[]
[]
[null,null,null,"Выделенный абонентский номер для обращений потребителей услуг по передаче электрической энергии (номер) "]
[]
[null,null,null,"Официальный сайт в информационно-телекоммуникационной сети \"Интернет\" (ссылка)"]
[]
[]
[]
[]
[]
[]
[]
[]
[null,null,null,null,"Адрес организации"]
[null,null,null,"Юридический адрес"]
[null,null,null,"Почтовый адрес"]
[]
[null,null,null," ","Руководитель"]
[null,null,null,"Фамилия, имя, отчество"]
[null,null,null,"(код) номер телефона"]
[]
[null,null,null,null,"Главный бухгалтер"]
[null,null,null,"Фамилия, имя, отчество"]
[null,null,null,"(код) номер телефона"]
[]
[null,null,null,null,"Ответственный за предоставление информации"]
[null,null,null,"Фамилия, имя, отчество"]
[null,null,null,"Должность"]
[null,null,null,"Контактный телефон"]
[null,null,null,"e-mail"]
[]
[null,null,null,null,"(обновление не выполнялось)"]

{"sheet":"modCheckCyan","index":7,"n_rows":2,"n_cols":1,"rows_kept":2,"cut":false,"hidden":true,"merged":[]}
[{"$f":"IF('36_Прибыль'!#REF!=\"\",1,0)","v":{"$error":"#REF!"}}]
[{"$f":"IF('36_Прибыль'!#REF!=\"\",1,0)","v":{"$error":"#REF!"}}]

{"sheet":"modDOC","index":8,"n_rows":0,"n_cols":0,"rows_kept":0,"cut":false,"hidden":true,"merged":[]}

{"sheet":"Список листов","index":9,"n_rows":68,"n_cols":7,"rows_kept":68,"cut":false,"hidden":true,"merged":[[2,4,2,5]]}
[]
[]
[null,null,null,null,"Список листов"]
[]
[null,null,null,null,"№ п/п","Наименование листа","Ссылка"]
[]
[]
[{"$f":"Инструкция!A1","v":" "},null,null,null,8,"Инструкция","Инструкция"]
[{"$f":"'Список листов'!A1","v":0},null,null,null,9,"Список листов","Список листов"]
[{"$f":"'Сопроводительные материалы'!A1","v":0},null,null,null,10,"Сопроводительные материалы","Сопроводительные материалы"]
[{"$f":"'3_Форма раскрытия информации'!A1","v":0},null,null,null,11,"3_Форма раскрытия информации","3_Форма раскрытия информации"]
[{"$f":"'5_ЛЭП у.е'!A1","v":0},null,null,null,12,"5_ЛЭП у.е ","5_ЛЭП у.е "]
[{"$f":"'6 _ПС у.е'!A1","v":0},null,null,null,13,"6 _ПС у.е","6 _ПС у.е"]
[{"$f":"'7_Свод УЕ '!A1","v":0},null,null,null,14,"7_Свод УЕ ","7_Свод УЕ "]
[{"$f":"'4.1'!A1","v":"HIDDEN"},null,null,null,15,"4.1","4.1"]
[{"$f":"'4.2. расчет K_об'!A1","v":"HIDDEN"},null,null,null,16,"4.2. расчет K_об","4.2. расчет K_об"]
[{"$f":"'Прил. 1'!A1","v":"HIDDEN"},null,null,null,17,"Прил. 1","Прил. 1"]
[{"$f":"'Прил. 2-6'!A1","v":"HIDDEN"},null,null,null,18,"Прил. 2-6","Прил. 2-6"]
[{"$f":"'индекс эффективности ОПР'!A1","v":"HIDDEN"},null,null,null,19,"индекс эффективности ОПР","индекс эффективности ОПР"]
[{"$f":"'баз. ур. подк. расх. '!A1","v":"HIDDEN"},null,null,null,20,"баз. ур. подк. расх. ","баз. ур. подк. расх. "]
[{"$f":"'8_Расчет НВВ '!A1","v":" "},null,null,null,21,"8_Расчет НВВ ","8_Расчет НВВ "]
[{"$f":"'9 Тариф'!A1","v":0},null,null,null,22,"9 Тариф","9 Тариф"]
[{"$f":"'9_Расчет тарифов'!A1","v":"HIDDEN"},null,null,null,23,"9_Расчет тарифов","9_Расчет тарифов"]
[{"$f":"'9 Тариф снизу'!A1","v":"HIDDEN"},null,null,null,24,"9 Тариф снизу","9 Тариф снизу"]
[{"$f":"'11_Корректировка НВВ'!A1","v":0},null,null,null,25,"11_Корректировка НВВ","11_Корректировка НВВ"]
[{"$f":"'12_Сырье и материалы'!A1","v":0},null,null,null,26,"12_Сырье и материалы","12_Сырье и материалы"]
[{"$f":"'13_РПР Ремонт '!A1","v":0},null,null,null,27,"13_РПР Ремонт ","13_РПР Ремонт "]
[{"$f":"'14_Ремонты ЭСХ'!A1","v":0},null,null,null,28,"14_Ремонты ЭСХ","14_Ремонты ЭСХ"]
[{"$f":"'15_Информация по ТО'!A1","v":0},null,null,null,29,"15_Информация по ТО","15_Информация по ТО"]
[{"$f":"'16_Персонал'!A1","v":0},null,null,null,30,"16_Персонал","16_Персонал"]
[{"$f":"'17_ППР'!A1","v":0},null,null,null,31,"17_ППР","17_ППР"]
[{"$f":"'18_ФСК'!A1","v":0},null,null,null,32,"18_ФСК","18_ФСК"]
[{"$f":"'19_Аренда ЭСХ факт'!A1","v":0},null,null,null,33,"19_Аренда ЭСХ факт","19_Аренда ЭСХ факт"]
[{"$f":"'21_Аренда ЭСХ план'!A1","v":0},null,null,null,34,"21_Аренда ЭСХ план","21_Аренда ЭСХ план"]
[{"$f":"'23_Лизинг ЭСХ факт'!A1","v":"VISIBLE"},null,null,null,35,"23_Лизинг ЭСХ факт","23_Лизинг ЭСХ факт"]
[{"$f":"'24_Лизинг ЭСХ план'!A1","v":"VISIBLE"},null,null,null,36,"24_Лизинг ЭСХ план","24_Лизинг ЭСХ план"]
[{"$f":"'25_Аренда прочее им. факт'!A1","v":0},null,null,null,37,"25_Аренда прочее им. факт","25_Аренда прочее им. факт"]
[{"$f":"'26_Аренда прочее им. план '!A1","v":0},null,null,null,38,"26_Аренда прочее им. план ","26_Аренда прочее им. план "]
[{"$f":"'27_Лизинг прочее им. факт'!A1","v":"VISIBLE"},null,null,null,39,"27_Лизинг прочее им. факт","27_Лизинг прочее им. факт"]
[{"$f":"'28_Лизинг прочее им. план'!A1","v":"VISIBLE"},null,null,null,40,"28_Лизинг прочее им. план","28_Лизинг прочее им. план"]
[{"$f":"'29_Аренда земли факт'!A1","v":0},null,null,null,41,"29_Аренда земли факт","29_Аренда земли факт"]
[{"$f":"'30_Аренда земли план'!A1","v":0},null,null,null,42,"30_Аренда земли план","30_Аренда земли план"]
[{"$f":"'31_Прочие НПР '!A1","v":0},null,null,null,43,"31_Прочие НПР ","31_Прочие НПР "]
[{"$f":"'32_Расчет амортизации факт'!A1","v":0},null,null,null,44,"32_Расчет амортизации факт","32_Расчет амортизации факт"]
[{"$f":"'32_Расчет амортизации факт макс'!A1","v":0},null,null,null,45,"32_Расчет амортизации факт макс","32_Расчет амортизации факт макс"]
[{"$f":"'33_Расчет Амортизации план'!A1","v":0},null,null,null,46,"33_Расчет Амортизации план","33_Расчет Амортизации план"]
[{"$f":"'34_Амортизация свод '!A1","v":"VISIBLE"},null,null,null,47,"34_Амортизация свод ","34_Амортизация свод "]
[{"$f":"'35_Средняя стоимость ОС'!A1","v":"VISIBLE"},null,null,null,48,"35_Средняя стоимость ОС","35_Средняя стоимость ОС"]
[{"$f":"'36_Прибыль'!A1","v":0},null,null,null,49,"36_Прибыль","36_Прибыль"]
[{"$f":"'37_Факт потери'!A1","v":0},null,null,null,50,"37_Факт потери","37_Факт потери"]
[{"$f":"'38_товарная выручка факт'!A1","v":0},null,null,null,51,"38_товарная выручка факт","38_товарная выручка факт"]
[{"$f":"'40_ИПР факт '!A1","v":"Вернуться к перечню форм"},null,null,null,52,"40_ИПР факт ","40_ИПР факт "]
[{"$f":"'41_Бездоговор'!A1","v":0},null,null,null,53,"41_Бездоговор","41_Бездоговор"]
[{"$f":"'42_финансовые показатели'!A1","v":0},null,null,null,54,"42_финансовые показатели","42_финансовые показатели"]
[{"$f":"'43_Депозиты'!A1","v":0},null,null,null,55,"43_Депозиты","43_Депозиты"]
[{"$f":"'44_кредиты'!A1","v":"HIDDEN"},null,null,null,56,"44_кредиты","44_кредиты"]
[{"$f":"'45_НВВ РСК'!A1","v":0},null,null,null,57,"45_НВВ РСК","45_НВВ РСК"]
[{"$f":"'46_PEREDACHA.XX.FACT.EXPENSES'!A1","v":0},null,null,null,58,"46_PEREDACHA.XX.FACT.EXPENSES","46_PEREDACHA.XX.FACT.EXPENSES"]
[{"$f":"'47_PEREDACHA.M.ХХ Индекс'!A1","v":0},null,null,null,59,"47_PEREDACHA.M.ХХ Индекс","47_PEREDACHA.M.ХХ Индекс"]
[{"$f":"'Бухгалтерский баланс. Раздел А'!A1","v":0},null,null,null,60,"Бухгалтерский баланс. Раздел А","Бухгалтерский баланс. Раздел А"]
[{"$f":"'Бухгалтерский баланс. Раздел П'!A1","v":0},null,null,null,61,"Бухгалтерский баланс. Раздел П","Бухгалтерский баланс. Раздел П"]
[{"$f":"'Отчет о финансовых результатах'!A1","v":0},null,null,null,62,"Отчет о финансовых результатах","Отчет о финансовых результатах"]
[{"$f":"'Стоимость активов'!A1","v":0},null,null,null,63,"Стоимость активов","Стоимость активов"]
[{"$f":"'Оценка ликвидности'!A1","v":0},null,null,null,64,"Оценка ликвидности","Оценка ликвидности"]
[{"$f":"'Оценка фин. уст'!A1","v":0},null,null,null,65,"Оценка фин. уст","Оценка фин. уст"]
[{"$f":"'Оценка дел. активность'!A1","v":0},null,null,null,66,"Оценка дел. активность","Оценка дел. активность"]
[{"$f":"'Обоб. анализ'!A1","v":0},null,null,null,67,"Обоб. анализ","Обоб. анализ"]
[{"$f":"Комментарии!A1","v":0},null,null,null,68,"Комментарии","Комментарии"]

{"sheet":"Сопроводительные материалы","index":10,"n_rows":22,"n_cols":12,"rows_kept":22,"cut":false,"hidden":true,"merged":[[10,5,10,6],[11,6,11,10],[22,5,22,10],[9,5,9,6]]}
[]
[]
[]
[]
[]
[]
[]
[]
[]
[null,null,null,null,null,"Список листов"]
[null,null,null,null,null,"Сопроводительные материалы"]
[]
[null,null,null,null,null,"№ п/п","Наименование ",null,null,"№ п/п","Ссылка на документ","Количество листов (комментарий)"]
[null,null,null,null,null,0]
["VISIBLE",null,null,null,null,null,"Добавить"]
["VISIBLE"]
[]
["VISIBLE"]
["VISIBLE"]
["VISIBLE"]
["VISIBLE"]
["VISIBLE"]

{"sheet":"Библиотека документов","index":11,"n_rows":19,"n_cols":8,"rows_kept":19,"cut":false,"hidden":true,"merged":[[9,3,9,7],[13,3,13,7],[16,3,16,7]]}
[]
[]
[]
[]
[]
[]
[]
[]
[]
[null,null,null,"Перечень документов"]
[]
[null,null,null,"№ п/п","Описание документа","Реквизиты документа","URL-ссылка на документ","Примечание"]
[]
[null,null,null,"Список документов для подтверждения / подписи полей отчёта (редактирование производится в форме при подписи полей)"]
[null,null,null,0]
[]
[]
[null,null,null,"2.0"]
[null,null,null,null,"Добавить"]

{"sheet":"Регионы аналоги","index":12,"n_rows":26,"n_cols":11,"rows_kept":26,"cut":false,"hidden":true,"merged":[[11,3,11,8],[10,7,10,8],[6,3,6,4],[22,9,23,9],[22,5,22,6],[22,7,22,8],[22,3,24,3]]}
[]
[]
[]
[]
[]
[]
[]
[]
[]
[]
[null,null,null,null,null,null,null,"Приложение № 4"]
[null,null,null,"СТОИМОСТЬ ФИКСИРОВАННОГО НАБОРА ПОТРЕБИТЕЛЬСКИХ ТОВАРОВ И УСЛУГ В ДЕКАБРЕ 2012 Г. И ДЕКАБРЕ 2013 Г."]
[]
[]
[null,null,null,"№ п.п.","Субъект Российской Федерации","Стоимость за декабрь 2012 года, руб.","Сi=2012","Стоимость за декабрь 2013 года, руб.","Сi=2013"]
[null,null,null,1,{"$f":"region_name","v":0}]
[]
[]
[]
[null,null,null,null,null,null,null,null,null,"Приложение № 5"]
[null,null,null,"КОЭФФИЦИЕНТЫ ПРИВЕДЕНИЯ ЗАТРАТ ПО КЛИМАТИЧЕСКИМ УСЛОВИЯМ"]
[]
[null,null,null,"№ п.п.","Субъект Российской Федерации","Средняя температура января, оС",null,"Толщина стенки гололеда",null,"Количество дней переходов температуры через ноль"]
[null,null,null,null,"Единица измерения","оС","ед.","мм","ед.",null,"ед."]
[null,null,null,null,"Источник","СНиП 23-01-99","Т1","СНиП 2.01.07-85","Т2","СНиП 23-01-99","Т3"]
[null,null,null,1,{"$f":"region_name","v":0}]

{"sheet":"PATTERN_COSTS","index":13,"n_rows":2,"n_cols":12,"rows_kept":2,"cut":false,"hidden":true,"merged":[]}
["P_L1","P_L2","P_L3","P_L4","P_L5","P_L6","P_L7","P_L8","P_L9","P_L10","P_L11","P_REGION_NAME"]
["9915","1.41","10404","1.48","-13.9","1.04","5","1.01","60","1.03","N"]

{"sheet":"3_Форма раскрытия информации","index":14,"n_rows":88,"n_cols":14,"rows_kept":88,"cut":false,"hidden":true,"merged":[[12,5,12,9],[7,5,7,9],[8,5,8,9],[9,5,9,9],[10,5,10,9],[28,5,28,6],[29,5,29,6],[35,5,35,6],[28,7,28,10],[25,7,25,10],[26,7,26,10],[25,5,25,6],[29,7,29,10],[17,5,17,10],[13,5,13,9],[27,7,27,10],[21,7,21,10],[22,7,22,10],[23,7,23,10],[24,7,24,10],[19,7,20,10],[26,5,26,6],[27,5,27,6],[19,5,20,6],[21,5,21,6],[22,5,22,6],[23,5,23,6],[24,5,24,6],[86,5,86,12],[87,5,87,12],[74,7,75,7],[74,8,74,9],[74,10,74,11],[74,12,74,13],[74,5,75,6],[76,5,76,7],[72,5,72,13],[32,5,32,10],[36,5,36,10],[84,5,84,12],[85,5,85,12],[62,6,62,8]]}
[]
[]
[]
[]
[]
[]
[]
[null,null,null,null,null,"                                ПРЕДЛОЖЕНИЕ"]
[null,null,null,null,null,"      о размере цен (тарифов), долгосрочных параметров регулирования"]
[null,null,null,null,null,{"$f":"\"                  (вид цены (тарифа) на \"& god&\" год\"","v":"                  (вид цены (тарифа) на  год"}]
[null,null,null,null,null,"                     (расчетный период регулирования)"]
[]
[null,null,null,null,null,{"$f":"ORG","v":0}]
[null,null,null,null,null,"(полное и сокращенное наименование юридического лица)"]
[]
[]
[]
[null,null,null,null,null,"I. Информация об организации"]
[]
[null,null,null,null,null,"Полное наименование",null,{"$f":"ORG","v":0}]
[]
[null,null,null,null,null,"Сокращенное наименование",null,{"$f":"ORG","v":0}]
[null,null,null,null,null,"Место нахождения",null,{"$f":"Титульный!E53","v":0}]
[null,null,null,null,null,"Фактический адрес",null,{"$f":"Титульный!E54","v":0}]
[null,null,null,null,null,"ИНН",null,{"$f":"INN","v":0}]
[null,null,null,null,null,"КПП",null,{"$f":"KPP","v":0}]
[null,null,null,null,null,"Ф.И.О. руководителя",null,{"$f":"Титульный!E57","v":0}]
[null,null,null,null,null,"Адрес электронной почты",null,{"$f":"Титульный!E68","v":0}]
[null,null,null,null,null,"Контактный телефон",null,{"$f":"Титульный!E58","v":0}]
[null,null,null,null,null,"Факс"]
[]
[]
[null,null,null,null,null,"II. Основные показатели деятельности организации"]
[]
[]
[null,null,null,null,null,"Наименование показателей",null,"Единица измерения","Фактические показатели за год, предшествующий базовому периоду","Показатели, утвержденные\nна базовый\nпериод *","Предложения\nна расчетный период регулирования"]
[null,null,null,null,null,"Основные показатели деятельности организаций, относящихся к субъектам естественных монополий, а также коммерческого оператора оптового рынка электрической энергии (мощности)"]
[null,null,null,null,null,1,"Показатели эффективности деятельности организации"]
[null,null,null,null,null,"1.1","Выручка","тыс.руб.",{"$f":"'42_финансовые показатели'!$K$31","v":0}]
[null,null,null,null,null,"1.2","Прибыль (убыток) от продаж","тыс.руб.",{"$f":"'42_финансовые показатели'!$K$39","v":0}]
[null,null,null,null,null,"1.3","EBITDA (прибыль до процентов, налогов и амортизации)","тыс.руб.",{"$f":"'42_финансовые показатели'!$K$47","v":0}]
[null,null,null,null,null,"1.4","Чистая прибыль (убыток)","тыс.руб.",{"$f":"'42_финансовые показатели'!$K$49","v":0}]
[null,null,null,null,null,"2","Показатели рентабельности организации"]
[null,null,null,null,null,"2.1","Рентабельность продаж (величина прибыли от продаж в каждом рубле выручки). Нормальное значение для отрасли электроэнергетики от 9 процентов и более","%"]
[null,null,null,null,null,"3","Показатели регулируемых видов деятельности организации"]
[null,null,null,null,null,"3.1","Заявленная мощность <***>","МВт",{"$f":"'9 Тариф'!I32","v":0},{"$f":"'9 Тариф'!J32","v":0},{"$f":"'9 Тариф'!N32","v":0}]
[null,null,null,null,null,"3.2","Объем полезного отпуска электроэнергии - Всего <***>","тыс.кВт*ч",{"$f":"'9 Тариф'!I33*1000","v":0},{"$f":"'9 Тариф'!J33*1000","v":0},{"$f":"'9 Тариф'!N33*1000","v":0}]
[null,null,null,null,null,"3.3","Объем полезного отпуска электроэнергии населению и приравненным к нему категориям потребителей <***>","тыс. кВт·ч"]
[null,null,null,null,null,"3.4","Уровень потерь электрической энергии <***>","%",{"$f":"'9 Тариф'!I21","v":0},{"$f":"'9 Тариф'!J21","v":0},{"$f":"'9 Тариф'!N21","v":0}]
[null,null,null,null,null,"3.5","Реквизиты программы энергоэффективности (кем утверждена, дата утверждения, номер приказа) <***>"]
[null,null,null,null,null,"4","Необходимая валовая выручка по регулируемым видам деятельности организации - Всего","тыс.руб.",{"$f":"'8_Расчет НВВ '!J113","v":0},{"$f":"'8_Расчет НВВ '!N113","v":0},{"$f":"'8_Расчет НВВ '!P113","v":0}]
[null,null,null,null,null,"4.1","Расходы, связанные с производством и реализацией товаров, работ и услуг <**>, <****>;\nоперационные (подконтрольные) расходы <***> - Всего","тыс.руб.",{"$f":"'8_Расчет НВВ '!J64","v":0},{"$f":"'8_Расчет НВВ '!N64","v":0},{"$f":"'8_Расчет НВВ '!P64","v":0}]
[null,null,null,null,null,null,"в том числе:"]
[null,null,null,null,null,"4.1.1","оплата труда","тыс.руб.",{"$f":"'8_Расчет НВВ '!J38","v":0},{"$f":"'8_Расчет НВВ '!N38","v":0},{"$f":"'8_Расчет НВВ '!P38","v":0}]
[null,null,null,null,null,"4.1.2","ремонт основных фондов","тыс.руб.",{"$f":"'8_Расчет НВВ '!J40","v":0},{"$f":"'8_Расчет НВВ '!N40","v":0},{"$f":"'8_Расчет НВВ '!P40","v":0}]
[null,null,null,null,null,"4.1.3","материальные затраты","тыс.руб.",{"$f":"'8_Расчет НВВ '!J35","v":0},{"$f":"'8_Расчет НВВ '!N35","v":0},{"$f":"'8_Расчет НВВ '!P35","v":0}]
[null,null,null,null,null,"4.2","Расходы, за исключением указанных в позиции 4.1 <**>, <****>;неподконтрольные расходы <***> - Всего <***>","тыс.руб.",{"$f":"'8_Расчет НВВ '!J94-I52+'8_Расчет НВВ '!J112","v":0},{"$f":"'8_Расчет НВВ '!N94-J52+'8_Расчет НВВ '!N112","v":0},{"$f":"'8_Расчет НВВ '!P94-K52+'8_Расчет НВВ '!P112","v":0}]
[null,null,null,null,null,"4.3","Выпадающие, излишние доходы (расходы) прошлых лет","тыс.руб.",{"$f":"'8_Расчет НВВ '!J95","v":0},{"$f":"'8_Расчет НВВ '!N95","v":0},{"$f":"'8_Расчет НВВ '!P95","v":0}]
[null,null,null,null,null,"4.4","Инвестиции, осуществляемые за счет тарифных источников","тыс.руб."]
[null,null,null,null,null,"4.4.1","Реквизиты инвестиционной программы (кем утверждена, дата утверждения, номер приказа)"]
[null,null,null,null,null,"4.5","Объем условных единиц <***>","у.е.",{"$f":"'7_Свод УЕ '!L36","v":0},{"$f":"'7_Свод УЕ '!L38","v":0},{"$f":"'7_Свод УЕ '!L39","v":0}]
[null,null,null,null,null,"4.6","Операционные (подконтрольные) расходы на условную единицу <***>","тыс.руб./у.е.",{"$f":"IF('8_Расчет НВВ '!J27=0,0,'8_Расчет НВВ '!J64/'8_Расчет НВВ '!J27)","v":0},{"$f":"IF('8_Расчет НВВ '!N27=0,0,'8_Расчет НВВ '!N64/'8_Расчет НВВ '!N27)","v":0},{"$f":"IF('8_Расчет НВВ '!P27=0,0,'8_Расчет НВВ '!P64/'8_Расчет НВВ '!P27)","v":0}]
[null,null,null,null,null,"5","Показатели численности персонала и фонда оплаты труда по регулируемым видам деятельности"]
[null,null,null,null,null,"5.1","Среднесписочная численность персонала","человек",{"$f":"'16_Персонал'!J20","v":0},{"$f":"'16_Персонал'!L20","v":0},{"$f":"'16_Персонал'!M20","v":0}]
[null,null,null,null,null,"5.2","Среднемесячная заработная плата на одного работника","тыс.руб. на человека",{"$f":"'16_Персонал'!J44/1000","v":0},null,{"$f":"'16_Персонал'!M44","v":0}]
[null,null,null,null,null,"5.3","Реквизиты отраслевого тарифного соглашения (дата утверждения, срок действия)"]
[null,null,null,null,null,"6","Уставный капитал (складочный капитал, уставный фонд, вклады товарищей)","тыс.руб."]
[null,null,null,null,null,"7","Анализ финансовой устойчивости по величине излишка (недостатка) собственных оборотных средств","тыс.руб."]
[]
[]
[]
[]
[null,null,null,null,null,"III. Цены (тарифы) по регулируемым видам деятельности организации"]
[]
[null,null,null,null,null,"Наименование показателей",null,"Единица изменения","Фактические показатели за год, предшествующий базовому периоду",null,"Показатели, утвержденные на базовый период *",null,"Предложения на расчетный период регулирования"]
[null,null,null,null,null,null,null,null,"первое полугодие","второе полугодие","первое полугодие","второе полугодие","первое полугодие","второе полугодие"]
[null,null,null,null,null,"услуги по передаче электрической энергии"]
[null,null,null,null,null,1,"двухставочный тариф"]
[null,null,null,null,null,"1.1","ставка на содержание сетей","руб./МВт в месяц",{"$f":"'9 Тариф'!I43","v":0},{"$f":"I79","v":0},{"$f":"'9 Тариф'!J43","v":0},{"$f":"K79","v":0},{"$f":"'9 Тариф'!N43","v":0},{"$f":"M79","v":0}]
[null,null,null,null,null,"1.2","ставка на оплату технологического расхода (потерь)","руб./МВт·ч",{"$f":"'9 Тариф'!I46","v":0},{"$f":"I80","v":0},{"$f":"'9 Тариф'!J46","v":0},0,{"$f":"'9 Тариф'!N46","v":0},{"$f":"M80","v":0}]
[null,null,null,null,null,"2","одноставочный тариф","руб./МВт·ч",{"$f":"'9 Тариф'!I47","v":0},0,{"$f":"'9 Тариф'!J47","v":0},0,{"$f":"'9 Тариф'!N47","v":0},{"$f":"M81","v":0}]
[]
[]
[]
[null,null,null,null,null,"<*> Базовый период - год, предшествующий расчетному периоду регулирования (указаны показатели, опубликованные в установленном порядке)."]
[null,null,null,null,null,"<**> Заполняются организацией, осуществляющей оперативно-диспетчерское управление в электроэнергетике."]
[null,null,null,null,null,"<***> Заполняются сетевыми организациями, осуществляющими передачу электрической энергии (мощности) по электрическим сетям."]
[null,null,null,null,null,"<****> Заполняются коммерческим оператором оптового рынка электрической энергии (мощности)."]

{"sheet":"4_Полезный отпуск","index":15,"n_rows":30,"n_cols":25,"rows_kept":30,"cut":false,"hidden":true,"merged":[[9,21,10,24],[11,22,12,22],[11,24,12,24],[11,20,12,20],[9,5,12,5],[9,6,12,6],[9,7,9,20],[10,7,10,8],[10,9,10,12],[10,13,10,16],[10,17,10,20],[11,18,12,18],[7,5,7,9],[11,10,12,10],[11,12,12,12],[11,14,12,14],[11,16,12,16]]}
[null,null,null,null,null,null,null,null,null,null,null,null,null,null,null,null,null,null,null,null,null,{"$f":"IFERROR(IF(REPORT_OWNER=\"Версия организации\",\"HIDDEN\",\"VISIBLE\"),0)","v":"HIDDEN"},{"$f":"IFERROR(IF(REPORT_OWNER=\"Версия организации\",\"HIDDEN\",\"VISIBLE\"),0)","v":"HIDDEN"},{"$f":"IFERROR(IF(REPORT_OWNER=\"Версия организации\",\"HIDDEN\",\"VISIBLE\"),0)","v":"HIDDEN"},{"$f":"IFERROR(IF(REPORT_OWNER=\"Версия организации\",\"HIDDEN\",\"VISIBLE\"),0)","v":"HIDDEN"}]
[]
[]
[]
[null,null,null,null,null,"Вернуться к перечню форм",null,null,null,null,null,null,null,null,null,null,null,null,null,null,"на основе таблицы 1.6 приложения к приказу ФСТ 20-э/2"]
[]
[]
[null,null,null,null,null,"Структура полезного отпуска электрической энергии (мощности) по группам потребителей, присоединенных к сетям                                              "]
[]
[null,null,null,null,null,"№ п/п","Показатели","Объем полезного отпуска электрической энергии",null,null,null,null,null,null,null,null,null,null,null,null,null,{"$f":"god&\",  Версия регулятора\"","v":",  Версия регулятора"}]
[null,null,null,null,null,null,null,{"$f":"god-2 &\",  утверждено версия ТСО\"","v":"-2,  утверждено версия ТСО"},null,{"$f":"god-2&\",  факт\"","v":"-2,  факт"},null,null,null,{"$f":"god-1&\",  утверждено версия ТСО\"","v":"-1,  утверждено версия ТСО"},null,null,null,{"$f":"god&\",  предложение ТСО\"","v":",  предложение ТСО"}]
[null,null,null,null,null,null,null,"I полугодие","II полугодие","I полугодие","доля от общего объема, %","II полугодие","доля от общего объема, %","I полугодие","доля от общего объема, %","II полугодие","доля от общего объема, %","I полугодие","доля от общего объема, %","II полугодие","доля от общего объема, %","I полугодие","доля от общего объема, %","II полугодие","доля от общего объема, %"]
[null,null,null,null,null,null,null,"млн.квт.ч.","млн.квт.ч.","млн.квт.ч.",null,"млн.квт.ч.",null,"млн.квт.ч.",null,"млн.квт.ч.",null,"млн.квт.ч.",null,"млн.квт.ч.",null,"млн.квт.ч.",null,"млн.квт.ч."]
[]
[]
[null,null,null,null,null,"1","Собственное имущество",null,null,{"$f":"SUM(J17:J19)","v":0},{"$f":"IF(J$28=0,0,J16/J$28*100)","v":0},{"$f":"SUM(L17:L19)","v":0},{"$f":"IF(L$28=0,0,L16/L$28*100)","v":0},null,null,null,null,{"$f":"SUM(R17:R19)","v":0},{"$f":"IF(R$28=0,0,R16/R$28*100)","v":0},{"$f":"SUM(T17:T19)","v":0},{"$f":"IF(T$28=0,0,T16/T$28*100)","v":0},{"$f":"SUM(V17:V19)","v":0},{"$f":"IFERROR(V16/V$28,0)","v":0},{"$f":"SUM(X17:X19)","v":0},{"$f":"IFERROR(X16/X$28,0)","v":0}]
[null,null,null,null,null,"1.1","Население",null,null,null,{"$f":"IF(J$28=0,0,J17/J$28*100)","v":0},null,0,null,null,null,null,null,0,null,0,null,0,null,0]
[null,null,null,null,null,"1.2","Прочие потребители",null,null,null,0,null,0,null,null,null,null,null,0,null,0,null,0,null,0]
[null,null,null,null,null,"1.3","Переток в др.ТСО (транзит)",null,null,null,0,null,0,null,null,null,null,null,0,null,0,null,0,null,0]
[null,null,null,null,null,"2","Арендуемое имущество",null,null,{"$f":"SUM(J21:J23)","v":0},0,{"$f":"SUM(L21:L23)","v":0},0,null,null,null,null,{"$f":"SUM(R21:R23)","v":0},0,{"$f":"SUM(T21:T23)","v":0},0,{"$f":"SUM(V21:V23)","v":0},0,{"$f":"SUM(X21:X23)","v":0},0]
[null,null,null,null,null,"2.1","Население",null,null,null,0,null,0,null,null,null,null,null,0,null,0,null,0,null,0]
[null,null,null,null,null,"2.2","Прочие потребители",null,null,null,0,null,0,null,null,null,null,null,0,null,0,null,0,null,0]
[null,null,null,null,null,"3.3","Переток в др.ТСО (транзит)",null,null,null,0,null,0,null,null,null,null,null,0,null,0,null,0,null,0]
[null,null,null,null,null,"3","Имущество в лизинге",null,null,{"$f":"SUM(J25:J27)","v":0},0,{"$f":"SUM(L25:L27)","v":0},0,null,null,null,null,{"$f":"SUM(R25:R27)","v":0},0,{"$f":"SUM(T25:T27)","v":0},0,{"$f":"SUM(V25:V27)","v":0},0,{"$f":"SUM(X25:X27)","v":0},0]
[null,null,null,null,null,"3.1","Население",null,null,null,0,null,0,null,null,null,null,null,0,null,0,null,0,null,0]
[null,null,null,null,null,"3.2","Прочие потребители",null,null,null,0,null,0,null,null,null,null,null,0,null,0,null,0,null,0]
[null,null,null,null,null,"3.3","Переток в др.ТСО (транзит)",null,null,null,0,null,0,null,null,null,null,null,0,null,0,null,0,null,0]
[null,null,null,null,null,4,"Всего",{"$f":"484.57/41.55","v":11.662334536702769},{"$f":"458.63/39.68","v":11.558215725806452},{"$f":"SUM(J16,J20,J24)","v":0},0,{"$f":"SUM(L16,L20,L24)","v":0},0,{"$f":"472.12/45.73","v":10.324076098841024},{"$f":"IFERROR(N28/N$28,0)","v":1},{"$f":"454.11/44.48","v":10.209307553956835},{"$f":"IFERROR(P28/P$28,0)","v":1},{"$f":"SUM(R16,R20,R24)","v":0},0,{"$f":"SUM(T16,T20,T24)","v":0},0,{"$f":"SUM(V16,V20,V24)","v":0},0,{"$f":"SUM(X16,X20,X24)","v":0},0]
[null,null,null,null,null,5,"Полезный отпуск потребителям",null,null,null,null,null,null,null,null,null,null,null,null,null,null,null,0,null,0]
[null,null,null,null,null,6,"Переток в другие ТСО",null,null,null,null,null,null,null,null,null,null,null,null,null,null,null,0,null,0]

{"sheet":"5_ЛЭП у.е","index":16,"n_rows":60,"n_cols":65,"rows_kept":60,"cut":false,"hidden":true,"merged":[[5,5,5,6],[12,7,14,7],[6,3,6,60],[12,3,14,3],[12,4,14,4],[12,6,14,6],[12,26,12,27],[12,5,14,5],[12,18,12,19],[12,24,12,25],[12,16,12,17],[12,9,14,9],[12,20,12,21],[12,14,12,15],[12,8,14,8],[5,3,5,4],[50,3,52,3],[50,7,52,7],[50,4,52,4],[37,4,41,4],[32,7,33,7],[12,64,15,64],[55,10,59,10],[12,22,12,23],[12,10,13,10],[55,3,59,3],[55,4,59,4],[55,8,59,8],[55,9,59,9],[45,3,47,3],[16,3,33,3],[20,4,23,4],[42,7,44,7],[22,7,23,7],[40,7,41,7],[37,7,39,7],[29,7,31,7],[18,4,19,4],[18,7,19,7],[20,7,21,7],[34,3,35,3],[37,3,44,3],[42,4,44,4],[29,4,33,4],[24,7,26,7],[27,7,28,7],[24,4,28,4]]}
[null,null,null,null,null,null,null,null,null,null,null,null,null,null,null,null,null,null,{"$f":"IFERROR(IF(REPORT_OWNER=\"Версия организации\",\"HIDDEN\",\"VISIBLE\"),0)","v":"HIDDEN"},{"$f":"IFERROR(IF(REPORT_OWNER=\"Версия организации\",\"HIDDEN\",\"VISIBLE\"),0)","v":"HIDDEN"},null,null,{"$f":"IFERROR(IF(REPORT_OWNER=\"Версия организации\",\"HIDDEN\",\"VISIBLE\"),0)","v":"HIDDEN"},{"$f":"IFERROR(IF(REPORT_OWNER=\"Версия организации\",\"HIDDEN\",\"VISIBLE\"),0)","v":"HIDDEN"},null,null,{"$f":"IFERROR(IF(REPORT_OWNER=\"Версия организации\",\"HIDDEN\",\"VISIBLE\"),0)","v":"HIDDEN"},{"$f":"IFERROR(IF(REPORT_OWNER=\"Версия организации\",\"HIDDEN\",\"VISIBLE\"),0)","v":"HIDDEN"}]
[]
[]
[]
[]
[null,null,null,"Список листов"]
[null,null,null,"Объём воздушных линий электропередач (ВЛЭП) и кабельных линий электропередач (КЛЭП) в условных единицах в зависимости от протяженности, напряжения, конструктивного использования и материала опор"]
[]
[null,null,null,null,null,null,null,null,null,null,{"$f":"IF(god=\"\",\"Не определено\",god+4)","v":"Не определено"},{"$f":"IF(god=\"\",\"Не определено\",god+5)","v":"Не определено"},"Не определено","Не определено","Не определено","Не определено","Не определено","Не определено","Не определено","Не определено",{"$f":"IF(god=\"\",\"Не определено\",god+7)","v":"Не определено"},{"$f":"IF(god=\"\",\"Не определено\",god+7)","v":"Не определено"},{"$f":"IF(god=\"\",\"Не определено\",god+5)","v":"Не определено"},{"$f":"IF(god=\"\",\"Не определено\",god+5)","v":"Не определено"},{"$f":"IF(god=\"\",\"Не определено\",god+7)","v":"Не определено"},{"$f":"IF(god=\"\",\"Не определено\",god+7)","v":"Не определено"},{"$f":"IF(god=\"\",\"Не определено\",god+5)","v":"Не определено"},{"$f":"IF(god=\"\",\"Не определено\",god+5)","v":"Не определено"},{"$f":"IF(god=\"\",\"Не определено\",god+8)","v":"Не определено"},{"$f":"IF(god=\"\",\"Не определено\",god+8)","v":"Не определено"},{"$f":"IF(god=\"\",\"Не определено\",god+8)","v":"Не определено"},{"$f":"IF(god=\"\",\"Не определено\",god+9)","v":"Не определено"},"Не определено","Не определено","Не определено","Не определено","Не определено",{"$f":"IF(god=\"\",\"Не определено\",god+10)","v":"Не определено"},"Не определено","Не определено","Не определено","Не определено","Не определено",{"$f":"IF(god=\"\",\"Не определено\",god+11)","v":"Не определено"},"Не определено","Не определено","Не определено","Не определено","Не определено",{"$f":"IF(god=\"\",\"Не определено\",god+12)","v":"Не определено"},"Не определено","Не определено","Не определено","Не определено","Не определено",{"$f":"IF(god=\"\",\"Не определено\",god+13)","v":"Не определено"},"Не определено","Не определено","Не определено","Не определено","Не определено"]
[]
[]
[]
[null,null,null,"ЛЭП","Напряжение, кВ ",null,null,"Количество цепей на опоре","Материал опор",null,"Количество условных единиц (у) на 100 км трассы ЛЭП",null,null,null,{"$f":"god-3&\",  факт\"","v":"-3,  факт"},null,{"$f":"god-2&\",  факт\"","v":"-2,  факт"},null,{"$f":"god-2&\",  факт Версия регулятора \"","v":"-2,  факт Версия регулятора "},null,{"$f":"god-1&\",  утверждено версия ТСО\"","v":"-1,  утверждено версия ТСО"},null,{"$f":"god-1&\",  Версия регулятора \"","v":"-1,  Версия регулятора "},null,{"$f":"god&\",  предложение ТСО\"","v":",  предложение ТСО"},null,{"$f":"god&\",  Версия регулятора \"","v":",  Версия регулятора "},null,null,null,null,null,null,null,null,null,null,null,null,null,null,null,null,null,null,null,null,null,null,null,null,null,null,null,null,null,null,null,null,null,null,null,null,null,"Комментарии и примечания (не будут загружены в БД)"]
[null,null,null,null,null,null,null,null,null,null,null,null,null,null,"Протяжённость","Объём условных единиц","Протяжённость","Объём условных единиц","Протяжённость","Объём условных единиц","Протяжённость","Объём условных единиц","Протяжённость","Объём условных единиц","Протяжённость","Объём условных единиц","Протяжённость","Объём условных единиц"]
[null,null,null,null,null,null,null,null,null,null,"у/100км",null,null,null,"км","у","км","у","км","у","км","у","км","у","км","у","км","у"]
[null,null,null,null,null,null,null,null,null,null,null,null,null,null,null,null,null,null,null,null,null,null,null,null,null,null,{"$f":"AA12 & \".1\"","v":".1"},{"$f":"AA12 & \".2\"","v":".2"}]
[null,null,null,"ВЛЭП",1150,null,null,"-","металл",null,800,null,null,null,null,{"$f":"$K17*O17/100","v":0},null,{"$f":"$K17*Q17/100","v":0},null,{"$f":"$K17*S17/100","v":0},null,{"$f":"$K17*U17/100","v":0},null,{"$f":"$K17*W17/100","v":0},null,{"$f":"$K17*Y17/100","v":0},null,{"$f":"$K17*AA17/100","v":0}]
[null,null,null,null,750,null,null,1,"металл",null,600,null,null,null,null,0,null,0,null,0,null,0,null,0,null,0,null,0]
[null,null,null,null,"400-500","400_500",1,1,"металл","ВЛЭП-400-500кВ-цепей:1-металл",400,null,null,null,null,0,null,0,null,0,null,0,null,0,null,0,null,0]
[null,null,null,null,null,"400_500",1,null,"ж/бетон","ВЛЭП-400-500кВ-цепей:1-ж/бетон",300,null,null,null,null,0,null,0,null,0,null,0,null,0,null,0,null,0]
[null,null,null,null,"330",330,1,"1","металл","ВЛЭП-330кВ-цепей:1-металл",230,null,null,null,null,0,null,0,null,0,null,0,null,0,null,0,null,0]
[null,null,null,null,null,330,1,null,"ж/бетон","ВЛЭП-330кВ-цепей:1-металл",170,null,null,null,null,0,null,0,null,0,null,0,null,0,null,0,null,0]
[null,null,null,null,null,330,2,"2","металл","ВЛЭП-330кВ-цепей:2-металл",290,null,null,null,null,0,null,0,null,0,null,0,null,0,null,0,null,0]
[null,null,null,null,null,300,2,null,"ж/бетон","ВЛЭП-330кВ-цепей:2-ж/бетон",210,null,null,null,null,0,null,0,null,0,null,0,null,0,null,0,null,0]
[null,null,null,null,220,220,"1",1,"дерево","ВЛЭП-220кВ-цепей:1-дерево",260,null,null,null,null,0,null,0,null,0,null,0,null,0,null,0,null,0]
[null,null,null,null,null,220,"1",null,"металл","ВЛЭП-220кВ-металл",210,null,null,null,null,0,null,0,null,0,null,0,null,0,null,0,null,0]
[null,null,null,null,null,220,"1",null,"ж/бетон","ВЛЭП-220кВ:1-ж/бетон",140,null,null,null,null,0,null,0,null,0,null,0,null,0,null,0,null,0]
[null,null,null,null,null,220,"2",2,"металл","ВЛЭП-220кВ-цепей:2-металл",270,null,null,null,null,0,null,0,null,0,null,0,null,0,null,0,null,0]
[null,null,null,null,null,220,"2",null,"ж/бетон","ВЛЭП-220кВ:2-ж/бетон",180,null,null,null,null,0,null,0,null,0,null,0,null,0,null,0,null,0]
[null,null,null,null,"110-150","110_150","1",1,"дерево","ВЛЭП-110-150кВ-цепей:1-дерево",180,null,null,null,null,0,null,0,null,0,null,0,null,0,null,0,null,0]
[null,null,null,null,null,"110_150","1",null,"металл","ВЛЭП-110-150кВ-металл",160,null,null,null,null,0,null,0,null,0,null,0,null,0,null,0,null,0]
[null,null,null,null,null,"110_150","1",null,"ж/бетон","ВЛЭП-110-150кВ:1-ж/бетон",130,null,null,null,null,0,null,0,null,0,null,0,null,0,null,0,null,0]
[null,null,null,null,null,"110_150","2",2,"металл","ВЛЭП-110-150кВ-цепей:2-металл",190,null,null,null,null,0,null,0,null,0,null,0,null,0,null,0,null,0]
[null,null,null,null,null,"110_150","2",null,"ж/бетон","ВЛЭП-110-150кВ:2-ж/бетон",160,null,null,null,null,0,null,0,null,0,null,0,null,0,null,0,null,0]
[null,null,null,"КЛЭП",220,220,"0","-","-","КЛЭП-220кВ",3000,null,null,null,null,0,null,0,null,0,null,0,null,0,null,0,null,0]
[null,null,null,null,110,110,"0","-","-","КЛЭП-110кВ",2300,null,null,null,null,0,null,0,null,0,null,0,null,0,null,0,null,0]
[null,null,null,"ВН, Всего ",null,{"$f":"J37","v":"ВН_Всего"},null,null,null,"ВН_Всего",null,null,null,null,{"$f":"SUM(O17:O36)","v":0},{"$f":"SUM(P17:P36)","v":0},{"$f":"SUM(Q17:Q36)","v":0},{"$f":"SUM(R17:R36)","v":0},0,0,{"$f":"SUM(U17:U36)","v":0},0,0,0,{"$f":"SUM(Y17:Y36)","v":0},0,0,0]
[null,null,null,"ВЛЭП",35,35,"1",1,"дерево","ВЛЭП-35кВ-цепей:1-дерево",170,null,null,null,null,{"$f":"$K38*O38/100","v":0},null,{"$f":"$K38*Q38/100","v":0},null,{"$f":"$K38*S38/100","v":0},null,{"$f":"$K38*U38/100","v":0},null,{"$f":"$K38*W38/100","v":0},null,{"$f":"$K38*Y38/100","v":0},null,{"$f":"$K38*AA38/100","v":0}]
[null,null,null,null,null,35,"1",null,"металл","ВЛЭП-35кВ-металл",140,null,null,null,null,0,null,0,null,0,null,0,null,0,null,0,null,0]
[null,null,null,null,null,35,"1",null,"ж/бетон","ВЛЭП-35кВ:1-ж/бетон",120,null,null,null,null,0,null,0,null,0,null,0,null,0,null,0,null,0]
[null,null,null,null,null,35,"2",2,"металл","ВЛЭП-35кВ-цепей:2-металл",180,null,null,null,null,0,null,0,null,0,null,0,null,0,null,0,null,0]
[null,null,null,null,null,35,"2",null,"ж/бетон","ВЛЭП-35кВ:2-ж/бетон",150,null,null,null,null,0,null,0,null,0,null,0,null,0,null,0,null,0]
[null,null,null,null," 1 - 20 ","1_20 ","0","-","дерево","ВЛЭП-1-20кВ-дерево",160,null,null,null,null,0,null,0,null,0,null,0,null,0,null,0,null,0]
[null,null,null,null,null,"1_20 ","0",null,"дерево на ж/б пасынках","ВЛЭП-1-20кВ-дерево на ж/б пасынках",140,null,null,null,null,0,null,0,null,0,null,0,null,0,null,0,null,0]
[null,null,null,null,null,"1_20 ","0",null,"ж/бетон, металл","ВЛЭП-1-20кВ-ж/бетон,металл",110,null,null,null,null,0,null,0,null,0,null,0,null,0,null,0,null,0]
[null,null,null,"КЛЭП","20-35","20_35","0","-","-","КЛЭП-20-35кВ",470,null,null,null,null,0,null,0,null,0,null,0,null,0,null,0,null,0]
[]
[null,null,null,null," 3 - 10"," 3_10","0","-","-","КЛЭП-3-10кВ",350,null,null,null,null,0,null,0,null,{"$f":"$K48*S48/100","v":0},null,0,null,0,null,0,null,0]
[null,null,null,"СН 1, Всего",null,{"$f":"J49","v":"СН1_Всего"},null,null,null,"СН1_Всего",null,null,null,null,{"$f":"SUM(O38:O42)+O46","v":0},{"$f":"SUM(P38:P42)+P46","v":0},0,0,0,0,0,0,0,0,0,0,0,0]
[null,null,null,"СН 2, Всего",null,{"$f":"J50","v":"СН2_Всего"},null,null,null,"СН2_Всего",null,null,null,null,{"$f":"SUM(O43:O45)+O48","v":0},{"$f":"SUM(P43:P45)+P48","v":0},0,0,0,0,0,0,0,0,0,0,0,0]
[null,null,null,"ВЛЭП","0,4 кВ ","0,4","0","-","дерево","ВЛЭП-0,4кВ-дерево",260,null,null,null,null,{"$f":"$K51*O51/100","v":0},null,{"$f":"$K51*Q51/100","v":0},null,{"$f":"$K51*S51/100","v":0},null,{"$f":"$K51*U51/100","v":0},null,{"$f":"$K51*W51/100","v":0},null,{"$f":"$K51*Y51/100","v":0},null,{"$f":"$K51*AA51/100","v":0}]
[null,null,null,null,null,"0,4","0",null,"дерево на ж/б пасынках","ВЛЭП-0,4кВ-дерево на ж/б пасынках",220,null,null,null,null,{"$f":"$K52*O52/100","v":0},null,{"$f":"$K52*Q52/100","v":0},null,{"$f":"$K52*S52/100","v":0},null,{"$f":"$K52*U52/100","v":0},null,{"$f":"$K52*W52/100","v":0},null,{"$f":"$K52*Y52/100","v":0},null,{"$f":"$K52*AA52/100","v":0}]
[null,null,null,null,null,"0,4","0",null,"ж/бетон, металл","ВЛЭП-0,4кВ-ж/бетон,металл",150,null,null,null,null,{"$f":"$K53*O53/100","v":0},null,{"$f":"$K53*Q53/100","v":0},null,{"$f":"$K53*S53/100","v":0},null,{"$f":"$K53*U53/100","v":0},null,{"$f":"$K53*W53/100","v":0},null,{"$f":"$K53*Y53/100","v":0},null,{"$f":"$K53*AA53/100","v":0}]
[null,null,null,"КЛЭП","до 1 кВ ","_1 ","0","-","-","КЛЭП-до1кВ",270,null,null,null,null,{"$f":"$K54*O54/100","v":0},null,{"$f":"$K54*Q54/100","v":0},null,{"$f":"$K54*S54/100","v":0},null,{"$f":"$K54*U54/100","v":0},null,{"$f":"$K54*W54/100","v":0},null,{"$f":"$K54*Y54/100","v":0},null,{"$f":"$K54*AA54/100","v":0}]
[null,null,null,"НН, Всего",null,{"$f":"J55","v":"НН_Всего"},null,null,null,"НН_Всего",null,null,null,null,{"$f":"SUM(O51:O54)","v":0},{"$f":"SUM(P51:P54)","v":0},{"$f":"SUM(Q51:Q54)","v":0},{"$f":"SUM(R51:R54)","v":0},{"$f":"SUM(S51:S54)","v":0},0,{"$f":"SUM(U51:U54)","v":0},{"$f":"SUM(V51:V54)","v":0},{"$f":"SUM(W51:W54)","v":0},{"$f":"SUM(X51:X54)","v":0},0,0,{"$f":"SUM(AA51:AA54)","v":0},{"$f":"SUM(AB51:AB54)","v":0}]
[null,null,null,"Итого",null,null,null,"ВН",null,null,null,null,null,null,{"$f":"O37","v":0},{"$f":"P37","v":0},{"$f":"Q37","v":0},{"$f":"R37","v":0},{"$f":"S37","v":0},0,{"$f":"U37","v":0},{"$f":"V37","v":0},{"$f":"W37","v":0},{"$f":"X37","v":0},0,0,{"$f":"AA37","v":0},{"$f":"AB37","v":0}]
[null,null,null,null,null,null,null,"СН 1",null,null,null,null,null,null,{"$f":"O49","v":0},0,0,0,{"$f":"S49","v":0},0,{"$f":"U49","v":0},0,0,0,0,0,{"$f":"AA49","v":0},{"$f":"AB49","v":0}]
[null,null,null,null,null,null,null,"СН 2",null,null,null,null,null,null,0,0,0,0,0,0,0,0,0,0,0,0,{"$f":"AA50","v":0},{"$f":"AB50","v":0}]
[null,null,null,null,null,null,null,"НН",null,null,null,null,null,null,{"$f":"O55","v":0},{"$f":"P55","v":0},{"$f":"Q55","v":0},{"$f":"R55","v":0},{"$f":"S55","v":0},0,{"$f":"U55","v":0},{"$f":"V55","v":0},{"$f":"W55","v":0},{"$f":"X55","v":0},0,0,{"$f":"AA55","v":0},{"$f":"AB55","v":0}]
[null,null,null,null,null,null,null,"Всего",null,null,null,null,null,null,{"$f":"O56+O57+O58+O59","v":0},{"$f":"P56+P57+P58+P59","v":0},{"$f":"Q56+Q57+Q58+Q59","v":0},{"$f":"R56+R57+R58+R59","v":0},{"$f":"S56+S57+S58+S59","v":0},0,{"$f":"U56+U57+U58+U59","v":0},{"$f":"V56+V57+V58+V59","v":0},{"$f":"W56+W57+W58+W59","v":0},{"$f":"X56+X57+X58+X59","v":0},0,0,{"$f":"AA56+AA57+AA58+AA59","v":0},{"$f":"AB56+AB57+AB58+AB59","v":0}]

{"sheet":"6 _ПС у.е","index":17,"n_rows":65,"n_cols":28,"rows_kept":65,"cut":false,"hidden":true,"merged":[[5,5,5,6],[12,5,14,5],[12,6,14,6],[6,3,6,23],[12,7,14,7],[12,14,12,15],[12,8,14,8],[5,3,5,4],[39,3,42,3],[23,3,30,3],[31,3,38,3],[31,4,38,4],[31,7,38,7],[39,4,42,4],[39,7,42,7],[23,4,30,4],[23,7,30,7],[60,3,64,3],[60,4,64,4],[60,7,64,7],[43,3,47,3],[43,4,47,4],[43,7,47,7],[51,3,53,3],[51,4,53,4],[51,7,53,7],[16,3,22,3],[16,7,22,7],[16,4,22,4],[12,3,14,3],[12,4,14,4],[15,3,15,8],[60,9,64,9],[12,20,12,21],[12,27,15,27],[12,12,12,13],[12,22,12,23],[12,9,13,9],[12,16,12,17],[12,18,12,19],[12,10,12,11]]}
[null,null,null,null,null,null,null,null,null,null,null,null,null,null,{"$f":"IFERROR(IF(REPORT_OWNER=\"Версия организации\",\"HIDDEN\",\"VISIBLE\"),0)","v":"HIDDEN"},{"$f":"IFERROR(IF(REPORT_OWNER=\"Версия организации\",\"HIDDEN\",\"VISIBLE\"),0)","v":"HIDDEN"},null,null,{"$f":"IFERROR(IF(REPORT_OWNER=\"Версия организации\",\"HIDDEN\",\"VISIBLE\"),0)","v":"HIDDEN"},{"$f":"IFERROR(IF(REPORT_OWNER=\"Версия организации\",\"HIDDEN\",\"VISIBLE\"),0)","v":"HIDDEN"},null,null,{"$f":"IFERROR(IF(REPORT_OWNER=\"Версия организации\",\"HIDDEN\",\"VISIBLE\"),0)","v":"HIDDEN"},{"$f":"IFERROR(IF(REPORT_OWNER=\"Версия организации\",\"HIDDEN\",\"VISIBLE\"),0)","v":"HIDDEN"}]
[]
[]
[]
[]
[null,null,null,"Список листов"]
[null,null,null,"Объём подстанций 35-1150 кВ, трансформаторных подстанций (ТП), комплексных трансформаторных подстанций (КТП) и распределительных пунктов(РП) 0,4-20 кВ в условных единицах"]
[]
[null,null,null,null,null,null,null,null,null,{"$f":"IF(god=\"\",\"Не определено\",god+4)","v":"Не определено"},{"$f":"IF(god=\"\",\"Не определено\",god+5)","v":"Не определено"},"Не определено","Не определено","Не определено","Не определено","Не определено","Не определено","Не определено","Не определено","Не определено",{"$f":"IF(god=\"\",\"Не определено\",god+7)","v":"Не определено"},{"$f":"IF(god=\"\",\"Не определено\",god+7)","v":"Не определено"},{"$f":"IF(god=\"\",\"Не определено\",god+7)","v":"Не определено"},{"$f":"IF(god=\"\",\"Не определено\",god+7)","v":"Не определено"}]
[]
[]
[]
[null,null,null,"№ п/п","Наименование",null,null,"Единица измерения","Напряжение, кВ ","Количество условных единиц (у) на единицу измерения",{"$f":"god-3&\",  факт\"","v":"-3,  факт"},null,{"$f":"god-2&\",  факт\"","v":"-2,  факт"},null,{"$f":"god-2&\",  факт версия регулятора\"","v":"-2,  факт версия регулятора"},null,{"$f":"god-1&\",  утверждено версия ТСО\"","v":"-1,  утверждено версия ТСО"},null,{"$f":"god-1&\",  Версия регулятора \"","v":"-1,  Версия регулятора "},null,{"$f":"god&\",  предложение ТСО\"","v":",  предложение ТСО"},null,{"$f":"god&\",  Версия регулятора \"","v":",  Версия регулятора "},null,null,null,null,"Комментарии и примечания (не будут загружены в БД)"]
[null,null,null,null,null,null,null,null,null,null,"Количество единиц измерения","Объём условных единиц","Количество единиц измерения","Объём условных единиц","Количество единиц измерения","Объём условных единиц","Количество единиц измерения","Объём условных единиц","Количество единиц измерения","Объём условных единиц","Количество единиц измерения","Объём условных единиц","Количество единиц измерения","Объём условных единиц"]
[null,null,null,null,null,null,null,null,null,"у/ед.изм.","ед.изм.","у","ед.изм.","у","ед.изм.","у","ед.изм.","у","ед.изм.","у","ед.изм.","у","ед.изм.","у"]
[null,null,null,null,null,null,null,null,null,null,null,null,null,null,null,null,null,null,null,null,null,null,{"$f":"W12 & \".1\"","v":".1"},{"$f":"W12 & \".2\"","v":".2"}]
[null,null,null,"1","Подстанция",null,null,"п/ст",1150,1000,null,{"$f":"$J17*K17","v":0},null,{"$f":"$J17*M17","v":0},null,{"$f":"$J17*O17","v":0},null,{"$f":"$J17*Q17","v":0},null,{"$f":"$J17*S17","v":0},null,{"$f":"$J17*U17","v":0},null,{"$f":"$J17*W17","v":0}]
[null,null,null,null,null,null,null,null,750,600,null,0,null,0,null,0,null,0,null,0,null,0,null,0]
[null,null,null,null,null,"400_500","Подстанция",null,"400-500",500,null,0,null,0,null,0,null,0,null,0,null,0,null,0]
[null,null,null,null,null,330,"Подстанция",null,330,250,null,0,null,0,null,0,null,0,null,0,null,0,null,0]
[null,null,null,null,null,220,"Подстанция",null,220,210,null,0,null,0,null,0,null,0,null,0,null,0,null,0]
[null,null,null,null,null,"110_150","Подстанция",null,"110-150",105,null,0,null,0,null,0,null,0,null,0,null,0,null,0]
[null,null,null,null,null,35,"Подстанция",null,35,75,null,0,null,0,null,0,null,0,null,0,null,0,null,0]
[null,null,null,2,"Силовой трансформатор или реактор (одно- или трехфазный), или вольтодобавочный трансформатор",1150,"Силовой трансформатор или реактор (одно- или трехфазный), или вольтодобавочный трансформатор","Единица оборудования",1150,60,null,0,null,0,null,0,null,0,null,0,null,0,null,0]
[null,null,null,null,null,750,"Силовой трансформатор или реактор (одно- или трехфазный), или вольтодобавочный трансформатор",null,750,43,null,0,null,0,null,0,null,0,null,0,null,{"$f":"$J25*U25","v":0},null,0]
[null,null,null,null,null,"400_500","Силовой трансформатор или реактор (одно- или трехфазный), или вольтодобавочный трансформатор",null,"400-500",28,null,0,null,0,null,0,null,0,null,0,null,0,null,0]
[null,null,null,null,null,330,"Силовой трансформатор или реактор (одно- или трехфазный), или вольтодобавочный трансформатор",null,330,18,null,0,null,0,null,0,null,0,null,0,null,0,null,0]
[null,null,null,null,null,220,"Силовой трансформатор или реактор (одно- или трехфазный), или вольтодобавочный трансформатор",null,220,14,null,0,null,0,null,0,null,0,null,0,null,0,null,0]
[null,null,null,null,null,"110_150","Силовой трансформатор или реактор (одно- или трехфазный), или вольтодобавочный трансформатор",null,"110-150",7.8,null,0,null,0,null,0,null,0,null,0,null,0,null,0]
[null,null,null,null,null,null,null,null,35,2.1,null,0,null,0,null,0,null,0,null,0,null,0,null,0]
[null,null,null,null,null,"1_20","Силовой трансформатор или реактор (одно- или трехфазный), или вольтодобавочный трансформатор",null,"1-20",1,null,0,null,0,null,0,null,0,null,0,null,0,null,0]
[null,null,null,3,"Воздушный выключатель",1150,"Воздушный выключатель","3 фазы",1150,180,null,0,null,0,null,0,null,0,null,0,null,0,null,0]
[null,null,null,null,null,750,"Воздушный выключатель",null,750,130,null,0,null,0,null,0,null,0,null,0,null,0,null,0]
[null,null,null,null,null,"400_500","Воздушный выключатель",null,"400-500",88,null,0,null,0,null,0,null,0,null,0,null,0,null,0]
[null,null,null,null,null,330,"Воздушный выключатель",null,330,66,null,0,null,0,null,0,null,0,null,0,null,0,null,0]
[null,null,null,null,null,220,"Воздушный выключатель",null,220,43,null,0,null,0,null,0,null,0,null,0,null,0,null,0]
[null,null,null,null,null,"110_150","Воздушный выключатель",null,"110-150",26,null,0,null,0,null,0,null,0,null,0,null,0,null,0]
[null,null,null,null,null,null,null,null,35,11,null,0,null,0,null,0,null,0,null,0,null,0,null,0]
[null,null,null,null,null,"1_20","Воздушный выключатель",null,"1-20",5.5,null,0,null,0,null,0,null,0,null,0,null,0,null,0]
[null,null,null,4,"Масляный (вакуумный) выключатель",220,"Масляный (вакуумный) выключатель","3 фазы",220,23,null,0,null,0,null,0,null,0,null,0,null,0,null,0]
[null,null,null,null,null,"110_150","Масляный (вакуумный) выключатель",null,"110-150",14,null,0,null,0,null,0,null,0,null,0,null,0,null,0]
[null,null,null,null,null,null,null,null,35,6.4,null,0,null,0,null,0,null,0,null,0,null,0,null,0]
[null,null,null,null,null,"1_20","Масляный (вакуумный) выключатель",null,"1-20",3.1,null,0,null,0,null,0,null,0,null,0,null,0,null,0]
[null,null,null,5,"Отделитель с короткозамыкателем","400_500","Отделитель с короткозамыкателем","Единица оборудования","400-500",35,null,0,null,0,null,0,null,0,null,0,null,0,null,0]
[null,null,null,null,null,330,"Отделитель с короткозамыкателем",null,330,24,null,0,null,0,null,0,null,0,null,0,null,0,null,0]
[null,null,null,null,null,220,"Отделитель с короткозамыкателем",null,220,19,null,0,null,0,null,0,null,0,null,0,null,0,null,0]
[null,null,null,null,null,"110_150","Отделитель с короткозамыкателем",null,"110-150",9.5,null,0,null,0,null,0,null,0,null,0,null,0,null,0]
[null,null,null,null,null,35,"Отделитель с короткозамыкателем",null,35,4.7,null,0,null,0,null,0,null,0,null,0,null,0,null,0]
[null,null,null,6,"Выключатель нагрузки",null,null,"Единица оборудования","1-20",2.2999999999999998,null,0,null,0,null,0,null,0,null,0,null,0,null,0]
[null,null,null,7,"Синхронный компенсатор мощн. до 50 Мвар","1_20","Синхронный компенсатор мощн. до 50 Мвар","Единица оборудования","1-20",26,null,0,null,0,null,0,null,0,null,0,null,0,null,0]
[null,null,null,8,"То же, 50 Мвар и более","1_20","Синхронный компенсатор мощн. 50 Мвар и выше","Единица оборудования","1-20",48,null,0,null,0,null,0,null,0,null,0,null,0,null,0]
[null,null,null,9,"Статические конденсаторы","110_150","Статические конденсаторы","100 конд.","110-150",2.4,null,0,null,0,null,0,null,0,null,0,null,0,null,0]
[null,null,null,null,null,35,"Статические конденсаторы",null,35,2.4,null,0,null,0,null,0,null,0,null,0,null,0,null,0]
[null,null,null,null,null,"1_20","Статические конденсаторы",null,"1-20",2.4,null,0,null,0,null,0,null,0,null,0,null,0,null,0]
[null,null,null,10,"Мачтовая (столбовая) ТП","1_20","Мачтовая (столбовая) ТП","ТП","1-20",2.5,null,0,null,0,null,0,null,0,null,0,null,0,null,0]
[null,null,null,11,"Однотрансфор-маторная ТП, КТП","ТП, КТП","1-20","ТП, КТП","1-20",2.2999999999999998,null,0,null,0,null,0,null,0,null,0,null,0,null,0]
[null,null,null,12,"Двухтрансформаторная ТП, КТП","ТП, КТП","1-20","ТП, КТП","1-20",3,null,0,null,0,null,0,null,0,null,0,null,0,null,0]
[]
[]
[null,null,null,"13","Однотрансфор-маторная подстанция 34/0,4 кВ ","п/ст",35,"п/ст",35,3.5,null,0,null,0,null,0,null,0,null,0,null,0,null,0]
[null,null,null,"14","Итого","ВН",null,null,"ВН",null,null,{"$f":"SUM(L17:L22,L24:L29,L32:L37,L40:L41,L44:L47,L52)","v":0},null,{"$f":"SUM(N17:N22,N24:N29,N32:N37,N40:N41,N44:N47,N52)","v":0},null,{"$f":"SUM(P17:P22,P24:P29,P32:P37,P40:P41,P44:P47,P52)","v":0},null,{"$f":"SUM(R17:R22,R24:R29,R32:R37,R40:R41,R44:R47,R52)","v":0},null,{"$f":"SUM(T17:T22,T24:T29,T32:T37,T40:T41,T44:T47,T52)","v":0},null,{"$f":"SUM(V17:V22,V24:V29,V32:V37,V40:V41,V44:V47,V52)","v":0},null,{"$f":"SUM(X17:X22,X24:X29,X32:X37,X40:X41,X44:X47,X52)","v":0}]
[null,null,null,null,null,"СН1",null,null,"СН1",null,null,{"$f":"L23+L30+L38+L42+L48+L53+L60","v":0},null,{"$f":"N23+N30+N38+N42+N48+N53+N60","v":0},null,{"$f":"P23+P30+P38+P42+P48+P53","v":0},null,{"$f":"R23+R30+R38+R42+R48+R53+R60","v":0},null,{"$f":"T23+T30+T38+T42+T48+T53","v":0},null,{"$f":"V23+V30+V38+V42+V48+V53+V60","v":0},null,{"$f":"X23+X30+X38+X42+X48+X53","v":0}]
[null,null,null,null,null,"СН2",null,null,"СН2",null,null,{"$f":"L31+L39+L43+L49+L50+L51+L54+L55+L56+L57+L58+L59","v":0},null,{"$f":"N31+N39+N43+N49+N50+N51+N54+N55+N56+N57+N58+N59","v":0},null,{"$f":"P31+P39+P43+P49+P50+P51+P54+P55+P56+P57+P58+P59","v":0},null,{"$f":"R31+R39+R43+R49+R50+R51+R54+R55+R56+R57+R58+R59","v":0},null,{"$f":"T31+T39+T43+T49+T50+T51+T54+T55+T56+T57+T58+T59","v":0},null,{"$f":"V31+V39+V43+V49+V50+V51+V54+V55+V56+V57+V58+V59","v":0},null,{"$f":"X31+X39+X43+X49+X50+X51+X54+X55+X56+X57+X58+X59","v":0}]
[null,null,null,null,null,"НН",null,null,"НН",null,null,0,null,0,null,0,null,0,null,0,null,0,null,0]
[null,null,null,14,null,"Всего",null,null,"Всего",null,{"$f":"K61+K62+K63+K64","v":0},{"$f":"L61+L62+L63+L64","v":0},{"$f":"M61+M62+M63+M64","v":0},0,0,0,{"$f":"Q61+Q62+Q63+Q64","v":0},{"$f":"R61+R62+R63+R64","v":0},{"$f":"S61+S62+S63+S64","v":0},{"$f":"T61+T62+T63+T64","v":0},0,0,{"$f":"W61+W62+W63+W64","v":0},{"$f":"X61+X62+X63+X64","v":0}]

{"sheet":"7_Свод УЕ ","index":18,"n_rows":40,"n_cols":12,"rows_kept":40,"cut":false,"hidden":true,"merged":[[6,5,6,6],[40,6,40,17],[41,6,41,8],[7,5,7,11],[23,6,23,9],[14,6,14,9],[32,6,32,9],[9,6,9,11]]}
[]
[]
[]
[]
[]
[]
[null,null,null,null,null,"Список листов"]
[null,null,null,null,null,"7 - Свод УЕ "]
[]
[]
[]
[]
[]
[null,null,null,null,null,"№ п/п","Наименование показателей","ВН","СН-1","СН-2","НН","Всего"]
[null,null,null,null,null,1,"Объем воздушных линий электропередач (ВЛЭП) и кабельных линий электропередач (КЛЭП) в условных единицах в зависимост от протяженности, напряжения, конструктивного использования и материала опор. "]
[null,null,null,null,null,"1.1",{"$f":"'8_Расчет НВВ '!J$21&\" \"&'8_Расчет НВВ '!J$20-1","v":"факт ТСО -3"},{"$f":"'5_ЛЭП у.е'!P56","v":0},{"$f":"'5_ЛЭП у.е'!P57","v":0},{"$f":"'5_ЛЭП у.е'!P58","v":0},{"$f":"'5_ЛЭП у.е'!P59","v":0},{"$f":"SUM(H16:K16)","v":0}]
[null,null,null,null,null,"1.2",{"$f":"'8_Расчет НВВ '!$I$21&\" \"&'8_Расчет НВВ '!$I$20","v":"утверждено (заполняет ТСО) -2"}]
[null,null,null,null,null,"1.3",{"$f":"'8_Расчет НВВ '!J$21&\" \"&'8_Расчет НВВ '!J$20","v":"факт ТСО -2"},{"$f":"'5_ЛЭП у.е'!R56","v":0},{"$f":"'5_ЛЭП у.е'!R57","v":0},{"$f":"'5_ЛЭП у.е'!R58","v":0},{"$f":"'5_ЛЭП у.е'!R59","v":0},{"$f":"SUM(H18:K18)","v":0}]
[{"$f":"IFERROR(IF(REPORT_OWNER=\"Версия организации\",\"HIDDEN\",\"VISIBLE\"),0)","v":"HIDDEN"},null,null,null,null,"1.4",{"$f":"G18& \" версия регулятора\"","v":"факт ТСО -2 версия регулятора"},{"$f":"'5_ЛЭП у.е'!T56","v":0},{"$f":"'5_ЛЭП у.е'!T57","v":0},{"$f":"'5_ЛЭП у.е'!T58","v":0},{"$f":"'5_ЛЭП у.е'!T59","v":0},{"$f":"SUM(H19:K19)","v":0}]
[null,null,null,null,null,"1.5",{"$f":"'8_Расчет НВВ '!N$21&\" \"&'8_Расчет НВВ '!N$20","v":"утверждено (заполняет ТСО) -1"},{"$f":"'5_ЛЭП у.е'!V56","v":0},{"$f":"'5_ЛЭП у.е'!V57","v":0},{"$f":"'5_ЛЭП у.е'!V58","v":0},{"$f":"'5_ЛЭП у.е'!V59","v":0},{"$f":"SUM(H20:K20)","v":0}]
[null,null,null,null,null,"1.6",{"$f":"'8_Расчет НВВ '!P$21&\" \"&'8_Расчет НВВ '!P$20","v":"предложение ТСО 0"},{"$f":"'5_ЛЭП у.е'!$Z56","v":0},{"$f":"'5_ЛЭП у.е'!$Z57","v":0},{"$f":"'5_ЛЭП у.е'!$Z58","v":0},{"$f":"'5_ЛЭП у.е'!$Z59","v":0},{"$f":"SUM(H21:K21)","v":0}]
[{"$f":"IFERROR(IF(REPORT_OWNER=\"Версия организации\",\"HIDDEN\",\"VISIBLE\"),0)","v":"HIDDEN"},null,null,null,null,"1.7",{"$f":"god&\",  Версия регулятора \"","v":",  Версия регулятора "},{"$f":"'5_ЛЭП у.е'!$AB56","v":0},{"$f":"'5_ЛЭП у.е'!$AB57","v":0},{"$f":"'5_ЛЭП у.е'!$AB58","v":0},{"$f":"'5_ЛЭП у.е'!$AB59","v":0},{"$f":"SUM(H22:K22)","v":0}]
[]
[null,null,null,null,null,"2","Объем подстанций 35-1150 кВ, трансформаторных подстанций (ТП), комплексных трансформаторных подстанций (КТП) и распределительных пунктов (РП) 0,4-20 кВ в условных единицах. "]
[null,null,null,null,null,"2.1",{"$f":"'8_Расчет НВВ '!J$21&\" \"&'8_Расчет НВВ '!J$20-1","v":"факт ТСО -3"},{"$f":"'6 _ПС у.е'!$L61","v":0},{"$f":"'6 _ПС у.е'!$L62","v":0},{"$f":"'6 _ПС у.е'!$L63","v":0},{"$f":"'6 _ПС у.е'!$L64","v":0},{"$f":"SUM(H25:K25)","v":0}]
[null,null,null,null,null,"2.2",{"$f":"'8_Расчет НВВ '!$I$21&\" \"&'8_Расчет НВВ '!$I$20","v":"утверждено (заполняет ТСО) -2"}]
[null,null,null,null,null,"2.3",{"$f":"'8_Расчет НВВ '!J$21&\" \"&'8_Расчет НВВ '!J$20","v":"факт ТСО -2"},{"$f":"'6 _ПС у.е'!$N61","v":0},{"$f":"'6 _ПС у.е'!$N62","v":0},{"$f":"'6 _ПС у.е'!$N63","v":0},{"$f":"'6 _ПС у.е'!$N64","v":0},{"$f":"SUM(H27:K27)","v":0}]
[{"$f":"IFERROR(IF(REPORT_OWNER=\"Версия организации\",\"HIDDEN\",\"VISIBLE\"),0)","v":"HIDDEN"},null,null,null,null,"2.4",{"$f":"G27& \" версия регулятора\"","v":"факт ТСО -2 версия регулятора"},{"$f":"'6 _ПС у.е'!$P61","v":0},{"$f":"'6 _ПС у.е'!$P62","v":0},{"$f":"'6 _ПС у.е'!$P63","v":0},{"$f":"'6 _ПС у.е'!$P64","v":0},{"$f":"SUM(H28:K28)","v":0}]
[null,null,null,null,null,"2.5",{"$f":"'8_Расчет НВВ '!N$21&\" \"&'8_Расчет НВВ '!N$20","v":"утверждено (заполняет ТСО) -1"},{"$f":"'6 _ПС у.е'!$R61","v":0},{"$f":"'6 _ПС у.е'!$R62","v":0},{"$f":"'6 _ПС у.е'!$R63","v":0},{"$f":"'6 _ПС у.е'!$R64","v":0},{"$f":"SUM(H29:K29)","v":0}]
[null,null,null,null,null,"2.6",{"$f":"'8_Расчет НВВ '!P$21&\" \"&'8_Расчет НВВ '!P$20","v":"предложение ТСО 0"},{"$f":"'6 _ПС у.е'!$V61","v":0},{"$f":"'6 _ПС у.е'!$V62","v":0},{"$f":"'6 _ПС у.е'!$V63","v":0},{"$f":"'6 _ПС у.е'!$V64","v":0},{"$f":"SUM(H30:K30)","v":0}]
[{"$f":"IFERROR(IF(REPORT_OWNER=\"Версия организации\",\"HIDDEN\",\"VISIBLE\"),0)","v":"HIDDEN"},null,null,null,null,"2.7",{"$f":"god&\",  Версия регулятора \"","v":",  Версия регулятора "},{"$f":"'6 _ПС у.е'!$X61","v":0},{"$f":"'6 _ПС у.е'!$X62","v":0},{"$f":"'6 _ПС у.е'!$X63","v":0},{"$f":"'6 _ПС у.е'!$X64","v":0},{"$f":"SUM(H31:K31)","v":0}]
[]
[null,null,null,null,null,"3","Всего условных единиц"]
[null,null,null,null,null,"3.1",{"$f":"'8_Расчет НВВ '!J$21&\" \"&'8_Расчет НВВ '!J$20-1","v":"факт ТСО -3"},{"$f":"H16+H25","v":0},{"$f":"I16+I25","v":0},{"$f":"J16+J25","v":0},{"$f":"K16+K25","v":0},{"$f":"SUM(H34:K34)","v":0}]
[null,null,null,null,null,"3.2",{"$f":"'8_Расчет НВВ '!$I$21&\" \"&'8_Расчет НВВ '!$I$20","v":"утверждено (заполняет ТСО) -2"},null,null,null,null,0]
[null,null,null,null,null,"3.3",{"$f":"'8_Расчет НВВ '!J$21&\" \"&'8_Расчет НВВ '!J$20","v":"факт ТСО -2"},{"$f":"H18+H27","v":0},{"$f":"I18+I27","v":0},{"$f":"J18+J27","v":0},{"$f":"K18+K27","v":0},0]
[{"$f":"IFERROR(IF(REPORT_OWNER=\"Версия организации\",\"HIDDEN\",\"VISIBLE\"),0)","v":"HIDDEN"},null,null,null,null,"3.4",{"$f":"G36& \" версия регулятора\"","v":"факт ТСО -2 версия регулятора"},{"$f":"H19+H28","v":0},0,0,0,0]
[null,null,null,null,null,"3.5",{"$f":"'8_Расчет НВВ '!N$21&\" \"&'8_Расчет НВВ '!N$20","v":"утверждено (заполняет ТСО) -1"},0,0,0,0,0]
[null,null,null,null,null,"3.6",{"$f":"'8_Расчет НВВ '!P$21&\" \"&'8_Расчет НВВ '!P$20","v":"предложение ТСО 0"},{"$f":"SUM(H21,H30)","v":0},0,0,0,0]
[{"$f":"IFERROR(IF(REPORT_OWNER=\"Версия организации\",\"HIDDEN\",\"VISIBLE\"),0)","v":"HIDDEN"},null,null,null,null,"3.7",{"$f":"god&\",  Версия регулятора \"","v":",  Версия регулятора "},0,0,0,0,0]

{"sheet":"4.1","index":19,"n_rows":24,"n_cols":10,"rows_kept":24,"cut":false,"hidden":true,"merged":[[6,5,6,8],[25,5,25,6],[25,10,25,11]]}
["HIDDEN",null,null,null,null,null,null,null,null,{"$f":"IFERROR(IF(REPORT_OWNER=\"Версия организации\",\"HIDDEN\",\"VISIBLE\"),0)","v":"HIDDEN"}]
[]
[]
[]
[]
[null,null,null,null,null,null,null,null,"Форма 4.1"]
[]
[null,null,null,null,null,"Показатели уровня надежности и уровня качества оказываемых услуг электросетевой организации"]
[]
[]
[]
[]
[]
[null,null,null,null,null,"№ п/п","Показатель","№ формулы Методических указаний","Версия  ТСО","версия регулятора"]
[]
[]
[null,null,null,null,null,1,"Показатель средней продолжительности прекращений передачи электрической энергии (Пп)","1"]
[null,null,null,null,null,2,"Показатель уровня качества осуществляемого технологического присоединения Птпр","2.1"]
[null,null,null,null,null,3,"Показатель уровня качества обслуживания потребителей услуг территориальными сетевыми организациями, Птсо","3.2"]
[null,null,null,null,null,4,"Плановое значение показателя Пп , Пплп","4"]
[null,null,null,null,null,5,"Плановое значение показателя Птпр , Пплтпр","4"]
[null,null,null,null,null,6,"Плановое значение показателя Птсо , Пплтсо","4"]
[null,null,null,null,null,7,"Оценка достижения показателя уровня надежности оказываемых услуг, Кнад","п. 5.1 Методических указаний "]
[null,null,null,null,null,6,"Оценка достижения показателя уровня качества оказываемых услуг, Ккач (для территориальной сетевой организации)","п. 5.1 Методических указаний "]

{"sheet":"4.2. расчет K_об","index":20,"n_rows":21,"n_cols":10,"rows_kept":21,"cut":false,"hidden":true,"merged":[[1,6,1,8]]}
["HIDDEN",null,null,null,null,null,null,null,null,{"$f":"IFERROR(IF(REPORT_OWNER=\"Версия организации\",\"HIDDEN\",\"VISIBLE\"),0)","v":"HIDDEN"}]
[]
[]
[]
[]
[]
[null,null,null,null,null,null,null,null,"Форма 4.2"]
[null,null,null,null,null,"Расчет обобщенного показателя уровня надежности и качества оказываемых услуг"]
[]
[]
[]
[]
[]
[null,null,null,null,null,"№ п/п","Показатель","№ формулы Методических указаний","Значение","версия регулятора"]
[]
[]
[null,null,null,null,null,1,"Коэффициент значимости показателя уровня надежности оказываемых услуг, α","-","Для территориальной сетевой организации:\nα = 0,65","Для территориальной сетевой организации:\nα = 0,65"]
[null,null,null,null,null,2,"Коэффициент значимости показателя уровня качества оказываемых услуг, β","-","β = 1 - α","β = 1 - α"]
[null,null,null,null,null,3,"Оценка достижения показателя уровня надежности оказываемых услуг, Кнад","п. 5.1",{"$f":"'4.1'!I23","v":0},{"$f":"'4.1'!J23","v":0}]
[null,null,null,null,null,4,"Оценка достижения показателя уровня качества оказываемых услуг, Ккач","п. 5.1",{"$f":"IF('4.1'!I24=0,0,'4.1'!I24)","v":0},{"$f":"IF('4.1'!J24=0,0,'4.1'!J24)","v":0}]
[null,null,null,null,null,5,"Обобщенный показатель уровня надежности и качества оказываемых услуг, Коб","п. 5.1",{"$f":"IF(I19=\"\",\"\",I19*0.65+I20*0.35)","v":0},{"$f":"IF(J19=\"\",\"\",J19*0.65+J20*0.35)","v":0}]

{"sheet":"Прил. 1","index":21,"n_rows":56,"n_cols":13,"rows_kept":56,"cut":false,"hidden":true,"merged":[[53,5,53,7],[0,10,4,12],[6,5,8,12],[14,5,17,5],[14,6,17,6],[14,7,17,7],[14,8,16,9],[14,10,16,11],[14,12,16,12],[4,5,4,6]]}
[{"$f":"IFERROR(IF(AND(god-FIRST_PERIOD_IN_LT=0,REGULATION_METHODS=\"Сравнение аналогов\"),\"VISIBLE\",\"HIDDEN\"),\"HIDDEN\")","v":"HIDDEN"},null,null,null,null,null,null,null,null,null,"Приложение N 1 к Методическим указаниям по определению базового уровня операционных, подконтрольных расходов территориальных сетевых организаций, необходимых для осуществления регулируемой деятельности, и индекса эффективности операционных, подконтрольных расходов с применением метода сравнения аналогов, утвержденным приказом ФСТ от 18 марта 2015 г. N 421-э"]
[]
[]
[]
[null,null,null,null,null,"Список листов"]
[]
[null,null,null,null,null,"Данные о результатах регулирования и фактических результатах финансово-хозяйственной деятельности ТСО, в отношении которых осуществляется государственное регулирование тарифов на услуги по передаче электрической энергии - в целях применения метода сравнения аналогов"]
[]
[]
[]
[]
[]
[]
[]
[null,null,null,null,null,"N п.п.","Наименование показателя","Единица измерения",{"$f":"nerr(FIRST_PERIOD_IN_LT-3)","v":-3},null,{"$f":"nerr(FIRST_PERIOD_IN_LT-2)","v":-2},null,{"$f":"nerr(FIRST_PERIOD_IN_LT-1)","v":-1}]
[]
[]
[null,null,null,null,null,null,null,null,"Утверждено","Факт","Утверждено","Факт","Утверждено"]
[]
[]
[]
[null,null,null,null,null,1,"Финансовые"]
[null,null,null,null,null,"1.1","Необходимая валовая выручка на содержание (собственная)","тыс.руб. без НДС"]
[null,null,null,null,null,"1.2","Операционные, подконтрольные расходы, Всего","тыс.руб. без НДС",null,null,null,null,{"$f":"'8_Расчет НВВ '!N64","v":0}]
[null,null,null,null,null,"1.2.1","Материальные затраты","тыс.руб без НДС",{"$f":"SUM(I26:I27)","v":0},{"$f":"SUM(J26:J27)","v":0},{"$f":"SUM(K26:K27)","v":0},{"$f":"SUM(L26:L27)","v":0},{"$f":"SUM(M26:M27)","v":0}]
[null,null,null,null,null,"1.2.1.1","Сырье, материалы, запасные части, инструмент, топливо","тыс.руб без НДС"]
[null,null,null,null,null,"1.2.1.2","Работы и услуги производственного характера (в т.ч. услуги сторонних организаций по содержанию сетей и распределительных устройств)","тыс.руб без НДС"]
[null,null,null,null,null,"1.2.2","Расходы на оплату труда","тыс.руб без НДС"]
[null,null,null,null,null,"1.2.3","Прочие расходы, всего, из них:","тыс.руб без НДС"]
[null,null,null,null,null,"1.2.3.1","Расходы на обслуживание операционных заемных средств в составе подконтрольных расходов","тыс.руб без НДС"]
[null,null,null,null,null,"1.2.3.2","Расходы из прибыли в составе подконтрольных расходов","тыс.руб без НДС"]
[null,null,null,null,null,2,"Натуральные"]
[null,null,null,null,null,"2.1","Максимальное фактическое за отчетный период регулирования количество точек поставки электрической энергии потребителем услуг, присоединенным к электросетевой организации *","шт."]
[null,null,null,null,null,"2.2","Полезный отпуск за год","кВт.ч"]
[null,null,null,null,null,"2.3","Общее количество условных единиц на конец года","у.е.",{"$f":"SUM(I36:I39)","v":0},{"$f":"SUM(J36:J39)","v":0},{"$f":"SUM(K36:K39)","v":0},{"$f":"SUM(L36:L39)","v":0},{"$f":"SUM(M36:M39)","v":0}]
[null,null,null,null,null,"2.3.1","ВН","у.е."]
[null,null,null,null,null,"2.3.2","СН1","у.е."]
[null,null,null,null,null,"2.3.3","СН2","у.е."]
[null,null,null,null,null,"2.3.4","НН","у.е."]
[null,null,null,null,null,"2.4","Общая протяженность сетей (воздушных и кабельных линий) на конец года **","км",{"$f":"SUM(I41:I44)","v":0},{"$f":"SUM(J41:J44)","v":0},{"$f":"SUM(K41:K44)","v":0},{"$f":"SUM(L41:L44)","v":0},{"$f":"SUM(M41:M44)","v":0}]
[null,null,null,null,null,"2.4.1","ВН","км"]
[null,null,null,null,null,"2.4.2","СН1","км"]
[null,null,null,null,null,"2.4.3","СН2","км"]
[null,null,null,null,null,"2.4.4","НН","км"]
[null,null,null,null,null,"2.5","Общая трансформаторная емкость подстанций на конец года ***","МВА",{"$f":"SUM(I46:I49)","v":0},{"$f":"SUM(J46:J49)","v":0},{"$f":"SUM(K46:K49)","v":0},{"$f":"SUM(L46:L49)","v":0},{"$f":"SUM(M46:M49)","v":0}]
[null,null,null,null,null,"2.5.1","ВН","МВА"]
[null,null,null,null,null,"2.5.2","СН1","МВА"]
[null,null,null,null,null,"2.5.3","СН2","МВА"]
[null,null,null,null,null,"2.5.4","НН","МВА"]
[]
[]
[null,null,null,null,null,"Примечания:"]
[null,null,null,null,null,"Форма заполняется с 2015 года по год, предшествующий периоду регулирования"]
[null,null,null,null,null,"* Фактическое максимальное за отчетный период регулирования число точек присоединения потребителей услуг к электрической сети электросетевой организации, в том числе принятых в опытно-промышленную эксплуатацию ТСО в указанном году в соответствующем субъекте Российской Федерации, шт. Определяется на основании заключенных договоров на оказание услуг по передаче электрической энергии в соответствии с Правилами недискриминационного доступа к услугам по передаче электрической энергии и оказании этих услуг, утвержденными постановлением Правительства Российской Федерации от 27 декабря 2004 г. № 861."]
[null,null,null,null,null,"** Фактическая протяженность линий электропередач, эксплуатируемых на законных основаниях и участвующих в регулируемом виде деятельности, ТСО в указанном году в соответствующем субъекте Российской Федерации, км"]
[null,null,null,null,null,"*** Фактическая установленная трансформаторная мощность электрооборудования, эксплуатируемого на законных основаниях и участвующая в регулируемом виде деятельности, ТСО в указанном году  в соответствующем субъекте Российской Федерации, МВА"]

{"sheet":"Прил. 2-6","index":22,"n_rows":88,"n_cols":14,"rows_kept":88,"cut":false,"hidden":true,"merged":[[4,6,4,7],[77,6,77,7],[79,6,79,7],[86,6,86,7],[87,6,87,7],[59,6,59,11],[46,6,46,8],[47,6,47,8],[52,10,52,11],[53,6,53,11],[6,6,6,9],[8,6,8,9],[27,6,27,9],[33,6,33,8],[65,12,65,13],[64,6,64,13],[66,6,66,13],[68,6,70,6],[68,8,68,9],[68,10,68,11],[68,12,68,13]]}
[{"$f":"IFERROR(IF(AND(god-FIRST_PERIOD_IN_LT=0,REGULATION_METHODS=\"Сравнение аналогов\"),\"VISIBLE\",\"HIDDEN\"),\"HIDDEN\")","v":"HIDDEN"}]
[]
[]
[]
[null,null,null,null,null,null,"Список листов"]
[null,null,null,null,null,null,null,null,null,"Приложение № 2"]
[null,null,null,null,null,null,"Коэффициенты нормализации"]
[]
[]
[]
[null,null,null,null,null,null,null,"Lтпi","Lкмi","Lмваi"]
[]
[null,null,null,null,null,null,{"$f":"god-2","v":-2},"13,51*10-4","16,89*10-4","8,40*10-4"]
[null,null,null,null,null,null,null,1.351E-3,1.689E-3,8.4000000000000003E-4]
[]
[null,null,null,null,null,null,null,"Lтпi","Lкмi","Lмваi"]
[null,null,null,null,null,null,{"$f":"god-1","v":-1},"13,40*10-4","16,99*10-4","7,26*10-4"]
[null,null,null,null,null,null,null,1.34E-3,1.699E-3,7.2599999999999997E-4]
[]
[null,null,null,null,null,null,null,"Мтпi","Мкмi","Ммваi"]
[null,null,null,null,null,null,{"$f":"god-2","v":-2},"32,37*10-4","692,66*10-4","612,70*10-4"]
[null,null,null,null,null,null,null,3.2369999999999999E-3,6.9265999999999994E-2,6.1269999999999998E-2]
[]
[null,null,null,null,null,null,null,"Мтпi","Мкмi","Ммваi"]
[null,null,null,null,null,null,{"$f":"god-1","v":-1},"35,62*10-4","766,71*10-4","595,70*10-4"]
[null,null,null,null,null,null,null,3.5620000000000001E-3,7.6671000000000003E-2,5.9569999999999998E-2]
[]
[null,null,null,null,null,null,"* Коэффициенты нормализации определены на основе анализа репрезентативной выборки ТСО, в отношении которых осуществляется государственное регулирование тарифов на услуги по передаче электрической энергии, в соответствии с приложением № 7 к Методическим указаниям."]
[]
[]
[]
[]
[null,null,null,null,null,null,null,null,"Приложение № 3"]
[null,null,null,null,null,null,"Группы, индекс эффективности опр*"]
[]
[null,null,null,null,null,null,"Rin**","Индекс эффективности операционных, подконтрольных расходов","Группа","Значение индекса иэффективности по группе"]
[]
[null,null,null,null,null,null,"[0 - 0,1)",0.01,1,{"$f":"IFERROR(IF(-'индекс эффективности ОПР'!K16>0,(IF(-'индекс эффективности ОПР'!K16<0.1,0.01,0)),0),0)","v":0.01}]
[null,null,null,null,null,null,"[0,1 - 0,2)",0.02,2,{"$f":"IFERROR(IF(-'индекс эффективности ОПР'!K16>0.1,(IF(-'индекс эффективности ОПР'!K16<0.199999,0.02,0)),0),0)","v":0}]
[null,null,null,null,null,null,"[0,2 - 0,3)",0.03,3,{"$f":"IFERROR(IF(-'индекс эффективности ОПР'!K16>0.2,(IF(-'индекс эффективности ОПР'!K16<0.299999,0.03,0)),0),0)","v":0}]
[null,null,null,null,null,null,"[0,3 - 0,4)",0.04,4,{"$f":"IFERROR(IF(-'индекс эффективности ОПР'!K16>0.3,(IF(-'индекс эффективности ОПР'!K16<0.399999,0.04,0)),0),0)","v":0}]
[null,null,null,null,null,null,"[0,4 - 0,5)",0.05,5,{"$f":"IFERROR(IF(-'индекс эффективности ОПР'!K16>0.4,(IF(-'индекс эффективности ОПР'!K16<0.499999,0.05,0)),0),0)","v":0}]
[null,null,null,null,null,null,"[0,5 - 0,6)",0.06,6,{"$f":"IFERROR(IF(-'индекс эффективности ОПР'!K16>0.5,(IF(-'индекс эффективности ОПР'!K16<0.499999,0.06,0)),0),0)","v":0}]
[null,null,null,null,null,null,"[0,6 - 1)",7.0000000000000007E-2,7,{"$f":"IFERROR(IF(-'индекс эффективности ОПР'!K16>0.6,(IF(-'индекс эффективности ОПР'!K16<0.599999,0.07,0)),0),0)","v":0}]
[null,null,null,null,null,null,"Нет данных / недостоверные данные",0.1,8,{"$f":"IFERROR(IF(-'индекс эффективности ОПР'!K16>1,0.1,0),0)","v":0}]
[]
[null,null,null,null,null,null,"* Значение индекса эффективности ОПР  определяется в соответствии с распределением ТСО по группам эффективности на основании рейтинга эффективности компании, рассчитанного для года m - 1 в соответствии с формулой 1 Методических указаний."]
[null,null,null,null,null,null,"** Квадратная скобка означает \"включительно\". Круглая скобка означает \"исключая\"."]
[]
[]
[]
[]
[null,null,null,null,null,null,null,null,null,null,"Приложение № 4"]
[null,null,null,null,null,null,"Стоимость фиксированного набора потребительских товаров и услуг в декабре 2012 г. и декабре 2013 г."]
[]
[null,null,null,null,null,null,"№ п.п.","Субъект Российской Федерации",{"$f":"\"Стоимость за декабрь \"&god-2&\" года, руб.\"","v":"Стоимость за декабрь -2 года, руб."},{"$f":"god-2","v":-2},{"$f":"\"Стоимость за декабрь \"&god-1&\" года, руб.\"","v":"Стоимость за декабрь -1 года, руб."},{"$f":"god-1","v":-1}]
[]
[null,null,null,null,null,null,1,{"$f":"region_name","v":0},{"$f":"P_L1","v":0},{"$f":"P_L2","v":0},{"$f":"P_L3","v":0},{"$f":"P_L4","v":0}]
[]
[null,null,null,null,null,null,"Показатели определены с учетом стоимости фиксированного набора потребительских товаров и услуг в регионе, в котором осуществляется деятельность ТСО, в соответствии с приложением № 8 к Методическим указаниям."]
[]
[]
[]
[]
[]
[null,null,null,null,null,null,null,null,null,null,null,null,"Приложение № 5"]
[null,null,null,null,null,null,"Коэффициенты приведения затрат по климатическим условиям"]
[]
[null,null,null,null,null,null,"№ п.п.","Субъект Российской Федерации","Средняя температура января",null,"Толщина стенки гололеда",null,"Количество дней переходов температуры через ноль"]
[null,null,null,null,null,null,null,"Единица измерения","оС","ед.","мм","ед.","Количество дней переходов температуры через ноль","ед."]
[null,null,null,null,null,null,null,"Источник","СНиП 23-01-99","Т1","СНиП 2.01.07-85","Т2","СНиП 23-01-99","Т3"]
[]
[null,null,null,null,null,null,1,{"$f":"region_name","v":0},{"$f":"P_L5","v":0},{"$f":"P_L6","v":0},{"$f":"P_L7","v":0},{"$f":"P_L8","v":0},{"$f":"P_L9","v":0},{"$f":"P_L10","v":0}]
[]
[]
[]
[]
[]
[null,null,null,null,null,null,null,"Приложение № 6"]
[null,null,null,null,null,null,"Параметры определения способа расчета базового уровня операционных подконтрольных расходов"]
[]
[null,null,null,null,null,null,"Наименование параметра","Значение параметра"]
[]
[null,null,null,null,null,null,"b*",-0.3]
[null,null,null,null,null,null,"p**",7.0000000000000007E-2]
[]
[null,null,null,null,null,null,"* Значение параметра соответствует установленному приложением № 3 предельному уровню индекса эффективности ОПР, составляющему при наличии достоверных данных 7%."]
[null,null,null,null,null,null,"** Значение параметра определено как максимально допустимое для обеспечения сопоставимости с результатами анализа репрезентативной выборки ТСО, в отношении которых осуществляется государственное регулирование тарифов на услуги по передаче электрической энергии, превышение фактических операционных, подконтрольных расходов над установленными и составляет 30%."]

{"sheet":"индекс эффективности ОПР","index":23,"n_rows":53,"n_cols":13,"rows_kept":53,"cut":false,"hidden":true,"merged":[[6,5,6,6],[25,6,25,9],[13,6,13,9],[15,6,15,9],[21,6,21,9],[22,6,22,9],[23,6,23,9],[16,6,16,9],[17,6,17,9],[18,6,18,9],[19,6,19,9],[43,6,43,9],[26,6,26,9],[27,6,27,9],[29,6,29,9],[30,6,30,9],[31,6,31,9],[34,6,34,9],[35,6,35,9],[37,6,37,9],[38,6,38,9],[39,6,39,9],[42,6,42,9],[32,6,32,9],[33,6,33,9],[36,6,36,9],[46,6,46,9],[49,6,49,9],[50,6,50,9],[51,6,51,9],[52,6,52,9]]}
[{"$f":"IFERROR(IF(AND(god-FIRST_PERIOD_IN_LT=0,REGULATION_METHODS=\"Сравнение аналогов\"),\"VISIBLE\",\"HIDDEN\"),\"HIDDEN\")","v":"HIDDEN"}]
[]
[]
[]
[]
[]
[null,null,null,null,null,"Список листов"]
[null,null,null,null,null,null,"Расчет индекса эффективности ОПР"]
[]
[]
[]
[]
[]
[null,null,null,null,null,"№ п/п","Показатель",null,null,null,{"$f":"IFERROR(FIRST_PERIOD_IN_LT-1,0)","v":-1},{"$f":"IFERROR(FIRST_PERIOD_IN_LT-2,0)","v":-2},{"$f":"IFERROR(FIRST_PERIOD_IN_LT-3,0)","v":-3}]
[]
[null,null,null,null,null,1,"Rin = (Nтпin + Nкмin + Nмваin) / 3 ",null,null,null,{"$f":"IF(3=0,0,(K22+K26+K30)/3)","v":-4.6601000000000004E-2},{"$f":"IF(3=0,0,(L22+L26+L30)/3)","v":-2.7924333333333329E-2},{"$f":"IF(3=0,0,(M22+M26+M30)/3)","v":-4.4590999999999999E-2}]
[]
[null,null,null,null,null,null,"где:"]
[null,null,null,null,null,null,"Rin - значение рейтинга эффективности ТСО в году i."]
[null,null,null,null,null,null,"Nin - значение нормализованных удельных показателей, определяющихся как:"]
[]
[null,null,null,null,null,2,"Nтпin = Yтпin * Lтпi - Mтпi",null,null,null,{"$f":"K38*'Прил. 2-6'!H18-'Прил. 2-6'!H26","v":-3.5620000000000001E-3},{"$f":"L38*'Прил. 2-6'!H14-'Прил. 2-6'!H22","v":-3.2369999999999999E-3},{"$f":"M38*'Прил. 2-6'!H14-'Прил. 2-6'!H22","v":-3.2369999999999999E-3}]
[null,null,null,null,null,null,"Nтпin = 0, если Nтпin < 0"]
[null,null,null,null,null,null,"Nтпin = 1, если Nтпin > 1"]
[]
[null,null,null,null,null,3,"Nкмin = Yкмin * Lкмi - Mкмi",null,null,null,{"$f":"K39*'Прил. 2-6'!I18-'Прил. 2-6'!I26","v":-7.6671000000000003E-2},{"$f":"L39*'Прил. 2-6'!I14-'Прил. 2-6'!I22","v":-6.9265999999999994E-2},{"$f":"M39*'Прил. 2-6'!I14-'Прил. 2-6'!I22","v":-6.9265999999999994E-2}]
[null,null,null,null,null,null,"Nкмin = 0, если Nкмin < 0"]
[null,null,null,null,null,null,"Nкмin = 1, если Nкмin > 1"]
[]
[null,null,null,null,null,4,"Nмваin = Yмваin * Lмваi - Mмваi",null,null,null,{"$f":"K40*'Прил. 2-6'!J18-'Прил. 2-6'!J26","v":-5.9569999999999998E-2},{"$f":"L40*'Прил. 2-6'!J14-'Прил. 2-6'!J22+0.05","v":-1.1269999999999995E-2},{"$f":"M40*'Прил. 2-6'!J14-'Прил. 2-6'!J22","v":-6.1269999999999998E-2}]
[null,null,null,null,null,null,"Nмваin = 0, если Nмваin < 0"]
[null,null,null,null,null,null,"Nмваin = 1, если Nмваin > 1"]
[]
[null,null,null,null,null,null,"где:"]
[null,null,null,null,null,null,"Lтпi, Lкмi, Lмваi, Mтпi, Mкмi, Mмваi - коэффициенты нормализации (преобразование в значения в диапазоне от 0 до 1) ТСО для года i, определяемые в соответствии с приложением № 2 к Методическим указаниям."]
[null,null,null,null,null,null," Yтпin, Yкмin, Yмваin - значения приведенных удельных показателей ТСО в году i, характеризующие отношение фактических операционных (подконтрольных) расходов к фактическим показателям по протяженности линий электропередач, трансформаторной мощности электрооборудования и числу точек присоединения потребителей услуг к электрической сети."]
[]
[null,null,null,null,null,5," Yтпin = (OPEXin * Cin * Tn) / тпin",null,null,null,{"$f":"IFERROR(IF('Прил. 1'!M24=0,0,('Прил. 1'!M24*'Прил. 2-6'!L58*K47)/'Прил. 1'!M33),0)","v":0},{"$f":"IFERROR(IF('Прил. 1'!L33=0,0,('Прил. 1'!L24*'Прил. 2-6'!J58*L47)/'Прил. 1'!L33),0)","v":0},{"$f":"IFERROR(IF('Прил. 1'!J33=0,0,('Прил. 1'!J24*'Прил. 2-6'!J58*M47)/'Прил. 1'!J33),0)","v":0}]
[null,null,null,null,null,6," Yкмin = (OPEXin * Cin * Tn) / кмin",null,null,null,{"$f":"IFERROR(IF('Прил. 1'!M40=0,0,('Прил. 1'!M24*'Прил. 2-6'!L58*K47)/'Прил. 1'!M40),0)","v":0},{"$f":"IFERROR(IF('Прил. 1'!L40=0,0,('Прил. 1'!L24*'Прил. 2-6'!J58*L47)/'Прил. 1'!L40),0)","v":0},{"$f":"IFERROR(IF('Прил. 1'!J40=0,0,('Прил. 1'!J24*'Прил. 2-6'!J58*M47)/'Прил. 1'!J40),0)","v":0}]
[null,null,null,null,null,7," Yмваin = (OPEXin * Cin * Tn) / мваin",null,null,null,{"$f":"IFERROR(IF('Прил. 1'!M45=0,0,('Прил. 1'!M24*'Прил. 2-6'!L58*K47)/'Прил. 1'!M45),0)","v":0},{"$f":"IFERROR(IF('Прил. 1'!L45=0,0,('Прил. 1'!L24*'Прил. 2-6'!J58*L47)/'Прил. 1'!L45),0)","v":0},{"$f":"IFERROR(IF('Прил. 1'!J45=0,0,('Прил. 1'!J24*'Прил. 2-6'!J58*M47)/'Прил. 1'!J45),0)","v":0}]
[]
[null,null,null,null,null,null,"где:"]
[null,null,null,null,null,null,"OPEXin - значение фактических операционных, подконтрольных расходов (далее - значение фактических ОПР), представленных ТСО за год i, в соответствии с перечнем статей затрат, определенных в приложении № 1 к Методическим указаниям, и принятых органом регулирования с учетом норм п. 7 Основ ценообразования."]
[null,null,null,null,null,null,"Cin - коэффициент приведения затрат по уровню цен для ТСО в году i, в соответствии с приложением № 4 к Методическим указаниям."]
[null,null,null,null,null,null,"Tn - коэффициент приведения затрат по климатическим условиям, рассчитываемый как:"]
[]
[null,null,null,null,null,8,"Tn = 1 / (Tn1 * Tn2 *Tn3)",null,null,null,{"$f":"IF(('Прил. 2-6'!J73*'Прил. 2-6'!L73*'Прил. 2-6'!N73)=0,0,1/('Прил. 2-6'!J73*'Прил. 2-6'!L73*'Прил. 2-6'!N73))","v":0},{"$f":"IF(('Регионы аналоги'!G26*'Регионы аналоги'!I26*'Регионы аналоги'!K26)=0,0,1/('Регионы аналоги'!G26*'Регионы аналоги'!I26*'Регионы аналоги'!K26))","v":0},{"$f":"IF(('Регионы аналоги'!G26*'Регионы аналоги'!I26*'Регионы аналоги'!K26)=0,0,1/('Регионы аналоги'!G26*'Регионы аналоги'!I26*'Регионы аналоги'!K26))","v":0}]
[]
[null,null,null,null,null,null,"где:"]
[null,null,null,null,null,null,"Tn1 * Tn2 *Tn3 - коэффициенты приведения затрат по климатическим условиям, в соответствии с приложением № 5 к Методическим указаниям."]
[null,null,null,null,null,null,"кмin - фактическая протяженность линий электропередач, эксплуатируемых на законных основаниях и участвующих в регулируемом виде деятельности, ТСО в году i в соответствующем субъекте Российской Федерации, км."]
[null,null,null,null,null,null,"мваin - фактическая установленная трансформаторная мощность электрооборудования, эксплуатируемого на законных основаниях и участвующая в регулируемом виде деятельности, ТСО в году i в соответствующем субъекте Российской Федерации, МВА."]
[null,null,null,null,null,null,"тпin - фактическое максимальное за отчетный период регулирования число точек присоединения потребителей услуг к электрической сети электросетевой организации, в том числе принятых в опытно-промышленную эксплуатацию ТСО в году i в соответствующем субъекте Российской Федерации, шт."]

{"sheet":"modLT","index":24,"n_rows":0,"n_cols":0,"rows_kept":0,"cut":false,"hidden":true,"merged":[]}

{"sheet":"баз. ур. подк. расх. ","index":25,"n_rows":61,"n_cols":8,"rows_kept":61,"cut":false,"hidden":true,"merged":[[10,5,10,6]]}
[{"$f":"IFERROR(IF(AND(god-FIRST_PERIOD_IN_LT=0,REGULATION_METHODS=\"Сравнение аналогов\"),\"VISIBLE\",\"HIDDEN\"),\"HIDDEN\")","v":"HIDDEN"}]
[]
[]
[]
[]
[]
[]
[]
[]
[]
[null,null,null,null,null,"Список листов"]
[null,null,null,null,null,null,"Расчет величины базового уровня операционных, подконтрольных расходов"]
[]
[null,null,null,null,null,"№ п/п","Показатель",{"$f":"FIRST_PERIOD_IN_LT","v":0}]
[]
[null,null,null,null,null,1,"БазOPEXnm+1 = 0,3×Эф. Орехnm+1 + 0,7×ОПРn муm+1",{"$f":"IFERROR(0.3*H61+0.7*'8_Расчет НВВ '!P61,0)","v":0}]
[]
[null,null,null,null,null,null,"где:"]
[null,null,null,null,null,null,{"$f":"\"БазOPEXnm+1 - базовый уровень ОПР ТСО в году m+1 (\"&H14&\" год).\"","v":"БазOPEXnm+1 - базовый уровень ОПР ТСО в году m+1 (0 год)."}]
[null,null,null,null,null,null,"Эф. Орехnm+1 - значение эффективного уровня ОПР ТСО в году m+1, рассчитываемого в соответствии с п. 10 Методических указаний.",{"$f":"IFERROR('8_Расчет НВВ '!P61,0)","v":0}]
[null,null,null,null,null,null,{"$f":"\"ОПРn муm+1 - уровень ОПР, рассчитанный органом регулирования для ТСО в году m + 1 (\"&H14&\" год) в соответствии с Методическими указаниями \"","v":"ОПРn муm+1 - уровень ОПР, рассчитанный органом регулирования для ТСО в году m + 1 (0 год) в соответствии с Методическими указаниями "},{"$f":"IFERROR(H61,0)","v":0}]
[]
[null,null,null,null,null,2,"kn = (Σm-1i=2013 (Rni -Rni-1)) / m-2013",{"$f":"IFERROR(IFERROR(('индекс эффективности ОПР'!K16+'индекс эффективности ОПР'!L16)/(H14-2013),0),0)","v":3.702202351382679E-5}]
[]
[null,null,null,null,null,null,"где:"]
[null,null,null,null,null,null,"kn - коэффициент изменения рейтинга эффективности ТСО.\n"]
[null,null,null,null,null,null,"m - год, предшествующий периоду регулирования.",{"$f":"IFERROR(IFERROR(FIRST_PERIOD_IN_LT-1,0),0)","v":-1}]
[null,null,null,null,null,null,"Rni - значение рейтинга эффективности ТСО в году i. "]
[]
[null,null,null,null,null,3,"Если kn ≥ - xn / 100, то величина эффективного уровня ОПР определяется по формуле:"]
[]
[null,null,null,null,null,4,"Эф. Орехnm+1 = (1-kn-xn) × OPEXnm-1 × (1-xn) × (1+ИПЦnm) × (1+ИПЦnm+1) × (1+ИКАmn) × (1+ИКАm+1n)",{"$f":"IFERROR((1-H23-H37)*H38*(1-H37)*(1+H35)*(1+H36)*(1+H41)*(1+H46),0)","v":0}]
[null,null,null,null,null,null,"где:"]
[null,null,null,null,null,null,"m - год, предшествующий периоду регулирования.",{"$f":"IFERROR(IFERROR(FIRST_PERIOD_IN_LT -1,0),0)","v":-1}]
[null,null,null,null,null,null,{"$f":"\"ИПЦ \"&H34","v":"ИПЦ -1"},{"$f":"IFERROR('8_Расчет НВВ '!N25,0)","v":0}]
[null,null,null,null,null,null,{"$f":"\"ИПЦ \"&H14","v":"ИПЦ 0"},{"$f":"IFERROR('8_Расчет НВВ '!P25,0)","v":0}]
[null,null,null,null,null,5,"xn - значение индекса эффективности ОПР ТСО, определенное на основании расчета рейтинга эффективности в соответствии с приложением № 3 к Методическим указаниям.",{"$f":"IFERROR(SUM('Прил. 2-6'!J36:J43),0)","v":0.01}]
[null,null,null,null,null,null,{"$f":"\"OPEXnm-1 - значение фактических экономически обоснованных операционных, подконтрольных расходов ТСО в году m - 1 (\"&H27-1&\" год), сформированное в соответствии с Методическими указаниями по регулированию тарифов с применением метода доходности инвестированного капитала или с Методическими указаниями по расчету тарифов на услуги по передаче электрической энергии\"","v":"OPEXnm-1 - значение фактических экономически обоснованных операционных, подконтрольных расходов ТСО в году m - 1 (-2 год), сформированное в соответствии с Методическими указаниями по регулированию тарифов с применением метода доходности инвестированного капитала или с Методическими указаниями по расчету тарифов на услуги по передаче электрической энергии"},{"$f":"IFERROR('Прил. 1'!L24,0)","v":0}]
[null,null,null,null,null,null,{"$f":"\"ИКАmn - индекс изменения количества активов, установленный на год m (\"&H27&\" год) при расчете долгосрочных тарифов, определяемый как:\"","v":"ИКАmn - индекс изменения количества активов, установленный на год m (-1 год) при расчете долгосрочных тарифов, определяемый как:"}]
[]
[null,null,null,null,null,6,"ИКАmn = Кэл × (УЕnm - УЕnm-1) / УЕnm-1",{"$f":"IFERROR(IF(H44=0,0,H51*(H49-H44)/H44),0)","v":0}]
[]
[null,null,null,null,null,null,{"$f":"\"ИКАm+1n -  индекс изменения количества активов, установленный на год m + 1m (\"&H14&\" год) при расчете долгосрочных тарифов, определяемый как:\"","v":"ИКАm+1n -  индекс изменения количества активов, установленный на год m + 1m (0 год) при расчете долгосрочных тарифов, определяемый как:"}]
[null,null,null,null,null,null,{"$f":"\"УЕnm-1 - количество условных единиц, относящихся к активам, необходимым для осуществления регулируемой деятельности в году m-1 (\"&H27-1&\" год)\"","v":"УЕnm-1 - количество условных единиц, относящихся к активам, необходимым для осуществления регулируемой деятельности в году m-1 (-2 год)"},{"$f":"IFERROR('8_Расчет НВВ '!I27,0)","v":0}]
[]
[null,null,null,null,null,7,"ИКАm+1n = Кэл × (УЕnm+1 - УЕnm) / УЕnm",{"$f":"IFERROR(IF(H49=0,0,H51*(H50-H49)/H49),0)","v":0}]
[]
[null,null,null,null,null,null,"где:"]
[null,null,null,null,null,null,{"$f":"\"УЕnm - количество условных единиц, относящихся к активам, необходимым для осуществления регулируемой деятельности в году m (\"&H34&\" год)\"","v":"УЕnm - количество условных единиц, относящихся к активам, необходимым для осуществления регулируемой деятельности в году m (-1 год)"},{"$f":"IFERROR('8_Расчет НВВ '!N27,0)","v":0}]
[null,null,null,null,null,null,{"$f":"\"УЕnm+1 - количество условных единиц, относящихся к активам, необходимым для осуществления регулируемой деятельности в году m + 1 (\"&H14&\" год)\"","v":"УЕnm+1 - количество условных единиц, относящихся к активам, необходимым для осуществления регулируемой деятельности в году m + 1 (0 год)"},{"$f":"IFERROR('8_Расчет НВВ '!P27,0)","v":0}]
[null,null,null,null,null,null,"Кэл - коэффициент эластичности операционных, подконтрольных расходов по количеству активов, необходимых для осуществления регулируемой деятельности, устанавливаемый органом регулирования на долгосрочный период регулирования в соответствии с Методическими указаниями по регулированию тарифов с применением метода доходности инвестированного капитала или с Методическими указаниями по расчету тарифов на услуги по передаче электрической энергии, устанавливаемых с применением метода долгосрочной индексации НВВ, в зависимости от применяемого в отношении ТСО метода регулирования.",{"$f":"IFERROR('8_Расчет НВВ '!N29,0)","v":0.75}]
[]
[null,null,null,null,null,8,"Если kn < - xn / 100, то величина эффективного уровня ОПР определяется по формуле:"]
[]
[null,null,null,null,null,9,"Эф. Орехnm+1 = OPEXnm-1 × (1-xn)2 × (1+ИПЦnm) × (1+ИПЦnm+1) × (1+ИКАmn) × (1+ИКАm+1n)",{"$f":"IFERROR('Прил. 1'!K24*(1-H37)^2*(1+H35)*(1+H36)*(1+H41)*(1+H46),0)","v":0}]
[]
[null,null,null,null,null,null,"D = (b / p) × xn - b × 100%"]
[null,null,null,null,null,null,"где:"]
[null,null,null,null,null,null,"b и p - параметры, определяющие допустимое превышение фактических операционных, подконтрольных расходов над установленным в зависимости от расчетной эффективности ТСО, установленные в соответствии с приложением № 6 к Методическим указаниям."]
[null,null,null,null,null,null,"xn - значение индекса эффективности ОПР ТСО, определенное на основании расчета рейтинга эффективности в соответствии с приложением № 3 к Методическим указаниям."]
[null,null,null,null,null,9,"величина эффективного уровня ОПР",{"$f":"IFERROR(IF(H23<H37,H55,H32),0)","v":0}]

{"sheet":"8_Расчет НВВ ","index":26,"n_rows":113,"n_cols":30,"rows_kept":113,"cut":false,"hidden":true,"merged":[[12,5,12,6],[15,5,15,22],[19,10,20,10],[19,12,20,12],[65,5,65,7],[19,5,20,5],[19,6,20,6],[19,7,20,7],[32,5,32,7],[20,16,20,18],[20,19,20,21]]}
[" ",null,null,null,null,null,null,null,null,null,null,{"$f":"IFERROR(IF(REPORT_OWNER=\"Версия организации\",\"HIDDEN\",\"VISIBLE\"),\"HIDDEN\")","v":"HIDDEN"},{"$f":"IFERROR(IF(REPORT_OWNER=\"Версия организации\",\"HIDDEN\",\"VISIBLE\"),\"HIDDEN\")","v":"HIDDEN"},null,{"$f":"IFERROR(IF(REPORT_OWNER=\"Версия организации\",\"HIDDEN\",\"VISIBLE\"),\"HIDDEN\")","v":"HIDDEN"},null,{"$f":"IFERROR(IF(REPORT_OWNER=\"Версия организации\",\"HIDDEN\",\"VISIBLE\"),\"HIDDEN\")","v":"HIDDEN"},"HIDDEN","HIDDEN","HIDDEN","HIDDEN","HIDDEN",{"$f":"IFERROR(IF(god+1>FIRST_PERIOD_IN_LT+PERIOD_LENGTH-1,\"HIDDEN\",\"VISIBLE\"),\"HIDDEN\")","v":"HIDDEN"},{"$f":"IFERROR(IF(AND(REPORT_OWNER=\"Версия регулятора\",W1 = \"VISIBLE\"),\"VISIBLE\",\"HIDDEN\"),\"HIDDEN\")","v":"HIDDEN"},{"$f":"IFERROR(IF(god+2>FIRST_PERIOD_IN_LT+PERIOD_LENGTH-1,\"HIDDEN\",\"VISIBLE\"),\"HIDDEN\")","v":"HIDDEN"},{"$f":"IFERROR(IF(AND(REPORT_OWNER=\"Версия регулятора\",Y1 = \"VISIBLE\"),\"VISIBLE\",\"HIDDEN\"),\"HIDDEN\")","v":"HIDDEN"},{"$f":"IFERROR(IF(god+3>FIRST_PERIOD_IN_LT+PERIOD_LENGTH-1,\"HIDDEN\",\"VISIBLE\"),\"HIDDEN\")","v":"HIDDEN"},{"$f":"IFERROR(IF(AND(REPORT_OWNER=\"Версия регулятора\",AA1 = \"VISIBLE\"),\"VISIBLE\",\"HIDDEN\"),\"HIDDEN\")","v":"HIDDEN"},{"$f":"IFERROR(IF(god+4>FIRST_PERIOD_IN_LT+PERIOD_LENGTH-1,\"HIDDEN\",\"VISIBLE\"),\"HIDDEN\")","v":"HIDDEN"},{"$f":"IFERROR(IF(AND(REPORT_OWNER=\"Версия регулятора\",AC1 = \"VISIBLE\"),\"VISIBLE\",\"HIDDEN\"),\"HIDDEN\")","v":"HIDDEN"}]
[]
[]
[]
[]
[]
[]
[]
[]
[]
[]
[]
[null,null,null,null,null,"Список листов"]
[]
[]
[null,null,null,null,null,"Расчет нвв на услуги по передаче электрической энергии по сетям"]
[]
[]
[]
[null,null,null,null,null,"№ п/п","Показатель","Единица измерения",{"$f":"god-2","v":-2},{"$f":"god-2","v":-2},"отклонение",{"$f":"god-2","v":-2},"отклонение утв/факт рег.",{"$f":"god-1","v":-1},{"$f":"god-1","v":-1},{"$f":"god","v":0},{"$f":"god","v":0},"1 полугодие","2 полугодие",{"$f":"god","v":0},"1 полугодие","2 полугодие",{"$f":"P20+1","v":1},{"$f":"Q20+1","v":1},{"$f":"W20+1","v":2},2,3,3,4,4]
[null,null,null,null,null,null,null,null,"утверждено (заполняет ТСО)","факт ТСО",null,"факт версия регулятора",null,"утверждено (заполняет ТСО)","утверждено Версия регулятора","предложение ТСО","Версия регулятора",null,null,"Версия регулятора в котле",null,null,"предложение ТСО","Версия регулятора","предложение ТСО","Версия регулятора","предложение ТСО","Версия регулятора","предложение ТСО","Версия регулятора"]
[]
[null,null,null,null,null,null,"Расчёт коэффициента индексации"]
[]
[null,null,null,null,null,"0.1","Индекс потребительских цен","%",null,null,{"$f":"J25-I25","v":0},null,{"$f":"L25-I25","v":0},null,null,null,null,null,null,{"$f":"Q25","v":0}]
[null,null,null,null,null,"0.2","Индекс эффективности подконтрольных расходов","%",null,null,null,null,null,null,null,null,null,null,null,{"$f":"Q26","v":0}]
[null,null,null,null,null,"0.3","Количество активов","у.е.",{"$f":"'7_Свод УЕ '!L35","v":0},{"$f":"'7_Свод УЕ '!L36","v":0},{"$f":"J27-I27","v":0},{"$f":"'7_Свод УЕ '!L37","v":0},{"$f":"L27-I27","v":0},{"$f":"'7_Свод УЕ '!L38","v":0},null,{"$f":"'7_Свод УЕ '!L39","v":0},{"$f":"'7_Свод УЕ '!L40","v":0},null,null,{"$f":"Q27*'9 Тариф'!$P$35","v":0},null,null,{"$f":"P27","v":0},{"$f":"Q27","v":0},{"$f":"W27","v":0},{"$f":"X27","v":0}]
[null,null,null,null,null,"0.4","Индекс изменения количества активов (без учета коэффициента эластичности)","%",null,null,null,null,null,null,null,null,{"$f":"IF(O27=0,0,(Q27-O27)/O27)","v":0},null,null,{"$f":"Q28","v":0},null,null,{"$f":"IF(P27=0,0,(W27-P27)/P27)","v":0},{"$f":"IF(Q27=0,0,(X27-Q27)/Q27)","v":0},{"$f":"IF(W27=0,0,(Y27-W27)/W27)","v":0},{"$f":"IF(X27=0,0,(Z27-X27)/X27)","v":0},{"$f":"IF(Y27=0,0,(AA27-Y27)/Y27)","v":0},{"$f":"IF(X27=0,0,(AB27-X27)/X27)","v":0},{"$f":"IF(AA27=0,0,(AC27-AA27)/AA27)","v":0},{"$f":"IF(Z27=0,0,(AD27-Z27)/Z27)","v":0}]
[null,null,null,null,null,"0.5","Коэффициент эластичности подконтрольных расходов по количеству  активов",null,0.75,0.75,null,0.75,null,0.75,1,0.75,0.75,null,null,{"$f":"Q29","v":0.75},null,null,0.75,0.75,0.75,0.75,0.75,0.75,0.75,0.75]
[null,null,null,null,null,"0.6","Итого коэффициент индексации",null,{"$f":"(1+I25)*(1-I26)*(1+I28*I29)","v":1},{"$f":"(1+J25)*(1-J26)*(1+J28*J29)","v":1},null,null,null,{"$f":"(1+N25)*(1-N26)*(1+N28*N29)","v":1},{"$f":"(1+O25)*(1-O26)*(1+O28*O29)","v":1},{"$f":"(1+P25)*(1-P26)*(1+P28*P29)","v":1},{"$f":"(1+Q25)*(1-Q26)*(1+Q28*Q29)","v":1},null,null,{"$f":"Q30","v":1},null,null,{"$f":"(1+W25)*(1-W26)*(1+W28*W29)","v":1},1,1,1,1,1,1,1]
[]
[]
[null,null,null,null,null,"1. Расчет подконтрольных расходов"]
[]
[null,null,null,null,null,"1.1","Материальные затраты","тыс.руб.",{"$f":"I36+I37","v":0},{"$f":"J36+J37","v":0},{"$f":"J35-I35","v":0},{"$f":"L36+L37","v":0},{"$f":"L35-I35","v":0},{"$f":"N36+N37","v":0},null,{"$f":"P36+P37","v":0},0,0,0,0,0,{"$f":"T35-U35","v":0},{"$f":"W36+W37","v":0},null,{"$f":"Y36+Y37","v":0},null,{"$f":"AA36+AA37","v":0},null,{"$f":"AC36+AC37","v":0}]
[null,null,null,null,null,"1.1.1","Сырье, основные материалы, вспомогательные материалы, инструмент","тыс.руб.",{"$f":"'12_Сырье и материалы'!V54","v":0},{"$f":"'12_Сырье и материалы'!W54","v":0},0,{"$f":"'12_Сырье и материалы'!Y54","v":0},0,{"$f":"'12_Сырье и материалы'!AC54","v":0},null,{"$f":"(IF(FIRST_PERIOD_IN_LT=god,'12_Сырье и материалы'!AF54,N36*P30))","v":0},{"$f":"P36","v":0},{"$f":"Q36*'9 Тариф'!$Q$41","v":0},{"$f":"Q36-R36","v":0},{"$f":"Q36*'9 Тариф'!$P$35","v":0},{"$f":"R36*'9 Тариф'!$P$35","v":0},{"$f":"T36-U36","v":0},{"$f":"P36*W$30","v":0},null,{"$f":"W36*Y$30","v":0},null,0,null,0]
[null,null,null,null,null,"1.1.2","Работы и услуги производ. характера","тыс.руб.",{"$f":"'13_РПР Ремонт '!U23","v":0},{"$f":"'13_РПР Ремонт '!Y23","v":0},0,{"$f":"'13_РПР Ремонт '!V23","v":0},0,{"$f":"'13_РПР Ремонт '!AE23","v":0},null,{"$f":"(IF(FIRST_PERIOD_IN_LT=god,'13_РПР Ремонт '!AF23,N37*P30))","v":0},{"$f":"P37","v":0},{"$f":"Q37*'9 Тариф'!$Q$41","v":0},0,{"$f":"Q37*'9 Тариф'!$P$35","v":0},{"$f":"R37*'9 Тариф'!$P$35","v":0},0,{"$f":"P37*W$30","v":0},null,0,null,0,null,0]
[null,null,null,null,null,"1.2","Расходы на оплату труда","тыс.руб.",{"$f":"'16_Персонал'!I53","v":0},{"$f":"'16_Персонал'!J53","v":0},0,{"$f":"'16_Персонал'!K53","v":0},0,{"$f":"'16_Персонал'!L53","v":0},null,{"$f":"(IF(FIRST_PERIOD_IN_LT=god,'16_Персонал'!M53,N38*P30))","v":0},{"$f":"P38","v":0},{"$f":"Q38*'9 Тариф'!$Q$41","v":0},0,{"$f":"Q38*'9 Тариф'!$P$35","v":0},{"$f":"R38*'9 Тариф'!$P$35","v":0},0,{"$f":"P38*W$30","v":0},null,0,null,0,null,0]
[null,null,null,null,null,"1.3","Прочие расходы Всего, в том числе:","тыс.руб.",{"$f":"I40+I41+I48+I49+I50+I51+I52+I53+I54+I57","v":0},{"$f":"J40+J41+J48+J49+J50+J51+J52+J53+J54+J57","v":0},0,{"$f":"L40+L41+L48+L49+L50+L51+L52+L53+L54+L57","v":0},0,{"$f":"N40+N41+N48+N49+N50+N51+N52+N53+N54+N57","v":0},null,{"$f":"P40+P41+P48+P49+P50+P51+P52+P53+P54+P57","v":0},0,0,0,0,0,0,{"$f":"W40+W41+W48+W49+W50+W51+W52+W53+W54+W57","v":0},null,{"$f":"Y40+Y41+Y48+Y49+Y50+Y51+Y52+Y53+Y54+Y57","v":0},null,{"$f":"AA40+AA41+AA48+AA49+AA50+AA51+AA52+AA53+AA54+AA57","v":0},null,{"$f":"AC40+AC41+AC48+AC49+AC50+AC51+AC52+AC53+AC54+AC57","v":0}]
[null,null,null,null,null,"1.3.1","Ремонт основных средств","тыс.руб.",{"$f":"'13_РПР Ремонт '!U34","v":0},{"$f":"'13_РПР Ремонт '!Y34","v":0},0,{"$f":"'13_РПР Ремонт '!V34","v":0},0,{"$f":"'13_РПР Ремонт '!AE34","v":0},null,{"$f":"(IF(FIRST_PERIOD_IN_LT=god,'13_РПР Ремонт '!AF34,N40*P30))","v":0},{"$f":"P40","v":0},{"$f":"Q40*'9 Тариф'!$Q$41","v":0},0,{"$f":"Q40*'9 Тариф'!$P$35","v":0},{"$f":"R40*'9 Тариф'!$P$35","v":0},0,{"$f":"P40*W$30","v":0},null,{"$f":"W40*Y$30","v":0},null,{"$f":"Y40*AA$30","v":0},null,{"$f":"AA40*AC$30","v":0}]
[null,null,null,null,null,"1.3.2","Оплата работ и услуг сторонних организаций","тыс.руб.",{"$f":"I42+I43+I44+I45+I46+I47","v":0},{"$f":"J42+J43+J44+J45+J46+J47","v":0},0,{"$f":"L42+L43+L44+L45+L46+L47","v":0},0,{"$f":"N42+N43+N44+N45+N46+N47","v":0},null,{"$f":"P42+P43+P44+P45+P46+P47","v":0},0,0,0,0,0,0,{"$f":"W42+W43+W44+W45+W46+W47","v":0},null,{"$f":"Y42+Y43+Y44+Y45+Y46+Y47","v":0},null,{"$f":"AA42+AA43+AA44+AA45+AA46+AA47","v":0},null,{"$f":"AC42+AC43+AC44+AC45+AC46+AC47","v":0}]
[null,null,null,null,null,"1.3.2.1","расходы на услуги связи","тыс.руб.",{"$f":"'17_ППР'!AQ21","v":0},{"$f":"'17_ППР'!AS21","v":0},0,{"$f":"'17_ППР'!AR21","v":0},0,{"$f":"'17_ППР'!BA21","v":0},null,{"$f":"(IF(FIRST_PERIOD_IN_LT=god,'17_ППР'!BB21,N42*P30))","v":0},{"$f":"P42","v":0},{"$f":"Q42*'9 Тариф'!$Q$41","v":0},0,{"$f":"Q42*'9 Тариф'!$P$35","v":0},{"$f":"R42*'9 Тариф'!$P$35","v":0},0,{"$f":"P42*W$30","v":0},null,{"$f":"W42*Y$30","v":0},null,{"$f":"Y42*AA$30","v":0},null,{"$f":"AA42*AC$30","v":0}]
[null,null,null,null,null,"1.3.2.2","расходы на услуги вневедомственной охраны и пожарную безопасность","тыс.руб.",{"$f":"'17_ППР'!AQ24","v":0},{"$f":"'17_ППР'!AS24","v":0},0,{"$f":"'17_ППР'!AR24","v":0},0,{"$f":"'17_ППР'!BA24","v":0},null,{"$f":"(IF(FIRST_PERIOD_IN_LT=god,'17_ППР'!BB24,N43*P30))","v":0},0,{"$f":"Q43*'9 Тариф'!$Q$41","v":0},0,{"$f":"Q43*'9 Тариф'!$P$35","v":0},{"$f":"R43*'9 Тариф'!$P$35","v":0},0,0,null,0,null,0,null,0]
[null,null,null,null,null,"1.3.2.3","расходы на юридические и информационные услуги","тыс.руб.",{"$f":"'17_ППР'!AQ27","v":0},{"$f":"'17_ППР'!AS27","v":0},0,{"$f":"'17_ППР'!AR27","v":0},0,{"$f":"'17_ППР'!BA27","v":0},null,{"$f":"(IF(FIRST_PERIOD_IN_LT=god,'17_ППР'!BB27,N44*P30))","v":0},0,{"$f":"Q44*'9 Тариф'!$Q$41","v":0},0,{"$f":"Q44*'9 Тариф'!$P$35","v":0},{"$f":"R44*'9 Тариф'!$P$35","v":0},0,0,null,0,null,0,null,0]
[null,null,null,null,null,"1.3.2.4","расходы на аудиторские и консультационные услуги","тыс.руб.",{"$f":"'17_ППР'!AQ30","v":0},{"$f":"'17_ППР'!AS30","v":0},0,{"$f":"'17_ППР'!AR30","v":0},0,{"$f":"'17_ППР'!BA30","v":0},null,{"$f":"(IF(FIRST_PERIOD_IN_LT=god,'17_ППР'!BB30,N45*P30))","v":0},0,{"$f":"Q45*'9 Тариф'!$Q$41","v":0},0,{"$f":"Q45*'9 Тариф'!$P$35","v":0},{"$f":"R45*'9 Тариф'!$P$35","v":0},0,0,null,0,null,0,null,0]
[null,null,null,null,null,"1.3.2.5","расходы на услуги транспорта","тыс.руб.",{"$f":"'17_ППР'!AQ33","v":0},{"$f":"'17_ППР'!AS33","v":0},0,{"$f":"'17_ППР'!AR33","v":0},0,{"$f":"'17_ППР'!BA33","v":0},null,{"$f":"(IF(FIRST_PERIOD_IN_LT=god,'17_ППР'!BB33,N46*P30))","v":0},0,{"$f":"Q46*'9 Тариф'!$Q$41","v":0},0,{"$f":"Q46*'9 Тариф'!$P$35","v":0},{"$f":"R46*'9 Тариф'!$P$35","v":0},0,0,null,0,null,0,null,0]
[null,null,null,null,null,"1.3.2.6","прочие услуги сторонних организаций","тыс.руб.",{"$f":"'17_ППР'!AQ36","v":0},{"$f":"'17_ППР'!AS36","v":0},0,{"$f":"'17_ППР'!AR36","v":0},0,{"$f":"'17_ППР'!BA36","v":0},null,{"$f":"(IF(FIRST_PERIOD_IN_LT=god,'17_ППР'!BB36,N47*P30))","v":0},0,{"$f":"Q47*'9 Тариф'!$Q$41","v":0},0,{"$f":"Q47*'9 Тариф'!$P$35","v":0},{"$f":"R47*'9 Тариф'!$P$35","v":0},0,0,null,0,null,0,null,0]
[null,null,null,null,null,"1.3.3","Расходы на командировки и представительские","тыс.руб.",{"$f":"'17_ППР'!AQ39","v":0},{"$f":"'17_ППР'!AS39","v":0},0,{"$f":"'17_ППР'!AR39","v":0},0,{"$f":"'17_ППР'!BA39","v":0},null,{"$f":"(IF(FIRST_PERIOD_IN_LT=god,'17_ППР'!BB39,N48*P30))","v":0},0,{"$f":"Q48*'9 Тариф'!$Q$41","v":0},0,{"$f":"Q48*'9 Тариф'!$P$35","v":0},{"$f":"R48*'9 Тариф'!$P$35","v":0},0,0,null,0,null,0,null,0]
[null,null,null,null,null,"1.3.4","Расходы на повышение квалификации,  подготовку кадров","тыс.руб.",{"$f":"'17_ППР'!AQ42","v":0},{"$f":"'17_ППР'!AS42","v":0},0,{"$f":"'17_ППР'!AR42","v":0},0,{"$f":"'17_ППР'!BA42","v":0},null,{"$f":"(IF(FIRST_PERIOD_IN_LT=god,'17_ППР'!BB42,N49*P30))","v":0},0,{"$f":"Q49*'9 Тариф'!$Q$41","v":0},0,{"$f":"Q49*'9 Тариф'!$P$35","v":0},{"$f":"R49*'9 Тариф'!$P$35","v":0},0,0,null,0,null,0,null,0]
[null,null,null,null,null,"1.3.5","Расходы на обеспечение нормальных условий труда и мер по технике безопасности","тыс.руб.",{"$f":"'17_ППР'!AQ45","v":0},{"$f":"'17_ППР'!AS45","v":0},0,{"$f":"'17_ППР'!AR45","v":0},0,{"$f":"'17_ППР'!BA45","v":0},null,{"$f":"(IF(FIRST_PERIOD_IN_LT=god,'17_ППР'!BB45,N50*P30))","v":0},0,{"$f":"Q50*'9 Тариф'!$Q$41","v":0},0,{"$f":"Q50*'9 Тариф'!$P$35","v":0},{"$f":"R50*'9 Тариф'!$P$35","v":0},0,0,null,0,null,0,null,0]
[null,null,null,null,null,"1.3.6","Расходы на страхование","тыс.руб.",{"$f":"'17_ППР'!AQ48","v":0},{"$f":"'17_ППР'!AS48","v":0},0,{"$f":"'17_ППР'!AR48","v":0},0,{"$f":"'17_ППР'!BA48","v":0},null,{"$f":"(IF(FIRST_PERIOD_IN_LT=god,'17_ППР'!BB48,N51*P30))","v":0},0,{"$f":"Q51*'9 Тариф'!$Q$41","v":0},0,{"$f":"Q51*'9 Тариф'!$P$35","v":0},{"$f":"R51*'9 Тариф'!$P$35","v":0},0,0,null,0,null,0,null,0]
[null,null,null,null,null,"1.3.7","Коммунальные услуги","тыс.руб.",null,null,{"$f":"J52-I52","v":0},null,{"$f":"L52-I52","v":0},null,null,null,null,{"$f":"Q52*'9 Тариф'!$Q$41","v":0},0,{"$f":"Q52*'9 Тариф'!$P$35","v":0},{"$f":"R52*'9 Тариф'!$P$35","v":0},0,{"$f":"P52*W$30","v":0},null,{"$f":"W52*Y$30","v":0},null,{"$f":"Y52*AA$30","v":0},null,{"$f":"AA52*AC$30","v":0}]
[null,null,null,null,null,"1.3.8","Электроэнергия на хоз. нужды","тыс.руб.",null,null,{"$f":"J53-I53","v":0},null,{"$f":"L53-I53","v":0},null,null,null,null,{"$f":"Q53*'9 Тариф'!$Q$41","v":0},0,{"$f":"Q53*'9 Тариф'!$P$35","v":0},{"$f":"R53*'9 Тариф'!$P$35","v":0},0,0,null,{"$f":"W53*Y$30","v":0},null,{"$f":"Y53*AA$30","v":0},null,{"$f":"AA53*AC$30","v":0}]
[null,null,null,null,null,"1.3.9","Другие прочие расходы","тыс.руб.",{"$f":"'17_ППР'!AQ57","v":0},{"$f":"'17_ППР'!AS57","v":0},0,{"$f":"'17_ППР'!AR57","v":0},0,{"$f":"'17_ППР'!BA57","v":0},null,{"$f":"(IF(FIRST_PERIOD_IN_LT=god,'17_ППР'!BB57,N54*P30))","v":0},{"$f":"P54","v":0},{"$f":"Q54*'9 Тариф'!$Q$41","v":0},0,{"$f":"Q54*'9 Тариф'!$P$35","v":0},{"$f":"R54*'9 Тариф'!$P$35","v":0},0,0,null,0,null,0,null,0]
[null,null,null,null,null,"1.3.9.1","Расходы на услуги банка","тыс.руб.",{"$f":"'17_ППР'!AQ58","v":0},{"$f":"'17_ППР'!AS58","v":0},0,{"$f":"'17_ППР'!AR58","v":0},0,{"$f":"'17_ППР'!BA58","v":0},null,{"$f":"(IF(FIRST_PERIOD_IN_LT=god,'17_ППР'!BB58,N55*P30))","v":0},{"$f":"P55","v":0},{"$f":"Q55*'9 Тариф'!$Q$41","v":0},0,{"$f":"Q55*'9 Тариф'!$P$35","v":0},{"$f":"R55*'9 Тариф'!$P$35","v":0},0,0,null,0,null,0,null,0]
[null,null,null,null,null,"1.3.9.2","Иные прочие расходы","тыс.руб.",{"$f":"'17_ППР'!AQ61","v":0},{"$f":"'17_ППР'!AS61","v":0},0,{"$f":"'17_ППР'!AR61","v":0},0,{"$f":"'17_ППР'!BA61","v":0},null,{"$f":"(IF(FIRST_PERIOD_IN_LT=god,'17_ППР'!BB61,N56*P30))","v":0},{"$f":"P56","v":0},{"$f":"Q56*'9 Тариф'!$Q$41","v":0},0,{"$f":"Q56*'9 Тариф'!$P$35","v":0},{"$f":"R56*'9 Тариф'!$P$35","v":0},0,0,null,0,null,0,null,0]
[null,null,null,null,null,"1.3.10","Расходы из прибыли Всего, в том числе:","тыс.руб.",{"$f":"I58+I59+I60","v":0},{"$f":"J58+J59+J60","v":0},0,{"$f":"L58+L59+L60","v":0},0,{"$f":"N58+N59+N60","v":0},null,{"$f":"P58+P59+P60","v":0},0,0,0,0,0,0,0,null,{"$f":"W57*Y$30","v":0},null,{"$f":"Y57*AA$30","v":0},null,{"$f":"AA57*AC$30","v":0}]
[null,null,null,null,null,"1.3.10.1","Льготы, компенсации и проч.выплаты по колдоговору,прибыль на соц.развитие","тыс.руб.",{"$f":"'36_Прибыль'!H33+'36_Прибыль'!H34","v":0},{"$f":"'36_Прибыль'!I33+'36_Прибыль'!I34","v":0},0,{"$f":"'36_Прибыль'!J33+'36_Прибыль'!J34","v":0},0,{"$f":"'36_Прибыль'!K33+'36_Прибыль'!K34","v":0},null,{"$f":"(IF(FIRST_PERIOD_IN_LT=god,'36_Прибыль'!L33+'36_Прибыль'!L34,N58*P30))","v":0},{"$f":"P58","v":0},{"$f":"Q58*'9 Тариф'!$Q$41","v":0},0,{"$f":"Q58*'9 Тариф'!$P$35","v":0},{"$f":"R58*'9 Тариф'!$P$35","v":0},0,0,null,{"$f":"W58*Y$30","v":0},null,{"$f":"Y58*AA$30","v":0},null,{"$f":"AA58*AC$30","v":0}]
[null,null,null,null,null,"1.3.10.2","Дивиденды по акциям","тыс.руб.",{"$f":"'36_Прибыль'!H35","v":0},{"$f":"'36_Прибыль'!I35","v":0},{"$f":"J59-I59","v":0},{"$f":"'36_Прибыль'!J35","v":0},{"$f":"L59-I59","v":0},{"$f":"'36_Прибыль'!K35","v":0},null,{"$f":"(IF(FIRST_PERIOD_IN_LT=god,'36_Прибыль'!L35,N59*P$30))","v":0},{"$f":"P59","v":0},{"$f":"Q59*'9 Тариф'!$Q$41","v":0},{"$f":"Q59-R59","v":0},{"$f":"Q59*'9 Тариф'!$P$35","v":0},{"$f":"R59*'9 Тариф'!$P$35","v":0},{"$f":"T59-U59","v":0},{"$f":"P59*W$30","v":0},null,{"$f":"W59*Y$30","v":0},null,{"$f":"Y59*AA$30","v":0},null,{"$f":"AA59*AC$30","v":0}]
[null,null,null,null,null,"1.3.10.3","Прибыль на прочие цели","тыс.руб.",{"$f":"'36_Прибыль'!H36","v":0},{"$f":"'36_Прибыль'!I36","v":0},{"$f":"J60-I60","v":0},{"$f":"'36_Прибыль'!J36","v":0},{"$f":"L60-I60","v":0},{"$f":"'36_Прибыль'!K36","v":0},null,{"$f":"(IF(FIRST_PERIOD_IN_LT=god,'36_Прибыль'!L36,N60*P$30))","v":0},{"$f":"P60","v":0},{"$f":"Q60*'9 Тариф'!$Q$41","v":0},{"$f":"Q60-R60","v":0},{"$f":"Q60*'9 Тариф'!$P$35","v":0},{"$f":"R60*'9 Тариф'!$P$35","v":0},{"$f":"T60-U60","v":0},{"$f":"P60*W$30","v":0},null,{"$f":"W60*Y$30","v":0},null,{"$f":"Y60*AA$30","v":0},null,{"$f":"AA60*AC$30","v":0}]
[null,null,null,null,null,"1.4","«Итого подконтрольные расходы с учетом метода экономически обоснованных расходов» ","тыс.руб.",null,{"$f":"J35+J38+J39","v":0},null,null,0,null,null,{"$f":"P35+P38+P39","v":0},0,0,0,0,0,0]
[{"$f":"IFERROR(IF(AND(god-FIRST_PERIOD_IN_LT=0,REGULATION_METHODS=\"Сравнение аналогов\"),\"VISIBLE\",\"HIDDEN\"),\"HIDDEN\")","v":"HIDDEN"},null,null,null,null,"1.5","«Итого подконтрольные расходы с учетом метода сравнения аналогов» ","тыс.руб.",{"$f":"IF(I20=FIRST_PERIOD_IN_LT,'баз. ур. подк. расх. '!$H$61,\"\")","v":""},{"$f":"IF(J20=FIRST_PERIOD_IN_LT,'баз. ур. подк. расх. '!$H$61,\"\")","v":""},{"$f":"IF(K20=FIRST_PERIOD_IN_LT,'баз. ур. подк. расх. '!$H$61,\"\")","v":""},{"$f":"IF(L20=FIRST_PERIOD_IN_LT,'баз. ур. подк. расх. '!$H$61,\"\")","v":""},null,{"$f":"IF(N20=FIRST_PERIOD_IN_LT,'баз. ур. подк. расх. '!$H$61,\"\")","v":""},{"$f":"IF(O20=FIRST_PERIOD_IN_LT,'баз. ур. подк. расх. '!$H$61,\"\")","v":""},{"$f":"IF(P20=FIRST_PERIOD_IN_LT,'баз. ур. подк. расх. '!$H$61,\"\")","v":0},{"$f":"IF(Q20=FIRST_PERIOD_IN_LT,'баз. ур. подк. расх. '!$H$61,\"\")","v":0},{"$f":"IFERROR(Q62*'9 Тариф'!$Q$41,0)","v":0},{"$f":"IFERROR(Q62-R62,0)","v":0},{"$f":"IFERROR(Q62*'9 Тариф'!$P$35,0)","v":0},{"$f":"R62*'9 Тариф'!$P$35","v":0},{"$f":"T62-U62","v":0},{"$f":"IF(W20=FIRST_PERIOD_IN_LT,'баз. ур. подк. расх. '!$H$61,\"\")","v":""},{"$f":"IF(X20=FIRST_PERIOD_IN_LT,'баз. ур. подк. расх. '!$H$61,\"\")","v":""},{"$f":"IF(Y20=FIRST_PERIOD_IN_LT,'баз. ур. подк. расх. '!$H$61,\"\")","v":""},{"$f":"IF(Z20=FIRST_PERIOD_IN_LT,'баз. ур. подк. расх. '!$H$61,\"\")","v":""},null,{"$f":"IF(AB20=FIRST_PERIOD_IN_LT,'баз. ур. подк. расх. '!$H$61,\"\")","v":""},null,{"$f":"IF(AD20=FIRST_PERIOD_IN_LT,'баз. ур. подк. расх. '!$H$61,\"\")","v":""}]
[{"$f":"IFERROR(IF(AND(god-FIRST_PERIOD_IN_LT=0,REGULATION_METHODS=\"Сравнение аналогов\"),\"VISIBLE\",\"HIDDEN\"),\"HIDDEN\")","v":"HIDDEN"},null,null,null,null,"1.6","«Итого подконтрольные расходы 0,7*МЭОР+0,3*МСА» ","тыс.руб.",null,null,null,null,null,null,null,{"$f":"IFERROR(P62*0.3+P61*0.7,0)","v":0},{"$f":"IFERROR(Q62*0.3+Q61*0.7,0)","v":0},{"$f":"IFERROR(Q63*'9 Тариф'!$Q$41,0)","v":0},{"$f":"IFERROR(Q63-R63,0)","v":0},{"$f":"IFERROR(Q63*'9 Тариф'!$P$35,0)","v":0},{"$f":"IFERROR(R63*'9 Тариф'!$P$35,0)","v":0},{"$f":"IFERROR(T63-U63,0)","v":0},{"$f":"IFERROR(W62*0.3+W61*0.7,0)","v":0},0,0,0,0,0,0,0]
[null,null,null,null,null,"1.7","Итого подконтрольные расходы, принятые к расчету тарифа","тыс.руб.",{"$f":"I35+I38+I39","v":0},{"$f":"J35+J38+J39","v":0},{"$f":"J64-I64","v":0},{"$f":"L35+L38+L39","v":0},{"$f":"L64-I64","v":0},{"$f":"N35+N38+N39","v":0},{"$f":"N64","v":0},{"$f":"IF(REGULATION_METHODS = \"Сравнение аналогов\", '8_Расчет НВВ '!P63, (IF(FIRST_PERIOD_IN_LT = god, P61, N64*P30)))","v":0},{"$f":"IF(Титульный!F18=\"Аналоги\",'8_Расчет НВВ '!Q62,(IF(FIRST_PERIOD_IN_LT=god,Q61,O64*Q30)))","v":0},{"$f":"Q64*'9 Тариф'!$Q$41","v":0},{"$f":"Q64-R64","v":0},{"$f":"Q64*'9 Тариф'!$P$35","v":0},{"$f":"R64*'9 Тариф'!$P$35","v":0},{"$f":"T64-U64","v":0},{"$f":"P64*W$30","v":0},{"$f":"Q64*X$30","v":0},{"$f":"W64*Y$30","v":0},0,0,0,0,0]
[]
[null,null,null,null,null,"2. Расчет неподконтрольных расходов"]
[]
[null,null,null,null,null,"2.1","Плата ФСК ЕЭС","тыс.руб.",{"$f":"'18_ФСК'!I20","v":0},{"$f":"'18_ФСК'!J20","v":0},{"$f":"J68-I68","v":0},{"$f":"'18_ФСК'!K20","v":0},{"$f":"L68-J68","v":0},{"$f":"'18_ФСК'!M20","v":0},{"$f":"'18_ФСК'!M20","v":0},{"$f":"'18_ФСК'!N20","v":0},{"$f":"R68+S68","v":0},{"$f":"'18_ФСК'!O22+'18_ФСК'!O29","v":0},{"$f":"'18_ФСК'!O25+'18_ФСК'!O34","v":0},{"$f":"Q68*'9 Тариф'!$P$35","v":0},{"$f":"R68*'9 Тариф'!$P$35","v":0},{"$f":"T68-U68","v":0}]
[null,null,null,null,null,"2.2","Плата за аренду имущества и лизинг Всего, в том числе","тыс.руб.",{"$f":"SUM(I70,I73)","v":0},{"$f":"SUM(J70,J73)","v":0},{"$f":"J69-I69","v":0},{"$f":"SUM(L70,L73)","v":0},{"$f":"L69-J69","v":0},{"$f":"N70+N73","v":0},{"$f":"O70+O73","v":0},{"$f":"SUM(P70,P73)","v":0},0,{"$f":"SUM(R70,R73)","v":0},{"$f":"SUM(S70,S73)","v":0},{"$f":"SUM(T70,T73)","v":0},{"$f":"SUM(U70,U73)","v":0},{"$f":"T69-U69","v":0},0,0,0,0,0,0,0,0]
[null,null,null,null,null,"2.2.1","Расходы на арендную плату","тыс.руб.",{"$f":"I71+I72+I87","v":0},{"$f":"J71+J72+J87","v":0},{"$f":"K71+K72+K87","v":0},{"$f":"L71+L72+L87","v":0},{"$f":"M71+M72","v":0},{"$f":"N71+N72+N87","v":0},0,{"$f":"P71+P72+P87","v":0},{"$f":"Q71+Q72+Q87","v":0},0,0,0,0,0,0,0,0,0,0,0,0,0]
[null,null,null,null,null,"2.2.1.1","аренда электросетевого имущества","тыс.руб.",{"$f":"'19_Аренда ЭСХ факт'!Y26","v":0},{"$f":"'19_Аренда ЭСХ факт'!Z26","v":0},{"$f":"J71-I71","v":0},{"$f":"'19_Аренда ЭСХ факт'!AA26","v":0},{"$f":"L71-J71","v":0},{"$f":"'21_Аренда ЭСХ план'!AA26","v":0},{"$f":"'21_Аренда ЭСХ план'!AB28","v":0},{"$f":"'21_Аренда ЭСХ план'!AH26","v":0},{"$f":"'21_Аренда ЭСХ план'!AI28","v":0},{"$f":"Q71*'9 Тариф'!$Q$41","v":0},{"$f":"Q71-R71","v":0},{"$f":"Q71*'9 Тариф'!$P$35","v":0},{"$f":"R71*'9 Тариф'!$P$35","v":0},{"$f":"T71-U71","v":0}]
[null,null,null,null,null,"2.2.1.2","аренда прочего имущества","тыс.руб.",{"$f":"'25_Аренда прочее им. факт'!W39","v":0},{"$f":"'25_Аренда прочее им. факт'!X39","v":0},{"$f":"J72-I72","v":0},{"$f":"'25_Аренда прочее им. факт'!Y39","v":0},{"$f":"L72-J72","v":0},{"$f":"'26_Аренда прочее им. план '!W39","v":0},{"$f":"'26_Аренда прочее им. план '!W39","v":0},{"$f":"'26_Аренда прочее им. план '!X39","v":0},{"$f":"'26_Аренда прочее им. план '!Y39","v":0},{"$f":"Q72*'9 Тариф'!$Q$41","v":0},{"$f":"Q72-R72","v":0},{"$f":"Q72*'9 Тариф'!$P$35","v":0},{"$f":"R72*'9 Тариф'!$P$35","v":0},{"$f":"T72-U72","v":0}]
[null,null,null,null,null,"2.2.2","Лизинг","тыс.руб.",{"$f":"I74+I75","v":0},{"$f":"J74+J75","v":0},{"$f":"J73-I73","v":0},{"$f":"L74+L75","v":0},{"$f":"L73-J73","v":0},{"$f":"N74+N75","v":0},{"$f":"O74+O75","v":0},0,0,0,0,0,0,0,0,0,0,0,0,0,0,0]
[null,null,null,null,null,"2.2.2.1","лизинг электросетевого имущества","тыс.руб.",{"$f":"'23_Лизинг ЭСХ факт'!Z27","v":0},{"$f":"'23_Лизинг ЭСХ факт'!AB27","v":0},{"$f":"J74-I74","v":0},{"$f":"'23_Лизинг ЭСХ факт'!AA27","v":0},{"$f":"L74-J74","v":0},{"$f":"'24_Лизинг ЭСХ план'!Z26","v":0},{"$f":"'24_Лизинг ЭСХ план'!Z28","v":0},{"$f":"'24_Лизинг ЭСХ план'!AA26","v":0},{"$f":"'24_Лизинг ЭСХ план'!AB28","v":0},{"$f":"Q74*'9 Тариф'!$Q$41","v":0},{"$f":"Q74-R74","v":0},{"$f":"Q74*'9 Тариф'!$P$35","v":0},{"$f":"R74*'9 Тариф'!$P$35","v":0},0]
[null,null,null,null,null,"2.2.2.2","лизинг прочего имущества","тыс.руб.",{"$f":"'27_Лизинг прочее им. факт'!U39","v":0},{"$f":"'27_Лизинг прочее им. факт'!W39","v":0},{"$f":"J75-I75","v":0},{"$f":"'27_Лизинг прочее им. факт'!V39","v":0},{"$f":"L75-J75","v":0},{"$f":"'28_Лизинг прочее им. план'!U39","v":0},{"$f":"'26_Аренда прочее им. план '!W39","v":0},{"$f":"'28_Лизинг прочее им. план'!V39","v":0},{"$f":"'28_Лизинг прочее им. план'!W39","v":0},{"$f":"Q75*'9 Тариф'!$Q$41","v":0},{"$f":"Q75-R75","v":0},{"$f":"Q75*'9 Тариф'!$P$35","v":0},{"$f":"R75*'9 Тариф'!$P$35","v":0},0]
[null,null,null,null,null,"2.3","Налоги и сборы Всего, в том числе","тыс.руб.",{"$f":"I77+I78+I79+I80","v":0},0,0,0,0,0,{"$f":"O77+O78+O79+O80","v":0},0,0,0,0,0,0,0,0,0,{"$f":"Y77+Y78+Y79+Y80","v":0},0,0,0,0,0]
[null,null,null,null,null,"2.3.1","Налог на имущество","тыс.руб.",{"$f":"'32_Расчет амортизации факт'!AG28","v":0},{"$f":"'32_Расчет амортизации факт'!AN28","v":0},{"$f":"J77-I77","v":0},{"$f":"'32_Расчет амортизации факт макс'!AI28","v":0},{"$f":"L77-J77","v":0},{"$f":"'32_Расчет амортизации факт макс'!AP28","v":0},{"$f":"'32_Расчет амортизации факт макс'!AO28","v":0},{"$f":"'33_Расчет Амортизации план'!AF23","v":0},{"$f":"'33_Расчет Амортизации план'!AK24","v":0},{"$f":"Q77*'9 Тариф'!$Q$41","v":0},{"$f":"Q77-R77","v":0},{"$f":"Q77*'9 Тариф'!$P$35","v":0},{"$f":"R77*'9 Тариф'!$P$35","v":0},0]
[null,null,null,null,null,"2.3.2","Плата за землю","тыс.руб.",{"$f":"'36_Прибыль'!H48","v":0},{"$f":"'36_Прибыль'!I48","v":0},0,{"$f":"'36_Прибыль'!J48","v":0},0,{"$f":"'36_Прибыль'!K48","v":0},{"$f":"'36_Прибыль'!K49","v":0},{"$f":"'36_Прибыль'!L48","v":0},{"$f":"'36_Прибыль'!M49","v":0},{"$f":"Q78*'9 Тариф'!$Q$41","v":0},0,{"$f":"Q78*'9 Тариф'!$P$35","v":0},{"$f":"R78*'9 Тариф'!$P$35","v":0},0]
[null,null,null,null,null,"2.3.3","Транспортный налог","тыс.руб.",{"$f":"'36_Прибыль'!H49","v":0},{"$f":"'36_Прибыль'!I49","v":0},0,{"$f":"'36_Прибыль'!J49","v":0},0,{"$f":"'36_Прибыль'!K49","v":0},{"$f":"'36_Прибыль'!K50","v":0},{"$f":"'36_Прибыль'!L49","v":0},{"$f":"'36_Прибыль'!M50","v":0},{"$f":"Q79*'9 Тариф'!$Q$41","v":0},0,{"$f":"Q79*'9 Тариф'!$P$35","v":0},{"$f":"R79*'9 Тариф'!$P$35","v":0},0]
[null,null,null,null,null,"2.3.4","Прочие налоги","тыс.руб.",{"$f":"'36_Прибыль'!H50","v":0},{"$f":"'36_Прибыль'!I50","v":0},0,{"$f":"'36_Прибыль'!J50","v":0},0,{"$f":"'36_Прибыль'!K50","v":0},{"$f":"'36_Прибыль'!K51","v":0},{"$f":"'36_Прибыль'!L50","v":0},{"$f":"'36_Прибыль'!M51","v":0},{"$f":"Q80*'9 Тариф'!$Q$41","v":0},0,{"$f":"Q80*'9 Тариф'!$P$35","v":0},{"$f":"R80*'9 Тариф'!$P$35","v":0},0]
[null,null,null,null,null,"2.4","Отчисления на социальные нужды","тыс.руб.",null,null,0,null,0,null,null,null,null,{"$f":"Q81*'9 Тариф'!$Q$41","v":0},0,{"$f":"Q81*'9 Тариф'!$P$35","v":0},{"$f":"R81*'9 Тариф'!$P$35","v":0},0]
[null,null,null,null,null,"2.5","Финансирование капитальных вложений из прибыли ","тыс.руб.",{"$f":"'36_Прибыль'!H28","v":0},{"$f":"'36_Прибыль'!I28","v":0},0,{"$f":"'36_Прибыль'!J28","v":0},0,{"$f":"'36_Прибыль'!K28","v":0},{"$f":"'36_Прибыль'!K28","v":0},{"$f":"'36_Прибыль'!L28","v":0},{"$f":"'36_Прибыль'!M28","v":0},{"$f":"Q82*'9 Тариф'!$Q$41","v":0},0,{"$f":"Q82*'9 Тариф'!$P$35","v":0},{"$f":"R82*'9 Тариф'!$P$35","v":0},0]
[null,null,null,null,null,"2.6","Налог на прибыль","тыс.руб.",{"$f":"'36_Прибыль'!H42","v":0},{"$f":"'36_Прибыль'!I42","v":0},0,{"$f":"'36_Прибыль'!J42","v":0},0,{"$f":"'36_Прибыль'!K42","v":0},{"$f":"'36_Прибыль'!K47","v":0},{"$f":"'36_Прибыль'!L42","v":0},{"$f":"'36_Прибыль'!M47","v":0},{"$f":"Q83*'9 Тариф'!$Q$41","v":0},0,{"$f":"Q83*'9 Тариф'!$P$35","v":0},{"$f":"R83*'9 Тариф'!$P$35","v":0},0]
[null,null,null,null,null,"2.6.1","в том числе налог на прибыль на кап.вложения","тыс.руб.",null,null,0,null,0,null,null,null,null,{"$f":"Q84*'9 Тариф'!$Q$41","v":0},0,{"$f":"Q84*'9 Тариф'!$P$35","v":0},{"$f":"R84*'9 Тариф'!$P$35","v":0},0]
[null,null,null,null,null,"2.7","Прочие неподконтрольные расходы","тыс.руб.",{"$f":"'31_Прочие НПР '!L16","v":0},{"$f":"'31_Прочие НПР '!M16","v":0},0,{"$f":"'31_Прочие НПР '!N16","v":0},0,{"$f":"'31_Прочие НПР '!V16","v":0},{"$f":"'31_Прочие НПР '!V16","v":0},{"$f":"'31_Прочие НПР '!W16","v":0},{"$f":"'31_Прочие НПР '!X16","v":0},{"$f":"Q85*'9 Тариф'!$Q$41","v":0},0,{"$f":"Q85*'9 Тариф'!$P$35","v":0},{"$f":"R85*'9 Тариф'!$P$35","v":0},0]
[null,null,null,null,null,"2.7.1","в том числе расходы на обслуживание заемных средств, направляемых на финансирование капитальных вложений","тыс.руб.",{"$f":"'31_Прочие НПР '!L18","v":0},{"$f":"'31_Прочие НПР '!M18","v":0},0,{"$f":"'31_Прочие НПР '!N18","v":0},0,{"$f":"'31_Прочие НПР '!V18","v":0},{"$f":"'31_Прочие НПР '!V18","v":0},{"$f":"'31_Прочие НПР '!W18","v":0},null,{"$f":"Q86*'9 Тариф'!$Q$41","v":0},0,{"$f":"Q86*'9 Тариф'!$P$35","v":0},{"$f":"R86*'9 Тариф'!$P$35","v":0},0]
[null,null,null,null,null,"2.2.1.3","Аренда земли","тыс.руб.",null,{"$f":"'29_Аренда земли факт'!AA27","v":0},{"$f":"J87-I87","v":0},null,{"$f":"L87-J87","v":0},null,null,{"$f":"'30_Аренда земли план'!AF27","v":0},null,{"$f":"Q87*'9 Тариф'!$Q$41","v":0},{"$f":"Q87-R87","v":0},{"$f":"Q87*'9 Тариф'!$P$35","v":0},{"$f":"R87*'9 Тариф'!$P$35","v":0},{"$f":"T87-U87","v":0}]
[null,null,null,null,null,null,"Добавить НПР",null,null,null,null,null,null,null,null,null,null,null,{"$f":"Q88-R88","v":0}]
[null,null,null,null,null,"2.8","Компенсация выпадающих доходов по технологическому присоединению (пункт 87 Основ ценообразования)","тыс.руб.",null,null,{"$f":"J89-I89","v":0},null,{"$f":"L89-J89","v":0},null,null,null,null,{"$f":"Q89*'9 Тариф'!$Q$41","v":0},0,{"$f":"Q89*'9 Тариф'!$P$35","v":0},{"$f":"R89*'9 Тариф'!$P$35","v":0},{"$f":"T89-U89","v":0}]
[null,null,null,null,null,"2.9","Амортизация","тыс.руб.",{"$f":"'34_Амортизация свод '!H25","v":0},{"$f":"'34_Амортизация свод '!I25","v":0},{"$f":"J90-I90","v":0},{"$f":"'34_Амортизация свод '!J25","v":0},{"$f":"L90-J90","v":0},{"$f":"'34_Амортизация свод '!K25","v":0},{"$f":"N90","v":0},{"$f":"'34_Амортизация свод '!L25","v":0},{"$f":"'34_Амортизация свод '!M25","v":0},{"$f":"Q90*'9 Тариф'!$Q$41","v":0},0,{"$f":"Q90*'9 Тариф'!$P$35","v":0},{"$f":"R90*'9 Тариф'!$P$35","v":0},{"$f":"T90-U90","v":0}]
[null,null,null,null,null,"2.10","Коммунальные услуги","тыс.руб.",null,null,{"$f":"J91-I91","v":0},null,{"$f":"L91-I91","v":0},null,{"$f":"N91","v":0},null,null,{"$f":"Q91*'9 Тариф'!$Q$41","v":0},0,{"$f":"Q91*'9 Тариф'!$P$35","v":0},{"$f":"R91*'9 Тариф'!$P$35","v":0},{"$f":"T91-U91","v":0}]
[null,null,null,null,null,"2.11","Электроэнергия на хоз. нужды","тыс.руб.",null,null,{"$f":"J92-I92","v":0},null,{"$f":"L92-I92","v":0},null,{"$f":"N92","v":0},null,null,{"$f":"Q92*'9 Тариф'!$Q$41","v":0},0,{"$f":"Q92*'9 Тариф'!$P$35","v":0},{"$f":"R92*'9 Тариф'!$P$35","v":0},{"$f":"T92-U92","v":0}]
[null,null,null,null,null,"3","Итого неподконтрольные расходы","тыс.руб.",{"$f":"I68+I69+I76+I81+I82+I83+I85+I89+I90+I91+I92","v":0},0,0,0,0,0,0,0,{"$f":"Q68+Q69+Q76+Q81+Q82+Q83+Q85+Q89+Q90+Q91+Q92","v":0},0,0,0,0,0,0,0,0,0,0,0,0,0]
[null,null,null,null,null,"4","Итого НВВ на содержание без учета корректировок","тыс.руб.",{"$f":"I93+I64","v":0},0,0,0,0,0,{"$f":"O93+O64","v":0},0,0,0,0,0,0,0,0,0,{"$f":"Y93+Y64","v":0},0,0,0,0,0]
[null,null,null,null,null,"5","Сумма корректировок НВВ",null,{"$f":"SUM(I96,I103,I104:I107,I108,I109)","v":0},0,0,0,0,0,0,0,0,0,0,0,0,0,0,0,0,0,0,0,0,0]
[null,null,null,null,null,"5.1","Корректировки по методике 98-э",null,{"$f":"SUM(I97:I102)","v":0},{"$f":"SUM(J97:J102)","v":0},{"$f":"J96-I96","v":0},{"$f":"SUM(L97:L102)","v":0},{"$f":"L96-J96","v":0},{"$f":"SUM(N97:N102)","v":0},{"$f":"SUM(O97:O102)","v":0},0,{"$f":"SUM(Q97:Q102)","v":0},{"$f":"SUM(R97:R102)","v":0},0,{"$f":"SUM(T97:T102)","v":0},{"$f":"SUM(U97:U102)","v":0},{"$f":"T96-U96","v":0},0,0,0,0,0,0,0,0]
[null,null,null,null,null,"5.1.1","Корректировка ПР","тыс.руб.",null,null,0,null,0,null,null,{"$f":"'11_Корректировка НВВ'!K21","v":0},{"$f":"'11_Корректировка НВВ'!L20","v":0},{"$f":"Q97*'9 Тариф'!$Q$41","v":0},0,{"$f":"Q97*'9 Тариф'!$P$35","v":0},{"$f":"R97*'9 Тариф'!$P$35","v":0},{"$f":"T97-U97","v":0}]
[null,null,null,null,null,"5.1.2","Корректировка НР","тыс.руб.",null,null,0,null,0,null,null,{"$f":"'11_Корректировка НВВ'!K30","v":0},{"$f":"'11_Корректировка НВВ'!L30","v":0},{"$f":"Q98*'9 Тариф'!$Q$41","v":0},0,{"$f":"Q98*'9 Тариф'!$P$35","v":0},{"$f":"R98*'9 Тариф'!$P$35","v":0},0]
[null,null,null,null,null,"5.1.3","Корректировка по изменению полезного отпуска и цен ","тыс.руб.",null,null,0,null,0,null,null,{"$f":"'11_Корректировка НВВ'!K33","v":0},{"$f":"'11_Корректировка НВВ'!L33","v":0},{"$f":"Q99*'9 Тариф'!$Q$41","v":0},0,{"$f":"Q99*'9 Тариф'!$P$35","v":0},{"$f":"R99*'9 Тариф'!$P$35","v":0},0]
[null,null,null,null,null,"5.1.4","Корректировка необходимой валовой выручки по доходам от осуществления регулируемой деятельности","тыс.руб.",null,null,0,null,0,null,null,{"$f":"'11_Корректировка НВВ'!K39","v":0},{"$f":"'11_Корректировка НВВ'!L39","v":0},{"$f":"Q100*'9 Тариф'!$Q$41","v":0},0,{"$f":"Q100*'9 Тариф'!$P$35","v":0},{"$f":"R100*'9 Тариф'!$P$35","v":0},0]
[null,null,null,null,null,"5.1.5","Выполнение инвестиционной программы ","тыс.руб.",null,null,0,null,0,null,null,{"$f":"'11_Корректировка НВВ'!K43","v":0},{"$f":"'11_Корректировка НВВ'!L43","v":0},{"$f":"Q101*'9 Тариф'!$Q$41","v":0},0,{"$f":"Q101*'9 Тариф'!$P$35","v":0},{"$f":"R101*'9 Тариф'!$P$35","v":0},0]
[null,null,null,null,null,"5.1.6","Корректировка  НВВ по исполнению показателей надежности и качества","тыс.руб.",null,null,0,null,0,null,null,{"$f":"'11_Корректировка НВВ'!K49","v":0},{"$f":"'11_Корректировка НВВ'!L49","v":0},{"$f":"Q102*'9 Тариф'!$Q$41","v":0},0,{"$f":"Q102*'9 Тариф'!$P$35","v":0},{"$f":"R102*'9 Тариф'!$P$35","v":0},0]
[null,null,null,null,null,"5.2","Корректировка НВВ по решению суда или ФАС","тыс.руб.",null,null,0,null,0,null,null,null,null,{"$f":"Q103*'9 Тариф'!$Q$41","v":0},0,{"$f":"Q103*'9 Тариф'!$P$35","v":0},{"$f":"R103*'9 Тариф'!$P$35","v":0},0]
[null,null,null,null,null,"5.3","Корректировка НВВ в соответствии с актом проверки","тыс.руб.",null,null,0,null,0,null,null,null,null,{"$f":"Q104*'9 Тариф'!$Q$41","v":0},0,{"$f":"Q104*'9 Тариф'!$P$35","v":0},{"$f":"R104*'9 Тариф'!$P$35","v":0},0]
[null,null,null,null,null,"5.4","Недополученная/излишне полученная товарная выручка","тыс.руб.",null,null,0,null,0,null,null,null,null,{"$f":"Q105*'9 Тариф'!$Q$41","v":0},0,{"$f":"Q105*'9 Тариф'!$P$35","v":0},{"$f":"R105*'9 Тариф'!$P$35","v":0},0]
[null,null,null,null,null,"5.4.0"]
[null,null,null,null,null,null,"Добавить корректировку"]
[null,null,null,null,null,"5.5","Экономически не обоснованные доходы, взысканные с лиц, осуществляющих бездоговорное потребление энергии",null,null,null,{"$f":"J108-I108","v":0},null,{"$f":"L108-J108","v":0},null,{"$f":"N108","v":0},null,{"$f":"P108","v":0},{"$f":"Q108*'9 Тариф'!$Q$41","v":0},{"$f":"Q108-R108","v":0},{"$f":"Q108*'9 Тариф'!$P$35","v":0},{"$f":"R108*'9 Тариф'!$P$35","v":0},{"$f":"T108-U108","v":0}]
[null,null,null,null,null,"5.6","Выпадающие доходы / излишне полученные по результатам осуществления деятельности (заполняется в случае, если НВВ в предыдущем периоде была установлена методом экономически обоснованных затрат)",null,null,null,0,null,0,null,null,null,null,{"$f":"Q109*'9 Тариф'!$Q$41","v":0},{"$f":"Q109-R109","v":0},{"$f":"Q109*'9 Тариф'!$P$35","v":0},{"$f":"R109*'9 Тариф'!$P$35","v":0},{"$f":"T109-U109","v":0}]
[null,null,null,null,null,"6","Распределение в целях сглаживания экономически необоснованных/обоснованных доходов и расходов","тыс.руб.",null,null,0,null,0,null,null,null,null,{"$f":"Q110*'9 Тариф'!$Q$41","v":0},{"$f":"Q110-R110","v":0},{"$f":"Q110*'9 Тариф'!$P$35","v":0},{"$f":"R110*'9 Тариф'!$P$35","v":0},{"$f":"T110-U110","v":0}]
[null,null,null,null,null,"7","Итого НВВ на содержание","тыс.руб.",{"$f":"I93+I95+I64","v":0},{"$f":"J93+J95+J64","v":0},0,0,0,0,0,0,0,0,0,0,0,0,0,0,0,0,0,0,0,0]
[null,null,null,null,null,"8","Расходы на потери","тыс.руб.",{"$f":"'9 Тариф'!H45","v":0},{"$f":"'9 Тариф'!I45","v":0},0,null,0,{"$f":"'9 Тариф'!J45","v":0},{"$f":"'9 Тариф'!K45","v":0},{"$f":"'9 Тариф'!N45","v":0},{"$f":"'9 Тариф'!P45","v":0}]
[null,null,null,null,null,"9","Итого НВВ на передачу","тыс.руб.",{"$f":"I112+I111","v":0},{"$f":"J112+J111","v":0},0,{"$f":"L112+L111","v":0},0,{"$f":"N112+N111","v":0},0,0,0,0,0,0,0,0]

{"sheet":"9 Тариф","index":27,"n_rows":52,"n_cols":27,"rows_kept":52,"cut":false,"hidden":true,"merged":[[7,4,7,5],[13,19,15,19],[13,20,15,20],[13,21,15,21],[13,22,15,22],[8,5,8,8],[13,5,15,5],[13,6,15,6],[13,7,15,7],[13,8,15,8],[13,15,13,17],[13,23,15,23],[13,24,15,24],[13,25,15,25],[13,26,15,26],[13,4,15,4],[13,18,15,18],[14,10,15,10],[14,11,15,11],[14,12,15,12],[13,14,15,14],[14,15,15,15],[14,16,15,16],[14,17,15,17],[13,9,15,9],[13,10,13,12],[13,13,15,13]]}
[null,null,null,null,null,null,null,null,null,null,{"$f":"IFERROR(IF(REPORT_OWNER=\"Версия организации\",\"HIDDEN\",\"VISIBLE\"),0)","v":"HIDDEN"},{"$f":"IFERROR(IF(REPORT_OWNER=\"Версия организации\",\"HIDDEN\",\"VISIBLE\"),0)","v":"HIDDEN"},{"$f":"IFERROR(IF(REPORT_OWNER=\"Версия организации\",\"HIDDEN\",\"VISIBLE\"),0)","v":"HIDDEN"},null,null,{"$f":"IFERROR(IF(REPORT_OWNER=\"Версия организации\",\"HIDDEN\",\"VISIBLE\"),0)","v":"HIDDEN"},{"$f":"IFERROR(IF(REPORT_OWNER=\"Версия организации\",\"HIDDEN\",\"VISIBLE\"),0)","v":"HIDDEN"},{"$f":"IFERROR(IF(REPORT_OWNER=\"Версия организации\",\"HIDDEN\",\"VISIBLE\"),0)","v":"HIDDEN"},{"$f":"IFERROR(IF(REPORT_OWNER=\"Версия организации\",\"HIDDEN\",\"VISIBLE\"),0)","v":"HIDDEN"},{"$f":"IFERROR(IF(god+1>FIRST_PERIOD_IN_LT+PERIOD_LENGTH-1,\"HIDDEN\",\"VISIBLE\"),\"HIDDEN\")","v":"HIDDEN"},{"$f":"IFERROR(IF(AND(REPORT_OWNER=\"Версия регулятора\",T1 = \"VISIBLE\"),\"VISIBLE\",\"HIDDEN\"),\"HIDDEN\")","v":"HIDDEN"},{"$f":"IFERROR(IF(god+2>FIRST_PERIOD_IN_LT+PERIOD_LENGTH-1,\"HIDDEN\",\"VISIBLE\"),\"HIDDEN\")","v":"HIDDEN"},{"$f":"IFERROR(IF(AND(REPORT_OWNER=\"Версия регулятора\",V1 = \"VISIBLE\"),\"VISIBLE\",\"HIDDEN\"),\"HIDDEN\")","v":"HIDDEN"},{"$f":"IFERROR(IF(god+3>FIRST_PERIOD_IN_LT+PERIOD_LENGTH-1,\"HIDDEN\",\"VISIBLE\"),\"HIDDEN\")","v":"HIDDEN"},{"$f":"IFERROR(IF(AND(REPORT_OWNER=\"Версия регулятора\",X1 = \"VISIBLE\"),\"VISIBLE\",\"HIDDEN\"),\"HIDDEN\")","v":"HIDDEN"},{"$f":"IFERROR(IF(god+4>FIRST_PERIOD_IN_LT+PERIOD_LENGTH-1,\"HIDDEN\",\"VISIBLE\"),\"HIDDEN\")","v":"HIDDEN"},{"$f":"IFERROR(IF(AND(REPORT_OWNER=\"Версия регулятора\",Z1 = \"VISIBLE\"),\"VISIBLE\",\"HIDDEN\"),\"HIDDEN\")","v":"HIDDEN"}]
[]
[]
[]
[]
[]
[]
[null,null,null,null,"Список листов"]
[null,null,null,null,null,"Расчет тарифа на услуги по передаче электрической энергии"]
[]
[]
[]
[]
[null,null,null,null,"№ п/п","Показатели","Единица измерения",{"$f":"\"Утверждено (заполняется) ТСО на \"&Титульный!E23-2&\" год\"","v":"Утверждено (заполняется) ТСО на -2 год"},{"$f":"\"Факт \"&Титульный!E23-2&\" года\"","v":"Факт -2 года"},{"$f":"\"Утверждено версия ТСО на \"&Титульный!E23-1&\" год\"","v":"Утверждено версия ТСО на -1 год"},{"$f":"\"Утверждено версия регулятора на \"&Титульный!E23-1&\" год\"","v":"Утверждено версия регулятора на -1 год"},null,null,{"$f":"\"Предложение ТСО на \"&Титульный!E23&\" год\"","v":"Предложение ТСО на  год"},{"$f":"\"%\"&Титульный!E23&\"/\"&Титульный!E23-1","v":"%/-1"},{"$f":"\"План версия регулятора на \"&Титульный!E23&\" год\"","v":"План версия регулятора на  год"},null,null,{"$f":"\"%\"&Титульный!E23&\" план ВР /\"&Титульный!E23-1&\" утверждено\"","v":"% план ВР /-1 утверждено"},{"$f":"\"Предложение ТСО на \"&Титульный!E23  + 1&\" год\"","v":"Предложение ТСО на 1 год"},{"$f":"\"План версия регулятора на \"&Титульный!E23+1&\" год\"","v":"План версия регулятора на 1 год"},{"$f":"\"Предложение ТСО на \"&Титульный!E23+ 2&\" год\"","v":"Предложение ТСО на 2 год"},{"$f":"\"План версия регулятора на \"&Титульный!E23+2&\" год\"","v":"План версия регулятора на 2 год"},{"$f":"\"Предложение ТСО на \"&Титульный!E23  + 3&\" год\"","v":"Предложение ТСО на 3 год"},{"$f":"\"План версия регулятора на \"&Титульный!E23+3&\" год\"","v":"План версия регулятора на 3 год"},{"$f":"\"Предложение ТСО на \"&Титульный!E23  + 4&\" год\"","v":"Предложение ТСО на 4 год"},{"$f":"\"План версия регулятора на \"&Титульный!E23+4&\" год\"","v":"План версия регулятора на 4 год"}]
[null,null,null,null,null,null,null,null,null,null,"год","1 полугодие","2 полугодие",null,null,"год","1 полугодие","2 полугодие"]
[]
[null,null,null,null,"1","Поступление мощности в сеть","МВт",null,null,null,null,null,null,null,{"$f":"IF(J17=0,0,N17/J17)","v":0},null,null,null,{"$f":"IF(K17=0,0,P17/K17)","v":0}]
[null,null,null,null,"2","Поступление энергии в сеть","млн.кВтч",null,null,null,null,null,{"$f":"K18-L18","v":0},null,{"$f":"IF(J18=0,0,N18/J18)","v":0},null,null,{"$f":"P18-Q18","v":0},{"$f":"IF(K18=0,0,P18/K18)","v":0}]
[null,null,null,null,"2.1","ЧЧИМ",null,{"$f":"IF(H17=0,0,H18/H17*1000)","v":0},0,0,0,0,0,0,null,{"$f":"IF(P17=0,0,P18/P17*1000)","v":0},{"$f":"IF(Q17=0,0,Q18/Q17*1000)","v":0},{"$f":"IF(R17=0,0,R18/R17*1000)","v":0},null,{"$f":"IF(T17=0,0,T18/T17*1000)","v":0},0,0,0,0,0,0,0]
[null,null,null,null,"3","Потери энергии, всего","млн.кВтч",null,null,null,null,null,{"$f":"K20-L20","v":0},null,{"$f":"IF(J20=0,0,N20/J20)","v":0},{"$f":"ROUND(P18*P23/100,3)","v":0},{"$f":"ROUND(Q23*Q18/100,3)","v":0},{"$f":"P20-Q20","v":0},{"$f":"IF(K20=0,0,P20/K20)","v":0},{"$f":"ROUND(T18*T23/100,3)","v":0},0,0,0,0,0,0,0]
[null,null,null,null,"3.1","Процент потерь","%",{"$f":"IF(H18*100=0,0,H20/H18*100)","v":0},0,0,0,0,0,0,null,{"$f":"IF(P18*100=0,0,P20/P18*100)","v":0},{"$f":"IF(Q18*100=0,0,Q20/Q18*100)","v":0},{"$f":"IF(R18*100=0,0,R20/R18*100)","v":0},null,{"$f":"IF(T18*100=0,0,T20/T18*100)","v":0},0,0,0,0,0,0,0]
[null,null,null,null,"4","Потери  мощности","МВт",null,null,null,null,null,null,null,{"$f":"IF(J22=0,0,N22/J22)","v":0},null,null,null,{"$f":"IF(K22=0,0,P22/K22)","v":0}]
[null,null,null,null,"4.1","Процент потерь","%",{"$f":"IF(H17*100=0,0,H22/H17*100)","v":0},0,0,0,0,0,0,null,{"$f":"IF(P17*100=0,0,P22/P17*100)","v":0},{"$f":"IF(Q17*100=0,0,Q22/Q17*100)","v":0},{"$f":"IF(R17*100=0,0,R22/R17*100)","v":0},null,{"$f":"IF(T17*100=0,0,T22/T17*100)","v":0},0,0,0,0,0,0,0]
[null,null,null,null,"5","Потери энергии на транзит","млн.кВтч",null,null,{"$f":"J20","v":0},{"$f":"K20","v":0},{"$f":"L20","v":0},{"$f":"M20","v":0},null,{"$f":"IF(J24=0,0,N24/J24)","v":0},null,null,{"$f":"R20","v":0},{"$f":"IF(K24=0,0,P24/K24)","v":0}]
[null,null,null,null,"6","Потери мощности на транзит","МВт",null,null,{"$f":"J22","v":0},null,null,null,null,{"$f":"IF(J25=0,0,N25/J25)","v":0},null,null,null,{"$f":"IF(K25=0,0,P25/K25)","v":0}]
[null,null,null,null,"6.1","ЧЧИМ",null,{"$f":"IF(H25=0,0,H24/H25*1000)","v":0},0,0,0,0,0,0,null,{"$f":"IF(P25=0,0,P24/P25*1000)","v":0},{"$f":"IF(Q25=0,0,Q24/Q25*1000)","v":0},{"$f":"IF(R25=0,0,R24/R25*1000)","v":0},null,{"$f":"IF(T25=0,0,T24/T25*1000)","v":0},{"$f":"IF(U25=0,0,U24/U25*1000)","v":0},{"$f":"IF(V25=0,0,V24/V25*1000)","v":0},0,0,0,0,0]
[null,null,null,null,"7","Полезный отпуск энергии, в т.ч:","млн.кВтч",{"$f":"H18-H20","v":0},{"$f":"I18-I20","v":0},{"$f":"J18-J20","v":0},{"$f":"K18-K20","v":0},{"$f":"L18-L20","v":0},{"$f":"K27-L27","v":0},{"$f":"N18-N20","v":0},{"$f":"IF(J27=0,0,N27/J27)","v":0},{"$f":"P18-P20","v":0},{"$f":"Q18-Q20","v":0},{"$f":"P27-Q27","v":0},{"$f":"IF(K27=0,0,P27/K27)","v":0},{"$f":"T18-T20","v":0},0,0,0,0,0,0,0]
[null,null,null,null,"7.1","собственное потребление энергии","млн.кВтч",null,null,null,null,null,null,null,0,null,null,null,0]
[null,null,null,null,"7.2","Собственное потребление мощности","МВт",null,null,null,null,null,null,null,0,null,null,null,0]
[null,null,null,null,"7.3","сальдо переток в другие организации","млн.кВтч",null,null,null,null,{"$f":"K30/2","v":0},{"$f":"K30/2","v":0},null,0,null,null,null,{"$f":"IF(K30=0,0,P30/K30)","v":0}]
[null,null,null,null,"7.4","сальдо переток в другие организации","МВт",null,null,null,null,null,null,null,0,null,null,null,{"$f":"IF(K31=0,0,P31/K31)","v":0}]
[null,null,null,null,"7.5",{"$f":"\"Оплачиваемый \"&ORG_DOP&\" сальдопереток мощности\"","v":"Оплачиваемый  сальдопереток мощности"},"МВт",{"$f":"H17-H29-H22","v":0},{"$f":"I17-I29-I22","v":0},0,null,null,null,0,0,null,null,null,0,{"$f":"T17-T29-T22","v":0},0,0,0,0,0,0,0]
[null,null,null,null,"7.6",{"$f":"\"Оплачиваемый \"&ORG_DOP&\" сальдопереток энергии\"","v":"Оплачиваемый  сальдопереток энергии"},"млн.кВтч",{"$f":"H27-H28","v":0},{"$f":"I27-I28","v":0},{"$f":"J27-J28","v":0},{"$f":"K27-K28","v":0},{"$f":"L27-L28","v":0},{"$f":"M27-M28","v":0},{"$f":"N27-N28","v":0},0,{"$f":"P27-P28","v":0},{"$f":"Q27-Q28","v":0},{"$f":"R27-R28","v":0},0,{"$f":"T27-T28","v":0},0,0,0,0,0,0,0]
[null,null,null,null,"8","Доля вне собственных нужд",null,{"$f":"IF((H33+H28)=0,0,H33/(H33+H28))","v":0},{"$f":"IF((I33+I28)=0,0,I33/(I33+I28))","v":0},0,0,0,0,0,null,{"$f":"IF((P33+P28)=0,0,P33/(P33+P28))","v":0},{"$f":"IF((Q33+Q28)=0,0,Q33/(Q33+Q28))","v":0},{"$f":"IF((R33+R28)=0,0,R33/(R33+R28))","v":0},null,{"$f":"IF((T33+T28)=0,0,T33/(T33+T28))","v":0},{"$f":"IF((U33+U28)=0,0,U33/(U33+U28))","v":0},0,0,0,0,0,0]
[null,null,null,null,"9","Доля \"в котле\"","%",{"$f":"IF(H27=0,0,H30/H27)","v":0},{"$f":"IF(I27=0,0,I30/I27)","v":0},0,0,0,0,0,null,{"$f":"IFERROR(IF((P34/(P27+P28))=0,'9 Тариф снизу'!R36,P34/(P27+P28)),1)","v":1},{"$f":"IFERROR(IF((Q34/(Q27+Q28))=0,'9 Тариф снизу'!H36,Q34/(Q27+Q28)),1)","v":1},{"$f":"IFERROR(IF((R34/(R27+R28))=0,'9 Тариф снизу'!M36,R34/(R27+R28)),1)","v":1},null,{"$f":"IF((T34+T29)=0,0,T34/(T34+T29))","v":0},{"$f":"IF((U34+U29)=0,0,U34/(U34+U29))","v":0},0,0,0,0,0,0]
[null,null,null,null,"9","Необходимая валовая выручка, установленная на долгосрочный период регулирования","тыс. рублей",{"$f":"'8_Расчет НВВ '!I111","v":0},{"$f":"'8_Расчет НВВ '!J111","v":0},{"$f":"'8_Расчет НВВ '!N111","v":0},{"$f":"'8_Расчет НВВ '!O111","v":0},{"$f":"SUM(L37:L40)","v":0},{"$f":"K36-L36","v":0},{"$f":"'8_Расчет НВВ '!P111","v":0},{"$f":"IF(J36=0,0,N36/J36)","v":0},{"$f":"'8_Расчет НВВ '!Q111","v":0},{"$f":"SUM(Q37:Q40)","v":0},{"$f":"SUM(R37:R40)","v":0},0,{"$f":"'8_Расчет НВВ '!W111","v":0},{"$f":"'8_Расчет НВВ '!X111","v":0},{"$f":"'8_Расчет НВВ '!Y111","v":0},{"$f":"'8_Расчет НВВ '!Z111","v":0},{"$f":"'8_Расчет НВВ '!AA111","v":0},{"$f":"'8_Расчет НВВ '!AB111","v":0},{"$f":"'8_Расчет НВВ '!AC111","v":0},{"$f":"'8_Расчет НВВ '!AD111","v":0}]
[null,null,null,null,"9.1","Операционные расходы","тыс. рублей",{"$f":"'8_Расчет НВВ '!I64","v":0},{"$f":"'8_Расчет НВВ '!J64","v":0},{"$f":"'8_Расчет НВВ '!N64","v":0},{"$f":"'8_Расчет НВВ '!O64","v":0},{"$f":"K37*$L$41/100","v":0},0,{"$f":"'8_Расчет НВВ '!P64","v":0},{"$f":"IF(J37=0,0,N37/J37)","v":0},{"$f":"'8_Расчет НВВ '!Q64","v":0},{"$f":"P37*$Q$41/100","v":0},{"$f":"P37-Q37","v":0},0,{"$f":"'8_Расчет НВВ '!W64","v":0},{"$f":"'8_Расчет НВВ '!X64","v":0},{"$f":"'8_Расчет НВВ '!Y64","v":0},{"$f":"'8_Расчет НВВ '!Z64","v":0},{"$f":"'8_Расчет НВВ '!AA64","v":0},{"$f":"'8_Расчет НВВ '!AB64","v":0},{"$f":"'8_Расчет НВВ '!AC64","v":0},{"$f":"'8_Расчет НВВ '!AD64","v":0}]
[null,null,null,null,"9.2","Неподконтрольные расходы, в том числе","тыс. рублей",{"$f":"'8_Расчет НВВ '!I93","v":0},{"$f":"'8_Расчет НВВ '!J93","v":0},{"$f":"'8_Расчет НВВ '!N93","v":0},{"$f":"'8_Расчет НВВ '!O93","v":0},{"$f":"K38*$L$41/100","v":0},0,{"$f":"'8_Расчет НВВ '!P93","v":0},{"$f":"IF(J38=0,0,N38/J38)","v":0},{"$f":"'8_Расчет НВВ '!Q93","v":0},{"$f":"P38*$Q$41/100","v":0},{"$f":"P38-Q38","v":0},0,{"$f":"'8_Расчет НВВ '!W93","v":0},{"$f":"'8_Расчет НВВ '!X93","v":0},{"$f":"'8_Расчет НВВ '!Y93","v":0},{"$f":"'8_Расчет НВВ '!Z93","v":0},{"$f":"'8_Расчет НВВ '!AA93","v":0},{"$f":"'8_Расчет НВВ '!AB93","v":0},{"$f":"'8_Расчет НВВ '!AC93","v":0},{"$f":"'8_Расчет НВВ '!AD93","v":0}]
[null,null,null,null,"9.3","оплата услуг ПАО \"ФСК\"","тыс. рублей",{"$f":"'8_Расчет НВВ '!I68","v":0},{"$f":"'8_Расчет НВВ '!J68","v":0},{"$f":"'8_Расчет НВВ '!N68","v":0},{"$f":"'8_Расчет НВВ '!O68","v":0},{"$f":"K39*$L$41/100","v":0},0,{"$f":"'8_Расчет НВВ '!P68","v":0},{"$f":"IF(J39=0,0,N39/J39)","v":0},{"$f":"'8_Расчет НВВ '!Q68","v":0},{"$f":"P39*$Q$41/100","v":0},{"$f":"P39-Q39","v":0},0,{"$f":"'8_Расчет НВВ '!W68","v":0},{"$f":"'8_Расчет НВВ '!X68","v":0},{"$f":"'8_Расчет НВВ '!Y68","v":0},{"$f":"'8_Расчет НВВ '!Z68","v":0},{"$f":"'8_Расчет НВВ '!AA68","v":0},{"$f":"'8_Расчет НВВ '!AB68","v":0},{"$f":"'8_Расчет НВВ '!AC68","v":0},{"$f":"'8_Расчет НВВ '!AD68","v":0}]
[null,null,null,null,"9.4","Корректировка НВВ","тыс. рублей",{"$f":"'8_Расчет НВВ '!I95","v":0},{"$f":"'8_Расчет НВВ '!J95","v":0},{"$f":"'8_Расчет НВВ '!N95","v":0},{"$f":"'8_Расчет НВВ '!O95","v":0},{"$f":"K40*$L$41/100","v":0},0,{"$f":"'8_Расчет НВВ '!P95","v":0},{"$f":"IF(J40=0,0,N40/J40)","v":0},{"$f":"'8_Расчет НВВ '!Q95","v":0},{"$f":"P40*$Q$41/100","v":0},{"$f":"P40-Q40","v":0},0,{"$f":"'8_Расчет НВВ '!W95","v":0},{"$f":"'8_Расчет НВВ '!X95","v":0},{"$f":"'8_Расчет НВВ '!Y95","v":0},{"$f":"'8_Расчет НВВ '!Z95","v":0},{"$f":"'8_Расчет НВВ '!AA95","v":0},{"$f":"'8_Расчет НВВ '!AB95","v":0},{"$f":"'8_Расчет НВВ '!AC95","v":0},{"$f":"'8_Расчет НВВ '!AD95","v":0}]
[null,null,null,null,"9.5","Коэффициент деления по полугодиям","тыс. рублей",null,null,0.5,1,0.5,0.5,0.5,null,1,{"$f":"'9 Тариф снизу'!M37","v":0},{"$f":"P41-Q41","v":1},null,1,1,1,1,1,1,1,1]
[null,null,null,null,"10","Двуставочный тариф"]
[null,null,null,null,"10.1","Индивидуальный тариф на содержание сетей","руб./МВтч*месяц",{"$f":"IF(H32/12*1000=0,0,H36/H32/12*1000)","v":0},0,0,0,0,0,0,null,{"$f":"IF(P32/12*1000=0,0,P36/P32/12*1000)","v":0},{"$f":"IF(Q32/12*1000=0,0,Q36/Q32/12*1000)","v":0},{"$f":"IF(R32/12*1000=0,0,R36/R32/12*1000)","v":0},null,{"$f":"IF(T32/12*1000=0,0,T36/T32/12*1000)","v":0},0,0,0,0,0,0,0]
[null,null,null,null,"10.2","Стоимость потерь ","руб./МВтч"]
[null,null,null,null,"10.3","Затраты на компенсацию потерь","тыс. руб.",{"$f":"H44*H20","v":0},{"$f":"I44*I20","v":0},{"$f":"J44*J20","v":0},{"$f":"K44*K20","v":0},{"$f":"L44*L20","v":0},{"$f":"M44*M20","v":0},{"$f":"N44*N20","v":0},{"$f":"IF(J45=0,0,N45/J45)","v":0},{"$f":"P44*P20","v":0},{"$f":"Q44*Q20","v":0},{"$f":"R44*R20","v":0},{"$f":"IF(N45=0,0,R45/N45)","v":0},{"$f":"T44*T20","v":0},{"$f":"U44*U20","v":0},{"$f":"V44*V20","v":0},{"$f":"W44*W20","v":0},{"$f":"X44*X20","v":0},{"$f":"Y44*Y20","v":0},{"$f":"Z44*Z20","v":0},{"$f":"AA44*AA20","v":0}]
[null,null,null,null,"10.4","Индивидуальный тариф на покупку всех потерь","руб./МВтч",{"$f":"IF(H33*1000=0,0,H44*H20/H33)","v":0},{"$f":"IF(I33*1000=0,0,I44*I20/I33)","v":0},0,0,0,0,0,null,{"$f":"IF(P33*1000=0,0,P44*P20/P33)","v":0},0,0,null,{"$f":"IF(T33*1000=0,0,T44*T20/T33)","v":0},0,0,0,0,0,0,0]
[null,null,null,null,"11","Одноставочный тариф","руб./кВтч",{"$f":"IFERROR((H48*H32*12+H50*H27)/H27,0)","v":0},{"$f":"IFERROR((I48*I32*12+I50*I27)/I27,0)","v":0},{"$f":"IFERROR((J48*J32*12+J50*J27)/J27,0)","v":0},{"$f":"IFERROR((K48*K32*12+K50*K27)/K27,0)","v":0},{"$f":"IFERROR((L48*L32*6+L50*L27)/L27,0)","v":0},{"$f":"IFERROR((M48*M32*6+M50*M27)/M27,0)","v":0},{"$f":"IFERROR((N48*N32*12+N50*N27)/N27,0)","v":0},{"$f":"IF(J47=0,0,N47/J47)","v":0},{"$f":"IFERROR((P48*P32*12+P50*P27)/P27,0)","v":0},{"$f":"IFERROR((Q48*Q32*6+Q50*Q27)/Q27,0)","v":0},{"$f":"IFERROR((R48*R32*6+R50*R27)/R27,0)","v":0},{"$f":"IF(N47=0,0,R47/N47)","v":0},{"$f":"IFERROR((T48*T32*12+T50*T27)/T27,0)","v":0},0,0,0,0,0,0,0]
[null,null,null,null,"11.1","Ставка на содержание сетей","руб./кВтч",{"$f":"IF(H32*1000=0,0,H36/H32/12)","v":0},{"$f":"IF(I32*1000=0,0,I36/I32/12)","v":0},0,0,0,0,0,null,{"$f":"IF(P32*1000=0,0,P36/P32/12)","v":0},0,0,null,{"$f":"IF(T32*1000=0,0,T36/T32/12)","v":0},0,0,0,0,0,0,0]
[null,null,null,null,"11.2","Затраты на компенсацию потерь","тыс. руб.",{"$f":"H45","v":0},{"$f":"I45","v":0},0,0,0,0,0,{"$f":"IF(J49=0,0,N49/J49)","v":0},{"$f":"P45","v":0},0,0,{"$f":"IF(N49=0,0,R49/N49)","v":0},{"$f":"T45","v":0},0,0,0,0,0,0,0]
[null,null,null,null,"11.3","Ставка на потери","руб./МВтч",{"$f":"H46","v":0},{"$f":"I46","v":0},0,0,0,0,0,null,0,0,0,null,0,0,0,0,0,0,0,0]
[null,null,null,null,"12","Валовая выручка на возмещение","тыс. руб.",{"$f":"H43*H32*12/1000","v":0},0,0,0,0,0,0,{"$f":"IF(J51=0,0,N51/J51)","v":0},{"$f":"P43*P32*12/1000","v":0},{"$f":"Q43*Q32*12/1000","v":0},{"$f":"R43*R32*12/1000","v":0},{"$f":"IF(N51=0,0,R51/N51)","v":0},{"$f":"T43*T32*12/1000","v":0},0,0,0,0,0,0,0]
[null,null,null,null,"13","Валовая выручка на возмещение, всего","тыс. руб.",{"$f":"H51+H45","v":0},0,0,0,0,0,0,{"$f":"IF(J52=0,0,N52/J52)","v":0},{"$f":"P51+P45","v":0},{"$f":"Q51+Q45","v":0},{"$f":"R51+R45","v":0},{"$f":"IF(N52=0,0,R52/N52)","v":0},{"$f":"T51+T45","v":0},0,0,0,0,0,0,0]

{"sheet":"9_Расчет тарифов","index":28,"n_rows":33,"n_cols":51,"rows_kept":33,"cut":false,"hidden":true,"merged":[[7,21,7,23],[10,48,11,50],[10,33,11,35],[10,36,11,38],[10,39,11,41],[10,42,11,44],[10,45,11,47],[10,24,11,26],[10,30,11,32],[10,15,11,17],[10,18,11,20],[10,21,11,23],[10,27,11,29],[10,14,12,14],[10,11,11,13],[7,5,7,7],[10,6,12,6],[10,7,12,7],[10,5,12,5],[10,8,11,10]]}
["HIDDEN",null,null,null,null,null,null,null,null,null,null,null,null,null,null,{"$f":"IFERROR(IF(AND(REPORT_OWNER=\"Версия регулятора\",O1 = \"VISIBLE\"),\"VISIBLE\",\"HIDDEN\"),\"HIDDEN\")","v":"HIDDEN"},{"$f":"IFERROR(IF(AND(REPORT_OWNER=\"Версия регулятора\",P1 = \"VISIBLE\"),\"VISIBLE\",\"HIDDEN\"),\"HIDDEN\")","v":"HIDDEN"},{"$f":"IFERROR(IF(AND(REPORT_OWNER=\"Версия регулятора\",Q1 = \"VISIBLE\"),\"VISIBLE\",\"HIDDEN\"),\"HIDDEN\")","v":"HIDDEN"},null,null,null,{"$f":"IFERROR(IF(god - FIRST_PERIOD_IN_LT>=PERIOD_LENGTH,\"VISIBLE\",\"HIDDEN\"),\"HIDDEN\")","v":"VISIBLE"},{"$f":"IFERROR(IF(god - FIRST_PERIOD_IN_LT>=PERIOD_LENGTH,\"VISIBLE\",\"HIDDEN\"),\"HIDDEN\")","v":"VISIBLE"},{"$f":"IFERROR(IF(god - FIRST_PERIOD_IN_LT>=PERIOD_LENGTH,\"VISIBLE\",\"HIDDEN\"),\"HIDDEN\")","v":"VISIBLE"},{"$f":"IFERROR(IF(AND(REPORT_OWNER=\"Версия регулятора\",X1 = \"VISIBLE\"),\"VISIBLE\",\"HIDDEN\"),\"HIDDEN\")","v":"HIDDEN"},{"$f":"IFERROR(IF(AND(REPORT_OWNER=\"Версия регулятора\",Y1 = \"VISIBLE\"),\"VISIBLE\",\"HIDDEN\"),\"HIDDEN\")","v":"HIDDEN"},{"$f":"IFERROR(IF(AND(REPORT_OWNER=\"Версия регулятора\",Z1 = \"VISIBLE\"),\"VISIBLE\",\"HIDDEN\"),\"HIDDEN\")","v":"HIDDEN"},{"$f":"IFERROR(IF(god - FIRST_PERIOD_IN_LT>=PERIOD_LENGTH,\"VISIBLE\",\"HIDDEN\"),\"HIDDEN\")","v":"VISIBLE"},{"$f":"IFERROR(IF(god - FIRST_PERIOD_IN_LT>=PERIOD_LENGTH,\"VISIBLE\",\"HIDDEN\"),\"HIDDEN\")","v":"VISIBLE"},{"$f":"IFERROR(IF(god - FIRST_PERIOD_IN_LT>=PERIOD_LENGTH,\"VISIBLE\",\"HIDDEN\"),\"HIDDEN\")","v":"VISIBLE"},{"$f":"IFERROR(IF(AND(REPORT_OWNER=\"Версия регулятора\",AD1 = \"VISIBLE\"),\"VISIBLE\",\"HIDDEN\"),\"HIDDEN\")","v":"HIDDEN"},{"$f":"IFERROR(IF(AND(REPORT_OWNER=\"Версия регулятора\",AE1 = \"VISIBLE\"),\"VISIBLE\",\"HIDDEN\"),\"HIDDEN\")","v":"HIDDEN"},{"$f":"IFERROR(IF(AND(REPORT_OWNER=\"Версия регулятора\",AF1 = \"VISIBLE\"),\"VISIBLE\",\"HIDDEN\"),\"HIDDEN\")","v":"HIDDEN"},{"$f":"IFERROR(IF(god - FIRST_PERIOD_IN_LT>=PERIOD_LENGTH,\"VISIBLE\",\"HIDDEN\"),\"HIDDEN\")","v":"VISIBLE"},{"$f":"IFERROR(IF(god - FIRST_PERIOD_IN_LT>=PERIOD_LENGTH,\"VISIBLE\",\"HIDDEN\"),\"HIDDEN\")","v":"VISIBLE"},{"$f":"IFERROR(IF(god - FIRST_PERIOD_IN_LT>=PERIOD_LENGTH,\"VISIBLE\",\"HIDDEN\"),\"HIDDEN\")","v":"VISIBLE"},{"$f":"IFERROR(IF(AND(REPORT_OWNER=\"Версия регулятора\",AJ1 = \"VISIBLE\"),\"VISIBLE\",\"HIDDEN\"),\"HIDDEN\")","v":"HIDDEN"},{"$f":"IFERROR(IF(AND(REPORT_OWNER=\"Версия регулятора\",AK1 = \"VISIBLE\"),\"VISIBLE\",\"HIDDEN\"),\"HIDDEN\")","v":"HIDDEN"},{"$f":"IFERROR(IF(AND(REPORT_OWNER=\"Версия регулятора\",AL1 = \"VISIBLE\"),\"VISIBLE\",\"HIDDEN\"),\"HIDDEN\")","v":"HIDDEN"},{"$f":"IFERROR(IF(god - FIRST_PERIOD_IN_LT>=PERIOD_LENGTH,\"VISIBLE\",\"HIDDEN\"),\"HIDDEN\")","v":"VISIBLE"},{"$f":"IFERROR(IF(god - FIRST_PERIOD_IN_LT>=PERIOD_LENGTH,\"VISIBLE\",\"HIDDEN\"),\"HIDDEN\")","v":"VISIBLE"},{"$f":"IFERROR(IF(god - FIRST_PERIOD_IN_LT>=PERIOD_LENGTH,\"VISIBLE\",\"HIDDEN\"),\"HIDDEN\")","v":"VISIBLE"},{"$f":"IFERROR(IF(AND(REPORT_OWNER=\"Версия регулятора\",AP1 = \"VISIBLE\"),\"VISIBLE\",\"HIDDEN\"),\"HIDDEN\")","v":"HIDDEN"},{"$f":"IFERROR(IF(AND(REPORT_OWNER=\"Версия регулятора\",AQ1 = \"VISIBLE\"),\"VISIBLE\",\"HIDDEN\"),\"HIDDEN\")","v":"HIDDEN"},{"$f":"IFERROR(IF(AND(REPORT_OWNER=\"Версия регулятора\",AR1 = \"VISIBLE\"),\"VISIBLE\",\"HIDDEN\"),\"HIDDEN\")","v":"HIDDEN"},{"$f":"IFERROR(IF(god - FIRST_PERIOD_IN_LT>=PERIOD_LENGTH,\"VISIBLE\",\"HIDDEN\"),\"HIDDEN\")","v":"VISIBLE"},{"$f":"IFERROR(IF(god - FIRST_PERIOD_IN_LT>=PERIOD_LENGTH,\"VISIBLE\",\"HIDDEN\"),\"HIDDEN\")","v":"VISIBLE"},{"$f":"IFERROR(IF(god - FIRST_PERIOD_IN_LT>=PERIOD_LENGTH,\"VISIBLE\",\"HIDDEN\"),\"HIDDEN\")","v":"VISIBLE"},{"$f":"IFERROR(IF(AND(REPORT_OWNER=\"Версия регулятора\",AV1 = \"VISIBLE\"),\"VISIBLE\",\"HIDDEN\"),\"HIDDEN\")","v":"HIDDEN"},{"$f":"IFERROR(IF(AND(REPORT_OWNER=\"Версия регулятора\",AW1 = \"VISIBLE\"),\"VISIBLE\",\"HIDDEN\"),\"HIDDEN\")","v":"HIDDEN"},{"$f":"IFERROR(IF(AND(REPORT_OWNER=\"Версия регулятора\",AX1 = \"VISIBLE\"),\"VISIBLE\",\"HIDDEN\"),\"HIDDEN\")","v":"HIDDEN"}]
[]
[]
[]
[]
[]
[]
[null,null,null,null,null,"Расчет тарифа на услуги по передаче электрической энергии по сетям"]
[]
[]
[null,null,null,null,null,"№ п/п","Показатели","Единица измерения",{"$f":"god-2 & \" год (утверждено версия ТСО)\"","v":"-2 год (утверждено версия ТСО)"},null,null,{"$f":"god-2 & \" год (факт)\"","v":"-2 год (факт)"},null,null,"Отклонение",{"$f":"god-2 & \" год (факт версия регулятора)\"","v":"-2 год (факт версия регулятора)"},null,null,{"$f":"god-1& \"  год (утверждено версия ТСО)\"","v":"-1  год (утверждено версия ТСО)"},0,null,{"$f":"god& \"  год предложение ТСО\"","v":"  год предложение ТСО"},0,null,{"$f":"god& \"  год версия регулятора\"","v":"  год версия регулятора"},{"$error":"#REF!"},null,{"$f":"god+1& \" год предложение ТСО\"","v":"1 год предложение ТСО"},{"$error":"#REF!"},null,{"$f":"god+1& \" год версия регулятора\"","v":"1 год версия регулятора"},{"$error":"#REF!"},null,{"$f":"god+2& \" год предложение ТСО\"","v":"2 год предложение ТСО"},{"$error":"#REF!"},null,{"$f":"god+2& \" год версия регулятора\"","v":"2 год версия регулятора"},{"$error":"#REF!"},null,{"$f":"god+3& \" год предложение ТСО\"","v":"3 год предложение ТСО"},{"$error":"#REF!"},null,{"$f":"god+3& \" год версия регулятора\"","v":"3 год версия регулятора"},{"$error":"#REF!"},null,{"$f":"god+4& \" год предложение ТСО\"","v":"4 год предложение ТСО"},{"$error":"#REF!"},null,{"$f":"god+4& \" год версия регулятора\"","v":"4 год версия регулятора"},{"$error":"#REF!"}]
[]
[null,null,null,null,null,null,null,null,"год","I полугодие","II полугодие","год","I полугодие","II полугодие",null,"год","1 полугодие","2 полугодие","год","I полугодие","II полугодие","год","I полугодие","II полугодие","год","I полугодие","II полугодие","год","I полугодие","II полугодие","год","I полугодие","II полугодие","год","I полугодие","II полугодие","год","I полугодие","II полугодие","год","I полугодие","II полугодие","год","I полугодие","II полугодие","год","I полугодие","II полугодие","год","I полугодие","II полугодие"]
[]
[]
[null,null,null,null,null,"1","Итого НВВ на содержание","тыс.руб.",{"$f":"'8_Расчет НВВ '!I111","v":0},null,null,{"$f":"'8_Расчет НВВ '!J111","v":0},null,null,{"$f":"'8_Расчет НВВ '!K111","v":0},{"$f":"'8_Расчет НВВ '!M111","v":0},null,null,{"$f":"'8_Расчет НВВ '!N111","v":0},{"$f":"S16*T28","v":0},{"$f":"S16-T16","v":0},{"$f":"'8_Расчет НВВ '!P111","v":0},{"$f":"V16*W28","v":0},{"$f":"V16-W16","v":0},{"$f":"'8_Расчет НВВ '!Q111","v":0},{"$f":"Y16*Z28","v":0},{"$f":"Y16-Z16","v":0},{"$f":"'8_Расчет НВВ '!W111","v":0},{"$f":"AB16*AC28","v":0},{"$f":"AB16-AC16","v":0},{"$f":"'8_Расчет НВВ '!X111","v":0},{"$f":"AE16*AF28","v":0},{"$f":"AE16-AF16","v":0},null,null,null,{"$f":"'8_Расчет НВВ '!AD111","v":0},{"$f":"AK16*AL28","v":0},{"$f":"AK16-AL16","v":0},null,null,null,{"$f":"'8_Расчет НВВ '!AJ111","v":0},{"$f":"AQ16*AR28","v":0},{"$f":"AQ16-AR16","v":0},null,null,null,{"$f":"'8_Расчет НВВ '!AP111","v":0},{"$f":"AW16*AX28","v":0},{"$f":"AW16-AX16","v":0}]
[null,null,null,null,null,"2","Расчетные данные"]
[null,null,null,null,null,"2.1","Полезный отпуск электрической энергии","млн.кВтч",{"$f":"J18+K18","v":23.220550262509221},{"$f":"'4_Полезный отпуск'!H28","v":11.662334536702769},{"$f":"'4_Полезный отпуск'!I28","v":11.558215725806452},{"$f":"M18+N18","v":0},{"$f":"'4_Полезный отпуск'!J28","v":0},{"$f":"'4_Полезный отпуск'!L28","v":0},{"$f":"L18-I18","v":-23.220550262509221},{"$f":"Q18+R18","v":0},null,null,{"$f":"T18+U18","v":20.533383652797859},{"$f":"'4_Полезный отпуск'!N28","v":10.324076098841024},{"$f":"'4_Полезный отпуск'!P28","v":10.209307553956835},{"$f":"W18+X18","v":0},{"$f":"'4_Полезный отпуск'!R28","v":0},{"$f":"'4_Полезный отпуск'!T28","v":0},{"$f":"Z18+AA18","v":0},{"$f":"'4_Полезный отпуск'!V28","v":0},{"$f":"'4_Полезный отпуск'!X28","v":0},{"$f":"AC18+AD18","v":0},{"$f":"W18","v":0},{"$f":"X18","v":0},{"$f":"AF18+AG18","v":0},{"$f":"Z18","v":0},{"$f":"AA18","v":0},{"$f":"AI18+AJ18","v":0},{"$f":"AC18","v":0},{"$f":"AD18","v":0},{"$f":"AL18+AM18","v":0},{"$f":"AF18","v":0},{"$f":"AG18","v":0},{"$f":"AO18+AP18","v":0},{"$f":"AI18","v":0},{"$f":"AJ18","v":0},{"$f":"AR18+AS18","v":0},{"$f":"AL18","v":0},{"$f":"AM18","v":0},{"$f":"AU18+AV18","v":0},{"$f":"AO18","v":0},{"$f":"AP18","v":0},{"$f":"AX18+AY18","v":0},{"$f":"AR18","v":0},{"$f":"AS18","v":0}]
[null,null,null,null,null,"2.2","Потери электрической энергии в сетях","млн.кВтч",{"$f":"J19+K19","v":0},{"$f":"IF(J21=0,0,J18*41.55/J21)","v":0},{"$f":"IF(K21=0,0,K18*39.68/K21)","v":0},{"$f":"M19+N19","v":0},null,null,{"$f":"L19-I19","v":0},{"$f":"Q19+R19","v":0},null,null,{"$f":"T19+U19","v":0},{"$f":"IF(T21=0,0,T18*45.73/T21)","v":0},{"$f":"IF(U21=0,0,U18*44.48/U21)","v":0},{"$f":"W19+X19","v":0},null,null,{"$f":"Z19+AA19","v":0},null,null,{"$f":"AC19+AD19","v":0},null,null,{"$f":"AF19+AG19","v":0},null,null,{"$f":"AI19+AJ19","v":0},null,null,{"$f":"AL19+AM19","v":0},null,null,{"$f":"AO19+AP19","v":0},null,null,{"$f":"AR19+AS19","v":0},null,null,{"$f":"AU19+AV19","v":0},null,null,{"$f":"AX19+AY19","v":0}]
[null,null,null,null,null,"2.3","Полезный отпуск электрической мощности","МВт",{"$f":"IFERROR(AVERAGE(J20:K20),0)","v":0},null,null,{"$f":"IFERROR(AVERAGE(M20:N20),0)","v":0},null,null,{"$f":"IFERROR(L20-I20,0)","v":0},null,null,null,{"$f":"IFERROR(AVERAGE(T20:U20),0)","v":0},null,null,{"$f":"IFERROR(AVERAGE(W20:X20),0)","v":0},null,null,{"$f":"IFERROR(AVERAGE(Z20:AA20),0)","v":0},null,null,{"$f":"IFERROR(AVERAGE(AC20:AD20),0)","v":0},null,null,{"$f":"IFERROR(AVERAGE(AF20:AG20),0)","v":0},null,null,{"$f":"IFERROR(AVERAGE(AI20:AJ20),0)","v":0},null,null,null,null,null,{"$f":"IFERROR(AVERAGE(AO20:AP20),0)","v":0},null,null,null,null,null,{"$f":"IFERROR(AVERAGE(AU20:AV20),0)","v":0}]
[null,null,null,null,null,"2.4","Цена на электроэнергию (покупка потерь) ","руб/МВтч",{"$f":"IF(I19=0,0,(J21*J19+K21*K19)/I19)","v":0},null,null,{"$f":"IF(L19=0,0,(M21*M19+N21*N19)/L19)","v":0},null,null,{"$f":"L21-I21","v":0},null,null,null,{"$f":"IF(S19=0,0,(T21*T19+U21*U19)/S19)","v":0},null,null,{"$f":"IF(V19=0,0,(W21*W19+X21*X19)/V19)","v":0},null,{"$f":"ROUND(W21*1.03,2)","v":0},null,null,{"$f":"ROUND(Z21*1.03,2)","v":0},{"$f":"IFERROR((AC21*AC19+AD21*AD19)/AB19,0)","v":0},null,{"$f":"ROUND(AC21*1.03,2)","v":0},null,null,{"$f":"ROUND(AF21*1.03,2)","v":0},{"$f":"IFERROR((AI21*AI19+AJ21*AJ19)/AH19,0)","v":0},null,{"$f":"ROUND(AI21*1.03,2)","v":0},null,null,{"$f":"ROUND(AL21*1.03,2)","v":0},{"$f":"IFERROR((AO21*AO19+AP21*AP19)/AN19,0)","v":0},null,{"$f":"ROUND(AO21*1.03,2)","v":0},null,null,{"$f":"ROUND(AR21*1.03,2)","v":0},{"$f":"IF(AT19=0,0,(AU21*AU19+AV21*AV19)/AT19)","v":0},null,{"$f":"ROUND(AU21*1.03,2)","v":0},null,null,{"$f":"ROUND(AX21*1.03,2)","v":0}]
[]
[]
[]
[null,null,null,null,null,"2.8","Стоимость потерь","тыс.руб.",null,null,null,{"$f":"SUM(M25:N25)","v":0},{"$f":"M23*M24","v":0},{"$f":"N23*N24","v":0},{"$f":"L25-I25","v":0},{"$f":"SUM(Q25:R25)","v":0},{"$f":"Q23*Q24","v":0},{"$f":"R23*R24","v":0},null,null,null,{"$f":"SUM(W25:X25)","v":0},{"$f":"W23*W24","v":0},{"$f":"X23*X24","v":0},{"$f":"SUM(Z25:AA25)","v":0},{"$f":"Z23*Z24","v":0},{"$f":"AA23*AA24","v":0},{"$f":"SUM(AC25:AD25)","v":0},{"$f":"AC23*AC24","v":0},{"$f":"AD23*AD24","v":0},{"$f":"SUM(AF25:AG25)","v":0},{"$f":"AF23*AF24","v":0},{"$f":"AG23*AG24","v":0},{"$f":"SUM(AI25:AJ25)","v":0},{"$f":"AI23*AI24","v":0},{"$f":"AJ23*AJ24","v":0},{"$f":"SUM(AL25:AM25)","v":0},{"$f":"AL23*AL24","v":0},{"$f":"AM23*AM24","v":0},{"$f":"SUM(AO25:AP25)","v":0},{"$f":"AO23*AO24","v":0},{"$f":"AP23*AP24","v":0},{"$f":"SUM(AR25:AS25)","v":0},{"$f":"AR23*AR24","v":0},{"$f":"AS23*AS24","v":0},{"$f":"SUM(AU25:AV25)","v":0},{"$f":"AU23*AU24","v":0},{"$f":"AV23*AV24","v":0},{"$f":"SUM(AX25:AY25)","v":0},{"$f":"AX23*AX24","v":0},{"$f":"AY23*AY24","v":0}]
[null,null,null,null,null,"3","Расчет тарифа"]
[null,null,null,null,null,"3.1","Полезный отпуск электрической мощности","МВт",{"$f":"IFERROR(AVERAGE(J27:K27),0)","v":0},{"$f":"J20","v":0},{"$f":"K20","v":0},{"$f":"IFERROR(AVERAGE(M27:N27),0)","v":0},{"$f":"M20","v":0},{"$f":"N20","v":0},{"$f":"L27-I27","v":0},{"$f":"IFERROR(AVERAGE(Q27:R27),0)","v":0},{"$f":"Q20","v":0},{"$f":"R20","v":0},{"$f":"IFERROR(AVERAGE(T27:U27),0)","v":0},{"$f":"T20","v":0},{"$f":"U20","v":0},{"$f":"IFERROR(AVERAGE(W27:X27),0)","v":0},{"$f":"W20","v":0},{"$f":"X20","v":0},{"$f":"IFERROR(AVERAGE(Z27:AA27),0)","v":0},{"$f":"Z20","v":0},{"$f":"AA20","v":0},{"$f":"IFERROR(AVERAGE(AC27:AD27),0)","v":0},{"$f":"AC20","v":0},{"$f":"AD20","v":0},{"$f":"IFERROR(AVERAGE(AF27:AG27),0)","v":0},{"$f":"AF20","v":0},{"$f":"AG20","v":0},{"$f":"IFERROR(AVERAGE(AI27:AJ27),0)","v":0},{"$f":"AI20","v":0},{"$f":"AJ20","v":0},{"$f":"IFERROR(AVERAGE(AL27:AM27),0)","v":0},{"$f":"AL20","v":0},{"$f":"AM20","v":0},{"$f":"IFERROR(AVERAGE(AO27:AP27),0)","v":0},{"$f":"AO20","v":0},{"$f":"AP20","v":0},{"$f":"IFERROR(AVERAGE(AR27:AS27),0)","v":0},{"$f":"AR20","v":0},{"$f":"AS20","v":0},{"$f":"IFERROR(AVERAGE(AU27:AV27),0)","v":0},{"$f":"AU20","v":0},{"$f":"AV20","v":0},{"$f":"IFERROR(AVERAGE(AX27:AY27),0)","v":0},{"$f":"AX20","v":0},{"$f":"AY20","v":0}]
[null,null,null,null,null,"3.2","Доля НВВ на содержание по полугодиям","%",1,null,{"$f":"I28-J28","v":1},1,null,{"$f":"L28-M28","v":1},null,1,{"$f":"IFERROR(7410.23336/P29,0)","v":0},{"$f":"P28-Q28","v":1},1,null,{"$f":"S28-T28","v":1},1,null,{"$f":"V28-W28","v":1},1,null,{"$f":"Y28-Z28","v":1},1,null,{"$f":"AB28-AC28","v":1},1,null,{"$f":"AE28-AF28","v":1},1,null,{"$f":"AH28-AI28","v":1},1,null,{"$f":"AK28-AL28","v":1},1,null,{"$f":"AN28-AO28","v":1},1,null,{"$f":"AQ28-AR28","v":1},1,null,{"$f":"AT28-AU28","v":1},1,null,{"$f":"AW28-AX28","v":1}]
[null,null,null,null,null,"3.3","НВВ с учётом потерь в сетях","тыс.руб.",{"$f":"I16+I25","v":0},null,null,{"$f":"L16+L25","v":0},null,null,{"$f":"L29-I29","v":0},{"$f":"P16+P25","v":0},null,null,{"$f":"S16+S25","v":0},null,null,{"$f":"V16+V25","v":0},{"$f":"W32*W27*6/1000+W33*W22","v":0},{"$f":"X32*X27*6/1000+X33*X22","v":0},{"$f":"Y16+Y25","v":0},{"$f":"Z32*Z27*6/1000+Z33*Z22","v":0},{"$f":"AA32*AA27*6/1000+AA33*AA22","v":0},{"$f":"AB16+AB25","v":0},{"$f":"AC32*AC27*6/1000+AC33*AC22","v":0},{"$f":"AD32*AD27*6/1000+AD33*AD22","v":0},{"$f":"AE16+AE25","v":0},{"$f":"AF32*AF27*6/1000+AF33*AF22","v":0},{"$f":"AG32*AG27*6/1000+AG33*AG22","v":0},{"$f":"AH16+AH25","v":0},{"$f":"AI32*AI27*6/1000+AI33*AI22","v":0},{"$f":"AJ32*AJ27*6/1000+AJ33*AJ22","v":0},{"$f":"AK16+AK25","v":0},{"$f":"AL32*AL27*6/1000+AL33*AL22","v":0},{"$f":"AM32*AM27*6/1000+AM33*AM22","v":0},{"$f":"AN16+AN25","v":0},{"$f":"AO32*AO27*6/1000+AO33*AO22","v":0},{"$f":"AP32*AP27*6/1000+AP33*AP22","v":0},{"$f":"AQ16+AQ25","v":0},{"$f":"AR32*AR27*6/1000+AR33*AR22","v":0},{"$f":"AS32*AS27*6/1000+AS33*AS22","v":0},{"$f":"AT16+AT25","v":0},{"$f":"AU32*AU27*6/1000+AU33*AU22","v":0},{"$f":"AV32*AV27*6/1000+AV33*AV22","v":0},{"$f":"AW16+AW25","v":0},{"$f":"AX32*AX27*6/1000+AX33*AX22","v":0},{"$f":"AY32*AY27*6/1000+AY33*AY22","v":0}]
[null,null,null,null,null,"3.4","Одноставочный тариф","руб./тыс. кВтч",{"$f":"(J30*J18+K30*K18)/I18","v":0},null,null,null,null,null,null,null,null,null,{"$f":"(T30*T18+U30*U18)/S18","v":0},null,null,{"$f":"IFERROR((W30*W18+X30*X18)/V18,0)","v":0},{"$f":"IFERROR(W29/W22,0)","v":0},{"$f":"IFERROR(X29/X22,0)","v":0},null,{"$f":"IFERROR(Z29/Z22,0)","v":0},{"$f":"IFERROR(AA29/AA22,0)","v":0},{"$f":"IFERROR((AC30*AC18+AD30*AD18)/AB18,0)","v":0},{"$f":"IFERROR(AC29/AC22,0)","v":0},{"$f":"IFERROR(AD29/AD22,0)","v":0},null,{"$f":"IFERROR(AF29/AF22,0)","v":0},{"$f":"IFERROR(AG29/AG22,0)","v":0},{"$f":"IFERROR((AI30*AI18+AJ30*AJ18)/AH18,0)","v":0},{"$f":"IFERROR(AI29/AI22,0)","v":0},{"$f":"IFERROR(AJ29/AJ22,0)","v":0},null,{"$f":"IFERROR(AL29/AL22,0)","v":0},{"$f":"IFERROR(AM29/AM22,0)","v":0},{"$f":"IFERROR((AO30*AO18+AP30*AP18)/AN18,0)","v":0},{"$f":"IFERROR(AO29/AO22,0)","v":0},{"$f":"IFERROR(AP29/AP22,0)","v":0},null,{"$f":"IFERROR(AR29/AR22,0)","v":0},{"$f":"IFERROR(AS29/AS22,0)","v":0},{"$f":"IFERROR((AU30*AU18+AV30*AV18)/AT18,0)","v":0},{"$f":"IFERROR(AU29/AU22,0)","v":0},{"$f":"IFERROR(AV29/AV22,0)","v":0},null,{"$f":"IFERROR(AX29/AX22,0)","v":0},{"$f":"IFERROR(AY29/AY22,0)","v":0}]
[null,null,null,null,null,"3.5","Двухставочный тариф:"]
[null,null,null,null,null,"3.5.1","ставка на содержание сетей","руб./ МВт мес",{"$f":"IF((I20*12)=0,0,(J32*6*J20+K32*6*K20)/(I20*12))","v":0},null,null,null,null,null,null,null,null,null,{"$f":"IF((S20*12)=0,0,(T32*6*T20+U32*6*U20)/(S20*12))","v":0},null,null,{"$f":"IF((V20*12)=0,0,(W32*6*W20+X32*6*X20)/(V20*12))","v":0},{"$f":"IFERROR(('8_Расчет НВВ '!P111*W28)/(W27)/6*1000,0)","v":0},{"$f":"IFERROR(('8_Расчет НВВ '!P111*X28)/(X27)/6*1000,0)","v":0},null,{"$f":"IFERROR(('8_Расчет НВВ '!X111*Z28)/(Z27)/6*1000,0)","v":0},{"$f":"IFERROR(('8_Расчет НВВ '!X111*AA28)/(AA27)/6*1000,0)","v":0},{"$f":"IF((AB20*12)=0,0,(AC32*6*AC20+AD32*6*AD20)/(AB20*12))","v":0},{"$f":"IFERROR(('8_Расчет НВВ '!AA111*AC28)/(AC27)/6*1000,0)","v":0},{"$f":"IFERROR(('8_Расчет НВВ '!AA111*AD28)/(AD27)/6*1000,0)","v":0},null,{"$f":"IFERROR(AF16/(AF27)/6*1000,0)","v":0},{"$f":"IFERROR(AG16/(AG27)/6*1000,0)","v":0},{"$f":"IF((AH20*12)=0,0,(AI32*6*AI20+AJ32*6*AJ20)/(AH20*12))","v":0},{"$f":"IFERROR(('8_Расчет НВВ '!AG111*AI28)/(AI27)/6*1000,0)","v":0},{"$f":"IFERROR(('8_Расчет НВВ '!AG111*AJ28)/(AJ27)/6*1000,0)","v":0},null,{"$f":"IFERROR(AL16/(AL27)/6*1000,0)","v":0},{"$f":"IFERROR(AM16/(AM27)/6*1000,0)","v":0},{"$f":"IF((AN20*12)=0,0,(AO32*6*AO20+AP32*6*AP20)/(AN20*12))","v":0},{"$f":"IFERROR(('8_Расчет НВВ '!AM111*AO28)/(AO27)/6*1000,0)","v":0},{"$f":"IFERROR(('8_Расчет НВВ '!AM111*AP28)/(AP27)/6*1000,0)","v":0},null,{"$f":"IFERROR(AR16/(AR27)/6*1000,0)","v":0},{"$f":"IFERROR(AS16/(AS27)/6*1000,0)","v":0},{"$f":"IF((AT20*12)=0,0,(AU32*6*AU20+AV32*6*AV20)/(AT20*12))","v":0},{"$f":"IFERROR(('8_Расчет НВВ '!AS111*AU28)/(AU27)/6*1000,0)","v":0},{"$f":"IFERROR(('8_Расчет НВВ '!AS111*AV28)/(AV27)/6*1000,0)","v":0},null,{"$f":"IFERROR(AX16/(AX27)/6*1000,0)","v":0},{"$f":"IFERROR(AY16/(AY27)/6*1000,0)","v":0}]
[null,null,null,null,null,"3.5.2","ставка на компенсацию потерь","руб./тыс. кВтч",{"$f":"(J33*J18+K33*K18)/I18","v":0},null,null,null,null,null,null,null,null,null,{"$f":"(T33*T18+U33*U18)/S18","v":0},null,null,{"$f":"IFERROR((W33*W18+X33*X18)/V18,0)","v":0},{"$f":"IFERROR(W25/W22,0)","v":0},{"$f":"IFERROR(X25/X22,0)","v":0},null,{"$f":"IFERROR(Z25/Z22,0)","v":0},{"$f":"IFERROR(AA25/AA22,0)","v":0},{"$f":"IFERROR((AC33*AC18+AD33*AD18)/AB18,0)","v":0},{"$f":"IFERROR(AC25/AC22,0)","v":0},{"$f":"IFERROR(AD25/AD22,0)","v":0},null,{"$f":"IFERROR(AF25/AF22,0)","v":0},{"$f":"IFERROR(AG25/AG22,0)","v":0},{"$f":"IFERROR((AI33*AI18+AJ33*AJ18)/AH18,0)","v":0},{"$f":"IFERROR(AI25/AI22,0)","v":0},{"$f":"IFERROR(AJ25/AJ22,0)","v":0},null,{"$f":"IFERROR(AL25/AL22,0)","v":0},{"$f":"IFERROR(AM25/AM22,0)","v":0},{"$f":"IFERROR((AO33*AO18+AP33*AP18)/AN18,0)","v":0},{"$f":"IFERROR(AO25/AO22,0)","v":0},{"$f":"IFERROR(AP25/AP22,0)","v":0},null,{"$f":"IFERROR(AR25/AR22,0)","v":0},{"$f":"IFERROR(AS25/AS22,0)","v":0},{"$f":"IFERROR((AU33*AU18+AV33*AV18)/AT18,0)","v":0},{"$f":"IFERROR(AU25/AU22,0)","v":0},{"$f":"IFERROR(AV25/AV22,0)","v":0},null,{"$f":"IFERROR(AX25/AX22,0)","v":0},{"$f":"IFERROR(AY25/AY22,0)","v":0}]

{"sheet":"9 Тариф снизу","index":29,"n_rows":134,"n_cols":18,"rows_kept":134,"cut":false,"hidden":true,"merged":[[7,4,7,5],[18,5,18,7],[8,5,8,8],[13,4,15,4],[13,5,15,5],[13,6,15,6],[13,7,13,11],[13,17,15,17],[14,7,15,7],[14,8,15,8],[14,9,15,9],[14,10,15,10],[14,11,15,11],[14,12,15,12],[14,13,15,13],[14,14,15,14],[14,15,15,15],[13,12,13,16],[14,16,15,16],[26,5,26,7],[129,5,129,7],[76,5,76,7],[87,5,87,7],[105,5,105,7],[113,5,113,7],[122,5,122,7],[80,5,80,7]]}
[{"$f":"IFERROR(IF(REPORT_OWNER=\"Версия организации\",\"HIDDEN\",IF(A2=\"HIDDEN\",\"HIDDEN\",\"VISIBLE\")),0)","v":"HIDDEN"},"HIDDEN"]
[]
[]
[]
[]
[]
[]
[null,null,null,null,"Список листов"]
[null,null,null,null,null,"Расчет тарифа на услуги по передаче электрической энергии"]
[]
[]
[]
[]
[null,null,null,null,"№ п/п","Исходные данные","Ед. изм.","I полугодие",null,null,null,null,"II полугодие",null,null,null,null,{"$f":"\"Всего, \"&Титульный!E23&\" год\"","v":"Всего,  год"}]
[null,null,null,null,null,null,null,"Всего","ВН","СН1","СН2","НН","Всего","ВН","СН1","СН2","НН"]
[]
[]
[]
[null,null,null,null,null,"Тарифная  выручка"]
[null,null,null,null,"1","Тарифная  выручка ","тыс. руб.",{"$f":"H23+H24","v":0},{"$f":"IFERROR(I23+I24,0)","v":0},0,0,0,0,0,0,0,0,0]
[null,null,null,null,"2","Условные единицы","УЕ",{"$f":"'7_Свод УЕ '!L40","v":0},{"$f":"IFERROR('7_Свод УЕ '!H40,0)","v":0},{"$f":"IFERROR('7_Свод УЕ '!I40,0)","v":0},{"$f":"IFERROR('7_Свод УЕ '!J40,0)","v":0},{"$f":"IFERROR('7_Свод УЕ '!K40,0)","v":0},{"$f":"IFERROR(H21,0)","v":0},0,0,0,0,0]
[null,null,null,null,"2.1","Доля условных единиц","%",100,{"$f":"IFERROR(I21*100/$H$21,0)","v":0},{"$f":"IFERROR(J21*100/$H$21,0)","v":0},{"$f":"IFERROR(K21*100/$H$21,0)","v":0},{"$f":"IFERROR(L21*100/$H$21,0)","v":0},100,{"$f":"IFERROR(N21*100/$H$21,0)","v":0},{"$f":"IFERROR(O21*100/$H$21,0)","v":0},{"$f":"IFERROR(P21*100/$H$21,0)","v":0},{"$f":"IFERROR(Q21*100/$H$21,0)","v":0}]
[null,null,null,null,"3","НВВ на содержание электрических сетей","тыс. руб.",{"$f":"'8_Расчет НВВ '!U111","v":0},{"$f":"IFERROR($H$23*I22/100,0)","v":0},{"$f":"IFERROR($H$23*J22/100,0)","v":0},{"$f":"IFERROR($H$23*K22/100,0)","v":0},{"$f":"IFERROR($H$23*L22/100,0)","v":0},{"$f":"IFERROR('8_Расчет НВВ '!V111,0)","v":0},{"$f":"IFERROR($M$23*N22/100,0)","v":0},{"$f":"IFERROR($M$23*O22/100,0)","v":0},{"$f":"IFERROR($M$23*P22/100,0)","v":0},{"$f":"IFERROR($M$23*Q22/100,0)","v":0},{"$f":"IFERROR(M23+H23,0)","v":0}]
[null,null,null,null,"4","Затраты на оплату технологических потерь ","тыс.руб.",{"$f":"SUM(I24:L24)","v":0},{"$f":"H29*H40+H39*H28","v":0},null,null,null,{"$f":"SUM(N24:Q24)","v":0},{"$f":"M29*M40+M39*M28","v":0},null,null,null,{"$f":"M24+H24","v":0}]
[null,null,null,null,"5","Отпуск электрической энергии в сеть ","тыс кВт.ч.",{"$f":"SUM(I25:L25)","v":0},null,null,null,null,{"$f":"SUM(N25:Q25)","v":0},null,null,null,null,{"$f":"M25+H25","v":0}]
[null,null,null,null,"6","Потери электрической энергии в сети","тыс кВт.ч.",{"$f":"H28+H29","v":0},{"$f":"I28+I29","v":0},0,0,0,0,0,0,0,0,{"$f":"M26+H26","v":0}]
[]
[]
[]
[null,null,null,null,"7","Норматив потерь электрической энергии","%",{"$f":"IF(H25*100=0,0,H26/H25*100)","v":0},null,null,null,null,{"$f":"IF(M25*100=0,0,M26/M25*100)","v":0},null,null,null,null,{"$f":"IF(R25*100=0,0,R26/R25*100)","v":0}]
[null,null,null,null,"8","Расход электроэнергии на производственные и хозяйственные нужды (собственное потребление организаций, для которых оказание услуг по передаче не является основным видом деятельности)","тыс кВт.ч.",{"$f":"SUM(I31:L31)","v":0},null,null,null,null,{"$f":"SUM(N31:Q31)","v":0},null,null,null,null,{"$f":"M31+H31","v":0}]
[null,null,null,null,"9","Отпуск электрической энергии из сети","тыс кВт.ч.",{"$f":"H25-H26","v":0},null,null,null,null,{"$f":"M25-M26","v":0},null,null,null,null,{"$f":"M32+H32","v":0}]
[null,null,null,null,"10","Отпуск электрической мощности в сеть","МВт",{"$f":"SUM(I33:L33)","v":0},null,null,null,null,{"$f":"SUM(N33:Q33)","v":0},null,null,null,null,{"$f":"(M33+H33)/2","v":0}]
[null,null,null,null,"11","Потери электрической мощности в сети","МВт",{"$f":"SUM(I34:L34)","v":0},null,null,null,null,{"$f":"SUM(N34:Q34)","v":0},null,null,null,null,{"$f":"(M34+H34)/2","v":0}]
[null,null,null,null,"12","Полезный отпуск мощности (заявленная мощность)","МВт",{"$f":"SUM(I35:L35)","v":0},null,null,null,null,{"$f":"SUM(N35:Q35)","v":0},null,null,null,null,{"$f":"(M35+H35)/2","v":0}]
[null,null,null,null,"13","Доля \"в котле\"",null,{"$f":"IF((H32+H31)=0,0,H32/(H32+H31))","v":0},null,null,null,null,{"$f":"IF((M32+M31)=0,0,M32/(M32+M31))","v":0},null,null,null,null,{"$f":"IF((R32+R31)=0,0,R32/(R32+R31))","v":0}]
[null,null,null,null,"14","Коэффициент деления по полугодиям",null,{"$f":"R37-M37","v":1},null,null,null,null,null,null,null,null,null,1]
[]
[]
[]
[]
[]
[]
[null,null,null,null,null,"Единые котловые тарифы "]
[]
[null,null,null,null,"16","Население"]
[null,null,null,null,"16.1","Население городское газовые плиты (в том числе по зонам суток)","руб./кВт.ч."]
[null,null,null,null,"16.2","Население городское, электроплиты (в том числе по зонам суток)","руб./кВт.ч."]
[null,null,null,null,"16.3","Население сельское (в том числе по зонам суток)","руб./кВт.ч."]
[null,null,null,null,"16.4","Садоводческие товарищества (в том числе по зонам суток)","руб./кВт.ч."]
[null,null,null,null,"16.5","Юр лица (осужденные) (в том числе по зонам суток)","руб./кВт.ч."]
[null,null,null,null,"16.6","Религиозные организации (втом числе по зонам суток)","руб./кВт.ч."]
[null,null,null,null,"16.7","Гаражи, сараи (в том числе по зонам суток)","руб./кВт.ч."]
[null,null,null,null,"17","Прочие потребители"]
[null,null,null,null,"17.1","Одноставочный","руб./кВт.ч."]
[null,null,null,null,"17.2","Ставка на содержание","руб./МВт.мес"]
[null,null,null,null,"17.3","Ставка на потери","руб./кВт.ч."]
[null,null,null,null,null,"Объем оказываемых услуг"]
[]
[null,null,null,null,"18","Население, Всего","тыс кВт.ч.",{"$f":"H61+H62+H63+H64+H65+H66+H67","v":0},{"$f":"SUM(I61:I67)","v":0},{"$f":"SUM(J61:J67)","v":0},0,0,{"$f":"M61+M62+M63+M64+M65+M66+M67","v":0},0,0,0,0,{"$f":"H60+M60","v":0}]
[null,null,null,null,"18.1","Население городское газовые плиты (в том числе по зонам суток)","тыс кВт.ч.",{"$f":"SUM(I61:L61)","v":0},null,null,null,null,{"$f":"SUM(N61:Q61)","v":0},null,null,null,null,{"$f":"H61+M61","v":0}]
[null,null,null,null,"18.2","Население городское, электроплиты (в том числе по зонам суток)","тыс кВт.ч.",{"$f":"SUM(I62:L62)","v":0},null,null,null,null,{"$f":"SUM(N62:Q62)","v":0},null,null,null,null,0]
[null,null,null,null,"18.3","Население сельское (в том числе по зонам суток)","тыс кВт.ч.",0,null,null,null,null,0,null,null,null,null,0]
[null,null,null,null,"18.4","Садоводческие товарищества (в том числе по зонам суток)","тыс кВт.ч.",0,null,null,null,null,0,null,null,null,null,0]
[null,null,null,null,"18.5","Юр лица (осужденные) (в том числе по зонам суток)","тыс кВт.ч.",0,null,null,null,null,0,null,null,null,null,0]
[null,null,null,null,"18.6","Религиозные организации (втом числе по зонам суток)","тыс кВт.ч.",0,null,null,null,null,0,null,null,null,null,0]
[null,null,null,null,"18.7","Гаражи, сараи (в том числе по зонам суток)","тыс кВт.ч.",0,null,null,null,null,0,null,null,null,null,0]
[null,null,null,null,"18.8","Мощность потребителей, относящихся к населению и приравненным категориям","МВт",{"$f":"SUM(I68:L68)","v":0},null,null,null,null,{"$f":"SUM(N68:Q68)","v":0},null,null,null,null,{"$f":"(H68+M68)/2","v":0}]
[null,null,null,null,"19","Прочие потребители, всего","тыс кВт.ч.",{"$f":"SUM(I69:L69)","v":0},{"$f":"I71+I74","v":0},{"$f":"J71+J74","v":0},0,0,{"$f":"SUM(N69:Q69)","v":0},0,0,0,{"$f":"Q71+Q74","v":0},{"$f":"H69+M69","v":0}]
[null,null,null,null,null,"Рассчитывающиеся по одноставочному тарифу"]
[null,null,null,null,"19.1","Полезный отпуск ","тыс кВт.ч.",{"$f":"SUM(I71:L71)","v":0},null,null,null,null,{"$f":"SUM(N71:Q71)","v":0},null,null,null,null,{"$f":"H71+M71","v":0}]
[null,null,null,null,"19.2","Заявленная мощность","МВт",{"$f":"SUM(I72:L72)","v":0},null,null,null,null,{"$f":"SUM(N72:Q72)","v":0},null,null,null,null,{"$f":"(H72+M72)/2","v":0}]
[null,null,null,null,null,"Рассчитывающиеся по двухставочному тарифу"]
[null,null,null,null,"20","Полезный отпуск ","тыс кВт.ч.",{"$f":"SUM(I74:L74)","v":0},null,null,null,null,{"$f":"SUM(N74:Q74)","v":0},null,null,null,null,{"$f":"H74+M74","v":0}]
[null,null,null,null,"21","Заявленная мощность","МВт",{"$f":"SUM(I75:L75)","v":0},null,null,null,null,{"$f":"SUM(N75:Q75)","v":0},null,null,null,null,{"$f":"(H75+M75)/2","v":0}]
[]
[null,null,null,null,null,"Итого объем услуг, оказанных в зоне рассчетов по единым котловым тарифам"]
[]
[null,null,null,null,"22","Полезный отпуск ","тыс кВт.ч.",{"$f":"SUM(I79:L79)","v":0},{"$f":"I69+I60","v":0},{"$f":"J69+J60","v":0},0,0,{"$f":"SUM(N79:Q79)","v":0},0,0,{"$f":"P69+P60","v":0},0,{"$f":"H79+M79","v":0}]
[null,null,null,null,"23","Заявленная мощность","МВт",{"$f":"SUM(I80:L80)","v":0},{"$f":"I75+I68+I72","v":0},{"$f":"J75+J68+J72","v":0},{"$f":"K75+K68+K72","v":0},{"$f":"L75+L68+L72","v":0},{"$f":"SUM(N80:Q80)","v":0},{"$f":"N75+N68+N72","v":0},{"$f":"O75+O68+O72","v":0},{"$f":"P75+P68+P72","v":0},{"$f":"Q75+Q68+Q72","v":0},{"$f":"(H80+M80)/2","v":0}]
[null,null,null,null,null,"Потери э/э в зоне расчетов по единым котловым тарифам"]
[null,null,null,null,"24","Относимые на группу \"Население\""]
[null,null,null,null,"24.1","Электроэнергия","тыс кВт.ч.",{"$f":"SUM(I83:L83)","v":0},null,null,null,null,{"$f":"SUM(N83:Q83)","v":0},null,null,null,null,{"$f":"H83+M83","v":0}]
[null,null,null,null,"24.2","Мощность ","МВт",{"$f":"SUM(I84:L84)","v":0},null,null,null,null,{"$f":"SUM(N84:Q84)","v":0},null,null,null,null,{"$f":"(H84+M84)/2","v":0}]
[null,null,null,null,"25","Относимые на группу \"Прочие\""]
[null,null,null,null,"25.1","Электроэнергия","тыс кВт.ч.",{"$f":"SUM(I86:L86)","v":0},null,null,null,null,{"$f":"SUM(N86:Q86)","v":0},null,null,null,null,{"$f":"H86+M86","v":0}]
[null,null,null,null,"25.2","Мощность ","МВт",{"$f":"SUM(I87:L87)","v":0},null,null,null,null,{"$f":"SUM(N87:Q87)","v":0},null,null,null,null,{"$f":"(H87+M87)/2","v":0}]
[null,null,null,null,null,"Тарифная выручка в зоне расчетов по единым котловым тарифам"]
[]
[null,null,null,null,"26","Население","тыс.руб.",{"$f":"SUM(I90:L90)","v":0},{"$f":"SUM(I91:I97)","v":0},{"$f":"SUM(J91:J97)","v":0},{"$f":"SUM(K91:K97)","v":0},{"$f":"SUM(L91:L97)","v":0},{"$f":"SUM(N90:Q90)","v":0},{"$f":"SUM(N91:N97)","v":0},{"$f":"SUM(O91:O97)","v":0},{"$f":"SUM(P91:P97)","v":0},{"$f":"SUM(Q91:Q97)","v":0},{"$f":"H90+M90","v":0}]
[null,null,null,null,"26.1","Население городское газовые плиты (в том числе по зонам суток)","тыс.руб.",{"$f":"SUM(I91:L91)","v":0},{"$f":"I47*I61","v":0},0,0,0,{"$f":"SUM(N91:Q91)","v":0},{"$f":"N47*N61","v":0},0,0,0,{"$f":"H91+M91","v":0}]
[null,null,null,null,"26.2","Население городское, электроплиты (в том числе по зонам суток)","тыс.руб.",0,0,0,0,0,0,0,0,0,0,0]
[null,null,null,null,"26.3","Население сельское (в том числе по зонам суток)","тыс.руб.",0,0,0,0,0,0,0,0,{"$f":"P49*P63","v":0},0,0]
[null,null,null,null,"26.4","Садоводческие товарищества (в том числе по зонам суток)","тыс.руб.",0,0,0,0,0,0,0,0,0,0,0]
[null,null,null,null,"26.5","Юр лица (осужденные) (в том числе по зонам суток)","тыс.руб.",0,0,0,0,0,0,0,0,0,0,0]
[null,null,null,null,"26.6","Религиозные организации (втом числе по зонам суток)","тыс.руб.",0,0,0,0,0,0,0,0,{"$f":"P52*P66","v":0},0,0]
[null,null,null,null,"26.7","Гаражи, сараи (в том числе по зонам суток)","тыс.руб.",0,0,0,0,0,0,0,0,0,0,0]
[null,null,null,null,"27","Прочие потребители","тыс.руб.",{"$f":"H99+H100","v":0},0,0,0,0,0,0,0,0,0,0]
[null,null,null,null,"27.1","Одноставочный","тыс.руб.",{"$f":"SUM(I99:L99)","v":0},{"$f":"I71*I55","v":0},{"$f":"J71*J55","v":0},{"$f":"K71*K55","v":0},{"$f":"L71*L55","v":0},{"$f":"SUM(N99:Q99)","v":0},{"$f":"N71*N55","v":0},{"$f":"O71*O55","v":0},{"$f":"P71*P55","v":0},{"$f":"Q71*Q55","v":0},0]
[null,null,null,null,"28","Двухставочный","тыс.руб.",{"$f":"SUM(I100:L100)","v":0},{"$f":"I101+I102","v":0},{"$f":"J101+J102","v":0},{"$f":"K101+K102","v":0},{"$f":"L101+L102","v":0},{"$f":"SUM(N100:Q100)","v":0},{"$f":"N101+N102","v":0},{"$f":"O101+O102","v":0},{"$f":"P101+P102","v":0},{"$f":"Q101+Q102","v":0},0]
[null,null,null,null,"28.1","Ставка на содержание","тыс.руб.",{"$f":"SUM(I101:L101)","v":0},{"$f":"I56*I75*6/1000","v":0},{"$f":"J56*J75*6/1000","v":0},{"$f":"K56*K75*6/1000","v":0},{"$f":"L56*L75*6/1000","v":0},{"$f":"SUM(N101:Q101)","v":0},{"$f":"N56*N75*6/1000","v":0},{"$f":"O56*O75*6/1000","v":0},{"$f":"P56*P75*6/1000","v":0},{"$f":"Q56*Q75*6/1000","v":0},0]
[null,null,null,null,"28.2","Ставка на потери","тыс.руб.",{"$f":"SUM(I102:L102)","v":0},{"$f":"I57*I74","v":0},{"$f":"J57*J74","v":0},{"$f":"K57*K74","v":0},{"$f":"L57*L74","v":0},{"$f":"SUM(N102:Q102)","v":0},{"$f":"N57*N74","v":0},{"$f":"O57*O74","v":0},{"$f":"P57*P74","v":0},{"$f":"Q57*Q74","v":0},0]
[null,null,null,null,"29","Итого тарифная выручка","тыс.руб.",{"$f":"H98+H90","v":0},{"$f":"I98+I90","v":0},{"$f":"J98+J90","v":0},0,0,{"$f":"M98+M90","v":0},0,0,0,0,{"$f":"H103+M103","v":0}]
[]
[]
[null,null,null,null,null,"В зоне оплаты по идивидуальным тарифам на услуги по передаче электрической энергии"]
[]
[null,null,null,null,"30","Экономически обоснованная выручка ","тыс.руб.",{"$f":"H20-H103","v":0},null,null,null,null,{"$f":"M20-M103","v":0},null,null,null,null,{"$f":"M108+H108","v":0}]
[null,null,null,null,"31","НВВ на содержание электрических сетей","тыс.руб.",{"$f":"H108-H110","v":0},null,null,null,null,{"$f":"M108-M110","v":0},null,null,null,null,{"$f":"M109+H109","v":0}]
[null,null,null,null,"32","Затраты на оплату технологических потерь ","тыс.руб.",{"$f":"(H118-H29)*H39+H29*H40","v":0},null,null,null,null,{"$f":"(M118-M29)*M39+M29*M40","v":0},null,null,null,null,{"$f":"M110+H110","v":0}]
[]
[]
[]
[null,null,null,null,null,"В зоне оплаты по индивидуальным тарифам на услуги по передаче э/э"]
[]
[null,null,null,null,null,"Балансовые показатели"]
[null,null,null,null,"33","Отпуск электрической энергии в сеть","тыс кВт.ч.",{"$f":"H25-H79-H83-H86","v":0},null,null,null,null,{"$f":"M25-M79-M83-M86","v":0},null,null,null,null,{"$f":"M117+H117","v":0}]
[null,null,null,null,"34","Потери электрической энергии","тыс кВт.ч.",{"$f":"H28+H29-H83-H86","v":0},null,null,null,null,{"$f":"M28+M29-M83-M86","v":0},null,null,null,null,{"$f":"M118+H118","v":0}]
[null,null,null,null,"35","Отпуск электрической энергии из сети","тыс кВт.ч.",{"$f":"H32-H79-H83-H86","v":0},null,null,null,null,{"$f":"M32-M79-M83-M86","v":0},null,null,null,null,{"$f":"M119+H119","v":0}]
[null,null,null,null,"36","Заявленная мощность потребителей","МВт",{"$f":"H35-H68-H72-H75","v":0},null,null,null,null,{"$f":"M35-M68-M72-M75","v":0},null,null,null,null,{"$f":"R33-R80-R84-R87","v":0}]
[]
[]
[null,null,null,null,null,"Индивидуальные тарифы на услуги по передаче электрической энергии"]
[]
[null,null,null,null,"37","Одноставочный тариф","руб./кВт ч",{"$f":"IF(H117=0,0,H108/H117)","v":0},null,null,null,null,{"$f":"IF(M117=0,0,M108/M117)","v":0}]
[null,null,null,null,"38","Двухставочный тариф"]
[null,null,null,null,"39","Ставка на содержание электрических сетей","руб./МВТ мес",{"$f":"IFERROR(H109/H120/6*1000,0)","v":0},null,null,null,null,{"$f":"IFERROR(M109/M120/6*1000,0)","v":0}]
[null,null,null,null,"40","Ставка на оплату технологического расхода (потерь) ","руб./МВт ч",{"$f":"IF(H117*1000=0,0,H110/H117*1000)","v":0},null,null,null,null,{"$f":"IF(M117*1000=0,0,M110/M117*1000)","v":0}]
[null,null,null,null,"41"]
[null,null,null,null,null,"Проверка сходимости НВВ"]
[null,null,null,null,"41","выручка по двухставочному минус выручка по одноставочному","тыс.руб.",{"$f":"H127*H120*6/1000+H128*H117/1000-H125*H117","v":0},null,null,null,null,{"$f":"M127*M120*6/1000+M128*M117/1000-M125*M117","v":0}]
[null,null,null,null,"42","выручка по двухставочному минус ЭО выручка","тыс.руб.",{"$f":"H128*H117/1000+H127*H120*6/1000-H108","v":0},null,null,null,null,{"$f":"M128*M117/1000+M127*M120*6/1000-M108","v":0}]
[null,null,null,null,"43","выручка по двухставочному минус ЭО выручка","тыс.руб.",{"$f":"H125*H117-H108","v":0},null,null,null,null,{"$f":"M125*M117-M108","v":0}]
[null,null,null,null,"44","выручка по тарифам минус расчетная выручка","тыс.руб.",{"$f":"H108+H103-H20","v":0},null,null,null,null,{"$f":"M108+M103-M20","v":0}]

{"sheet":"ЭЗ","index":30,"n_rows":310,"n_cols":25,"rows_kept":310,"cut":false,"hidden":true,"merged":[[309,6,309,10],[309,13,309,14],[312,6,312,12],[312,15,312,16],[314,6,314,12],[314,15,314,16],[307,6,307,10],[307,13,307,14],[307,16,307,17],[307,21,307,22],[308,6,308,10],[308,13,308,14],[308,16,308,17],[308,21,308,22],[305,6,305,10],[305,13,305,14],[305,16,305,17],[305,21,305,22],[306,6,306,10],[306,13,306,14],[306,16,306,17],[306,21,306,22],[303,16,303,17],[303,21,303,22],[304,6,304,10],[304,13,304,14],[304,16,304,17],[304,21,304,22],[301,6,301,10],[301,13,301,14],[302,6,302,10],[302,13,302,14],[303,6,303,10],[303,13,303,14],[298,6,298,10],[298,13,298,14],[299,6,299,10],[299,13,299,14],[300,6,300,10],[300,13,300,14],[295,6,295,10],[295,13,295,14],[296,6,296,10],[296,13,296,14],[297,6,297,10],[297,13,297,14],[290,6,290,24],[292,6,294,10],[292,11,293,11],[292,12,292,14],[293,13,293,14],[294,13,294,14],[285,6,285,10],[285,13,285,24],[286,6,286,10],[286,13,286,24],[287,6,287,10],[287,13,287,24],[282,6,282,10],[282,13,282,24],[283,6,283,10],[283,13,283,24],[284,6,284,10],[284,13,284,24],[277,7,277,24],[279,6,279,10],[279,13,279,23],[280,6,280,10],[280,13,280,24],[281,6,281,10],[281,13,281,24],[271,7,271,24],[272,7,272,24],[273,7,273,24],[274,7,274,24],[275,7,275,24],[276,7,276,24],[266,7,266,10],[266,14,266,15],[267,7,267,10],[267,14,267,15],[269,7,269,24],[270,7,270,24],[263,7,263,10],[263,14,263,15],[264,7,264,10],[264,14,264,15],[265,7,265,10],[265,14,265,15],[260,7,260,10],[260,14,260,15],[261,7,261,10],[261,14,261,15],[262,7,262,10],[262,14,262,15],[257,7,257,10],[257,14,257,15],[258,7,258,10],[258,14,258,15],[259,7,259,10],[259,14,259,15],[254,7,254,10],[254,14,254,15],[255,7,255,10],[255,14,255,15],[256,7,256,10],[256,14,256,15],[251,7,251,10],[251,14,251,15],[252,7,252,10],[252,14,252,15],[253,7,253,10],[253,14,253,15],[247,14,247,15],[248,7,248,10],[248,14,248,15],[249,7,249,10],[249,14,249,15],[250,7,250,10],[250,14,250,15],[245,6,247,6],[245,7,247,10],[245,11,247,11],[245,12,245,13],[245,14,245,24],[246,12,246,13],[246,14,246,16],[246,17,247,17],[246,18,246,23],[246,24,247,24],[240,7,240,10],[240,14,240,15],[240,17,240,18],[241,7,241,10],[241,14,241,15],[241,17,241,18],[238,7,238,10],[238,14,238,15],[238,17,238,18],[239,7,239,10],[239,14,239,15],[239,17,239,18],[236,7,236,10],[236,14,236,15],[236,17,236,18],[237,7,237,10],[237,14,237,15],[237,17,237,18],[234,7,234,10],[234,14,234,15],[234,17,234,18],[235,7,235,10],[235,14,235,15],[235,17,235,18],[232,7,232,10],[232,14,232,15],[232,17,232,18],[233,7,233,10],[233,14,233,15],[233,17,233,18],[230,7,230,10],[230,14,230,15],[230,17,230,18],[231,7,231,10],[231,14,231,15],[231,17,231,18],[228,7,228,10],[228,14,228,15],[228,17,228,18],[229,7,229,10],[229,14,229,15],[229,17,229,18],[226,7,226,10],[226,14,226,15],[226,17,226,18],[227,7,227,10],[227,14,227,15],[227,17,227,18],[224,7,224,10],[224,14,224,15],[224,17,224,18],[225,7,225,10],[225,14,225,15],[225,17,225,18],[222,7,222,10],[222,14,222,15],[222,17,222,18],[223,7,223,10],[223,14,223,15],[223,17,223,18],[219,24,221,24],[220,12,220,13],[220,14,220,16],[220,17,220,23],[221,14,221,15],[221,17,221,18],[218,14,218,15],[219,6,221,6],[219,7,221,10],[219,11,221,11],[219,12,219,13],[219,14,219,23],[215,6,215,10],[215,12,215,13],[215,14,215,15],[215,16,215,17],[216,6,216,10],[216,12,216,13],[216,14,216,15],[216,16,216,17],[213,6,213,10],[213,12,213,13],[213,14,213,15],[213,16,213,17],[214,6,214,10],[214,12,214,13],[214,14,214,15],[214,16,214,17],[211,6,211,10],[211,12,211,13],[211,14,211,15],[211,16,211,17],[212,6,212,10],[212,12,212,13],[212,14,212,15],[212,16,212,17],[207,14,207,15],[207,24,208,24],[209,6,210,10],[209,11,210,11],[209,12,209,13],[209,14,209,17],[210,12,210,13],[210,14,210,15],[210,16,210,17],[204,19,204,21],[205,6,205,8],[205,12,205,14],[205,19,205,21],[205,24,206,24],[206,6,206,8],[206,12,206,14],[206,19,206,21],[199,6,199,10],[200,6,200,10],[201,6,201,10],[203,6,203,7],[204,6,204,8],[204,12,204,14],[191,6,191,10],[193,6,193,10],[194,6,194,10],[195,6,195,10],[196,6,196,10],[198,6,198,10],[185,7,185,24],[186,8,186,9],[186,11,186,12],[188,6,188,10],[189,6,189,10],[190,6,190,10],[180,7,180,10],[180,14,180,15],[181,14,181,15],[182,7,182,24],[183,7,183,24],[184,7,184,24],[177,7,177,10],[177,14,177,15],[178,7,178,10],[178,14,178,15],[179,7,179,10],[179,14,179,15],[174,7,174,10],[174,14,174,15],[175,7,175,10],[175,14,175,15],[176,7,176,10],[176,14,176,15],[170,24,171,24],[171,14,171,15],[172,7,172,10],[172,14,172,15],[173,7,173,10],[173,14,173,15],[167,6,167,24],[169,6,171,6],[169,7,171,10],[169,11,171,11],[169,12,169,13],[169,14,169,24],[170,12,170,13],[170,14,170,16],[170,17,171,17],[170,18,170,23],[164,7,164,10],[164,13,164,14],[164,17,164,24],[165,7,165,10],[165,13,165,14],[165,17,165,24],[162,7,162,10],[162,13,162,14],[162,17,162,24],[163,7,163,10],[163,13,163,14],[163,17,163,24],[160,7,160,10],[160,13,160,14],[160,17,160,24],[161,7,161,10],[161,13,161,14],[161,17,161,24],[158,7,158,10],[158,13,158,14],[158,17,158,24],[159,7,159,10],[159,13,159,14],[159,17,159,24],[156,7,156,10],[156,13,156,14],[156,17,156,24],[157,7,157,10],[157,13,157,14],[157,17,157,24],[154,7,154,10],[154,13,154,14],[154,17,154,24],[155,7,155,10],[155,13,155,14],[155,17,155,24],[152,7,152,10],[152,13,152,14],[152,17,152,24],[153,7,153,10],[153,13,153,14],[153,17,153,24],[150,7,150,10],[150,13,150,14],[150,17,150,24],[151,7,151,10],[151,13,151,14],[151,17,151,24],[148,7,148,10],[148,13,148,14],[148,17,148,24],[149,7,149,10],[149,13,149,14],[149,17,149,24],[146,7,146,10],[146,13,146,14],[146,17,146,24],[147,7,147,10],[147,13,147,14],[147,17,147,24],[142,7,142,10],[142,13,142,14],[142,17,142,24],[144,6,145,6],[144,7,145,10],[144,11,145,11],[144,12,144,14],[144,15,144,16],[144,17,145,24],[145,13,145,14],[140,7,140,10],[140,13,140,14],[140,17,140,24],[141,7,141,10],[141,13,141,14],[141,17,141,24],[138,7,138,10],[138,13,138,14],[138,17,138,24],[139,7,139,10],[139,13,139,14],[139,17,139,24],[136,7,136,10],[136,13,136,14],[136,17,136,24],[137,7,137,10],[137,13,137,14],[137,17,137,24],[134,7,134,10],[134,13,134,14],[134,17,134,24],[135,7,135,10],[135,13,135,14],[135,17,135,24],[132,7,132,10],[132,13,132,14],[132,17,132,24],[133,7,133,10],[133,13,133,14],[133,17,133,24],[130,7,130,10],[130,13,130,14],[130,17,130,24],[131,7,131,10],[131,13,131,14],[131,17,131,24],[128,7,128,10],[128,13,128,14],[128,17,128,24],[129,7,129,10],[129,13,129,14],[129,17,129,24],[126,7,126,10],[126,13,126,14],[126,17,126,24],[127,7,127,10],[127,13,127,14],[127,17,127,24],[124,7,124,10],[124,13,124,14],[124,17,124,24],[125,7,125,10],[125,13,125,14],[125,17,125,24],[122,7,122,10],[122,13,122,14],[122,17,122,24],[123,7,123,10],[123,13,123,14],[123,17,123,24],[120,7,120,10],[120,13,120,14],[120,17,120,24],[121,7,121,10],[121,13,121,14],[121,17,121,24],[118,7,118,10],[118,13,118,14],[118,17,118,24],[119,7,119,10],[119,13,119,14],[119,17,119,24],[116,7,116,10],[116,13,116,14],[116,17,116,24],[117,7,117,10],[117,13,117,14],[117,17,117,24],[114,7,114,10],[114,13,114,14],[114,17,114,24],[115,7,115,10],[115,13,115,14],[115,17,115,24],[112,7,112,10],[112,13,112,14],[112,17,112,24],[113,7,113,10],[113,13,113,14],[113,17,113,24],[110,7,110,10],[110,13,110,14],[110,17,110,24],[111,7,111,10],[111,13,111,14],[111,17,111,24],[106,6,106,24],[108,6,109,6],[108,7,109,10],[108,11,109,11],[108,12,108,14],[108,15,108,16],[108,17,109,24],[109,13,109,14],[102,7,102,11],[102,14,102,15],[102,18,102,19],[102,20,102,21],[102,22,102,23],[105,7,105,10],[105,13,105,15],[105,18,105,22],[100,22,100,23],[101,7,101,11],[101,12,101,13],[101,14,101,15],[101,16,101,17],[101,18,101,19],[101,20,101,21],[101,22,101,23],[100,7,100,11],[100,12,100,13],[100,14,100,15],[100,16,100,17],[100,18,100,19],[100,20,100,21],[98,22,98,23],[99,7,99,11],[99,12,99,13],[99,14,99,15],[99,16,99,17],[99,18,99,19],[99,20,99,21],[99,22,99,23],[98,7,98,11],[98,12,98,13],[98,14,98,15],[98,16,98,17],[98,18,98,19],[98,20,98,21],[96,22,96,23],[97,7,97,11],[97,12,97,13],[97,14,97,15],[97,16,97,17],[97,18,97,19],[97,20,97,21],[97,22,97,23],[96,7,96,11],[96,12,96,13],[96,14,96,15],[96,16,96,17],[96,18,96,19],[96,20,96,21],[94,22,94,23],[95,7,95,11],[95,12,95,13],[95,14,95,15],[95,16,95,17],[95,18,95,19],[95,20,95,21],[95,22,95,23],[94,7,94,11],[94,12,94,13],[94,14,94,15],[94,16,94,17],[94,18,94,19],[94,20,94,21],[92,22,92,23],[93,7,93,11],[93,12,93,13],[93,14,93,15],[93,16,93,17],[93,18,93,19],[93,20,93,21],[93,22,93,23],[92,7,92,11],[92,12,92,13],[92,14,92,15],[92,16,92,17],[92,18,92,19],[92,20,92,21],[90,22,90,23],[91,7,91,11],[91,12,91,13],[91,14,91,15],[91,16,91,17],[91,18,91,19],[91,20,91,21],[91,22,91,23],[90,7,90,11],[90,12,90,13],[90,14,90,15],[90,16,90,17],[90,18,90,19],[90,20,90,21],[88,22,88,23],[89,7,89,11],[89,12,89,13],[89,14,89,15],[89,16,89,17],[89,18,89,19],[89,20,89,21],[89,22,89,23],[88,7,88,11],[88,12,88,13],[88,14,88,15],[88,16,88,17],[88,18,88,19],[88,20,88,21],[85,6,86,6],[85,7,86,11],[85,12,85,15],[85,16,85,19],[85,20,86,23],[86,12,86,15],[86,16,86,19],[80,7,80,19],[80,20,80,21],[81,7,81,19],[81,20,81,21],[83,6,83,21],[83,22,83,24],[77,7,77,19],[77,20,77,21],[78,7,78,19],[78,20,78,21],[79,7,79,19],[79,20,79,21],[74,7,74,19],[74,20,74,21],[75,7,75,19],[75,20,75,21],[76,7,76,19],[76,20,76,21],[66,6,66,21],[68,6,68,21],[70,6,70,21],[72,7,72,19],[72,20,72,21],[73,7,73,19],[73,20,73,21],[59,6,59,24],[60,6,60,23],[61,6,61,24],[62,6,62,24],[63,6,63,24],[64,6,64,24],[53,6,53,24],[54,6,54,24],[55,6,55,24],[56,6,56,24],[57,6,57,24],[58,6,58,24],[46,6,46,21],[47,6,47,21],[49,6,49,21],[50,6,50,24],[51,6,51,24],[52,6,52,24],[38,6,38,24],[39,6,39,24],[40,6,40,24],[41,6,41,24],[42,6,42,24],[44,6,44,21],[31,6,31,21],[33,6,33,24],[34,6,34,24],[35,6,35,24],[36,6,36,24],[37,6,37,24],[28,6,28,11],[28,12,28,13],[28,14,28,15],[28,16,28,17],[28,18,28,19],[29,6,29,11],[29,12,29,19],[26,6,26,11],[26,12,26,13],[26,14,26,15],[26,16,26,17],[26,18,26,19],[27,6,27,11],[27,12,27,13],[27,14,27,15],[27,16,27,17],[27,18,27,19],[21,22,21,24],[23,6,23,21],[25,6,25,11],[25,12,25,13],[25,14,25,15],[25,16,25,17],[25,18,25,19],[19,6,19,10],[19,11,19,21],[20,6,20,10],[20,11,20,21],[21,6,21,10],[21,11,21,21],[12,6,12,24],[13,6,13,24],[15,6,15,21],[17,6,17,10],[17,11,17,21],[18,6,18,10],[18,11,18,21],[6,6,6,24],[7,6,7,24],[8,6,8,24],[9,6,9,24],[10,6,10,24],[11,6,11,24]]}
[{"$f":"IF(region_name<> \"Пермский край\",\"HIDDEN\",\"VISIBLE\")","v":"HIDDEN"}]
[]
[]
[]
[]
[]
[]
[]
[]
[]
[]
[]
[]
[null,null,null,null,null,null,{"$f":"\"Экспертное заключение об установлении (корректировке) тарифов на услуги по передаче электрической энергии по сетям \"&Титульный!E9&\" на \"&Титульный!E23&\" год в рамках долгосрочного периода регулирования (\"&Титульный!E25&\" г.г.)\"","v":"Экспертное заключение об установлении (корректировке) тарифов на услуги по передаче электрической энергии по сетям  на  год в рамках долгосрочного периода регулирования ( г.г.)"}]
[]
[null,null,null,null,null,null,"I Сведения об организации:"]
[]
[null,null,null,null,null,null,"Наименование:",null,null,null,null,{"$f":"Титульный!E9","v":0}]
[null,null,null,null,null,null,"ИНН/КПП",null,null,null,null,{"$f":"Титульный!E13&\" / \"&Титульный!E14","v":" / "}]
[null,null,null,null,null,null,"Реквизиты:",null,null,null,null,{"$f":"Титульный!E53","v":0}]
[null,null,null,null,null,null,"Ф.И.О. Руководителя",null,null,null,null,{"$f":"Титульный!E57","v":0}]
[null,null,null,null,null,null,"Уполномоченный по делу от организации:",null,null,null,null,{"$f":"Титульный!E65","v":0}]
[]
[null,null,null,null,null,null,"II Информация о рассмотрении дела об установлении тарифов:"]
[]
[null,null,null,null,null,null,"Действующие тарифы установлены постановлением:",null,null,null,null,null,"дата",null,null,null,"номер"]
[null,null,null,null,null,null,"Дата представления документов в регулирующий орган:",null,null,null,null,null,"дата"]
[null,null,null,null,null,null,"Приказ об открытии дела об установлении тарифов:",null,null,null,null,null,"дата",null,null,null,"номер"]
[null,null,null,null,null,null,"Дата начала и окончания экспертизы тарифов:",null,null,null,null,null,"начало",null,null,null,"окончание"]
[null,null,null,null,null,null,"Уполномоченный по делу:"]
[]
[null,null,null,null,null,null,"III Нормативно-правовые акты, применяемые при регулировании тарифов на услуги по передаче электрической энергии:"]
[]
[null,null,null,null,null,null,"1. Федеральный закон Российской Федерации от 26.03.2003 № 35-ФЗ «Об электроэнергетике»; "]
[null,null,null,null,null,null,"2. Постановление Правительства Российской Федерации от 29.12.2011 № 1178 «О ценообразовании в области регулируемых цен (тарифов) в электроэнергетике»;"]
[null,null,null,null,null,null,"3. Постановление Правительства Российской Федерации от 28.02.2015 № 184 «Об отнесении владельцев объектов электросетевого хозяйства к территориальным сетевым организациям»."]
[null,null,null,null,null,null,"4. Постановление Правительства Российской Федерации от 31.12.2009 № 1220 «Об определении применяемых при установлении долгосрочных тарифов показателей надежности и качества поставляемых товаров и оказываемых услуг»;"]
[null,null,null,null,null,null,"5. Приказ Федеральной службы по тарифам России от 28.03.2013 № 313-э «Об утверждении Регламента установления цен (тарифов) и (или) их предельных уровней, предусматривающего порядок регистрации, принятия к рассмотрению и выдачи отказов в рассмотрении заявлений об установлении цен (тарифов) и (или) их предельных уровней и формы принятия решения органом исполнительной власти субъекта Российской Федерации в области государственного регулирования тарифов»;"]
[null,null,null,null,null,null,"6. Приказ Федеральной службы по тарифам России от 06.08.2004 № 20-э/2 «Об утверждении Методических указаний по расчету регулируемых тарифов и цен на электрическую (тепловую) энергию на розничном (потребительском) рынке»;"]
[null,null,null,null,null,null,"7. Приказ Федеральной службы по тарифам России от 17.02.2012 № 98-э «Об утверждении методических указаний по расчету тарифов на услуги по передаче электрической энергии, устанавливаемых с применением метода долгосрочной индексации необходимой валовой выручки»;"]
[null,null,null,null,null,null,"8. Приказ Федеральной службы по тарифам России от 26.10.2010 № 254-э/1 «Об утверждении Методических указаний по расчету и применению понижающих (повышающих) коэффициентов, позволяющих обеспечить соответствие уровня тарифов, установленных для организаций, осуществляющих регулируемую деятельность, уровню надежности и качества поставляемых товаров и оказываемых услуг»;\n"]
[null,null,null,null,null,null,"9. Приказ Министерства энергетики Российской Федерации от 14.10.2013 г. № 718 «Об утверждении методических указаний по расчету уровня надежности и качества поставляемых товаров и оказываемых услуг для организации по управлению Единой национальной  (общероссийской) электрической сетью и территориальных сетевых организаций»;"]
[null,null,null,null,null,null,"10. Приказ Министерства энергетики Российской Федерации от 26.09.2017 № 887 «Об утверждении нормативов потерь электрической энергии при ее передаче по электрическим сетям территориальных сетевых организаций».\n\n"]
[]
[null,null,null,null,null,null,"IV Основные цели проведения экспертизы:"]
[]
[null,null,null,null,null,null,{"$f":"\"1. Оценка экономической обоснованности затрат организации  по передаче электрической энергии в \"&Титульный!E23&\" году;\"","v":"1. Оценка экономической обоснованности затрат организации  по передаче электрической энергии в  году;"}]
[null,null,null,null,null,null,{"$f":"\"2. Определение тарифов на услуги по передаче электрической энергии, оказываемые организацией  в \"&Титульный!E23&\" году, с учетом корректировки необходимой валовой выручки.\"","v":"2. Определение тарифов на услуги по передаче электрической энергии, оказываемые организацией  в  году, с учетом корректировки необходимой валовой выручки."}]
[]
[null,null,null,null,null,null,"V Материалы используемые для проведения экспертизы:"]
[null,null,null,null,null,null,{"$f":"\"1. Отчет по статьям затрат, включенных в расчет тарифов на услуги по передаче электрической энергии на \"&Титульный!E23-2&\" год (с приложением подтверждающих документов);\"","v":"1. Отчет по статьям затрат, включенных в расчет тарифов на услуги по передаче электрической энергии на -2 год (с приложением подтверждающих документов);"}]
[null,null,null,null,null,null,{"$f":"\"2. Договор на оказание услуг по передаче электрической энергии с \"&Титульный!E32","v":"2. Договор на оказание услуг по передаче электрической энергии с "}]
[null,null,null,null,null,null,"3. Договор на покупку электрической энергии c энергосбытовой организацией в целях компенсации потерь;"]
[null,null,null,null,null,null,"4. Список потребителей электрической энергии (субабонентов) с актами разграничения (границами раздела) балансовой принадлежности;"]
[null,null,null,null,null,null,"5. Уточненная однолинейная схема электроснабжения, выполненная в соответствии с техническими показателями электрических сетей по диапазонам напряжений, с актами разграничения (границами раздела) балансовой принадлежности и эксплуатационной ответственности с поставщиком электрической энергии (приложение к договору), значением питающего напряжения центра питания – подстанции (ПС) и количественными показателями выделенных участков электрических сетей, используемых для передачи электроэнергии конкретному потребителю (протяженность ЛЭП: ВЛ и КЛ в км., наименование одно- и двух трансформаторных ТП, трансформаторов собственных нужд (ТСН), количество масляных (вакуумных, элегазовых) выключателей и выключателей нагрузки, состоящих на балансе) в соответствии с формами П2.1, П2.2;"]
[null,null,null,null,null,null,"6. Расчет  условных  единиц согласно Методическим указаниям ФСТ России от 06.08.2004 № 20-э/2 (приложение 2, таблицы № П2.1,  П2.2, П2.3);"]
[null,null,null,null,null,null,{"$f":"\"7. Баланс электроэнергии и мощности по форме № П1.4. и П1.5. Методических указаний, выполненный в соответствии с разъяснениями ФСТ России от 18.02.2005 № СН-570/14, согласованный с \"&Титульный!E32","v":"7. Баланс электроэнергии и мощности по форме № П1.4. и П1.5. Методических указаний, выполненный в соответствии с разъяснениями ФСТ России от 18.02.2005 № СН-570/14, согласованный с "}]
[null,null,null,null,null,null,"8. Данные по технической документации: характеристика электрических сетей (Таблица 1.1.), технические показатели (Таблица 1.2.), технические единицы ТП – 6-10/0,4 кВ (Таблица 1.3.), результаты расчета нормативных потерь электроэнергии в электрических сетях за расчетный период (Таблица 1.4.1.), расход электроэнергии токоприемниками собственных нужд (СН) подстанций (Таблица 1.4.2.);"]
[null,null,null,null,null,null,{"$f":"\"9. Бухгалтерский баланс и статистическая отчетность по регулируемым видам деятельности за \"&Титульный!E23-2&\" год (со всеми приложениями)\"","v":"9. Бухгалтерский баланс и статистическая отчетность по регулируемым видам деятельности за -2 год (со всеми приложениями)"}]
[null,null,null,null,null,null,"10. Данные по расчету амортизации (расчет амортизационных отчислений, отчет об использовании амортизационных отчислений, копии приказа о проведении переоценки основных средств (в случае если переоценка проводилась), лицензии организации, осуществившей переоценку, договор на проведение переоценки, прочие обосновывающие документы);"]
[null,null,null,null,null,null,"11. Данные по расчету арендной платы (информация об амортизации и налоге на имущество по арендованному оборудованию);"]
[null,null,null,null,null,null,"12. Данные по расчету обязательных отчислений, платежей, налогов (расчет налогов, ставка налога на землю, уведомление о страховании от несчастных случаев и т.д.);"]
[null,null,null,null,null,null,"13. Данные по расчету прочих неподконтрольных расходов (с представлением подтверждающих документов)."]
[null,null,null,null,null,null,"14. Данные по расчету выпадающих доходов (с представлением подтверждающих документов);"]
[null,null,null,null,null,null,"15. Информация о соответствии критериям отнесения владельцев объектов электросетевого хозяйства к территориальным сетевым организациям"]
[]
[null,null,null,null,null,null,"VI Расчет тарифов произведен регулируемой организацией по формам нормативно-методических документов."]
[]
[null,null,null,null,null,null,"VII Материалы, представленные организацией для установления тарифов на услуги по передаче электрической энергии, признаны достоверными."]
[]
[null,null,null,null,null,null,"VIII Организация соответствует критериям отнесения  владельцев объектов электросетевого хозяйства к территориальным сетевым организациям, утвержденным постановлением Правительства РФ от 28.02.2015 № 184:"]
[]
[null,null,null,null,null,null,"№","Критерии отнесения  владельцев объектов электросетевого хозяйства к ТСО",null,null,null,null,null,null,null,null,null,null,null,null,"Отметка о соответствии"]
[null,null,null,null,null,null,1,"Владение на праве собственности или на ином законном основании на срок не менее очередного расчетного периода регулирования силовыми трансформаторами, используемыми для осуществления регулируемой деятельности в административных границах субъекта РФ, суммарная установленная мощность которых составляет не менее 10 МВА."]
[null,null,null,null,null,null,2,"Владение на праве собственности или на ином законном основании на срок не менее очередного расчетного периода регулирования линиями электропередачи (воздушными и (или) кабельными), используемыми для осуществления регулируемой деятельности в административных границах субъекта Российской Федерации, не менее 2 уровней напряжения из следующих уровней напряжения:"]
[null,null,null,null,null,null,"2.1","высокое напряжение (ВН) - 110 кВ и выше"]
[null,null,null,null,null,null,"2.2","среднее первое напряжение (СН1) - 35 кВ"]
[null,null,null,null,null,null,"2.3","среднее второе напряжение (СН2) - 1 - 20 кВ"]
[null,null,null,null,null,null,"2.4","низкое напряжение (НН) - ниже 1 кВ"]
[null,null,null,null,null,null,3,"Отсутствие за 3 предшествующих расчетных периода регулирования 3 фактов применения органами исполнительной власти субъектов РФ в области государственного регулирования тарифов понижающих коэффициентов, позволяющих обеспечить соответствие уровня тарифов, установленных для владельца объектов электросетевого хозяйства, уровню надежности и качества поставляемых товаров и оказываемых услуг, а также корректировки цен (тарифов), установленных на долгосрочный период регулирования, в случае представления владельцем объектов электросетевого хозяйства, для которого такие цены (тарифы) установлены, недостоверных отчетных данных, используемых при расчете фактических значений показателей надежности и качества поставляемых товаров и оказываемых услуг, или непредставления таких данных."]
[null,null,null,null,null,null,4,"Наличие выделенного абонентского номера для обращений потребителей услуг по передаче электрической энергии и (или) технологическому присоединению.",null,null,null,null,null,null,null,null,null,null,null,null,{"$f":"Титульный!E41","v":0}]
[null,null,null,null,null,null,5,"Наличие официального сайта в информационно-телекоммуникационной сети «Интернет».",null,null,null,null,null,null,null,null,null,null,null,null,{"$f":"Титульный!E43","v":0}]
[]
[null,null,null,null,null,null,"IX Оценка финансового состояния организации:"]
[]
[null,null,null,null,null,null,"№ п/п","Наименование показателя",null,null,null,null,"Значения / динамика",null,null,null,"Оценка предприятия",null,null,null,"Баллы"]
[null,null,null,null,null,null,null,null,null,null,null,null,"Вне установленных нормативных границах / отрицательная динамика",null,null,null,"В рамках рекомендуемых значений / положительная динамика"]
[]
[null,null,null,null,null,null,1,"Коэффициент текущей ликвидности",null,null,null,null,"<2",null,1,null,"<2",null,2,2,{"$f":"'Оценка ликвидности'!P89","v":0},{"$f":"IF($U$89<2,2,1)","v":2},{"$f":"IF($U$89<2,2,1)","v":2}]
[null,null,null,null,null,null,2,"Коэффициент быстрой ликвидности","<1",1,"<1",2,"<1",null,1,null,"<1",null,2,2,{"$f":"'Оценка ликвидности'!P90","v":0},{"$f":"IF($U$90<1,2,1)","v":2},{"$f":"IF($U$90<1,2,1)","v":2}]
[null,null,null,null,null,null,3,"Коэффициент абсолютной ликвидности","<0,05-0,1",1,"<0,05-0,1",2,"<0,05-0,1",null,1,null,"<0,05-0,1",null,2,2,{"$f":"'Оценка ликвидности'!P91","v":0},{"$f":"IF($U$91<1,2,1)","v":2},{"$f":"IF($U$91<1,2,1)","v":2}]
[null,null,null,null,null,null,4,"Доля собственных оборотных средств в покрытии запасов","<0,5",1,"<0,5",2,"<0,5",null,1,null,"<0,5",null,2,2,{"$f":"'Оценка ликвидности'!P93","v":0},{"$f":"IF($U$92<0.5,2,1)","v":2},{"$f":"IF($U$92<0.5,2,1)","v":2}]
[null,null,null,null,null,null,5,"Коэффициент покрытия запасов","<1",1,"<1",2,"<1",null,1,null,"<1",null,2,2,{"$f":"'Оценка ликвидности'!P96","v":0},{"$f":"IF($U$93<1,2,1)","v":2},{"$f":"IF($U$93<1,2,1)","v":2}]
[null,null,null,null,null,null,6,"Коэффициент концентрации собственного капитала (финансовой автономии)","<0,5",1,"<0,5",2,"<0,5",null,1,null,"<0,5",null,2,2,{"$f":"'Оценка фин. уст'!R76","v":0},{"$f":"IF($U$94<0.5,2,1)","v":2},{"$f":"IF($U$94<0.5,2,1)","v":2}]
[null,null,null,null,null,null,7,"Коэффициент финансовой зависимости","<0 и >2",1,"<0 и >2",2,"<0 и >2",null,1,null,"<0 и >2",null,2,2,{"$f":"'Оценка фин. уст'!R77","v":0},{"$f":"IF(AND($U$95>2,$U$95<0),2,1)","v":1},{"$f":"IF(AND($U$95>2,$U$95<0),2,1)","v":1}]
[null,null,null,null,null,null,8,"Коэффициент маневренности собственного капитала","<0,5",1,"<0,5",2,"<0,5",null,1,null,"<0,5",null,2,2,{"$f":"'Оценка фин. уст'!R78","v":0},{"$f":"IF($U$96<0.5,2,1)","v":2},{"$f":"IF($U$96<0.5,2,1)","v":2}]
[null,null,null,null,null,null,9,"Коэффициент задолженности","<0 и >0,7",1,"<0 и >0,7",2,"<0 и >0,7",null,1,null,"<0 и >0,7",null,2,2,{"$f":"'Оценка фин. уст'!R83","v":0},{"$f":"IF($U$97<0.5,2,1)","v":2},{"$f":"IF($U$97<0.5,2,1)","v":2}]
[null,null,null,null,null,null,10,"Оборачиваемость средств в расчетах","↓ ( - )",1,"↑ ( + )",2,"↓ ( - )",null,1,null,"↑ ( + )",null,2,2,{"$f":"'Оценка дел. активность'!O80","v":0},{"$f":"IF($U$98>1,2,1)","v":1},{"$f":"IF($U$98>1,2,1)","v":1}]
[null,null,null,null,null,null,11,"Период оборачиваемости запасов","↑ ( - )",1,"↓ ( + )",2,"↑ ( - )",null,1,null,"↓ ( + )",null,2,2,{"$f":"'Оценка дел. активность'!O83","v":0},{"$f":"IF($U$99>1,2,1)","v":1},{"$f":"IF($U$99>1,2,1)","v":1}]
[null,null,null,null,null,null,12,"Оборачиваемость кредиторской задолженности","↑ ( - )",1,"↓ ( + )",2,"↑ ( - )",null,1,null,"↓ ( + )",null,2,2,{"$f":"'Оценка дел. активность'!O84","v":0},{"$f":"IF($U$100>1,2,1)","v":1},{"$f":"IF($U$100>1,2,1)","v":1}]
[null,null,null,null,null,null,13,"Продолжительность операционного цикла","↑ ( - )",1,"↓ ( + )",2,"↑ ( - )",null,1,null,"↓ ( + )",null,2,2,{"$f":"'Оценка дел. активность'!O85","v":0},{"$f":"IF($U$101>1,2,1)","v":1},{"$f":"IF($U$101>1,2,1)","v":1}]
[null,null,null,null,null,null,14,"Оборачиваемость активов","↓ ( - )",1,"↑ ( + )",2,"↓ ( - )",null,1,null,"↑ ( + )",null,2,2,{"$f":"'Оценка дел. активность'!O88","v":0},{"$f":"IF($U$102>1,2,1)","v":1},{"$f":"IF($U$102>1,2,1)","v":1}]
[null,null,null,null,null,null,15,"Итого",null,{"$f":"SUM(J89:J102)","v":13},null,{"$f":"SUM(L89:L102)","v":26},null,null,{"$f":"SUM(O89:O102)","v":14},null,null,null,{"$f":"SUM(S89:S102)","v":28},null,null,null,{"$f":"SUM(W89:W102)","v":22}]
[]
[]
[]
[null,null,null,null,null,null,{"$f":"CONCATENATE(\" X Отчет по статьям затрат, включенных в расчет тарифов на услуги по передаче электрической энергии на \",Титульный!E23-2,\" год, \", L18)","v":" X Отчет по статьям затрат, включенных в расчет тарифов на услуги по передаче электрической энергии на -2 год, 0"}]
[]
[null,null,null,null,null,null,"№","Статьи затрат",null,null,null,"Единицы измерения",{"$f":"god-2","v":-2},null,null,"Отклонение",null,"Примечание"]
[null,null,null,null,null,null,null,null,null,null,null,null,"Утверждено","Факт",null,"нат. ед.","%"]
[null,null,null,null,null,null,"I","Натуральные показатели"]
[null,null,null,null,null,null,1,"Поступление электроэнергии в сеть, в том числе:",null,null,null,"млн.кВтч",{"$f":"'9 Тариф'!H18","v":0},{"$f":"'9 Тариф'!I18","v":0},null,{"$f":"N112-M112","v":0},{"$f":"IF(M112=0,\"\",N112/M112)","v":""}]
[null,null,null,null,null,null,2,"Нормативные потери1",null,null,null,"млн.кВтч",{"$f":"'9 Тариф'!H20","v":0},{"$f":"'9 Тариф'!I20","v":0},{"$f":"'[3]9 Тариф'!J20","v":0},{"$f":"N113-M113","v":0},{"$f":"IF(M113=0,\"\",N113/M113)","v":""}]
[null,null,null,null,null,null,null,"                                                     то же в %",null,null,null,"%",{"$f":"'9 Тариф'!H21","v":0},{"$f":"'9 Тариф'!I21","v":0},{"$f":"'[3]9 Тариф'!J21","v":0},0,""]
[null,null,null,null,null,null,3,"Сальдо-переток, в том числе:",null,null,null,"млн.кВтч",{"$f":"'9 Тариф'!H33","v":0},{"$f":"'9 Тариф'!I33","v":0},{"$f":"'[3]9 Тариф'!J33","v":0},0,""]
[null,null,null,null,null,null,4,"Заявленная мощность",null,null,null,"МВт",{"$f":"'9 Тариф'!H32","v":0},{"$f":"'9 Тариф'!I32","v":0},{"$f":"'[3]9 Тариф'!J32","v":0},0,""]
[null,null,null,null,null,null,5,"Количество часов использования мощности",null,null,null,"час",{"$f":"'9 Тариф'!H19","v":0},{"$f":"'9 Тариф'!I19","v":0},null,0,""]
[null,null,null,null,null,null,6,"Энергия на собственные нужды",null,null,null,"млн.кВтч",{"$f":"'9 Тариф'!H28","v":0},{"$f":"'9 Тариф'!I28","v":0},{"$f":"'[3]9 Тариф'!J28","v":0},0,""]
[null,null,null,null,null,null,7,"Покупной тариф на нормативные потери",null,null,null,"руб./МВтч",{"$f":"'9 Тариф'!H44","v":0},{"$f":"'9 Тариф'!I44","v":0},{"$f":"'[3]9 Тариф'!J44","v":0},0,""]
[null,null,null,null,null,null,8,"Численность персонала",null,null,null,"чел.",{"$f":"'16_Персонал'!I20","v":0},{"$f":"'16_Персонал'!K20","v":0},{"$f":"'[3]16_Персонал'!K20","v":0},0,""]
[null,null,null,null,null,null,9,"Средняя заработная плата",null,null,null,"руб.",{"$f":"IFERROR(M126/M120/12*1000,0)","v":0},{"$f":"IFERROR(N126/N120/12*1000,0)","v":0},null,0,""]
[null,null,null,null,null,null,10,"Количество активов",null,null,null,"у.е.",{"$f":"'8_Расчет НВВ '!I27","v":0},{"$f":"'8_Расчет НВВ '!L27","v":0},{"$f":"'[3]8_Расчет НВВ '!K27","v":0},{"$f":"N122-M122","v":0},""]
[null,null,null,null,null,null,"II","Подконтрольные расходы"]
[null,null,null,null,null,null,11,"Материалы",null,null,null,"тыс.руб.",{"$f":"'8_Расчет НВВ '!I35","v":0},{"$f":"'8_Расчет НВВ '!L35","v":0},null,{"$f":"N124-M124","v":0},{"$f":"IF(N124=0,\"\",N124/M124)","v":""}]
[null,null,null,null,null,null,12,"Работы и услуги производственного характера",null,null,null,"тыс.руб.",{"$f":"'8_Расчет НВВ '!I37","v":0},{"$f":"'8_Расчет НВВ '!L37","v":0},null,{"$f":"N125-M125","v":0},""]
[null,null,null,null,null,null,13,"Затраты на оплату труда",null,null,null,"тыс.руб.",{"$f":"'8_Расчет НВВ '!I38","v":0},{"$f":"'8_Расчет НВВ '!L38","v":0},null,0,""]
[null,null,null,null,null,null,14,"Прочие расходы, в том числе:",null,null,null,"тыс.руб.",{"$f":"'8_Расчет НВВ '!I39","v":0},{"$f":"'8_Расчет НВВ '!L39","v":0},null,0,""]
[null,null,null,null,null,null,"14.1.","ремонт основных средств",null,null,null,"тыс.руб.",{"$f":"'8_Расчет НВВ '!I40","v":0},{"$f":"'8_Расчет НВВ '!L40","v":0},null,0,""]
[null,null,null,null,null,null,"14.2.","работы и услуги сторонних организаций:",null,null,null,"тыс.руб.",{"$f":"'8_Расчет НВВ '!I41","v":0},{"$f":"'8_Расчет НВВ '!L41","v":0},null,0,""]
[null,null,null,null,null,null,"14.2.1.","услуги связи",null,null,null,"тыс.руб.",{"$f":"'8_Расчет НВВ '!I42","v":0},{"$f":"'8_Расчет НВВ '!L42","v":0},null,0,""]
[null,null,null,null,null,null,"14.2.2.","затраты на охрану и пожарную безопасность",null,null,null,"тыс.руб.",{"$f":"'8_Расчет НВВ '!I43","v":0},{"$f":"'8_Расчет НВВ '!L43","v":0},null,0,""]
[null,null,null,null,null,null,"14.2.3.","затраты на юридические и информационные услуги",null,null,null,"тыс.руб.",{"$f":"'8_Расчет НВВ '!I44","v":0},{"$f":"'8_Расчет НВВ '!L44","v":0},null,0,""]
[null,null,null,null,null,null,"14.2.4.","транспортные услуги",null,null,null,"тыс.руб.",{"$f":"'8_Расчет НВВ '!I46","v":0},{"$f":"'8_Расчет НВВ '!L46","v":0},null,0]
[null,null,null,null,null,null,"14.2.5.","прочие услуги сторонних организаций",null,null,null,"тыс.руб.",{"$f":"'8_Расчет НВВ '!I47","v":0},{"$f":"'8_Расчет НВВ '!L47","v":0},null,0]
[null,null,null,null,null,null,"14.3.","расходы на командировки и представительские",null,null,null,"тыс.руб.",{"$f":"'8_Расчет НВВ '!I48","v":0},{"$f":"'8_Расчет НВВ '!L48","v":0},null,0,""]
[null,null,null,null,null,null,"14.4.","расходы на подготовку кадров",null,null,null,"тыс.руб.",{"$f":"'8_Расчет НВВ '!I49","v":0},{"$f":"'8_Расчет НВВ '!L49","v":0},null,0,""]
[null,null,null,null,null,null,"14.5.","расходы на обеспечение нормальных условий труда",null,null,null,"тыс.руб.",{"$f":"'8_Расчет НВВ '!I50","v":0},{"$f":"'8_Расчет НВВ '!L50","v":0},null,0,""]
[null,null,null,null,null,null,"14.6.","расходы на страхование",null,null,null,"тыс.руб.",{"$f":"'8_Расчет НВВ '!I51","v":0},{"$f":"'8_Расчет НВВ '!L51","v":0},null,0,""]
[null,null,null,null,null,null,"14.7.","другие прочие расходы",null,null,null,"тыс.руб.",{"$f":"'8_Расчет НВВ '!I54","v":0},{"$f":"'8_Расчет НВВ '!L54","v":0},null,0,""]
[null,null,null,null,null,null,15,"Затраты из прибыли, в том числе:",null,null,null,"тыс.руб.",{"$f":"'8_Расчет НВВ '!I57","v":0},{"$f":"'8_Расчет НВВ '!L57","v":0},null,0,""]
[null,null,null,null,null,null,"15.1.","прибыль на социальное развитие",null,null,null,"тыс.руб.",{"$f":"'8_Расчет НВВ '!I58","v":0},{"$f":"'8_Расчет НВВ '!L58","v":0},null,0,""]
[null,null,null,null,null,null,"15.2.","прибыль на прочие цели",null,null,null,"тыс.руб.",{"$f":"'36_Прибыль'!H36","v":0},{"$f":"'36_Прибыль'!J36","v":0},null,{"$f":"N142-M142","v":0},{"$f":"IF(N142=0,\"\",N142/M142)","v":""}]
[null,null,null,null,null,null,16,"Итого подконтрольных расходов",null,null,null,"тыс.руб.",{"$f":"'8_Расчет НВВ '!I64","v":0},{"$f":"'8_Расчет НВВ '!L64","v":0},null,{"$f":"N143-M143","v":0},{"$f":"IF(N143=0,\"\",N143/M143)","v":""}]
[]
[null,null,null,null,null,null,"№","Статьи затрат",null,null,null,"Единицы измерения",{"$f":"god-2","v":-2},null,null,"Отклонение",null,"Примечание"]
[null,null,null,null,null,null,null,null,null,null,null,null,"Утверждено","Факт",null,"нат. ед.","%"]
[null,null,null,null,null,null,"III","Неподконтрольные расходы"]
[null,null,null,null,null,null,17,"Электроэнергия на хозяйственные нужды",null,null,null,"тыс.руб.",{"$f":"'8_Расчет НВВ '!I92","v":0},{"$f":"'8_Расчет НВВ '!L92","v":0},null,{"$f":"N148-M148","v":0},{"$f":"IF(N148=0,\"\",N148/M148)","v":""}]
[null,null,null,null,null,null,18,"Теплоэнергия",null,null,null,"тыс.руб.",{"$f":"'8_Расчет НВВ '!I91","v":0},{"$f":"'8_Расчет НВВ '!L91","v":0},null,{"$f":"N149-M149","v":0},""]
[null,null,null,null,null,null,19,"Аренда и лизинг",null,null,null,"тыс.руб.",{"$f":"'8_Расчет НВВ '!I69","v":0},{"$f":"'8_Расчет НВВ '!L69","v":0},null,0,""]
[null,null,null,null,null,null,20,"Налоги, в том числе:",null,null,null,"тыс.руб.",{"$f":"'8_Расчет НВВ '!I76","v":0},{"$f":"'8_Расчет НВВ '!L76","v":0},null,0,""]
[null,null,null,null,null,null,"20.1.","плата за землю",null,null,null,"тыс.руб.",{"$f":"'8_Расчет НВВ '!I78","v":0},{"$f":"'8_Расчет НВВ '!L78","v":0},null,0,""]
[null,null,null,null,null,null,"20.2.","налог на имущество",null,null,null,"тыс.руб.",{"$f":"'8_Расчет НВВ '!I77","v":0},{"$f":"'8_Расчет НВВ '!L77","v":0},null,0,""]
[null,null,null,null,null,null,"20.3.","прочие налоги и сборы",null,null,null,"тыс.руб.",{"$f":"'8_Расчет НВВ '!I80","v":0},{"$f":"'8_Расчет НВВ '!L80","v":0},null,0,""]
[null,null,null,null,null,null,21,"Отчисления на социальные нужды",null,null,null,"тыс.руб.",{"$f":"'8_Расчет НВВ '!I81","v":0},{"$f":"'8_Расчет НВВ '!L81","v":0},null,0,""]
[null,null,null,null,null,null,22,"Прочие неподконтрольные расходы",null,null,null,"тыс.руб.",{"$f":"'8_Расчет НВВ '!I85","v":0},{"$f":"'8_Расчет НВВ '!L85","v":0},null,0,""]
[null,null,null,null,null,null,23,"Амортизация",null,null,null,"тыс.руб.",{"$f":"'8_Расчет НВВ '!I90","v":0},{"$f":"'8_Расчет НВВ '!L90","v":0},null,0,""]
[null,null,null,null,null,null,24,"Выпадающие доходы (избыток средств)",null,null,null,"тыс.руб.",{"$f":"'8_Расчет НВВ '!I105","v":0},{"$f":"'8_Расчет НВВ '!L105","v":0},null,0,""]
[null,null,null,null,null,null,25,"Прибыль на капитальные вложения",null,null,null,"тыс.руб.",{"$f":"'36_Прибыль'!H28","v":0},{"$f":"'36_Прибыль'!J28","v":0},null,0,""]
[null,null,null,null,null,null,26,"Налог на прибыль",null,null,null,"тыс.руб.",{"$f":"'8_Расчет НВВ '!I83","v":0},{"$f":"'8_Расчет НВВ '!L83","v":0},{"$f":"'[3]8_Расчет НВВ '!K83","v":0},0,""]
[null,null,null,null,null,null,27,"Итого неподконтрольных расходов",null,null,null,"тыс.руб.",{"$f":"'8_Расчет НВВ '!I93","v":0},{"$f":"'8_Расчет НВВ '!L93","v":0},null,0,""]
[null,null,null,null,null,null,"IV","Стоимость электрической энергии приобретаемой в целях компенсации потерь ",null,null,null,"тыс.руб.",{"$f":"'9 Тариф'!H45","v":0},{"$f":"'9 Тариф'!I45","v":0},null,0,""]
[null,null,null,null,null,null,"V","Необходимая валовая выручка, в том числе:",null,null,null,"тыс.руб.",{"$f":"'8_Расчет НВВ '!I111","v":0},null,null,0,""]
[null,null,null,null,null,null,28,"Себестоимость (без учета выпадающих расходов, корректировок и потерь э/э)",null,null,null,"тыс.руб.",{"$f":"'8_Расчет НВВ '!I94","v":0},null,null,0,""]
[null,null,null,null,null,null,30,"Затраты на содержание 1 у.е.",null,null,null,"тыс.руб./1.у.е.",{"$f":"IFERROR((M164-M157-M150)/M122,0)","v":0},{"$f":"IFERROR((N164-N150-N157)/N122,0)","v":0},null,0,""]
[null,null,null,null,null,null,31,"Среднеотпускной тариф",null,null,null,"руб./МВтч",{"$f":"IFERROR(M163/M115,0)","v":0},{"$f":"IFERROR(N163/N115,0)","v":0},null,0,""]
[]
[null,null,null,null,null,null,{"$f":"\"XI Пересмотр (корректировка) тарифов на услуги по передаче электрической энергии на \"&Титульный!E23&\" год\"","v":"XI Пересмотр (корректировка) тарифов на услуги по передаче электрической энергии на  год"}]
[]
[null,null,null,null,null,null,"№","Статьи затрат",null,null,null,"Единицы измерения",{"$f":"god-1","v":-1},null,{"$f":"god","v":0}]
[null,null,null,null,null,null,null,null,null,null,null,null,"Утверждено ",null,"Утверждено ",null,null,"Предложение организации","Корректировка РСТ",null,null,null,null,null,{"$f":"\"Изменение \"&god&\" / \"&god-1&\" в среднем за год в %\"","v":"Изменение  / -1 в среднем за год в %"}]
[null,null,null,null,null,null,null,null,null,null,null,null,"всего","в \"котле\"","всего",null,"в \"котле\"",null,"всего","1 пол.","2 пол.","в \"котле\"","1 пол.","2 пол."]
[null,null,null,null,null,null,"I","Натуральные показатели"]
[null,null,null,null,null,null,1,"Поступление электроэнергии в сеть, в том числе:",null,null,null,"млн.кВтч",{"$f":"'9 Тариф'!K18","v":0},{"$f":"ROUND(M174*$W$206,5)","v":0},null,null,{"$f":"ROUND(O174*$W$206,5)","v":0},{"$f":"'9 Тариф'!N18","v":0},{"$f":"'9 Тариф'!P18","v":0},{"$f":"'9 Тариф'!Q18","v":0},{"$f":"'9 Тариф'!R18","v":0},{"$f":"ROUND(S174*$P$206,5)","v":0},{"$f":"IFERROR(ROUND(V174*$J$206,5),0)","v":0},{"$f":"IFERROR(ROUND(V174*$K$206,5),0)","v":0},{"$f":"IF(M174=0,\"\",S174/M174)","v":""}]
[null,null,null,null,null,null,2,"Нормативные потери1",null,null,null,"млн.кВтч",{"$f":"'9 Тариф'!K20","v":0},{"$f":"ROUND(M175*$W$206,5)","v":0},null,null,{"$f":"ROUND(O175*$W$206,5)","v":0},{"$f":"'9 Тариф'!N20","v":0},{"$f":"'9 Тариф'!P20","v":0},{"$f":"'9 Тариф'!Q20","v":0},{"$f":"'9 Тариф'!R20","v":0},{"$f":"ROUND(S175*$P$206,5)","v":0},{"$f":"IFERROR(ROUND(V175*$J$206,5),0)","v":0},{"$f":"IFERROR(ROUND(V175*$K$206,5),0)","v":0},{"$f":"IF(M175=0,\"\",S175/M175)","v":""}]
[null,null,null,null,null,null,null,"                                                     то же в %",null,null,null,"%",{"$f":"IFERROR(M175/M174*100,0)","v":0},{"$f":"IFERROR(N175/N174*100,0)","v":0},null,null,{"$f":"IFERROR(Q175/Q174*100,0)","v":0},0,0,0,0,0,0,0,{"$f":"IFERROR(IF(M176=0,\"\",S176/M176),0)","v":""}]
[null,null,null,null,null,null,3,"Сальдо-переток 2",null,null,null,"млн.кВтч",{"$f":"'9 Тариф'!K33","v":0},{"$f":"ROUND(M177*$W$206,5)","v":0},null,null,{"$f":"ROUND(O177*$W$206,5)","v":0},{"$f":"'9 Тариф'!N33","v":0},{"$f":"'9 Тариф'!P33","v":0},{"$f":"'9 Тариф'!Q33","v":0},{"$f":"'9 Тариф'!R33","v":0},{"$f":"IFERROR(V176/V175*100,0)","v":0},{"$f":"IFERROR(W176/W175*100,0)","v":0},{"$f":"IFERROR(X176/X175*100,0)","v":0},""]
[null,null,null,null,null,null,4,"Заявленная мощность 3",null,null,null,"МВт",{"$f":"'9 Тариф'!K32","v":0},{"$f":"ROUND(M178*$W$207,5)","v":0},null,null,{"$f":"ROUND(O178*$W$207,5)","v":0},{"$f":"'9 Тариф'!N32","v":0},{"$f":"'9 Тариф'!P32","v":0},{"$f":"'9 Тариф'!Q32","v":0},{"$f":"'9 Тариф'!R32","v":0},{"$f":"ROUND(S178*P207,5)","v":0},{"$f":"ROUND(SUM(M201:R201)*$P$207/6,5)","v":0},{"$f":"ROUND(SUM(S201:X201)*$P$207/6,5)","v":0},""]
[null,null,null,null,null,null,5,"Количество часов использования мощности",null,null,null,"час",{"$f":"IFERROR(M177/M178*1000,0)","v":0},{"$f":"IFERROR(N177/N178*1000,0)","v":0},{"$f":"IFERROR(O177/O178*1000,0)","v":0},null,{"$f":"IFERROR(Q177/Q178*1000,0)","v":0},0,0,0,0,0,0,0,{"$f":"IFERROR(IF(M179=0,\"\",S179/M179),0)","v":""}]
[null,null,null,null,null,null,6,"Энергия на собственные нужды",null,null,null,"млн.кВтч",{"$f":"'9 Тариф'!K28","v":0},{"$f":"ROUND(M180*$W$206,5)","v":0},null,null,{"$f":"ROUND(O180*$W$206,5)","v":0},{"$f":"'9 Тариф'!N28","v":0},{"$f":"'9 Тариф'!P28","v":0},{"$f":"'9 Тариф'!Q28","v":0},{"$f":"'9 Тариф'!R28","v":0},{"$f":"ROUND(S180*$P$206,5)","v":0},{"$f":"IFERROR(ROUND(V180*$J$206,5),0)","v":0},{"$f":"IFERROR(ROUND(V180*$K$206,5),0)","v":0},{"$f":"IF(M180=0,\"\",S180/M180)","v":""}]
[null,null,null,null,null,null,7,"Покупной тариф на нормативные потери 4",null,null,null,"руб./МВтч",{"$f":"'9 Тариф'!K44","v":0},{"$f":"M181","v":0},null,null,{"$f":"O181","v":0},{"$f":"'9 Тариф'!N44","v":0},{"$f":"'9 Тариф'!P44","v":0},{"$f":"'9 Тариф'!Q44","v":0},{"$f":"'9 Тариф'!R44","v":0},{"$f":"S181","v":0},{"$f":"T181","v":0},{"$f":"U181","v":0},""]
[]
[null,null,null,null,null,null,1,{"$f":"CONCATENATE(\"Уровень потерь учтен в соответствии с пунктом 38 Основ ценообразования в области регулируемых цен (тарифов) в электроэнергетике,\", \"утвержденных постановлением Правительства РФ от 29.12.2011 № 1178. Уровень потерь является долгосрочным параметром регулирования и установлен на весь долгосрочный период \",Титульный!E25,\" годы\")","v":"Уровень потерь учтен в соответствии с пунктом 38 Основ ценообразования в области регулируемых цен (тарифов) в электроэнергетике,утвержденных постановлением Правительства РФ от 29.12.2011 № 1178. Уровень потерь является долгосрочным параметром регулирования и установлен на весь долгосрочный период  годы"}]
[null,null,null,null,null,null,2,{"$f":"\"Баланс на \"&god&\" год согласован с \"&Титульный!E32","v":"Баланс на  год согласован с "}]
[null,null,null,null,null,null,3,{"$f":"\"Баланс на \"&god&\" год согласован с \"&Титульный!E32","v":"Баланс на  год согласован с "}]
[null,null,null,null,null,null,4,{"$f":"\"Утвержденный тариф на потери электрической энергии с учетом сбытовой надбавки гарантирующего поставщика \"","v":"Утвержденный тариф на потери электрической энергии с учетом сбытовой надбавки гарантирующего поставщика "}]
[null,null,null,null,null,null,null,"от",null,null,"№"]
[]
[null,null,null,null,null,null,{"$f":"\"Факт \"&Титульный!E23-2&\" год\"","v":"Факт -2 год"},null,null,null,null,"Единицы измерения","январь","февраль","март","апрель","май","июнь","июль","август","сентябрь","октябрь","ноябрь","декабрь","год"]
[null,null,null,null,null,null,"Полезный отпуск электрической энергии",null,null,null,null,"млн.кВтч",null,null,null,null,null,null,null,null,null,null,null,null,{"$f":"SUM(M190:X190)","v":0}]
[null,null,null,null,null,null,"Полезный отпуск электрической мощности",null,null,null,null,"МВт",null,null,null,null,null,null,null,null,null,null,null,null,{"$f":"SUM(M191:X191)/12","v":0}]
[null,null,null,null,null,null,"Нормативные потери",null,null,null,null,"млн.кВтч",null,null,null,null,null,null,null,null,null,null,null,null,{"$f":"SUM(M192:X192)","v":0}]
[]
[null,null,null,null,null,null,{"$f":"\"Ожидаемое \"&Титульный!E23-1&\" год\"","v":"Ожидаемое -1 год"},null,null,null,null,"Единицы измерения","январь","февраль","март","апрель","май","июнь","июль","август","сентябрь","октябрь","ноябрь","декабрь","год"]
[null,null,null,null,null,null,"Полезный отпуск электрической энергии",null,null,null,null,"млн.кВтч",null,null,null,null,null,null,null,null,null,null,null,null,{"$f":"SUM(M195:X195)","v":0}]
[null,null,null,null,null,null,"Полезный отпуск электрической мощности",null,null,null,null,"МВт",null,null,null,null,null,null,null,null,null,null,null,null,{"$f":"SUM(M196:X196)/12","v":0}]
[null,null,null,null,null,null,"Нормативные потери",null,null,null,null,"млн.кВтч",null,null,null,null,null,null,null,null,null,null,null,null,{"$f":"SUM(M197:X197)","v":0}]
[]
[null,null,null,null,null,null,{"$f":"\"План \"&Титульный!E23&\" год\"","v":"План  год"},null,null,null,null,"Единицы измерения","январь","февраль","март","апрель","май","июнь","июль","август","сентябрь","октябрь","ноябрь","декабрь","год"]
[null,null,null,null,null,null,"Полезный отпуск электрической энергии",null,null,null,null,"млн.кВтч",null,null,null,null,null,null,null,null,null,null,null,null,{"$f":"SUM(M200:X200)","v":0}]
[null,null,null,null,null,null,"Полезный отпуск электрической мощности",null,null,null,null,"МВт",null,null,null,null,null,null,null,null,null,null,null,null,{"$f":"SUM(M201:X201)/12","v":0}]
[null,null,null,null,null,null,"Нормативные потери",null,null,null,null,"млн.кВтч",null,null,null,null,null,null,null,null,null,null,null,null,{"$f":"SUM(M202:X202)","v":0}]
[]
[null,null,null,null,null,null,{"$f":"god&\" год (план всего)\"","v":" год (план всего)"},null,null,null,null,null,{"$f":"god&\" год (план в части котла)\"","v":" год (план в части котла)"},null,null,null,null,null,null,{"$f":"\"справочно: доля в котле в \"&god-1&\" году\"","v":"справочно: доля в котле в -1 году"}]
[null,null,null,null,null,null,"Доля",null,null,"1 пол.","2 пол.",null,"Доля в \"котле\"",null,null,"%","1 пол.","2 пол.",null,"Доля в \"котле\"",null,null,"%"]
[null,null,null,null,null,null,"по энергии",null,null,{"$f":"IFERROR(SUM(M200:R200)/Y200,0)","v":0},{"$f":"IFERROR(1-J206,0)","v":1},null,"по энергии, млн. кВтч",null,null,{"$f":"'9 Тариф'!P35","v":1},{"$f":"W177","v":0},{"$f":"X177","v":0},null,"по энергии"]
[null,null,null,null,null,null,"по мощности",null,null,{"$f":"IFERROR((SUM(M201:R201)/6)/Y201,0)","v":0},{"$f":"IFERROR((SUM(S201:X201)/6)/Y201,0)","v":0},null,"по мощности, МВт",null,null,null,{"$f":"W178","v":0},{"$f":"X178","v":0},null,"по мощности"]
[]
[]
[null,null,null,null,null,null,"Расчет коэффициента индексации",null,null,null,null,"Единицы измерения",2019,null,{"$f":"god","v":0}]
[null,null,null,null,null,null,null,null,null,null,null,null,"Утверждено",null,"Утверждено ",null,"Корректировка"]
[null,null,null,null,null,null,"Инфляция",null,null,null,null,"%",{"$f":"'8_Расчет НВВ '!O25","v":0},null,null,null,{"$f":"'8_Расчет НВВ '!Q25","v":0}]
[null,null,null,null,null,null,"Индекс эффективности операционных расходов",null,null,null,null,"%",{"$f":"'8_Расчет НВВ '!O26","v":0},null,null,null,{"$f":"'8_Расчет НВВ '!Q26","v":0}]
[null,null,null,null,null,null,"Количество активов",null,null,null,null,"у.е.",{"$f":"'8_Расчет НВВ '!O27","v":0},null,null,null,{"$f":"'8_Расчет НВВ '!Q27","v":0}]
[null,null,null,null,null,null,"Индекс изменения количества активов",null,null,null,null,"%",{"$f":"'8_Расчет НВВ '!O28","v":0},null,null,null,{"$f":"'8_Расчет НВВ '!Q28","v":0}]
[null,null,null,null,null,null,"Коэффициент эластичности затрат по росту активов",null,null,null,null,null,{"$f":"'8_Расчет НВВ '!O29","v":1},null,null,null,{"$f":"'8_Расчет НВВ '!Q29","v":0.75}]
[null,null,null,null,null,null,"Итого коэффициент индексации",null,null,null,null,null,{"$f":"M212*(1+M216*M215)*(1-M213)","v":0},null,{"$f":"O212*(1+O216*O215)*(1-O213)","v":0},null,{"$f":"Q212*(1+Q216*Q215)*(1-Q213)","v":0}]
[]
[]
[null,null,null,null,null,null,"№","Статьи затрат",null,null,null,"Единицы измерения",{"$f":"god-1","v":-1},null,{"$f":"god","v":0},null,null,null,null,null,null,null,null,null,{"$f":"\"Изменение \"&god&\" / \"&god-1&\" в среднем за год в %\"","v":"Изменение  / -1 в среднем за год в %"}]
[null,null,null,null,null,null,null,null,null,null,null,null,"Утверждено ",null,"Утверждено ",null,null,"Корректировка РСТ"]
[null,null,null,null,null,null,null,null,null,null,null,null,"всего","в \"котле\"","всего",null,"в \"котле\"","год",null,"1 пол.","2 пол.","в \"котле\"","1 пол.","2 пол."]
[null,null,null,null,null,null,"II","Подконтрольные расходы*"]
[null,null,null,null,null,null,8,"Материалы",null,null,null,"тыс.руб.",{"$f":"'8_Расчет НВВ '!N35","v":0},{"$f":"ROUND(M224*$W$207,5)","v":0},null,null,{"$f":"ROUND(O224*$W$207,5)","v":0}]
[null,null,null,null,null,null,9,"Работы и услуги производственного характера",null,null,null,"тыс.руб.",{"$f":"'8_Расчет НВВ '!N37","v":0},{"$f":"ROUND(M225*$W$207,5)","v":0},null,null,{"$f":"ROUND(O225*$W$207,5)","v":0}]
[null,null,null,null,null,null,10,"Затраты на оплату труда",null,null,null,"тыс.руб.",{"$f":"'8_Расчет НВВ '!N38","v":0},0,null,null,0]
[null,null,null,null,null,null,11,"Прочие расходы, в том числе:",null,null,null,"тыс.руб.",{"$f":"'8_Расчет НВВ '!N39","v":0},{"$f":"N228+N229+N235+N236+N237+N238+N239","v":0},null,null,{"$f":"Q228+Q229+Q235+Q236+Q237+Q238+Q239","v":0}]
[null,null,null,null,null,null,"11.1.","ремонт основных средств",null,null,null,"тыс.руб.",{"$f":"'8_Расчет НВВ '!N40","v":0},0,null,null,0]
[null,null,null,null,null,null,"11.2.","работы и услуги сторонних организаций:",null,null,null,"тыс.руб.",{"$f":"'8_Расчет НВВ '!N41","v":0},{"$f":"SUM(N230:N234)","v":0},null,null,{"$f":"O229*$W$207","v":0}]
[null,null,null,null,null,null,"11.2.1.","услуги связи",null,null,null,"тыс.руб.",{"$f":"'8_Расчет НВВ '!N42","v":0},0,null,null,0]
[null,null,null,null,null,null,"11.2.2.","затраты на охрану и пожарную безопасность",null,null,null,"тыс.руб.",{"$f":"'8_Расчет НВВ '!N43","v":0},0,null,null,0]
[null,null,null,null,null,null,"11.2.3.","затраты на юридические и информационные услуги",null,null,null,"тыс.руб.",{"$f":"'8_Расчет НВВ '!N44","v":0},0,null,null,0]
[null,null,null,null,null,null,"11.2.4.","транспортные услуги",null,null,null,"тыс.руб.",{"$f":"'8_Расчет НВВ '!N45","v":0},0,null,null,0]
[null,null,null,null,null,null,"11.2.5.","прочие услуги сторонних организаций",null,null,null,"тыс.руб.",{"$f":"'8_Расчет НВВ '!N46","v":0},0,null,null,0]
[null,null,null,null,null,null,"11.3.","расходы на командировки и представительские",null,null,null,"тыс.руб.",{"$f":"'8_Расчет НВВ '!N47","v":0},0,null,null,0]
[null,null,null,null,null,null,"11.4.","расходы на подготовку кадров",null,null,null,"тыс.руб.",{"$f":"'8_Расчет НВВ '!N48","v":0},0,null,null,0]
[null,null,null,null,null,null,"11.5.","расходы на обеспечение нормальных условий труда",null,null,null,"тыс.руб.",{"$f":"'8_Расчет НВВ '!N49","v":0},0,null,null,0]
[null,null,null,null,null,null,"11.6.","расходы на страхование",null,null,null,"тыс.руб.",{"$f":"'8_Расчет НВВ '!N50","v":0},0,null,null,{"$f":"ROUND(O238*$W$207,5)","v":0}]
[null,null,null,null,null,null,"11.7.","другие прочие расходы",null,null,null,"тыс.руб.",{"$f":"'8_Расчет НВВ '!N54","v":0},0,null,null,0]
[null,null,null,null,null,null,12,"Затраты из прибыли, в том числе:",null,null,null,"тыс.руб.",{"$f":"'8_Расчет НВВ '!N57","v":0},0,null,null,{"$f":"O240*$W$207","v":0}]
[null,null,null,null,null,null,"12.1.","прибыль на социальное развитие",null,null,null,"тыс.руб.",{"$f":"'8_Расчет НВВ '!N58","v":0},0,null,null,{"$f":"ROUND(O241*$W$207,5)","v":0}]
[null,null,null,null,null,null,13,"Итого подконтрольных расходов",null,null,null,"тыс.руб.",{"$f":"M224+M225+M226+M227+M240","v":0},{"$f":"N224+N225+N226+N227+N240","v":0},{"$f":"O224+O225+O226+O227+O240","v":0},null,{"$f":"Q224+Q225+Q226+Q227+Q240","v":0},{"$f":"'8_Расчет НВВ '!Q64","v":0},null,{"$f":"'8_Расчет НВВ '!R64","v":0},{"$f":"'8_Расчет НВВ '!S64","v":0},{"$f":"'8_Расчет НВВ '!T64","v":0},{"$f":"'8_Расчет НВВ '!U64","v":0},{"$f":"'8_Расчет НВВ '!V64","v":0},{"$f":"IFERROR(R242/M242,0)","v":0}]
[]
[null,null,null,null,null,null,"* Подконтрольные расходы скорректированы с учетом изменения количества активов организации и индекса потребительских цен в соответствии с прогнозом социально-экономического развития РФ."]
[]
[null,null,null,null,null,null,"№","Статьи затрат",null,null,null,"Единицы измерения",{"$f":"god-1","v":-1},null,{"$f":"god","v":0}]
[null,null,null,null,null,null,null,null,null,null,null,null,"Утверждено",null,"Утверждено ",null,null,"Предложение организации","Корректировка РСТ",null,null,null,null,null,{"$f":"\"Изменение \"&god&\" / \"&god-1&\" в среднем за год в %\"","v":"Изменение  / -1 в среднем за год в %"}]
[null,null,null,null,null,null,null,null,null,null,null,null,"всего","в \"котле\"","всего",null,"в \"котле\"",null,"год","1 пол.","2 пол.","в \"котле\"","1 пол.","2 пол."]
[null,null,null,null,null,null,"III","Неподконтрольные расходы"]
[null,null,null,null,null,null,14,"Электроэнергия на хозяйственные нужды 1",null,null,null,"тыс.руб.",{"$f":"'8_Расчет НВВ '!O92","v":0},{"$f":"ROUND(M250*$W$207,5)","v":0},null,null,{"$f":"ROUND(O250*$W$207,5)","v":0},{"$f":"'8_Расчет НВВ '!P92","v":0},{"$f":"'8_Расчет НВВ '!Q92","v":0},{"$f":"'8_Расчет НВВ '!R92","v":0},{"$f":"'8_Расчет НВВ '!S92","v":0},{"$f":"'8_Расчет НВВ '!T92","v":0},{"$f":"'8_Расчет НВВ '!U92","v":0},{"$f":"'8_Расчет НВВ '!V92","v":0},{"$f":"IF(M250=0,\"\",S250/M250)","v":""}]
[null,null,null,null,null,null,15,"Теплоэнергия 2",null,null,null,"тыс.руб.",{"$f":"'8_Расчет НВВ '!O91","v":0},{"$f":"ROUND(M251*$W$207,5)","v":0},null,null,{"$f":"ROUND(O251*$W$207,5)","v":0},{"$f":"'8_Расчет НВВ '!P91","v":0},{"$f":"'8_Расчет НВВ '!Q91","v":0},{"$f":"'8_Расчет НВВ '!R91","v":0},{"$f":"'8_Расчет НВВ '!S91","v":0},{"$f":"'8_Расчет НВВ '!T91","v":0},{"$f":"'8_Расчет НВВ '!U91","v":0},{"$f":"'8_Расчет НВВ '!V91","v":0},""]
[null,null,null,null,null,null,16,"Аренда и лизинг 3",null,null,null,"тыс.руб.",{"$f":"'8_Расчет НВВ '!O69","v":0},{"$f":"ROUND(M252*$W$207,5)","v":0},null,null,0,{"$f":"'8_Расчет НВВ '!P69","v":0},{"$f":"'8_Расчет НВВ '!Q69","v":0},{"$f":"'8_Расчет НВВ '!R69","v":0},{"$f":"'8_Расчет НВВ '!S69","v":0},{"$f":"'8_Расчет НВВ '!T69","v":0},{"$f":"'8_Расчет НВВ '!U69","v":0},{"$f":"'8_Расчет НВВ '!V69","v":0},""]
[null,null,null,null,null,null,17,"Налоги, в том числе: 4",null,null,null,"тыс.руб.",{"$f":"'8_Расчет НВВ '!O76","v":0},{"$f":"N254+N255+N256","v":0},null,null,{"$f":"Q254+Q255+Q256","v":0},{"$f":"'8_Расчет НВВ '!P76","v":0},{"$f":"'8_Расчет НВВ '!Q76","v":0},{"$f":"'8_Расчет НВВ '!R76","v":0},{"$f":"'8_Расчет НВВ '!S76","v":0},{"$f":"'8_Расчет НВВ '!T76","v":0},{"$f":"'8_Расчет НВВ '!U76","v":0},{"$f":"'8_Расчет НВВ '!V76","v":0},""]
[null,null,null,null,null,null,"17.1.","плата за землю",null,null,null,"тыс.руб.",{"$f":"'8_Расчет НВВ '!O78","v":0},{"$f":"ROUND(M254*$W$207,5)","v":0},null,null,0,{"$f":"'8_Расчет НВВ '!P78","v":0},{"$f":"'8_Расчет НВВ '!Q78","v":0},{"$f":"'8_Расчет НВВ '!R78","v":0},{"$f":"'8_Расчет НВВ '!S78","v":0},{"$f":"'8_Расчет НВВ '!T78","v":0},{"$f":"'8_Расчет НВВ '!U78","v":0},{"$f":"'8_Расчет НВВ '!V78","v":0},""]
[null,null,null,null,null,null,"17.2.","налог на имущество",null,null,null,"тыс.руб.",{"$f":"'8_Расчет НВВ '!O77","v":0},0,null,null,0,{"$f":"'8_Расчет НВВ '!P77","v":0},{"$f":"'8_Расчет НВВ '!Q77","v":0},{"$f":"'8_Расчет НВВ '!R77","v":0},{"$f":"'8_Расчет НВВ '!S77","v":0},{"$f":"'8_Расчет НВВ '!T77","v":0},{"$f":"'8_Расчет НВВ '!U77","v":0},{"$f":"'8_Расчет НВВ '!V77","v":0},""]
[null,null,null,null,null,null,"17.3.","прочие налоги и сборы",null,null,null,"тыс.руб.",{"$f":"'8_Расчет НВВ '!O79","v":0},0,null,null,0,{"$f":"'8_Расчет НВВ '!P79","v":0},{"$f":"'8_Расчет НВВ '!Q79","v":0},{"$f":"'8_Расчет НВВ '!R79","v":0},{"$f":"'8_Расчет НВВ '!S79","v":0},{"$f":"'8_Расчет НВВ '!T79","v":0},{"$f":"'8_Расчет НВВ '!U79","v":0},{"$f":"'8_Расчет НВВ '!V79","v":0},""]
[null,null,null,null,null,null,18,"Отчисления на социальные нужды 5",null,null,null,"тыс.руб.",{"$f":"'8_Расчет НВВ '!O81","v":0},0,null,null,0,{"$f":"'8_Расчет НВВ '!P81","v":0},{"$f":"'8_Расчет НВВ '!Q81","v":0},{"$f":"'8_Расчет НВВ '!R81","v":0},{"$f":"'8_Расчет НВВ '!S81","v":0},{"$f":"'8_Расчет НВВ '!T81","v":0},{"$f":"'8_Расчет НВВ '!U81","v":0},{"$f":"'8_Расчет НВВ '!V81","v":0},""]
[null,null,null,null,null,null,19,"Прочие неподконтрольные расходы 6",null,null,null,"тыс.руб.",{"$f":"'8_Расчет НВВ '!O85","v":0},0,null,null,0,{"$f":"'8_Расчет НВВ '!P85","v":0},{"$f":"'8_Расчет НВВ '!Q85","v":0},{"$f":"'8_Расчет НВВ '!R85","v":0},{"$f":"'8_Расчет НВВ '!S85","v":0},{"$f":"'8_Расчет НВВ '!T85","v":0},{"$f":"'8_Расчет НВВ '!U85","v":0},{"$f":"'8_Расчет НВВ '!V85","v":0},""]
[null,null,null,null,null,null,20,"Амортизация 7",null,null,null,"тыс.руб.",{"$f":"'8_Расчет НВВ '!O90","v":0},0,null,null,0,{"$f":"'8_Расчет НВВ '!P90","v":0},{"$f":"'8_Расчет НВВ '!Q90","v":0},{"$f":"'8_Расчет НВВ '!R90","v":0},{"$f":"'8_Расчет НВВ '!S90","v":0},{"$f":"'8_Расчет НВВ '!T90","v":0},{"$f":"'8_Расчет НВВ '!U90","v":0},{"$f":"'8_Расчет НВВ '!V90","v":0},{"$f":"IF(M259=0,\"\",S259/M259)","v":""}]
[null,null,null,null,null,null,21,"Выпадающие доходы (избыток средств) 8",null,null,null,"тыс.руб.",{"$f":"'8_Расчет НВВ '!O105","v":0},0,null,null,0,{"$f":"'8_Расчет НВВ '!P105","v":0},{"$f":"'8_Расчет НВВ '!Q105","v":0},{"$f":"'8_Расчет НВВ '!R105","v":0},{"$f":"'8_Расчет НВВ '!S105","v":0},{"$f":"'8_Расчет НВВ '!T105","v":0},{"$f":"'8_Расчет НВВ '!U105","v":0},{"$f":"'8_Расчет НВВ '!V105","v":0},""]
[null,null,null,null,null,null,22,"Прибыль на капитальные вложения 9",null,null,null,"тыс.руб.",{"$f":"'36_Прибыль'!K28","v":0},0,null,null,0,{"$f":"'36_Прибыль'!L28","v":0},{"$f":"'8_Расчет НВВ '!Q82","v":0},{"$f":"'8_Расчет НВВ '!R82","v":0},{"$f":"'8_Расчет НВВ '!S82","v":0},{"$f":"'8_Расчет НВВ '!T82","v":0},{"$f":"'8_Расчет НВВ '!U82","v":0},{"$f":"'8_Расчет НВВ '!V82","v":0},""]
[null,null,null,null,null,null,23,"Налог на прибыль 10",null,null,null,"тыс.руб.",{"$f":"'8_Расчет НВВ '!O83","v":0},0,null,null,0,{"$f":"'8_Расчет НВВ '!P83","v":0},{"$f":"'8_Расчет НВВ '!Q83","v":0},{"$f":"'8_Расчет НВВ '!R83","v":0},{"$f":"'8_Расчет НВВ '!S83","v":0},{"$f":"'8_Расчет НВВ '!T83","v":0},{"$f":"'8_Расчет НВВ '!U83","v":0},{"$f":"'8_Расчет НВВ '!V83","v":0},""]
[null,null,null,null,null,null,24,"Итого неподконтрольных расходов",null,null,null,"тыс.руб.",{"$f":"'8_Расчет НВВ '!O93","v":0},0,{"$f":"O250+O251+O252+O253+O257+O258+O259+O260+O261+O262","v":0},{"$f":"P250+P251+P252+P253+P257+P258+P259+P260+P261+P262","v":0},{"$f":"Q250+Q251+Q252+Q253+Q257+Q258+Q259+Q260+Q261+Q262","v":0},{"$f":"'8_Расчет НВВ '!P93","v":0},{"$f":"'8_Расчет НВВ '!Q93","v":0},{"$f":"'8_Расчет НВВ '!R93","v":0},{"$f":"'8_Расчет НВВ '!S93","v":0},{"$f":"'8_Расчет НВВ '!T93","v":0},{"$f":"'8_Расчет НВВ '!U93","v":0},{"$f":"'8_Расчет НВВ '!V93","v":0},""]
[null,null,null,null,null,null,"IV","Необходимая валовая выручка на содержание сетей, в том числе:",null,null,null,"тыс.руб.",{"$f":"'8_Расчет НВВ '!O111","v":0},0,{"$f":"O242+O263","v":0},null,{"$f":"Q242+Q263","v":0},{"$f":"'8_Расчет НВВ '!P111","v":0},{"$f":"'8_Расчет НВВ '!Q111","v":0},{"$f":"'8_Расчет НВВ '!R111","v":0},{"$f":"'8_Расчет НВВ '!S111","v":0},{"$f":"'8_Расчет НВВ '!T111","v":0},{"$f":"'8_Расчет НВВ '!U111","v":0},{"$f":"'8_Расчет НВВ '!V111","v":0},{"$f":"IF(M264=0,\"\",S264/M264)","v":""}]
[null,null,null,null,null,null,25,"Себестоимость (без учета выпадающих расходов, корректировок и потерь э/э)",null,null,null,"тыс.руб.",{"$f":"'8_Расчет НВВ '!O94","v":0},0,{"$f":"O224+O225+O226+O227+O250+O251+O252+O254+O256+O257+O258+O259+O260","v":0},{"$f":"P224+P225+P226+P227+P250+P251+P252+P254+P256+P257+P258+P259+P260","v":0},{"$f":"Q224+Q225+Q226+Q227+Q250+Q251+Q252+Q254+Q256+Q257+Q258+Q259+Q260","v":0},"-","-","-","-","-","-","-","-"]
[null,null,null,null,null,null,27,"Затраты на содержание 1 усл.ед.",null,null,null,"тыс.руб./1.у.е.",{"$f":"IFERROR((M265-M259-M252)/M214,0)","v":0},{"$f":"IFERROR(N265/M214,0)","v":0},{"$f":"IFERROR((O265-O259-O252)/P214,0)","v":0},null,{"$f":"IFERROR(Q265/P214,0)","v":0},"-","-","-","-","-","-","-","-"]
[null,null,null,null,null,null,"V","Стоимость электрической энергии приобретаемой в целях компенсации потерь ",null,null,null,"тыс.руб.",{"$f":"IFERROR('9 Тариф'!K45,0)","v":0},{"$f":"IFERROR(N175*N181,0)","v":0},{"$f":"IFERROR(O175*O181,0)","v":0},null,{"$f":"IFERROR(Q175*Q181,0)","v":0},{"$f":"IFERROR('9 Тариф'!N45,0)","v":0},{"$f":"IFERROR('9 Тариф'!P45,0)","v":0},{"$f":"IFERROR('9 Тариф'!Q45,0)","v":0},{"$f":"IFERROR('9 Тариф'!R45,0)","v":0},{"$f":"IFERROR(ROUND(W267+X267,5),0)","v":0},{"$f":"IFERROR(ROUND(N306*W177,5),0)","v":0},{"$f":"IFERROR(ROUND(N307*X177,5),0)","v":0},{"$f":"IFERROR(IF(M267=0,\"\",S267/M267),0)","v":""}]
[null,null,null,null,null,null,28,"Среднеотпускной тариф",null,null,null,"руб./МВтч",{"$f":"IFERROR((M264+M267)/M177,0)","v":0},{"$f":"IFERROR(M268,0)","v":0},{"$f":"IFERROR((O264+O267)/O177,0)","v":0},null,{"$f":"IFERROR(O268,0)","v":0},{"$f":"IFERROR((R264+R267)/R177,0)","v":0},{"$f":"IFERROR((S264+S267)/S177,0)","v":0},{"$f":"IFERROR((T264+T267)/T177,0)","v":0},{"$f":"IFERROR((U264+U267)/U177,0)","v":0},{"$f":"IFERROR(S268,0)","v":0},{"$f":"IFERROR(T268,0)","v":0},{"$f":"IFERROR(U268,0)","v":0},{"$f":"IFERROR(IF(M268=0,\"\",S268/M268),0)","v":""}]
[]
[]
[]
[]
[]
[]
[]
[]
[]
[]
[]
[null,null,null,null,null,null,"Корректировка НВВ ",null,null,null,null,"Единицы измерения",{"$f":"\"Корректировка \"&god&\" год\"","v":"Корректировка  год"},"Примечание"]
[null,null,null,null,null,null,{"$f":"'8_Расчет НВВ '!G97","v":"Корректировка ПР"},null,null,null,null,"тыс.руб.",{"$f":"'8_Расчет НВВ '!Q97","v":0}]
[null,null,null,null,null,null,{"$f":"'8_Расчет НВВ '!G98","v":"Корректировка НР"},null,null,null,null,"тыс.руб.",{"$f":"'8_Расчет НВВ '!Q98","v":0}]
[null,null,null,null,null,null,{"$f":"'8_Расчет НВВ '!G99","v":"Корректировка по изменению полезного отпуска и цен "},null,null,null,null,"тыс.руб.",{"$f":"'8_Расчет НВВ '!Q99","v":0}]
[null,null,null,null,null,null,{"$f":"'8_Расчет НВВ '!G100","v":"Корректировка необходимой валовой выручки по доходам от осуществления регулируемой деятельности"},null,null,null,null,"тыс.руб.",{"$f":"'8_Расчет НВВ '!Q100","v":0}]
[null,null,null,null,null,null,{"$f":"'8_Расчет НВВ '!G101","v":"Выполнение инвестиционной программы "},null,null,null,null,"тыс.руб.",{"$f":"'8_Расчет НВВ '!Q101","v":0}]
[null,null,null,null,null,null,{"$f":"'8_Расчет НВВ '!G102","v":"Корректировка  НВВ по исполнению показателей надежности и качества"},null,null,null,null,"тыс.руб.",{"$f":"'8_Расчет НВВ '!Q102","v":0}]
[null,null,null,null,null,null,{"$f":"'8_Расчет НВВ '!G103","v":"Корректировка НВВ по решению суда или ФАС"},null,null,null,null,"тыс.руб.",{"$f":"'8_Расчет НВВ '!Q103","v":0}]
[null,null,null,null,null,null,{"$f":"'8_Расчет НВВ '!G104","v":"Корректировка НВВ в соответствии с актом проверки"},null,null,null,null,"тыс.руб.",{"$f":"'8_Расчет НВВ '!Q104","v":0}]
[]
[]
[null,null,null,null,null,null,"XII Тарифы на услуги по передаче электрической энергии"]
[]
[null,null,null,null,null,null,{"$f":"\"Индивидуальные тарифы для расчета с \"&Титульный!E32","v":"Индивидуальные тарифы для расчета с "},null,null,null,null,"Одноставочный тариф","Двухставочный тариф"]
[null,null,null,null,null,null,null,null,null,null,null,null,"Ставка за содержание сетей","Ставка за оплату потерь"]
[null,null,null,null,null,null,null,null,null,null,null,"руб./МВтч","руб./МВт в мес.","руб./МВтч"]
[null,null,null,null,null,null,{"$f":"\"Утвержденные долгосрочные тарифы \"&Титульный!E23-1&\" года\"","v":"Утвержденные долгосрочные тарифы -1 года"}]
[null,null,null,null,null,null,"средний"]
[null,null,null,null,null,null,{"$f":"\"с 01 января \"&Титульный!E23-1&\" года\"","v":"с 01 января -1 года"}]
[null,null,null,null,null,null,{"$f":"\"с 01 июля  \"&Титульный!E23-1&\" года\"","v":"с 01 июля  -1 года"}]
[null,null,null,null,null,null,{"$f":"\"Утвержденные долгосрочные тарифы \"&Титульный!E23&\" года\"","v":"Утвержденные долгосрочные тарифы  года"}]
[null,null,null,null,null,null,"средний"]
[null,null,null,null,null,null,{"$f":"\"с 01 января \"&Титульный!E23&\" года\"","v":"с 01 января  года"}]
[null,null,null,null,null,null,{"$f":"\"с 01 июля \"&Титульный!E23&\" года\"","v":"с 01 июля  года"}]
[null,null,null,null,null,null,{"$f":"\"Скорректированные тарифы \"&Титульный!E23&\" года\"","v":"Скорректированные тарифы  года"},null,null,null,null,null,null,null,null,null,"Проверка",null,null,null,null,"Проверка в части \"котла\""]
[null,null,null,null,null,null,"средний",null,null,null,null,{"$f":"IFERROR(ROUND((S264+S267)/S177,5)/1000,0)","v":0},{"$f":"IFERROR(ROUND((S264)/12/S178*1000,5),0)","v":0},{"$f":"IFERROR(ROUND(S267/S177,5),0)","v":0},null,null,{"$f":"IFERROR(ROUND((M305*S178*12/1000)+(N305*S177),5),0)","v":0},null,null,null,null,{"$f":"IFERROR(ROUND((M305*V178*12/1000)+(N305*V177),5),0)","v":0}]
[null,null,null,null,null,null,{"$f":"\"с 01 января \"&Титульный!E23&\" года\"","v":"с 01 января  года"},null,null,null,null,{"$f":"IFERROR(L305,0)","v":0},{"$f":"IFERROR(M305,0)","v":0},{"$f":"IFERROR(N305,0)","v":0},null,null,{"$f":"IFERROR(ROUND((M306*T178*6/1000)+(N306*T177),5),0)","v":0},null,null,null,null,{"$f":"IFERROR(ROUND((M306*Q207*6/1000)+(N306*Q206),5),0)","v":0}]
[null,null,null,null,null,null,{"$f":"\"с 01 июля \"&Титульный!E23&\" года\"","v":"с 01 июля  года"},null,null,null,null,{"$f":"IFERROR(ROUND((U264+U267)/U177,5)/1000*0+L306,0)","v":0},{"$f":"IFERROR(ROUND((U264)/(U178*6)*1000,5)*0+M306,0)","v":0},{"$f":"IFERROR(ROUND(U267/U177,5),0)","v":0},null,null,{"$f":"IFERROR(ROUND((M307*U178*6/1000)+(N307*U177),5),0)","v":0},null,null,null,null,{"$f":"IFERROR(ROUND((M307*R207*6/1000)+(N307*R206),5),0)","v":0}]
[null,null,null,null,null,null,{"$f":"\"Изменение к \"&god-2&\" году в %\"","v":"Изменение к -2 году в %"},null,null,null,null,null,null,null,null,null,{"$f":"IFERROR(Q306+Q307,0)","v":0},null,null,null,null,{"$f":"IFERROR(V306+V307,0)","v":0}]
[null,null,null,null,null,null,"в среднем за год",null,null,null,null,{"$f":"IFERROR(L305/L297,0)","v":0},{"$f":"IFERROR(M305/M297,0)","v":0},{"$f":"IFERROR(N305/N297,0)","v":0},null,null,{"$f":"IFERROR(Q308-S264-S267,0)","v":0},null,null,null,null,{"$f":"IFERROR(V308-V264-V267,0)","v":0}]
[null,null,null,null,null,null,"июль к июлю",null,null,null,null,{"$f":"IFERROR(L307/L299,0)","v":0},{"$f":"IFERROR(M307/M299,0)","v":0},{"$f":"IFERROR(N307/N299,0)","v":0}]

{"sheet":"11_Корректировка НВВ","index":31,"n_rows":50,"n_cols":14,"rows_kept":50,"cut":false,"hidden":true,"merged":[[8,5,8,6],[14,10,15,10],[14,11,15,11],[14,13,15,13],[9,5,9,9],[14,5,15,5],[14,6,15,6],[14,7,15,7],[14,8,15,8],[14,9,15,9]]}
[null,null,null,null,null,null,null,null,null,null,null,{"$f":"IFERROR(IF(REPORT_OWNER=\"Версия организации\",\"HIDDEN\",\"VISIBLE\"),0)","v":"HIDDEN"}]
[]
[]
[]
[]
[]
[]
[]
[null,null,null,null,null,"Список листов"]
[null,null,null,null,null,"Расчет корректировки НВВ"]
[]
[]
[]
[]
[null,null,null,null,null,"№ п/п","Показатель",null,null,"Единица измерения",{"$f":"god& \"  год предложение ТСО\"","v":"  год предложение ТСО"},{"$f":"god&\" версия регулятора\"","v":" версия регулятора"},null,"Комментарий"]
[]
[]
[]
[]
[null,null,null,null,null,"1","В инд =∆ПР+∆НР+ПО+∆НВВсод",null,null,"тыс.руб.",{"$f":"K21+K30+K33+K39","v":0},{"$f":"L21+L30+L33+L39","v":0}]
[null,null,null,null,null,"1.1","∆ПР - корректировка подконтрольных",null,null,"тыс.руб.",{"$f":"K22*(1-K24)*(1+K25)*(1+K26*K27)-K23","v":0},{"$f":"L22*(1-L24)*(1+L25)*(1+L26*L27)-L23","v":0}]
[null,null,null,null,null,"1.1.1",{"$f":"\"Подконтрольные расходы план за \"&(god-3)&\" год\"","v":"Подконтрольные расходы план за -3 год"},null,null,"тыс.руб.",null,{"$f":"K22","v":0}]
[null,null,null,null,null,"1.1.2",{"$f":"\"Подконтрольные расходы план за \"&(god-2)&\" год\"","v":"Подконтрольные расходы план за -2 год"},null,null,"тыс.руб.",{"$f":"'8_Расчет НВВ '!I64","v":0},{"$f":"K23","v":0}]
[null,null,null,null,null,"1.1.3","Индекс эффективности",null,null,"%",{"$f":"'8_Расчет НВВ '!I26","v":0},{"$f":"K24","v":0}]
[null,null,null,null,null,"1.1.4",{"$f":"\"ИПЦ факт на \"&(god-2)&\" год\"","v":"ИПЦ факт на -2 год"},null,null,"%",{"$f":"'8_Расчет НВВ '!J25","v":0},{"$f":"'8_Расчет НВВ '!K25","v":0}]
[null,null,null,null,null,"1.1.5","Коэффициент эластичности",null,null,"%",{"$f":"'8_Расчет НВВ '!N29","v":0.75},{"$f":"'8_Расчет НВВ '!K26","v":0}]
[null,null,null,null,null,"1.1.6",{"$f":"\"ИКА факт на \"&(god-2)&\" год\"","v":"ИКА факт на -2 год"},null,null,"-",{"$f":"IF(K29=0,0,(K28-K29)/K29)","v":0},{"$f":"IF(L29=0,0,(L28-L29)/L29)","v":0}]
[null,null,null,null,null,"1.1.7",{"$f":"\"УЕ факт на \"&(god-2)&\" год\"","v":"УЕ факт на -2 год"},null,null,"у.е.",{"$f":"'7_Свод УЕ '!L36","v":0},{"$f":"'7_Свод УЕ '!L37","v":0}]
[null,null,null,null,null,"1.1.8",{"$f":"\"УЕ факт на \"&(god-3)&\" год\"","v":"УЕ факт на -3 год"},null,null,"у.е.",{"$f":"'7_Свод УЕ '!L34","v":0},{"$f":"K29","v":0}]
[null,null,null,null,null,"1.2","∆НР - корректировка неподконтрольных",null,null,"тыс.руб.",{"$f":"K31-K32","v":0},{"$f":"L31-L32","v":0}]
[null,null,null,null,null,"1.2.1",{"$f":"\"Неподконтрольные расходы факт за \"&(god-2)&\" год\"","v":"Неподконтрольные расходы факт за -2 год"},null,null,"тыс.руб.",{"$f":"'8_Расчет НВВ '!J93-K46","v":0},{"$f":"K31","v":0}]
[null,null,null,null,null,"1.2.2",{"$f":"\"Неподконтрольные расходы план за \"&(god-2)&\" год\"","v":"Неподконтрольные расходы план за -2 год"},null,null,"тыс.руб.",{"$f":"'8_Расчет НВВ '!I93-K47","v":0},{"$f":"'8_Расчет НВВ '!I93-L47","v":0}]
[null,null,null,null,null,"1.3","ПО - корректировка с учетом изменения ПО и цен на э/э",null,null,"тыс.руб.",{"$f":"((K34-K35)*K36*K37+K35*(K36-K38)*K37)/1000","v":0},{"$f":"((L34-L35)*L36*L37+L35*(L36-L38)*L37)/1000","v":0}]
[null,null,null,null,null,"1.3.1",{"$f":"\"Фактический объем отпуска э/э в сеть \"&(god-2)&\" год\"","v":"Фактический объем отпуска э/э в сеть -2 год"},null,null,"млн.кВтч",{"$f":"'9 Тариф'!I18","v":0},{"$f":"K34","v":0}]
[null,null,null,null,null,"1.3.2",{"$f":"\"Прогнозный объем отпуска э/э в сеть \"&(god-2)&\" год\"","v":"Прогнозный объем отпуска э/э в сеть -2 год"},null,null,"млн.кВтч",{"$f":"'9 Тариф'!H18","v":0},{"$f":"K35","v":0}]
[null,null,null,null,null,"1.3.3",{"$f":"\"Фактическая цена покупки потерь \"&(god-2)&\" год\"","v":"Фактическая цена покупки потерь -2 год"},null,null,"руб/МВтч",null,{"$f":"K36","v":0}]
[null,null,null,null,null,"1.3.4",{"$f":"\"Уровень технологического расхода (потерь) э/э (утв.) \"&(god-2)&\" год\"","v":"Уровень технологического расхода (потерь) э/э (утв.) -2 год"},null,null,"%",null,{"$f":"K37","v":0}]
[null,null,null,null,null,"1.3.5",{"$f":"\"Прогнозная цена покупки потерь \"&(god-2)&\" год\"","v":"Прогнозная цена покупки потерь -2 год"},null,null,"руб/МВтч",null,{"$f":"K38","v":0}]
[null,null,null,null,null,"1.4","∆НВВсод - Корректировка НВВ по доходам от осуществления регулируемой деятельности",null,null,"тыс.руб.",{"$f":"K40-K41-K42","v":0},{"$f":"L40-L41-L42","v":0}]
[null,null,null,null,null,"1.4.1",{"$f":"\"Установленная НВВ в части содержания электрических сетей,  \"&(god-2)&\" год\"","v":"Установленная НВВ в части содержания электрических сетей,  -2 год"},null,null,"тыс.руб.",{"$f":"'8_Расчет НВВ '!I111","v":0},{"$f":"K40","v":0}]
[null,null,null,null,null,"1.4.2",{"$f":"\"Фактическая НВВ в части содержания электрических сетей,  \"&(god-2)&\" год\"","v":"Фактическая НВВ в части содержания электрических сетей,  -2 год"},null,null,"тыс.руб.",null,{"$f":"K41","v":0}]
[null,null,null,null,null,"1.4.3","Недополученная товарная выручка по зависящим от ТСО причинам",null,null,"тыс.руб.",null,{"$f":"K42","v":0}]
[null,null,null,null,null,"2","Выполнение инвестиционной программы (B корр.ИП)",null,null,"тыс.руб.",{"$f":"IFERROR(K44-K48,0)","v":0},{"$f":"IFERROR(L44-L48,0)","v":0}]
[null,null,null,null,null,"2.1",{"$f":"\"Корректировка неисполнения ИПР за \"&(god-2)&\" год\"","v":"Корректировка неисполнения ИПР за -2 год"},null,null,"тыс.руб.",{"$f":"IF(K47=0,0,K45*(K46/K47-1))","v":0},{"$f":"IF(L47=0,0,L45*(L46/L47-1))","v":0}]
[null,null,null,null,null,"2.1.1",{"$f":"\"Расчетная величина собственных средств РО для финансирования ИПР, настановленная на  \"&(god-2)&\" год\"","v":"Расчетная величина собственных средств РО для финансирования ИПР, настановленная на  -2 год"},null,null,"тыс.руб.",null,{"$f":"K45","v":0}]
[null,null,null,null,null,"2.1.2",{"$f":"\"Фактический размер финансирования ИПР,  \"&(god-2)&\" год\"","v":"Фактический размер финансирования ИПР,  -2 год"},null,null,"тыс.руб.",{"$f":"'40_ИПР факт '!J18","v":0},{"$f":"'40_ИПР факт '!L18","v":0}]
[null,null,null,null,null,"2.1.3",{"$f":"\"Плановый размер финансирования ИПР,  \"&(god-2)&\" год\"","v":"Плановый размер финансирования ИПР,  -2 год"},null,null,"тыс.руб.",{"$f":"'40_ИПР факт '!H18","v":0},{"$f":"K47","v":0}]
[null,null,null,null,null,"2.2",{"$f":"\"Учтенная при расчете тарифов на \"&(god-1)&\" год корректировка НВВ на \"&(god-2)&\" год по результатам 9 месяцев\"","v":"Учтенная при расчете тарифов на -1 год корректировка НВВ на -2 год по результатам 9 месяцев"},null,null,"тыс.руб.",null,{"$f":"K48","v":0}]
[null,null,null,null,null,"3","Корректировка  НВВ по исполнению показателей надежности и качества",null,null,"тыс.руб.",null,{"$f":"K49","v":0}]
[null,null,null,null,null,"4","Корректировка НВВ (по методике 98-э)",null,null,"тыс.руб.",{"$f":"K20+K44+K49","v":0},{"$f":"L20+L44+L49","v":0}]

{"sheet":"12_Сырье и материалы","index":32,"n_rows":54,"n_cols":36,"rows_kept":54,"cut":false,"hidden":true,"merged":[[16,23,17,23],[16,7,18,7],[16,8,18,8],[16,21,17,21],[16,22,17,22],[16,14,18,14],[16,19,18,19],[16,20,18,20],[8,5,8,6],[9,5,9,8],[16,5,18,5],[16,6,18,6],[16,13,18,13],[16,10,18,10],[16,11,18,11],[16,12,18,12],[16,35,17,35],[16,31,17,31],[16,24,17,24],[16,30,17,30],[16,25,16,27],[16,29,17,29],[16,28,17,28],[60,5,60,14],[57,5,57,14],[56,5,56,14],[58,5,58,14],[59,5,59,14]]}
[null,null,null,null,null,null,null,null,null,null,null,null,null,null,null,null,null,null,null,null,null,null,null,null,{"$f":"IFERROR(IF(REPORT_OWNER=\"Версия организации\",\"HIDDEN\",\"VISIBLE\"),0)","v":"HIDDEN"}]
[]
[]
[]
[]
[]
[]
[]
[null,null,null,null,null,"Список листов"]
[null,null,null,null,null,"Расходы на сырье и материалы"]
[]
[]
[]
[]
[]
[]
[null,null,null,null,null,"№ п/п","Предмет договора, описание закупаемых сырья и материалов",null,null,null,"Наименование контрагента по договору",null,null,null,"Доп. Соглашение (номер)",null,null,null,null,"Ссылка на документ","Наименование контрагента",{"$f":"god-2 & \" год (утверждено)\"","v":"-2 год (утверждено)"},{"$f":"god-2 & \" , факт (отражен в отчете об исполнении сметы расходов)\"","v":"-2 , факт (отражен в отчете об исполнении сметы расходов)"},{"$f":"god-2 & \"  факт, подтвержденный первичными документами (договоры/акты и пр.)\"","v":"-2  факт, подтвержденный первичными документами (договоры/акты и пр.)"},{"$f":"god-2 & \" факт версия регулятора\"","v":"-2 факт версия регулятора"},{"$f":"god-2 & \" факт, подтвержденный  бухгалтерскими документами (оборотно-сальдовые ведомости, карточки счетов)\"","v":"-2 факт, подтвержденный  бухгалтерскими документами (оборотно-сальдовые ведомости, карточки счетов)"},null,null,{"$f":"god-1& \" год (утверждено)\"","v":"-1 год (утверждено)"},"Объем материалов","Цена",{"$f":"god & \", предложение ТСО\"","v":", предложение ТСО"},null,null,null,"Комментарии**\n(согласно примечаниям к таблице)"]
[null,null,null,null,null,null,null,null,null,null,null,null,null,null,null,null,null,null,null,null,null,null,null,null,null,"Всего","Прямые расходы","Косвенные общепроизводственные расходы, отнесенные на деятельность по передаче э/э"]
[null,null,null,null,null,null,null,null,null,null,null,null,null,null,null,null,null,null,null,null,null,"тыс.руб.","тыс.руб.","тыс.руб.","тыс.руб.","тыс.руб.","тыс.руб.","тыс.руб.","тыс.руб.","шт, м, л","тыс.руб.","тыс.руб."]
[]
[]
[]
[null,null,null,null,null,"1","Материалы для эксплуатации (в том числе выполнение ремонтных работ хозяйственным способом),\nВсего, в том числе:",null,null,null,null,null,null,null,null,null,null,null,null,null,null,{"$f":"SUM(V25,V28,V31)","v":0},{"$f":"W25+W28+W31","v":0},{"$f":"X25+X28+X31","v":0},{"$f":"SUBTOTAL(9,Y25:Y33)","v":0},{"$f":"SUM(Z25,Z28,Z31)","v":0},{"$f":"SUM(AA25,AA28,AA31)","v":0},{"$f":"SUM(AB25,AB28,AB31)","v":0},{"$f":"SUM(AC25,AC28,AC31)","v":0},null,null,{"$f":"AF25+AF28+AF31","v":0}]
[]
[null,null,null,null,null,"1.1","Вспомогательные материалы для ремонтно-эксплуатационных нужд (РЭН)",null,null,null,null,null,null,null,null,null,null,null,null,null,null,null,{"$f":"SUM(W26:W27)","v":0},{"$f":"SUM(X26:X27)","v":0},{"$f":"SUM(Y26:Y27)","v":0},{"$f":"SUM(AA25:AB25)","v":0},null,null,null,null,null,{"$f":"SUM(AF26:AF27)","v":0}]
[null,null,null,null,null,"1.1.0"]
[null,null,null,null,null,null,"Добавить группу затрат"]
[null,null,null,null,null,"1.2","Приборы, инструменты для РЭН",null,null,null,null,null,null,null,null,null,null,null,null,null,null,null,{"$f":"SUM(W29:W30)","v":0},{"$f":"SUM(X29:X30)","v":0},{"$f":"SUBTOTAL(9,Y29:Y30)","v":0},{"$f":"SUM(AA28:AB28)","v":0},null,null,null,null,null,{"$f":"SUM(AF29:AF30)","v":0}]
[null,null,null,null,null,"1.2.0"]
[null,null,null,null,null,null,"Добавить группу затрат"]
[null,null,null,null,null,"1.3","Прочие материалы для эксплуатации",null,null,null,null,null,null,null,null,null,null,null,null,null,null,null,{"$f":"SUM(W32:W33)","v":0},{"$f":"SUM(X32:X33)","v":0},{"$f":"SUBTOTAL(9,Y32:Y33)","v":0},{"$f":"SUM(AA31:AB31)","v":0},null,null,null,null,null,{"$f":"SUM(AF32:AF33)","v":0}]
[null,null,null,null,null,"1.3.0"]
[null,null,null,null,null,null,"Добавить группу затрат"]
[null,null,null,null,null,2,"Горюче-смазочные материалы",null,null,null,null,null,null,null,null,null,null,null,null,null,null,null,{"$f":"SUM(W35:W36)","v":0},{"$f":"SUM(X35:X36)","v":0},{"$f":"SUBTOTAL(9,Y35:Y36)","v":0},{"$f":"SUM(AA34:AB34)","v":0},null,null,null,null,null,{"$f":"SUM(AF35:AF36)","v":0}]
[null,null,null,null,null,"2.1.0"]
[null,null,null,null,null,null,"Добавить группу затрат"]
[null,null,null,null,null,3,"Основные средства до \n40 тыс.руб., Всего, в том числе:",null,0,null,null,null,null,null,null,null,null,null,null,null,null,{"$f":"SUM(V38,V41)","v":0},{"$f":"SUM(W38,W41)","v":0},{"$f":"SUM(X38,X41)","v":0},{"$f":"SUBTOTAL(9,Y38:Y43)","v":0},{"$f":"SUM(Z38,Z41)","v":0},null,null,{"$f":"SUM(AC38,AC41)","v":0},null,null,{"$f":"SUM(AF38,AF41)","v":0}]
[null,null,null,null,null,"3.1","Приобретение оргтехники",null,0,null,null,null,null,null,null,null,null,null,null,null,null,null,{"$f":"SUM(W39:W40)","v":0},{"$f":"SUM(X39:X40)","v":0},{"$f":"SUBTOTAL(9,Y39:Y40)","v":0},{"$f":"SUM(AA38:AB38)","v":0},null,null,null,null,null,{"$f":"SUM(AF39:AF40)","v":0}]
[null,null,null,null,null,"3.1.0"]
[null,null,null,null,null,null,"Добавить группу затрат"]
[null,null,null,null,null,"3.2","Прочие основные средства до 40 тыс.руб.",null,null,null,null,null,null,null,null,null,null,null,null,null,null,null,{"$f":"SUM(W42:W43)","v":0},{"$f":"SUM(X42:X43)","v":0},{"$f":"SUBTOTAL(9,Y42:Y43)","v":0},{"$f":"SUM(AA41:AB41)","v":0},null,null,null,null,null,{"$f":"SUM(AF42:AF43)","v":0}]
[null,null,null,null,null,"3.2.0"]
[null,null,null,null,null,null,"Добавить группу затрат"]
["HIDDEN"]
["HIDDEN"]
["HIDDEN"]
["HIDDEN"]
["HIDDEN"]
["HIDDEN"]
["HIDDEN"]
["HIDDEN"]
["HIDDEN"]
["HIDDEN"]
[null,null,null,null,null,4,"Итого",null,null,null,null,null,null,null,null,null,null,null,null,null,null,{"$f":"SUM(V23,V34,V37,V44)","v":0},0,0,0,0,0,0,0,null,null,{"$f":"SUM(AF23,AF34,AF37,AF44)","v":0}]

{"sheet":"modMaterials","index":33,"n_rows":0,"n_cols":0,"rows_kept":0,"cut":false,"hidden":true,"merged":[]}

{"sheet":"13_РПР Ремонт ","index":34,"n_rows":49,"n_cols":34,"rows_kept":49,"cut":false,"hidden":true,"merged":[[7,5,7,6],[9,5,9,14],[14,5,17,5],[14,6,17,6],[14,10,17,10],[14,14,17,14],[14,11,17,11],[14,23,16,23],[14,34,15,34],[14,24,14,29],[14,33,15,33],[15,24,16,24],[15,25,16,25],[15,26,16,26],[15,27,16,27],[15,28,16,28],[15,29,16,29],[14,30,16,30],[14,31,16,31],[47,6,47,15],[14,22,16,22],[14,21,16,21],[14,15,17,15],[14,16,17,16],[14,17,17,17],[14,18,17,18],[14,19,17,19],[14,20,16,20],[46,6,46,10]]}
[null,null,null,null,null,null,null,null,null,null,null,null,null,null,null,null,null,null,null,null,null,{"$f":"IFERROR(IF(REPORT_OWNER=\"Версия организации\",\"HIDDEN\",\"VISIBLE\"),0)","v":"HIDDEN"},null,null,null,null,null,null,"HIDDEN","HIDDEN"]
[]
[]
[]
[]
[]
[]
[null,null,null,null,null,"Список листов"]
[]
[null,null,null,null,null,"Расходы на оплату работ (услуг) производственного характера, расходы на ремонт основных средств"]
[]
[]
[]
[null,null,null,null,null,null,null,null,null,null,null,null,null,null,null,null,null,null,null,null,null,null,null,null,"-"]
[null,null,null,null,null,"№ п/п","Предмет договора, характер выполненных/планируемых к выполнению работ",null,null,null,"Наименование контрагента по договору",null,null,null,"Доп. Соглашение (номер)",null,null,null,null,"Ссылка на документ",{"$f":"god-2 & \" год (утверждено)\"","v":"-2 год (утверждено)"},{"$f":"god-2 & \" факт, версия регулятора\"","v":"-2 факт, версия регулятора"},{"$f":"god-2&\" , факт (отражен в отчете об исполнении сметы расходов за \"&god-2&\" год)\"","v":"-2 , факт (отражен в отчете об исполнении сметы расходов за -2 год)"},{"$f":"god-2&\" факт, подтвержденный первичными документами (договоры/акты и пр.)\"","v":"-2 факт, подтвержденный первичными документами (договоры/акты и пр.)"},{"$f":"god-2&\"  факт, подтвержденный  бухгалтерскими документами (оборотно-сальдовые ведомости, карточки счетов)\"","v":"-2  факт, подтвержденный  бухгалтерскими документами (оборотно-сальдовые ведомости, карточки счетов)"},null,null,null,null,null,{"$f":"god-1&\" ,  утверждено версия ТСО\"","v":"-1 ,  утверждено версия ТСО"},{"$f":"god&\" ,  предложение ТСО\"","v":" ,  предложение ТСО"},null,"Комментарии**"]
[null,null,null,null,null,null,null,null,null,null,null,null,null,null,null,null,null,null,null,null,null,null,null,null,"Всего","Прямые расходы","Косвенные общепроизводственные расходы, отнесенные на деятельность по передаче э/э","Фактический процент распределения расходов на деятельность по передаче э/э"]
[]
[null,null,null,null,null,null,null,null,null,null,null,null,null,null,null,null,null,null,null,null,"тыс.руб.","тыс.руб.","тыс.руб.","тыс.руб.","тыс.руб.","тыс.руб.","тыс.руб.","%",null,null,"%","тыс.руб."]
[]
[]
[]
[]
[null,null,null,null,null,"1","Работы и услуги производственного характера, Всего:",null,0,null,null,null,null,null,null,null,null,null,null,null,{"$f":"SUM(U25,U28,U31)","v":0},{"$f":"SUM(V25,V28,V31)","v":0},{"$f":"SUM(W25,W28,W31)","v":0},{"$f":"SUBTOTAL(9,X25:X33)","v":0},{"$f":"SUM(Y25,Y28,Y31)","v":0},{"$f":"SUM(Z25,Z28,Z31)","v":0},{"$f":"SUM(AA25,AA28,AA31)","v":0},null,null,null,{"$f":"SUM(AE25,AE28,AE31)","v":0},{"$f":"SUM(AF25,AF28,AF31)","v":0}]
[]
[null,null,null,null,null,"1.1","Оперативное и техническое обслуживание объектов ЭСХ",null,0,null,null,null,null,null,null,null,null,null,null,null,null,{"$f":"SUM(V26:V27)","v":0},{"$f":"SUM(W26:W27)","v":0},{"$f":"SUBTOTAL(9,X26:X27)","v":0},{"$f":"SUM(Z25:AA25)+AC25","v":0},null,null,null,null,null,{"$f":"SUM(AE26:AE27)","v":0},{"$f":"SUM(AF26:AF27)","v":0}]
[null,null,null,null,null,"1.1.0"]
[null,null,null,null,null,null,"Добавить группу затрат"]
[null,null,null,null,null,"1.2","Проведение испытаний и измерений",null,0,null,null,null,null,null,null,null,null,null,null,null,null,{"$f":"SUM(V29:V30)","v":0},{"$f":"SUM(W29:W30)","v":0},{"$f":"SUBTOTAL(9,X29:X30)","v":0},{"$f":"SUM(Z28:AA28)+AC28","v":0},null,null,null,null,null,{"$f":"SUM(AE29:AE30)","v":0},{"$f":"SUM(AF29:AF30)","v":0}]
[null,null,null,null,null,"1.2.0"]
[null,null,null,null,null,null,"Добавить группу затрат"]
[null,null,null,null,null,"1.3","Прочие работы и услуги производственного характера",null,0,null,null,null,null,null,null,null,null,null,null,null,{"$f":"SUM(U32:U33)","v":0},{"$f":"SUM(V32:V33)","v":0},{"$f":"SUM(W32:W33)","v":0},{"$f":"SUBTOTAL(9,X32:X33)","v":0},{"$f":"SUM(Z31:AA31)+AC31","v":0},null,null,null,null,null,{"$f":"SUM(AE32:AE33)","v":0},{"$f":"SUM(AF32:AF33)","v":0}]
[null,null,null,null,null,"1.3.0"]
[null,null,null,null,null,null,"Добавить группу затрат"]
[null,null,null,null,null,"2","Ремонт основных средств (способ выполнения ремонтных работ: подрядный) Всего, в том числе:",null,0,null,null,null,null,null,null,null,null,null,null,null,{"$f":"SUM(U35,U38,U41)","v":0},0,0,0,0,0,0,null,null,null,{"$f":"SUM(AE35,AE38,AE41)","v":0},{"$f":"SUM(AF35,AF38,AF41)","v":0}]
[null,null,null,null,null,"2.1","Текущий ремонт",null,0,null,null,null,null,null,null,null,null,null,null,null,null,0,0,0,{"$f":"SUM(Z35:AA35)+AC35","v":0},null,null,null,null,null,{"$f":"SUM(AE36:AE37)","v":0},{"$f":"SUM(AF36:AF37)","v":0}]
[null,null,null,null,null,"2.1.1","Ремонт ЭСХ текущий ремонт",null,0,null,null,null,null,null,null,null,null,null,null,null,null,null,null,null,{"$f":"'14_Ремонты ЭСХ'!U23","v":0},0,0,null,null,null,{"$f":"'14_Ремонты ЭСХ'!AA23","v":0},{"$f":"'14_Ремонты ЭСХ'!AB23","v":0}]
[null,null,null,null,null,null,"Добавить группу затрат"]
[null,null,null,null,null,"2.2","Капитальный ремонт",null,0,null,null,null,null,null,null,null,null,null,null,null,null,0,0,0,{"$f":"SUM(Z38:AA38)+AC38","v":0},null,null,null,null,null,{"$f":"SUM(AE39:AE40)","v":0},{"$f":"SUM(AF39:AF40)","v":0}]
[null,null,null,null,null,"2.2.1","Ремонт ЭСХ капитальный ремонт",null,0,null,null,null,null,null,null,null,null,null,null,null,null,null,null,null,{"$f":"'14_Ремонты ЭСХ'!U26","v":0},0,0,null,null,null,{"$f":"'14_Ремонты ЭСХ'!AA26","v":0},{"$f":"'14_Ремонты ЭСХ'!AB26","v":0}]
[null,null,null,null,null,null,"Добавить группу затрат"]
[null,null,null,null,null,"2.3","Аварийный ремонт",null,0,null,null,null,null,null,null,null,null,null,null,null,null,0,0,0,{"$f":"SUM(Z41:AA41)+AC41","v":0},null,null,null,null,null,{"$f":"SUM(AE42:AE43)","v":0},{"$f":"SUM(AF42:AF43)","v":0}]
[null,null,null,null,null,"2.3.1","Ремонт ЭСХ",null,0,null,null,null,null,null,null,null,null,null,null,null,null,null,null,null,{"$f":"'14_Ремонты ЭСХ'!U29","v":0},0,0,null,null,null,{"$f":"'14_Ремонты ЭСХ'!AA29","v":0},{"$f":"'14_Ремонты ЭСХ'!AB29","v":0}]
[null,null,null,null,null,null,"Добавить группу затрат"]
[]
[]
[null,null,null,null,null,null,"Примечания:"]
[null,null,null,null,null,null,"* При указании затрат по отдельным актам, не следует указывать их сумму в строке договора по избежание задвоения"]
[null,null,null,null,null,null,{"$f":"\"**Указать комментарий по фактически завершенному периоду \"&Титульный!E23-2&\" / по плановому периоду \"&Титульный!E23&\" год\"","v":"**Указать комментарий по фактически завершенному периоду -2 / по плановому периоду  год"}]
[null,null,null,null,null,null,"1) в случае отличия факта, отраженного в смете затрат от показателей, подтвержденных бухгалтерскими документами - указать обоснование"]

{"sheet":"modRPR_Repair","index":35,"n_rows":0,"n_cols":0,"rows_kept":0,"cut":false,"hidden":true,"merged":[]}

{"sheet":"14_Ремонты ЭСХ","index":36,"n_rows":35,"n_cols":31,"rows_kept":35,"cut":false,"hidden":true,"merged":[[8,5,8,6],[15,24,16,24],[15,25,16,25],[14,11,17,11],[14,12,17,12],[14,13,17,13],[14,14,17,14],[14,15,17,15],[14,18,16,18],[14,19,16,19],[14,17,16,17],[14,7,17,7],[9,5,9,8],[14,20,14,25],[14,27,16,27],[14,30,16,30],[14,5,17,5],[14,16,16,16],[14,26,16,26],[15,20,16,20],[15,21,16,21],[15,22,16,22],[14,6,17,6],[14,8,17,8],[14,9,17,9],[14,10,17,10],[15,23,16,23]]}
[null,null,null,null,null,null,null,null,null,null,null,null,null,null,null,null,null,{"$f":"IFERROR(IF(REPORT_OWNER=\"Версия организации\",\"HIDDEN\",\"VISIBLE\"),0)","v":"HIDDEN"},null,null,null,null,null,null,"HIDDEN","HIDDEN"]
[]
[]
[]
[]
[]
[]
[]
[null,null,null,null,null,"Список листов"]
[null,null,null,null,null,"Расходы на ремонт объектов ЭСХ выполняемых хозяйственным способом"]
[null," "]
[]
[]
[null,null,null,null,null,null,null,null,null,null,null,null,null,null,null,null,null,null,null,null,"-"]
[null,null,null,null,null,"№ п/п","Наименование основного средства (группы ОС) ","Ссылка на документ с обоснованием необходимостью проведения ремонта","Инвентарный номер","Вид объекта сетевого хозяйства (КЛЭП, ВЛЭП, Подстанция, прочее)","Уровень напряжения, кВ","Дата последнего капитального ремонта","Предмет договора, характер выполненных/планируемых к выполнению работ","Договоры/доп. соглашения/ при заполнении факта дополнительно - акты выполненных работ","Дата начала очередного ремонта","Дата окончания очередного ремонта",{"$f":"god -2&\",  утверждено версия ТСО\"","v":"-2,  утверждено версия ТСО"},{"$f":"god -2&\", факт, версия регулятора\"","v":"-2, факт, версия регулятора"},{"$f":"god -2&\", факт (отражен в отчете об исполнении сметы расходов)\"","v":"-2, факт (отражен в отчете об исполнении сметы расходов)"},{"$f":"god -2&\" факт, подтвержденный первичными документами (договоры/акты и пр.)\"","v":"-2 факт, подтвержденный первичными документами (договоры/акты и пр.)"},{"$f":"god-2&\" факт, подтвержденный  бухгалтерскими документами (оборотно-сальдовые ведомости, карточки счетов)\"","v":"-2 факт, подтвержденный  бухгалтерскими документами (оборотно-сальдовые ведомости, карточки счетов)"},null,null,null,null,null,{"$f":"god-1&\" ,  утверждено версия ТСО\"","v":"-1 ,  утверждено версия ТСО"},{"$f":"god&\" ,  предложение ТСО\"","v":" ,  предложение ТСО"},null,null,"Комментарии*"]
[null,null,null,null,null,null,null,null,null,null,null,null,null,null,null,null,null,null,null,null,"Всего","Прямые расходы","Косвенные общепроизводственные расходы, отнесенные на деятельность по передаче э/э","Фактический процент распределения расходов на деятельность по передаче э/э"]
[]
[null,null,null,null,null,null,null,null,null,null,null,null,null,null,null,null,"тыс.руб.","тыс.руб.","тыс.руб.","тыс.руб.","тыс.руб.","тыс.руб.","тыс.руб.","%",null,null,"тыс.руб.","тыс.руб."]
[]
[]
[]
[]
[null,null,null,null,null,1,"Текущий ремонт",null,null,null,null,null,null,null,null,null,null,null,{"$f":"SUM(S24:S25)","v":0},{"$f":"SUM(T24:T25)","v":0},{"$f":"SUM(V23:W23)+Y23","v":0},null,null,null,null,null,null,{"$f":"SUM(AB24:AB25)","v":0}]
[null,null,null,null,null,"1.0"]
[null,null,null,null,null,null,"Добавить ОС"]
[null,null,null,null,null,2,"Капитальный ремонт",null,null,null,null,null,null,null,null,null,null,null,{"$f":"SUM(S27:S28)","v":0},{"$f":"SUM(T27:T28)","v":0},{"$f":"SUM(V26:W26)+Y26","v":0},null,null,null,null,null,null,{"$f":"SUM(AB27:AB28)","v":0}]
[null,null,null,null,null,"2.0"]
[null,null,null,null,null,null,"Добавить ОС"]
["HIDDEN",null,null,null,null,3,"Аварийный ремонт",null,null,null,null,null,null,null,null,null,null,null,{"$f":"SUM(S30:S31)","v":0},{"$f":"SUM(T30:T31)","v":0},{"$f":"SUM(V29:W29)+Y29","v":0},null,null,null,null,null,null,{"$f":"SUM(AB30:AB31)","v":0}]
["HIDDEN",null,null,null,null,"3.0"]
["HIDDEN",null,null,null,null,null,"Добавить ОС"]
[]
[null,null,null,null,null,"Примечания:"]
[]
[null,null,null,null,null,"1) в случае отличия факта, отраженного в смете затрат от показателей, подтвержденных бухгалтерскими документами - указать обоснование"]

{"sheet":"modESX_Repair","index":37,"n_rows":0,"n_cols":0,"rows_kept":0,"cut":false,"hidden":true,"merged":[]}

{"sheet":"15_Информация по ТО","index":38,"n_rows":37,"n_cols":18,"rows_kept":37,"cut":false,"hidden":true,"merged":[[19,14,20,14],[19,15,20,15],[8,5,8,6],[9,5,9,8],[19,16,20,16],[19,17,20,17],[18,5,18,11],[18,12,18,17],[19,5,20,5],[19,6,20,6],[19,7,20,7],[19,8,20,8],[19,9,20,9],[19,10,20,10],[19,11,20,11],[19,12,20,12],[19,13,20,13]]}
[null,null,null,null,null,null,null,null,null,null,null,null,null,null,null,null,"Договор подряда"]
[]
[]
[]
[]
[]
[]
[]
[null,null,null,null,null,"Список листов"]
[null,null,null,null,null,{"$f":"\"Информация по организации оперативного и технического обслуживания объектов электросетевого хозяйства за \"&god-2&\" год \"","v":"Информация по организации оперативного и технического обслуживания объектов электросетевого хозяйства за -2 год "}]
[]
[]
[]
[]
[]
[]
[]
[]
[null,null,null,null,null,"Электросетевые объекты (собственные, арендованные, по договорам лизинга)",null,null,null,null,null,null,"Организация оперативного и технического обслуживания объектов электросетевого хозяйства (собственные силы/договор подряда)"]
[null,null,null,null,null,"№ п/п","Наименование объекта","Инвентарный номер","Адрес расположения объекта","№ и дата договора аренды/лизинга","Арендодатель","Срок действия  договора \n(с учетом доп.соглашений)","Собственные силы/\nдоговор подряда","Объем у.е. оборудования, обслуживаемого по договору","№ и дата договора ","Срок действия  договора \n(с учетом доп.соглашений)","Предмет договора","Контрагент "]
[]
[]
[]
[]
[]
[null,null,null,null,null,1,"Собственные объекты",null,null,null,null,null,null,{"$f":"SUM(N27:N28)","v":0}]
[null,null,null,null,null,"1.0"]
[null,null,null,null,null,null,"Добавить строку"]
[null,null,null,null,null,2,"Арендованные объекты",null,null,null,null,null,null,{"$f":"SUM(N30:N31)","v":0}]
[null,null,null,null,null,"2.0"]
[null,null,null,null,null,null,"Добавить строку"]
[null,null,null,null,null,3,"Объекты по договору лизинга",null,null,null,null,null,null,{"$f":"SUM(N33:N34)","v":0}]
[null,null,null,null,null,"3.0"]
[null,null,null,null,null,null,"Добавить строку"]
[null,null,null,null,null,4,"Итого собственными силами",null,null,null,null,null,null,{"$f":"SUMIF(M27:M40,\"собственные силы\",N27:N40)","v":0}]
[null,null,null,null,null,5,"Итого по договорам подряда",null,null,null,null,null,null,{"$f":"SUMIF(M27:M39,\"договор подряда\",N27:N39)","v":0}]
[null,null,null,null,null,6,"Итого",null,null,null,null,null,null,{"$f":"SUM(N26,N29,N32)","v":0}]

{"sheet":"modInformation_TO","index":39,"n_rows":0,"n_cols":0,"rows_kept":0,"cut":false,"hidden":true,"merged":[]}

{"sheet":"modStaff","index":40,"n_rows":0,"n_cols":0,"rows_kept":0,"cut":false,"hidden":true,"merged":[]}

{"sheet":"16_Персонал","index":41,"n_rows":53,"n_cols":16,"rows_kept":53,"cut":false,"hidden":true,"merged":[[8,5,8,6],[9,5,9,12],[11,15,12,15],[39,5,41,5],[36,5,38,5],[27,5,29,5],[30,5,32,5],[33,5,35,5]]}
[null,null,null,null,null,null,null,null,null,null,{"$f":"IFERROR(IF(REPORT_OWNER=\"Версия организации\",\"HIDDEN\",\"VISIBLE\"),0)","v":"HIDDEN"},null,"VISIBLE"]
[]
[]
[]
[]
[]
[]
[null,null,null,null,null,null,null,null,{"$f":"IF(god=\"\",\"Не определено\",god+3)","v":"Не определено"},{"$f":"IF(god=\"\",\"Не определено\",god+3)","v":"Не определено"},{"$f":"IF(god=\"\",\"Не определено\",god+3)","v":"Не определено"},{"$f":"IF(god=\"\",\"Не определено\",god+4)","v":"Не определено"},{"$f":"IF(god=\"\",\"Не определено\",god+4)","v":"Не определено"}]
[null,null,null,null,null,"Список листов"]
[null,null,null,null,null,"Затраты на оплату труда"]
[]
[null,null,null,null,null,null,null,null,null,null,null,null,null,null,null,"Комментарии и примечания (не будут загружены в БД)"]
[null,null,null,null,null,"№ п/п","Показатели","Единица измерения",{"$f":"god-2&\" год утверждено\"","v":"-2 год утверждено"},{"$f":"god-2&\", факт (отражен в отчете об исполнении сметы расходов за \"&god-2&\" год)\"","v":"-2, факт (отражен в отчете об исполнении сметы расходов за -2 год)"},{"$f":"god-2&\", факт версия регулятора \"","v":"-2, факт версия регулятора "},{"$f":"god-1&\" год утверждено\"","v":"-1 год утверждено"},{"$f":"god&\" год предложение\"","v":" год предложение"}]
[]
[null,null,null,null,null,"1","ЧИСЛЕННОСТЬ"]
[null,null,null,null,null,"1.1","Численность","чел."]
[null,null,null,null,null,"1.2","Численность ППП","чел."]
[]
[null,null,null,null,null,"1.3","Численность на вводы по нормативу","чел."]
[null,null,null,null,null,"1.3","Численность, принятая для расчёта","чел."]
[null,null,null,null,null,"2","СРЕДНЯЯ ЗАРПЛАТА"]
[null,null,null,null,null,"2.1","Тарифная ставка рабочего 1 разряда","руб."]
[null,null,null,null,null,"2.2","Дефлятор по заработной плате","%"]
[null,null,null,null,null,"2.3","Тарифная ставка рабочего 1 разряда с учётом дефлятора","руб.",null,{"$f":"J22*J23","v":0},{"$f":"K22*K23/100","v":0},null,{"$f":"M22*M23","v":0}]
[null,null,null,null,null,"2.4","Средняя ступень оплаты труда"]
[null,null,null,null,null,"2.5","Тарифный коэффициент, соответствующий ступени по оплате труда"]
[null,null,null,null,null,"2.6","Среднемесячная тарифная ставка ППП","руб.",null,{"$f":"J24*J26","v":0},{"$f":"K24*K26","v":0},null,{"$f":"M24*M26","v":0}]
[null,null,null,null,null,"2.7","Выплаты, связанные с режимом работы, с условиями труда 1 работника:"]
[null,null,null,null,null,null,"процент выплаты","%"]
[null,null,null,null,null,null,"сумма выплат","руб.",null,{"$f":"(J$27*J29/100)","v":0},{"$f":"K27*K29 / 100","v":0},null,{"$f":"M27*M29 / 100","v":0},"sum"]
[null,null,null,null,null,"2.8","Текущее премирование:"]
[null,null,null,null,null,null,"процент выплаты","%"]
[null,null,null,null,null,null,"сумма выплат","руб.",null,{"$f":"(J$27*J32/100)","v":0},{"$f":"(K27+K30)*K32/100","v":0},null,{"$f":"(M27+M30)*M32/100","v":0},"sum"]
[null,null,null,null,null,"2.9","Вознаграждение за выслугу лет:"]
[null,null,null,null,null,null,"процент выплаты","%"]
[null,null,null,null,null,null,"сумма выплат","руб.",null,{"$f":"(J$27*J35/100)","v":0},{"$f":"K27*K35/100","v":0},null,{"$f":"M27*M35/100","v":0},"sum"]
[null,null,null,null,null,"2.10","Выплаты по итогам года:"]
[null,null,null,null,null,null,"процент выплаты","%"]
[null,null,null,null,null,null,"сумма выплат","руб.",null,{"$f":"(J$27*J38/100)","v":0},{"$f":"(K27*K38/100)","v":0},null,{"$f":"(M27*M38/100)","v":0},"sum"]
[null,null,null,null,null,"2.11"]
[null,null,null,null,null,null,"процент выплаты","%"]
[null,null,null,null,null,null,"сумма выплат","руб.",null,{"$f":"(J$27*J41/100)","v":0},{"$f":"(K$27*K41/100)","v":0},null,{"$f":"(M$27*M41/100)","v":0},"sum"]
[null,null,null,null,null,null,"Добавить выплаты"]
[null,null,null,null,null,"3","Итого среднемесячная оплата труда на 1 работника","руб.",null,{"$f":"SUMIF($N28:$N43,$N44,J28:J43)+J27","v":0},{"$f":"SUMIF($N28:$N43,$N44,K28:K43)+K27","v":0},null,{"$f":"SUMIF($N28:$N43,$N44,M28:M43)+M27","v":0},"sum"]
[null,null,null,null,null,"4","Расчет средств на оплату труда ППП (включенного в себестоимость)","тыс. руб.",null,{"$f":"J44/1000*J20*J50","v":0},{"$f":"K44/1000*K20*K50","v":0},null,{"$f":"M44/1000*M20*M50","v":0}]
[null,null,null,null,null,"4.1","Льготный проезд к месту отдыха","тыс.руб."]
[null,null,null,null,null,"4.2","По постановлению №1206 от 03.11.94","тыс.руб."]
[null,null,null,null,null,"4.3","Итого средства на оплату труда непромышленного персонала","тыс.руб.",null,{"$f":"J44*(J16-J17)*J50/1000+J46+J47","v":0},{"$f":"K44*(K16-K17)*K50/1000+K46+K47","v":0},null,{"$f":"M44*(M16-M17)*M50/1000+M46+M47","v":0}]
[null,null,null,null,null,"4.4","Расчет по денежным выплатам"]
[null,null,null,null,null,null,"Количество месяцев в периоде регулирования"]
[null,null,null,null,null,"5","Денежные выплаты на 1 работника","руб./чел."]
[null,null,null,null,null,"6","Итого по денежным выплатам","тыс.руб.",null,{"$f":"(J51/1000)*J20*J50","v":0},{"$f":"(K51/1000)*K20*K50","v":0},null,{"$f":"(M51/1000)*M20*M50","v":0}]
[null,null,null,null,null,"7","Итого средства на оплату труда ППП","тыс.руб.",null,{"$f":"J52+J48+J45","v":0},{"$f":"K52+K48+K45","v":0},null,{"$f":"M52+M48+M45","v":0}]

{"sheet":"modPpr","index":42,"n_rows":0,"n_cols":0,"rows_kept":0,"cut":false,"hidden":true,"merged":[]}

{"sheet":"TECHSHEET","index":43,"n_rows":56,"n_cols":17,"rows_kept":56,"cut":false,"hidden":true,"merged":[]}
["REGIONS"]
["Кемеровская область",null,null,null,"XML_MR_MO_OKTMO_LIST_TAG_NAMES",null,null,null,null,null,"POSSIBLE_PERIOD_LENGTH","YEAR",null,"TYPE_RENT","TYPE_DOC_RENT","STATUS_CONTRACT","STATUS_CONTRACT_REESTR"]
["Ленинградская область",null,null,null,"NSRF",null,null,null,null,null,"1",2014,null,"собственность","Договор аренды","новый","да"]
["Пермский край",null,null,null,"MR_NAME",null,null,null,null,null,"3",2015,null,"аренда","Договор субаренды","расторгнут","нет"]
["Республика Крым",null,null,null,"OKTMO_MR_NAME",null,null,null,null,null,"4",2016,null,"лизинг",null,"действующий","получен отказ в регистрации"]
["Республика Хакасия",null,null,null,"MO_NAME",null,null,null,null,null,"5",2017]
["Тверская область",null,null,null,"OKTMO_NAME",null,null,null,null,null,null,2018]
["Ульяновская область",null,null,null,"TYPE",null,null,null,null,null,"POSSIBLE_PERIODS_1",2019]
["Челябинская область",null,null,null,"SAX_PARSER_FEATURE",null,null,null,null,null,{"$f":"FIRST_PERIOD_IN_LT","v":0},2020,null,"OWNERSHIP_LIST","logic"]
["Чувашская Республика",null,null,null,"NO",null,null,null,null,null,null,2021,null,"аренда","да"]
[null,null,null,null,null,null,null,null,null,null,"POSSIBLE_PERIODS_3",2022,null,"лизинг","нет"]
[null,null,null,null,"YES_NO",null,null,null,null,null,{"$f":"FIRST_PERIOD_IN_LT","v":0},2023,null,"собственность"]
[null,null,null,null,"да",null,null,null,null,null,{"$f":"FIRST_PERIOD_IN_LT+1","v":1},2024,null,"строительство"]
[null,null,null,null,"нет",null,null,null,null,null,{"$f":"FIRST_PERIOD_IN_LT+2","v":2},2025,null,"Хоз. Ведение"]
[null,null,null,null,null,null,null,null,null,null,null,2026,null,"Оп. Управление"]
[null,null,null,null,"MONTH_LIST",null,null,null,null,null,"POSSIBLE_PERIODS_4",2027,null,"безвозмез. Пользование"]
[null,null,null,null,"Январь",null,null,null,null,null,{"$f":"FIRST_PERIOD_IN_LT","v":0},2028,null,"Концессионное соглашение"]
[null,null,null,null,"Февраль",null,null,null,null,null,{"$f":"FIRST_PERIOD_IN_LT+1","v":1},2029]
[null,null,null,null,"Март",null,null,null,null,null,{"$f":"FIRST_PERIOD_IN_LT+2","v":2},2030]
[null,null,null,null,"Апрель",null,null,null,null,null,{"$f":"FIRST_PERIOD_IN_LT+3","v":3},2031,null,"LEVEL_VOLTAGE"]
[null,null,null,null,"Май",null,null,null,null,null,null,2032,null,"ВН"]
[null,null,null,null,"Июнь",null,null,null,null,null,"POSSIBLE_PERIODS_5",2033,null,"СН1"]
[null,null,null,null,"Июль",null,null,null,null,null,{"$f":"FIRST_PERIOD_IN_LT","v":0},2034,null,"СН2"]
[null,null,null,null,"Август",null,null,null,null,null,{"$f":"FIRST_PERIOD_IN_LT+1","v":1},null,null,"НН"]
[null,null,null,null,"Сентябрь",null,null,null,null,null,{"$f":"FIRST_PERIOD_IN_LT+2","v":2},null,null,"нет"]
[null,null,null,null,"Октябрь",null,null,null,null,null,{"$f":"FIRST_PERIOD_IN_LT+3","v":3}]
[null,null,null,null,"Ноябрь",null,null,null,null,null,{"$f":"FIRST_PERIOD_IN_LT+4","v":4}]
[null,null,null,null,"Декабрь",null,null,null,null,null,null,null,null,"TYPE_OBJECT"]
[null,null,null,null,null,null,null,null,null,null,"POSSIBLE_PERIODS_6",null,null,"КЛЭП"]
[null,null,null,null,null,null,null,null,null,null,2020,null,null,"ВЛЭП"]
[null,null,null,null,null,null,null,null,null,null,2021,null,null,"Подстанция"]
[null,null,null,null,null,null,null,null,null,null,2022,null,null,"Прочее ЭСХ"]
[null,null,null,null,null,null,null,null,null,null,2023,null,null,"Прочее не ЭСХ"]
[null,null,null,null,"XML_LOCATION_LIST_TAG_NAMES","XML_LINK_TO_DOC",null,null,null,null,2024]
[null,null,null,null,"OKTMO_LOCATION_NAME","ID",null,null,null,null,2025,null,null,"INFORMATION_TO_LIST"]
[null,null,null,null,"LOCATION_NAME","LINK_NAME",null,null,null,null,null,null,null,"собственные силы"]
[null,null,null,null,null,"REGION",null,null,null,null,"SETTINGS_CALC_METHOD",null,null,"договор подряда"]
[null,null,null,null,null,null,null,null,null,null,"Долгосрочная индексация"]
[null,null,null,null,null,null,null,null,null,null,"Затраты+",null,null,"VD_LIST"]
[null,null,null,null,"XML_REGIONS_LIST_TAG_NAMES",null,null,null,null,null,"Корректировка ",null,null,"Передача ЭЭ"]
[null,null,null,null,"REGIONS",null,null,null,null,null,"Сравнение аналогов",null,null,"Другое"]
[]
[]
[null,null,null,null,null,null,null,null,null,null,"SETTINGS_CALC_METHOD_4_47"]
[null,null,null,null,"XML_PATTERN_COSTS_LIST_TAG_NAMES",null,null,null,null,null,"Затраты+"]
[null,null,null,null,"P_L1",null,null,null,null,null,"Корректировка"]
[null,null,null,null,"P_L2",null,null,null,null,null,"Сравнение аналогов"]
[null,null,null,null,"P_L3"]
[null,null,null,null,"P_L4"]
[null,null,null,null,"P_L5"]
[null,null,null,null,"P_L6"]
[null,null,null,null,"P_L7"]
[null,null,null,null,"P_L8"]
[null,null,null,null,"P_L9"]
[null,null,null,null,"P_L10"]
[null,null,null,null,"P_L11"]

{"sheet":"17_ППР","index":44,"n_rows":63,"n_cols":57,"rows_kept":63,"cut":false,"hidden":true,"merged":[[14,56,15,56],[8,8,8,9],[9,5,9,53],[14,46,14,51],[14,53,15,53],[14,40,15,40],[14,5,15,5],[14,6,15,6],[14,44,15,44],[14,45,15,45],[14,42,15,42],[14,52,15,52],[14,43,15,43],[14,41,15,41],[8,5,8,6]]}
[null,null,null,null,null,null,null,null,null,null,null,null,null,null,null,null,null,null,null,null,null,null,null,null,null,null,null,null,null,null,null,null,null,null,null,null,null,null,null,null,null,null,null,{"$f":"IFERROR(IF(REPORT_OWNER=\"Версия организации\",\"HIDDEN\",\"VISIBLE\"),0)","v":"HIDDEN"},null,null,null,null,null,null,null,null,null,{"$f":"IFERROR(IF(Титульный!E18=\"Корректировка\",\"HIDDEN\",(IF(FIRST_PERIOD_IN_LT=god,\"VISIBLE\",\"HIDDEN\"))),0)","v":"VISIBLE"}]
[]
[]
[]
[]
[]
[]
[null,null,null,null,null,null,null,null,{"$f":"IF(god=\"\",\"Не определено\",god-2)","v":"Не определено"},"Не определено","Не определено","Не определено","Не определено","Не определено",{"$f":"IF(god=\"\",\"Не определено\",god-1)","v":"Не определено"},"Не определено","Не определено","Не определено","Не определено","Не определено",{"$f":"IF(god=\"\",\"Не определено\",god)","v":"Не определено"},"Не определено","Не определено","Не определено","Не определено","Не определено",{"$f":"IF(god=\"\",\"Не определено\",god+1)","v":"Не определено"},"Не определено","Не определено","Не определено","Не определено","Не определено",{"$f":"IF(god=\"\",\"Не определено\",god+2)","v":"Не определено"},"Не определено","Не определено","Не определено","Не определено","Не определено",{"$f":"IF(god=\"\",\"Не определено\",god+4)","v":"Не определено"},{"$f":"IF(god=\"\",\"Не определено\",god+4)","v":"Не определено"},{"$f":"IF(god=\"\",\"Не определено\",god+4)","v":"Не определено"},null,{"$f":"IF(god=\"\",\"Не определено\",god+5)","v":"Не определено"},{"$f":"IF(god=\"\",\"Не определено\",god+5)","v":"Не определено"},{"$f":"IF(god=\"\",\"Не определено\",god+5)","v":"Не определено"},null,null,null,null,null,"HIDDEN","HIDDEN",{"$f":"IF(god=\"\",\"Не определено\",god+6)","v":"Не определено"},{"$f":"IF(god=\"\",\"Не определено\",god+7)","v":"Не определено"}]
[null,null,null,null,null,"Список листов"]
[null,null,null,null,null,"Расшифровка подконтрольных расходов"]
[]
[]
[]
[null,null,null,null,null,null,null,null,null,null,null,null,null,null,null,null,null,null,null,null,null,null,null,null,null,null,null,null,null,null,null,null,null,null,null,null,null,null,null,null,null,null,null,null,null,null,"-"]
[null,null,null,null,null,"№ п/п","Показатели, тыс.руб.",null,null,null,null,null,null,null,null,null,null,null,null,null,null,null,null,null,null,null,null,null,null,null,null,null,null,null,null,null,null,null,null,null,"Договоры/доп. соглашения/ при заполнении факта дополнительно - акты выполненных работ","Ссылка на документ",{"$f":"god-2&\", утверждено\"","v":"-2, утверждено"},{"$f":"god-2&\" факт, версия регулятора\"","v":"-2 факт, версия регулятора"},{"$f":"god-2&\", факт (отражен в отчете об исполнении сметы расходов за \"&god-2&\" год)\"","v":"-2, факт (отражен в отчете об исполнении сметы расходов за -2 год)"},{"$f":"god-2&\" факт, подтвержденный первичными документами (договоры/акты и пр.)\"","v":"-2 факт, подтвержденный первичными документами (договоры/акты и пр.)"},{"$f":"god-2&\" факт, подтвержденный первичными документами (договоры/акты и пр.)\"","v":"-2 факт, подтвержденный первичными документами (договоры/акты и пр.)"},null,null,null,null,null,{"$f":"god-1&\" ,  утверждено\"","v":"-1 ,  утверждено"},{"$f":"god&\", предложение\"","v":", предложение"},null,null,"Комментарии и примечания (не будут загружены в БД)"]
[null,null,null,null,null,"№ п/п","Показатели, тыс.руб.",null,null,null,null,null,null,null,null,null,null,null,null,null,null,null,null,null,null,null,null,null,null,null,null,null,"2013 год план (утверждённый органами регулирования)",null,null,"2013 год факт",null,null,null,null,null,null,"2016 год план (утверждённый органами регулирования)","2016 год план (утверждённый органами регулирования)","2016 факт (отражен в отчете об исполнении сметы расходов за 2016 год)","2016, факт (отражен в отчете об исполнении сметы расходов за 2016 год)","Всего","Прямые расходы","Косвенные общехозяйственные расходы, отнесенные на деятельность по передаче э/э","Фактический процент распределения расходов на деятельность по передаче э/э",null,null,"2017 год план (утверждённый органами регулирования)","2018 год план"]
[]
[null,null,null,null,null,1,"Прочие подконтрольные расходы, связанные с производством и/или реализацией продукции\n(за исключением  расходов на ремонт основных средств) ",null,null,null,null,null,null,null,null,null,null,null,null,null,null,null,null,null,null,null,null,null,null,null,null,null,{"$f":"SUM(AG19:AG38)","v":0},null,null,{"$f":"SUM(AJ19:AJ38)","v":0},null,null,null,null,null,null,{"$f":"AQ20","v":0},0,0,0,0,0,0,null,null,null,{"$f":"BA20","v":0},{"$f":"BB20","v":0}]
[null,null,null,null,null,{"$f":"F18 & \".0\"","v":"1.0"}]
[null,null,null,null,null,"1.1","Оплата работ и услуг сторонних организаций Всего, в том числе:",null,null,null,null,null,null,null,null,null,null,null,null,null,null,null,null,null,null,null,null,null,null,null,null,null,null,null,null,null,null,null,null,null,null,null,{"$f":"AQ21+AQ24+AQ27+AQ33+AQ36+AQ30+AQ39+AQ42+AQ45+AQ48+AQ51+AQ54","v":0},0,0,0,0,0,0,null,null,null,{"$f":"BA21+BA24+BA27+BA33+BA36+BA30+BA39+BA42+BA45+BA48+BA51+BA54","v":0},{"$f":"BB21+BB24+BB27+BB33+BB36+BB30+BB39+BB42+BB45+BB48+BB51+BB54","v":0}]
[null,null,null,null,null,"1.1.1","Расходы на услуги связи",null,null,null,null,null,null,null,null,null,null,null,null,null,null,null,null,null,null,null,null,null,null,null,null,null,null,null,null,null,null,null,null,null,null,null,null,null,{"$f":"SUM(AS22:AS23)","v":0},{"$f":"SUM(AT22:AT23)","v":0},{"$f":"SUM(AV21:AW21,AY21)","v":0},null,null,null,null,null,null,{"$f":"SUM(BB22:BB23)","v":0}]
[null,null,null,null,null,"1.1.1.0"]
[null,null,null,null,null,null,"Добавить строку"]
[null,null,null,null,null,"1.1.2","Расходы на услуги вневедомственной охраны и пожарную безопасность",null,null,null,null,null,null,null,null,null,null,null,null,null,null,null,null,null,null,null,null,null,null,null,null,null,null,null,null,null,null,null,null,null,null,null,null,null,{"$f":"SUM(AS25:AS26)","v":0},{"$f":"SUM(AT25:AT26)","v":0},{"$f":"SUM(AV24:AW24,AY24)","v":0},null,null,null,null,null,null,{"$f":"SUM(BB25:BB26)","v":0}]
[null,null,null,null,null,"1.1.2.0"]
[null,null,null,null,null,null,"Добавить строку"]
[null,null,null,null,null,"1.1.3","Расходы на юридические и информационные услуги",null,null,null,null,null,null,null,null,null,null,null,null,null,null,null,null,null,null,null,null,null,null,null,null,null,null,null,null,null,null,null,null,null,null,null,null,null,{"$f":"SUM(AS28:AS29)","v":0},{"$f":"SUM(AT28:AT29)","v":0},{"$f":"SUM(AV27:AW27,AY27)","v":0},null,null,null,null,null,null,{"$f":"SUM(BB28:BB29)","v":0}]
[null,null,null,null,null,"1.1.3.0"]
[null,null,null,null,null,null,"Добавить строку"]
[null,null,null,null,null,"1.1.4","Расходы на аудиторские и консультационные услуги",null,null,null,null,null,null,null,null,null,null,null,null,null,null,null,null,null,null,null,null,null,null,null,null,null,null,null,null,null,null,null,null,null,null,null,null,null,{"$f":"SUM(AS31:AS32)","v":0},{"$f":"SUM(AT31:AT32)","v":0},{"$f":"SUM(AV30:AW30,AY30)","v":0},null,null,null,null,null,null,{"$f":"SUM(BB31:BB32)","v":0}]
[null,null,null,null,null,"1.1.4.0"]
[null,null,null,null,null,null,"Добавить строку"]
[null,null,null,null,null,"1.1.5","Расходы на услуги транспорта",null,null,null,null,null,null,null,null,null,null,null,null,null,null,null,null,null,null,null,null,null,null,null,null,null,null,null,null,null,null,null,null,null,null,null,null,null,{"$f":"SUM(AS34:AS35)","v":0},{"$f":"SUM(AT34:AT35)","v":0},{"$f":"SUM(AV33:AW33,AY33)","v":0},null,null,null,null,null,null,{"$f":"SUM(BB34:BB35)","v":0}]
[null,null,null,null,null,"1.1.5.0"]
[null,null,null,null,null,null,"Добавить строку"]
[null,null,null,null,null,"1.1.6","Прочие услуги сторонних организаций",null,null,null,null,null,null,null,null,null,null,null,null,null,null,null,null,null,null,null,null,null,null,null,null,null,null,null,null,null,null,null,null,null,null,null,null,null,{"$f":"SUM(AS37:AS38)","v":0},{"$f":"SUM(AT37:AT38)","v":0},{"$f":"SUM(AV36:AW36,AY36)","v":0},null,null,null,null,null,null,{"$f":"SUM(BB37:BB38)","v":0}]
[null,null,null,null,null,"1.1.6.0"]
[null,null,null,null,null,null,"Добавить строку"]
[null,null,null,null,null,"1.1.7","Расходы на командировки и представительские",null,null,null,null,null,null,null,null,null,null,null,null,null,null,null,null,null,null,null,null,null,null,null,null,null,null,null,null,null,null,null,null,null,null,null,null,null,{"$f":"SUM(AS40:AS41)","v":0},{"$f":"SUM(AT40:AT41)","v":0},{"$f":"SUM(AV39:AW39,AY39)","v":0},null,null,null,null,null,null,{"$f":"SUM(BB40:BB41)","v":0}]
[null,null,null,null,null,"1.1.7.0"]
[null,null,null,null,null,null,"Добавить строку"]
[null,null,null,null,null,"1.1.8","Расходы на повышение квалификации, подготовку кадров",null,null,null,null,null,null,null,null,null,null,null,null,null,null,null,null,null,null,null,null,null,null,null,null,null,null,null,null,null,null,null,null,null,null,null,null,null,{"$f":"SUM(AS43:AS44)","v":0},{"$f":"SUM(AT43:AT44)","v":0},{"$f":"SUM(AV42:AW42,AY42)","v":0},null,null,null,null,null,null,{"$f":"SUM(BB43:BB44)","v":0}]
[null,null,null,null,null,"1.1.8.0"]
[null,null,null,null,null,null,"Добавить строку"]
[null,null,null,null,null,"1.1.9","Расходы на обеспечение нормальных условий труда и мер по технике безопасности",null,null,null,null,null,null,null,null,null,null,null,null,null,null,null,null,null,null,null,null,null,null,null,null,null,null,null,null,null,null,null,null,null,null,null,null,null,{"$f":"SUM(AS46:AS47)","v":0},{"$f":"SUM(AT46:AT47)","v":0},{"$f":"SUM(AV45:AW45,AY45)","v":0},null,null,null,null,null,null,{"$f":"SUM(BB46:BB47)","v":0}]
[null,null,null,null,null,"1.1.9.0"]
[null,null,null,null,null,null,"Добавить строку"]
[null,null,null,null,null,"1.1.10","Расходы на страхование",null,null,null,null,null,null,null,null,null,null,null,null,null,null,null,null,null,null,null,null,null,null,null,null,null,null,null,null,null,null,null,null,null,null,null,null,null,{"$f":"SUM(AS49:AS50)","v":0},{"$f":"SUM(AT49:AT50)","v":0},{"$f":"SUM(AV48:AW48,AY48)","v":0},null,null,null,null,null,null,{"$f":"SUM(BB49:BB50)","v":0}]
[null,null,null,null,null,"1.1.10.0",null,null,null,null,null,null,null,null,null,null,null,null,null,null,null,null,null,null,null,null,null,null,null,null,null,null,null,null,null,null,null,null,null,null,null,null,null,null,null,null,{"$f":"SUM(AV49:AW49,AY49)","v":0}]
[null,null,null,null,null,null,"Добавить строку"]
[]
[]
[]
[]
[null,null,null,null,null,"1.1.12.0"]
[]
[null,null,null,null,null,"2","Другие прочие расходы",null,null,null,null,null,null,null,null,null,null,null,null,null,null,null,null,null,null,null,null,null,null,null,null,null,null,null,null,null,null,null,null,null,null,null,{"$f":"AQ58+AQ61","v":0},0,0,0,0,0,0,null,null,null,{"$f":"BA58+BA61","v":0},{"$f":"BB58+BB61","v":0}]
[null,null,null,null,null,"2.1","Расходы на услуги банка",null,null,null,null,null,null,null,null,null,null,null,null,null,null,null,null,null,null,null,null,null,null,null,null,null,null,null,null,null,null,null,null,null,null,null,null,null,{"$f":"SUM(AS59:AS60)","v":0},{"$f":"SUM(AT59:AT60)","v":0},{"$f":"SUM(AV58:AW58,AY58)","v":0},null,null,null,null,null,null,{"$f":"SUM(BB59:BB60)","v":0}]
[null,null,null,null,null,"2.1.0"]
[null,null,null,null,null,null,"Добавить строку"]
[null,null,null,null,null,"2.2","Иные прочие расходы",null,null,null,null,null,null,null,null,null,null,null,null,null,null,null,null,null,null,null,null,null,null,null,null,null,null,null,null,null,null,null,null,null,null,null,null,null,{"$f":"SUM(AS62:AS63)","v":0},{"$f":"SUM(AT62:AT63)","v":0},{"$f":"SUM(AV61:AW61,AY61)","v":0},{"$f":"SUM(AV62:AV63)","v":0},{"$f":"SUM(AW62:AW63)","v":0},null,null,null,{"$f":"SUM(BA62:BA63)","v":0},{"$f":"SUM(BB62:BB63)","v":0}]
[null,null,null,null,null,"2.2.0",null,null,null,null,null,null,null,null,null,null,null,null,null,null,null,null,null,null,null,null,null,null,null,null,null,null,null,null,null,null,null,null,null,null,null,null,null,null,null,null,{"$f":"SUM(AV62:AW62,AY62)","v":0}]
[null,null,null,null,null,null,"Добавить строку"]

{"sheet":"18_ФСК","index":45,"n_rows":38,"n_cols":15,"rows_kept":38,"cut":false,"hidden":true,"merged":[[10,5,10,7],[41,6,41,9],[9,5,9,7],[8,5,8,6]]}
[null,null,null,null,null,null,null,null,null,null,{"$f":"IFERROR(IF(REPORT_OWNER=\"Версия организации\",\"HIDDEN\",\"VISIBLE\"),0)","v":"HIDDEN"},null,null,null,{"$f":"IFERROR(IF(REPORT_OWNER=\"Версия организации\",\"HIDDEN\",\"VISIBLE\"),0)","v":"HIDDEN"}]
[]
[]
[]
[]
[]
[]
[]
[null,null,null,null,null,"Список листов"]
[null,null,null,null,null,"Расчет суммы платы за услуги по передаче электрической энергиипо \nединой национальной (общероссийской) электрической сети (ЕНЭС)"]
[]
[]
[]
[]
[]
[null,null,null,null,null,"№ п/п","Наименование показателей","Единицы\nизмерения",{"$f":"god-2&\" год, утверждено\"","v":"-2 год, утверждено"},{"$f":"god-2&\" год, факт(отражен в отчете об исполнении сметы расходов за год)\"","v":"-2 год, факт(отражен в отчете об исполнении сметы расходов за год)"},"2016 год, факт версия регулятора","отклонение",{"$f":"god-1&\"  год, утверждено\"","v":"-1  год, утверждено"},{"$f":"god&\" год, предложение организации\"","v":" год, предложение организации"},"2018 год, версия регулятора"]
[]
[]
[]
[null,null,null,null,null,1,"Плата ФСК","тыс.руб",null,{"$f":"J21+J28","v":0},{"$f":"K21+K28","v":0},{"$f":"J20-I20","v":0},null,{"$f":"N21+N28","v":0},{"$f":"O21+O28","v":0}]
[null,null,null,null,null,"1.1","Содержание сетей ФСК","тыс.руб",null,{"$f":"J22+J25","v":0},{"$f":"K22+K25","v":0},{"$f":"J21-I21","v":0},null,{"$f":"N22+N25","v":0},{"$f":"O22+O25","v":0}]
[null,null,null,null,null,"1.1.1","1 полугодие","тыс.руб",null,null,{"$f":"J22","v":0},{"$f":"J22-I22","v":0},null,{"$f":"N23*N24*6/1000","v":0},{"$f":"O23*O24*6/1000","v":0}]
[null,null,null,null,null,"1.1.1.1","Заявленная мощность к сетям ФСК","МВт",null,null,{"$f":"J23","v":0},null,null,null,{"$f":"N23","v":0}]
[null,null,null,null,null,"1.1.1.2","Тариф на содержание сетей ФСК","руб.Мвт в месяц",null,null,null,null,null,null,{"$f":"N24","v":0}]
[null,null,null,null,null,"1.1.2","2 полугодие","тыс.руб",null,null,0,{"$f":"J25-I25","v":0},null,{"$f":"N26*N27*6/1000","v":0},{"$f":"O26*O27*6/1000","v":0}]
[null,null,null,null,null,"1.1.2.1","Заявленная мощность к сетям ФСК","МВт",null,null,0,null,null,null,{"$f":"N26","v":0}]
[null,null,null,null,null,"1.1.2.2","Тариф на содержание сетей ФСК","руб.Мвт в месяц",null,null,null,null,null,null,{"$f":"N27","v":0}]
[null,null,null,null,null,"1.2","Стоимость потерь в сетях ФСК","тыс.руб",null,{"$f":"SUM(J29,J34)","v":0},{"$f":"SUM(K29,K34)","v":0},{"$f":"J28-I28","v":0},null,{"$f":"N29+N34","v":0},{"$f":"O29+O34","v":0}]
[null,null,null,null,null,"1.2.1","1 полугодие","тыс.руб",null,null,0,{"$f":"J29-I29","v":0},null,{"$f":"N30*N33/1000","v":0},{"$f":"O30*O33/1000","v":0}]
[null,null,null,null,null,"1.2.1.1","объем потерь в сетях ФСК","МВтч",null,null,0,null,null,{"$f":"N31*N32/100","v":0},{"$f":"O31*O32/100","v":0}]
[null,null,null,null,null,"1.2.1.1.1","отпуск из сети ФСК","МВтч",null,null,null,null,null,null,{"$f":"N31","v":0}]
[null,null,null,null,null,"1.2.1.1.2","норматив технологич.потерь ээ","%",null,null,null,null,null,null,{"$f":"N32","v":0}]
[null,null,null,null,null,"1.2.1.2","тариф покупки потерь","руб./МВтч",null,null,null,null,null,null,{"$f":"N33","v":0}]
[null,null,null,null,null,"1.2.2","2 полугодие","тыс.руб",null,null,{"$f":"J34","v":0},{"$f":"J34-I34","v":0},null,{"$f":"N35*N38/1000","v":0},{"$f":"O35*O38/1000","v":0}]
[null,null,null,null,null,"1.2.2.1","объем потерь в сетях ФСК","МВтч",null,null,{"$f":"J35","v":0},null,null,{"$f":"N36*N37/100","v":0},{"$f":"O36*O37/100","v":0}]
[null,null,null,null,null,"1.2.2.1.1",{"$f":"G31","v":"отпуск из сети ФСК"},{"$f":"H31","v":"МВтч"},null,null,null,null,null,null,{"$f":"N36","v":0}]
[null,null,null,null,null,"1.2.2.1.2",{"$f":"G32","v":"норматив технологич.потерь ээ"},{"$f":"H32","v":"%"},null,null,null,null,null,null,{"$f":"N37","v":0}]
[null,null,null,null,null,"1.2.2.2","тариф покупки потерь","руб./МВтч",null,null,null,null,null,null,{"$f":"N38","v":0}]

{"sheet":"19_Аренда ЭСХ факт","index":46,"n_rows":34,"n_cols":33,"rows_kept":34,"cut":false,"hidden":true,"merged":[[8,5,8,6],[18,19,21,19],[30,5,30,7],[31,5,32,7],[18,11,21,11],[9,5,9,21],[18,5,21,5],[18,6,21,6],[18,7,21,7],[18,8,21,8],[18,9,21,9],[18,10,21,10],[18,14,21,14],[18,15,21,15],[18,16,21,16],[18,17,21,17],[18,33,21,33],[18,22,21,22],[20,30,20,32],[20,29,21,29],[19,26,21,26],[18,23,21,23],[18,24,21,24],[18,25,18,32],[19,25,21,25],[19,27,21,27],[19,28,21,28],[19,29,19,32],[18,18,21,18],[18,13,21,13],[18,12,21,12],[18,20,21,20],[18,21,21,21]]}
[null,null,null,null,null,null,null,null,"Дополнительное соглашение/договор в исходной редакции",null,null,null,null,null,null,null,null,null,null,null,null,null,null,null,null,null,{"$f":"IFERROR(IF(REPORT_OWNER=\"Версия организации\",\"HIDDEN\",\"VISIBLE\"),0)","v":"HIDDEN"}]
[]
[]
[]
[]
[]
[]
[]
[null,null,null,null,null,"Список листов"]
[null,null,null,null,null,{"$f":"\"Форма для представления сведений по аренде электросетевого имущества за \"&(god-2)&\" год\"","v":"Форма для представления сведений по аренде электросетевого имущества за -2 год"}]
[]
[]
[]
[]
[]
[]
[]
[]
[null,null,null,null,null,"№ п/п","Вид документа","№ договора","Арендодатель","Собственник арендованных объектов электросетевого хозяйства (полное наименование)","Дата подписания договора",null,null,null,"№ доп. соглашения  (если применимо)","Дата подписания доп. соглашения  (если применимо)","Предмет доп. соглашения (если применимо)","Доп. соглашение к договору на передачу э/э на включение точек поставки","Дата начала действия договора / доп. соглашения","Дата окончания действия договора / доп. соглашения","Статус документа - зарегистрирован в Росреестре (да/нет/ получен отказ в регистрации)","Объекты аренды","Адрес объектов аренды","Количество арендуемого оборудования в условных единицах,\nу.е.",{"$f":"\"Величина арендной платы за владение и (или) пользование электросетевым имуществом на \"&Титульный!E23-2&\" год, утверждено,тыс.руб.\"","v":"Величина арендной платы за владение и (или) пользование электросетевым имуществом на -2 год, утверждено,тыс.руб."},{"$f":"\"Величина арендной платы за владение и (или) пользование имуществом за \"&(god-2)&\" год, тыс. руб. (без НДС)\"","v":"Величина арендной платы за владение и (или) пользование имуществом за -2 год, тыс. руб. (без НДС)"}]
[null,null,null,null,null,null,null,null,null,null,null,null,null,null,null,null,null,null,null,null,null,null,null,null,null,{"$f":"god-2&\" , факт (отражен в отчете об исполнении сметы расходов за \"&(god-2)&\" год)\"","v":"-2 , факт (отражен в отчете об исполнении сметы расходов за -2 год)"},{"$f":"god-2&\", факт версия регулятора\"","v":"-2, факт версия регулятора"},{"$f":"(god-2)&\"  факт, подтвержденный первичными документами (договоры/акты и пр.)\"","v":"-2  факт, подтвержденный первичными документами (договоры/акты и пр.)"},{"$f":"(god-2)&\"  факт, подтвержденный  бухгалтерскими документами (оборотно-сальдовые ведомости, карточки счетов)\"","v":"-2  факт, подтвержденный  бухгалтерскими документами (оборотно-сальдовые ведомости, карточки счетов)"},"в соответствии с пп. 5 п. 28 Основ ценообразования,\nутв. ПП РФ от 29.12.2011 № 1178"]
[null,null,null,null,null,null,null,null,null,null,null,null,null,null,null,null,null,null,null,null,null,null,null,null,null,null,null,null,null,"Всего","в том числе"]
[null,null,null,null,null,null,null,null,null,null,null,null,null,null,null,null,null,null,null,null,null,null,null,null,null,null,null,null,null,null,"амортизация","налог на имущество","др. обязательные платежи*"]
[]
[null,null,null,null,null,"1.0"]
[null,null,null,null,null,null,"Добавить строку"]
[null,null,null,null,null,2,"Итого",null,null,null,null,null,null,null,null,null,null,null,null,null,null,null,null,{"$f":"SUM(X24:X25)","v":0},null,{"$f":"SUM(Z24:Z25)","v":0},{"$f":"SUM(AA23:AA25)","v":0},{"$f":"SUM(AB24:AB25)","v":0},0,0,0,0,0]
[]
[]
[]
[]
[null,null,null,null,null,"Примечание:"]
[null,null,null,null,null,"* сумму представлять с расшифровкой по видам фактически произведенных платежей, к суммам платежей приложить подтверждающие документы"]
[]
[null,null,null,null,null,"1) в случае отличия факта, отраженного в смете затрат от показателей, подтвержденных бухгалтерскими документами - указать обоснование"]

{"sheet":"modRent_ESX_FACT","index":47,"n_rows":0,"n_cols":0,"rows_kept":0,"cut":false,"hidden":true,"merged":[]}

{"sheet":"modCONS_STRUCT_FACT","index":48,"n_rows":0,"n_cols":0,"rows_kept":0,"cut":false,"hidden":true,"merged":[]}

{"sheet":"20_Структура потребления факт","index":49,"n_rows":27,"n_cols":13,"rows_kept":27,"cut":false,"hidden":true,"merged":[[18,12,21,12],[20,7,21,7],[20,8,21,8],[20,9,21,9],[20,10,21,10],[0,5,0,6],[9,5,9,11],[18,5,21,5],[18,6,21,6],[18,7,19,10],[18,11,21,11]]}
["HIDDEn"]
[]
[]
[]
[]
[]
[]
[]
[]
[null,null,null,null,null,{"$f":"\"Детализация данных по структуре потребления э/э по арендуемым объектам ЭСХ \" & god-2 & \" год, факт\"","v":"Детализация данных по структуре потребления э/э по арендуемым объектам ЭСХ -2 год, факт"}]
[]
[]
[]
[]
[]
[]
[]
[]
[null,null,null,null,null,"№ п/п","№ договора","Прогнозный полезный объем электрической энергии, передаваемый через арендованные объекты электросетевого хозяйства за год, тыс. кВтч",null,null,null,"Крупнейшие потребители по указанному договору/ доп. соглашению (указываются в одной ячейке через запятую)","Ссылка на документ, подтверждающий отсутствие факта 100% доли собственника арендуемого имущества в ПО"]
[]
[null,null,null,null,null,null,null,"Всего","Собственнику арендуемого имущества","Доля собственника арендуемого имущества","Прочим потребителям"]
[]
[]
[null,null,null,null,null,"1.0"]
[null,null,null,null,null,null,"Добавить строку"]
[]
[null,null,null,null,null,2,"Итого",{"$f":"SUM(H24:H26)","v":0},{"$f":"SUM(I24:I26)","v":0},{"$f":"IF(H27=0,0,I27/H27)","v":0},{"$f":"SUM(K24:K26)","v":0}]

{"sheet":"modRent_ESX_PLAN","index":50,"n_rows":0,"n_cols":0,"rows_kept":0,"cut":false,"hidden":true,"merged":[]}

{"sheet":"modCONS_STRUCT_PLAN","index":51,"n_rows":0,"n_cols":0,"rows_kept":0,"cut":false,"hidden":true,"merged":[]}

{"sheet":"21_Аренда ЭСХ план","index":52,"n_rows":34,"n_cols":40,"rows_kept":34,"cut":false,"hidden":true,"merged":[[8,5,8,6],[18,8,21,8],[18,19,21,19],[18,40,21,40],[18,21,21,21],[18,22,21,22],[18,23,21,23],[18,25,21,25],[18,26,21,26],[18,33,18,39],[19,33,21,33],[19,35,21,35],[19,36,19,39],[20,36,21,36],[20,37,20,39],[18,16,21,16],[18,17,21,17],[18,18,21,18],[18,10,21,10],[18,13,21,13],[18,14,21,14],[18,15,21,15],[9,5,9,40],[18,9,21,9],[19,29,19,32],[20,29,21,29],[20,30,20,32],[19,34,21,34],[18,24,21,24],[18,27,18,32],[19,27,21,27],[19,28,21,28],[18,20,21,20],[18,5,21,5],[18,6,21,6],[18,7,21,7],[18,11,21,11],[18,12,21,12]]}
[null,null,null,null,null,null,null,null,null,null,null,"Дополнительное соглашение/договор в исходной редакции",null,null,null,null,null,null,null,null,null,null,null,null,null,null,null,null,null,null,null,null,null,null,{"$f":"IFERROR(IF(REPORT_OWNER=\"Версия организации\",\"HIDDEN\",\"VISIBLE\"),0)","v":"HIDDEN"}]
[]
[]
[]
[]
[]
[]
[]
[null,null,null,null,null,"Список листов"]
[null,null,null,null,null,{"$f":"\"Форма для представления сведений по аренде электросетевого имущества на \"&god-1&\" и \"&god&\" годы\"","v":"Форма для представления сведений по аренде электросетевого имущества на -1 и  годы"}]
[]
[]
[]
[]
[]
[]
[]
[]
[null,null,null,null,null,"№ п/п","Вид документа","№ договора","Дата подписания договора","Ссылка на договор со всеми доп соглашениями","Статус договора","Арендодатель","Собственник арендованных объектов электросетевого хозяйства (полное наименование)",null,null,null,"№ доп. соглашения  (если применимо)","Дата подписания доп. соглашения  (если применимо)","Предмет доп. соглашения (если применимо)","Доп. соглашение к договору на передачу э/э на включение точек поставки","Дата начала действия договора / доп. соглашения","Дата окончания действия договора / доп. соглашения","Статус документа - зарегистрирован в Росреестре (да/нет/ получен отказ в регистрации)","Объекты аренды","Адрес объекта аренды","Количество арендуемого оборудования в условных единицах,\nу.е.",{"$f":"\"Величина арендной платы за владение и (или) пользование имуществом на \"&Титульный!E23-1&\" год, утверждено,тыс. руб.\"","v":"Величина арендной платы за владение и (или) пользование имуществом на -1 год, утверждено,тыс. руб."},{"$f":"\"Величина арендной платы за владение и (или) пользование имуществом в \"&god-1&\", тыс. руб. (без НДС)\"","v":"Величина арендной платы за владение и (или) пользование имуществом в -1, тыс. руб. (без НДС)"},null,null,null,null,null,{"$f":"\"Величина арендной платы за владение и (или) пользование имуществом в \"&god&\", тыс. руб. (без НДС)\"","v":"Величина арендной платы за владение и (или) пользование имуществом в , тыс. руб. (без НДС)"}]
[null,null,null,null,null,null,null,null,null,null,null,null,null,null,null,null,null,null,null,null,null,null,null,null,null,null,null,{"$f":"\"Версия регулятора \"&Титульный!E23-1","v":"Версия регулятора -1"},{"$f":"\"суммапо договору за \"&god-1&\" год\"","v":"суммапо договору за -1 год"},"в соответствии с пп. 5 п. 28 Основ ценообразования,\n утв. ПП РФ от 29.12.2011 № 1178",null,null,null,{"$f":"\"Предложение ТСО на \"&god&\" год\"","v":"Предложение ТСО на  год"},{"$f":"\"Версия регулятора \" & god","v":"Версия регулятора "},{"$f":"\"сумма по договору за \"&god&\" год\"","v":"сумма по договору за  год"},"в соответствии с пп. 5 п. 28 Основ ценообразования,\n утв. ПП РФ от 29.12.2011 № 1178"]
[null,null,null,null,null,null,null,null,null,null,null,null,null,null,null,null,null,null,null,null,null,null,null,null,null,null,null,null,null,"Всего","в том числе",null,null,null,null,null,"Всего","в том числе"]
[null,null,null,null,null,null,null,null,null,null,null,null,null,null,null,null,null,null,null,null,null,null,null,null,null,null,null,null,null,null,"амортизация","налог на имущество","др. обязательные платежи*",null,null,null,null,"амортизация","налог на имущество","др. обязательные платежи*"]
[]
[null,null,null,null,null,0]
[null,null,null,null,null,null,"Добавить строку"]
[null,null,null,null,null,null,"Итого",null,null,null,null,null,null,null,null,null,null,null,null,null,null,null,null,null,null,{"$f":"SUM(Z24:Z25)","v":0},null,{"$f":"SUM(AB23:AB25)","v":0},{"$f":"SUM(AC24:AC25)","v":0},0,0,0,0,0,0,0,0,0,0,0]
[]
[null,null,null,null,null,null,null,null,null,null,null,null,null,null,null,null,null,null,null,null,"Действующий"]
[]
[]
[null,null,null,null,null,"Примечание:",null,null,null,null,null,null,null,null,null,null,null,null,null,null,"Расторгнут"]
[null,null,null,null,null,"* сумму представить с расшифровкой по видам производимых платежей, к суммам платежей приложить обосновывающие документы ",null,null,null,null,null,null,null,null,null,null,null,null,null,null,"Новый"]
[null,null,null,null,null,"**В случае, если договор предполагает пролонгацию, условия необходимо описать в комментариях"]
[null,null,null,null,null,"**Указать комментарий по плановому периоду (2018 год)"]

{"sheet":"22_Структура потребления план","index":53,"n_rows":24,"n_cols":13,"rows_kept":24,"cut":false,"hidden":true,"merged":[[17,12,20,12],[19,7,20,7],[19,8,20,8],[19,9,20,9],[19,10,20,10],[0,5,0,6],[8,5,8,11],[17,5,20,5],[17,6,20,6],[17,7,18,10],[17,11,20,11]]}
["HIDDEN"]
[]
[]
[]
[]
[]
[]
[]
[null,null,null,null,null,{"$f":"\"Детализация данных по структуре потребления э/э по арендуемым объектам ЭСХ \" & god & \" год, план\"","v":"Детализация данных по структуре потребления э/э по арендуемым объектам ЭСХ  год, план"}]
[]
[]
[]
[]
[]
[]
[]
[]
[null,null,null,null,null,"№ п/п","№ договора","Прогнозный полезный объем электрической энергии, передаваемый через арендованные объекты электросетевого хозяйства за год, тыс. кВтч",null,null,null,"Крупнейшие потребители по указанному договору/ доп. соглашению (указываются в одной ячейке через запятую)","Ссылка на документ, подтверждающий отсутствие факта 100% доли собственника арендуемого имущества в ПО"]
[]
[null,null,null,null,null,null,null,"Всего","Собственнику арендуемого имущества","Доля собственника арендуемого имущества","Прочим потребителям"]
[]
[null,null,null,null,null,"1.0"]
[null,null,null,null,null,null,"Добавить строку"]
[null,null,null,null,null,2,"Итого",{"$f":"SUM(H22:H23)","v":0},{"$f":"SUM(I22:I23)","v":0},{"$f":"IF(H24=0,0,I24/H24)","v":0},{"$f":"SUM(K22:K23)","v":0}]

{"sheet":"23_Лизинг ЭСХ факт","index":54,"n_rows":32,"n_cols":31,"rows_kept":32,"cut":false,"hidden":true,"merged":[[9,5,9,6],[10,5,10,29],[20,5,22,5],[20,6,22,6],[20,7,22,7],[20,8,22,8],[20,9,22,9],[20,10,22,10],[20,11,22,11],[20,15,22,15],[20,16,22,16],[20,17,22,17],[20,18,22,18],[20,19,22,19],[20,24,22,24],[20,25,22,25],[20,27,20,29],[19,30,22,30],[20,21,22,21],[20,22,22,22],[21,27,22,27],[21,28,22,28],[21,29,22,29],[20,26,22,26],[20,20,22,20],[20,12,23,12],[20,13,23,13],[20,14,23,14],[20,23,22,23]]}
[{"$f":"IFERROR(IF(region_name=\"Пермский край\",\"HIDDEN\",\"VISIBLE\"),0)","v":"VISIBLE"},null,null,null,null,null,null,null,null,null,null,null,null,null,null,null,null,null,null,null,null,null,null,null,null,null,{"$f":"IFERROR(IF(REPORT_OWNER=\"Версия организации\",\"HIDDEN\",\"VISIBLE\"),0)","v":"HIDDEN"}]
[]
[]
[]
[]
[]
[]
[null,null,null,null,null,null,null,null,null,null,"Дополнительное соглашение/договор в исходной редакции"]
[]
[null,null,null,null,null,"Список листов"]
[null,null,null,null,null,{"$f":"\"Форма для представления сведений по лизингу электросетевого имущества за \"&god-2&\" год\"","v":"Форма для представления сведений по лизингу электросетевого имущества за -2 год"}]
[]
[]
[]
[]
[]
[]
[]
[]
[null,null,null,null,null,null,null,null,null,null,null,null,null,null,null,null,null,null,null,null,null,null,null,null,null,null,null,null,null,null,"Комментарии*"]
[null,null,null,null,null,"№ п/п","Тип документа","№ договора","Договор учтен в ИПР (да/нет)","Лизингодатель","Собственник  объектов электросетевого хозяйства (полное наименование)","Дата подписания договора",null,null,null,"№ доп. соглашения  (если применимо)","Дата подписания доп. соглашения  (если применимо)","Предмет доп. соглашения (если применимо)","Доп. соглашение к договору на передачу э/э на включение точек поставки","Дата начала действия договора / доп. соглашения","Дата окончания действия договора / доп. соглашения","Статус документа - зарегистрирован в Росреестре (да/нет/ получен отказ в регистрации)","Объекты лизинга","Адрес объекта лизинга","Количество оборудования, взятого в лизинг, в условных единицах,\nу.е.",{"$f":"\"Лизинг электросетевого имущества на \"&god-2&\" год, утверждено, тыс. руб.\"","v":"Лизинг электросетевого имущества на -2 год, утверждено, тыс. руб."},{"$f":" god & \" факт версия регулятора\"","v":" факт версия регулятора"},{"$f":"\"Сумма лизинговых платежей за \"&god -2&\" год,  тыс. руб. (без НДС)\"","v":"Сумма лизинговых платежей за -2 год,  тыс. руб. (без НДС)"}]
[null,null,null,null,null,null,null,null,null,null,null,null,null,null,null,null,null,null,null,null,null,null,null,null,null,null,null,{"$f":"god -2&\", факт (отражен в отчете об исполнении сметы расходов за \"&god -2&\" год)\"","v":"-2, факт (отражен в отчете об исполнении сметы расходов за -2 год)"},{"$f":"god -2&\" факт, подтвержденный первичными документами (договоры/акты и пр.)\"","v":"-2 факт, подтвержденный первичными документами (договоры/акты и пр.)"},{"$f":"god -2&\" факт, подтвержденный  бухгалтерскими документами (оборотно-сальдовые ведомости, карточки счетов)\"","v":"-2 факт, подтвержденный  бухгалтерскими документами (оборотно-сальдовые ведомости, карточки счетов)"}]
[]
[]
[null,null,null,null,null,0]
[null,null,null,null,null,null,"Добавить строку"]
[null,null,null,null,null,null,"Итого",null,null,null,null,null,null,null,null,null,null,null,null,null,null,null,null,null,{"$f":"SUM(Y25:Y26)","v":0},null,{"$f":"SUM(AA25:AA26)","v":0},{"$f":"SUM(AB25:AB26)","v":0},{"$f":"SUM(AC25:AC26)","v":0},{"$f":"SUM(AD25:AD26)","v":0}]
[]
[]
[null,null,null,null,null,"Примечание:"]
[null,null,null,null,null,{"$f":"\"*Указать комментарий по фактически завершенному периоду (\"&Титульный!E23-2&\" год)\"","v":"*Указать комментарий по фактически завершенному периоду (-2 год)"}]
[null,null,null,null,null,"1) в случае отличия факта, отраженного в смете затрат от показателей, подтвержденных бухгалтерскими документами - указать обоснование"]

{"sheet":"modLEASING_ESX_FACT","index":55,"n_rows":0,"n_cols":0,"rows_kept":0,"cut":false,"hidden":true,"merged":[]}

{"sheet":"24_Лизинг ЭСХ план","index":56,"n_rows":26,"n_cols":29,"rows_kept":26,"cut":false,"hidden":true,"merged":[[8,5,8,6],[19,26,21,26],[19,28,21,28],[19,27,21,27],[19,14,22,14],[9,5,9,10],[19,5,21,5],[19,6,21,6],[19,7,21,7],[19,8,21,8],[19,9,21,9],[29,7,29,19],[19,23,21,23],[19,24,21,24],[19,25,21,25],[19,17,21,17],[19,18,21,18],[19,19,21,19],[19,20,21,20],[19,21,21,21],[19,22,21,22],[19,10,21,10],[19,11,21,11],[19,15,21,15],[19,16,21,16],[19,12,22,12],[19,13,22,13]]}
[{"$f":"IFERROR(IF(region_name=\"Пермский край\",\"HIDDEN\",\"VISIBLE\"),0)","v":"VISIBLE"},null,null,null,null,null,null,null,null,null,null,null,null,null,null,null,null,null,null,null,null,null,null,null,null,null,null,{"$f":"IFERROR(IF(REPORT_OWNER=\"Версия организации\",\"HIDDEN\",\"VISIBLE\"),0)","v":"HIDDEN"}]
[]
[]
[]
[]
[]
[null,null,null,null,null,null,null,null,null,null,"Дополнительное соглашение/договор в исходной редакции"]
[]
[null,null,null,null,null,"Список листов"]
[null,null,null,null,null,{"$f":"\"Форма для представления сведений по лизингу электросетевого имущества на \"&god-1&\" и \"&god&\" годы\"","v":"Форма для представления сведений по лизингу электросетевого имущества на -1 и  годы"}]
[]
[]
[]
[]
[]
[]
[]
[]
[]
[null,null,null,null,null,"№ п/п","Тип документа","№ договора","Договор учтен в ИПР (да/нет)","Лизингодатель","Собственник  объектов электросетевого хозяйства (полное наименование)","Дата подписания договора",null,null,null,"№ доп. соглашения  (если применимо)","Дата подписания доп. соглашения  (если применимо)","Предмет доп. соглашения (если применимо)","Доп. соглашение к договору на передачу э/э на включение точек поставки","Дата начала действия договора / доп. соглашения","Дата окончания действия договора / доп. соглашения","Статус документа - зарегистрирован в Росреестре (да/нет/ получен отказ в регистрации)","Объекты лизинга","Адрес объекта лизинга","Количество оборудования, взятого в лизинг, в условных единицах,\nу.е.",{"$f":"\"Лизинг электросетевого имущества на \"&god -1&\" год, утверждено, тыс. руб.\"","v":"Лизинг электросетевого имущества на -1 год, утверждено, тыс. руб."},{"$f":"\"Сумма лизинговых платежей, заявлена в тарифе на \"&god &\" год, тыс. руб. (без НДС)\"","v":"Сумма лизинговых платежей, заявлена в тарифе на  год, тыс. руб. (без НДС)"},{"$f":"\"Сумма лизинговых платежей по договорам за \" & god  & \" год версия регулятора, тыс. руб. (без НДС)\"","v":"Сумма лизинговых платежей по договорам за  год версия регулятора, тыс. руб. (без НДС)"},"Комментарии*"]
[]
[]
[]
[null,null,null,null,null,0]
[null,null,null,null,null,null,"Добавить строку"]
[null,null,null,null,null,null,"Итого",null,null,null,null,null,null,null,null,null,null,null,null,null,null,null,null,null,{"$f":"SUM(Y24:Y25)","v":0},null,{"$f":"SUM(AA24:AA25)","v":0}]

{"sheet":"modLEASING_ESX_PLAN","index":57,"n_rows":0,"n_cols":0,"rows_kept":0,"cut":false,"hidden":true,"merged":[]}

{"sheet":"25_Аренда прочее им. факт","index":58,"n_rows":43,"n_cols":39,"rows_kept":43,"cut":false,"hidden":true,"merged":[[8,5,8,6],[9,5,9,31],[19,5,21,5],[19,9,21,9],[19,16,21,16],[19,17,21,17],[19,18,21,18],[19,19,21,19],[19,20,21,20],[19,21,21,21],[19,22,21,22],[19,6,21,6],[19,8,21,8],[19,15,21,15],[19,7,21,7],[19,10,21,10],[19,11,21,11],[19,12,21,12],[19,13,21,13],[19,14,21,14],[19,38,21,38],[20,23,21,23],[20,25,21,25],[20,26,20,31],[19,23,19,31],[20,24,21,24],[19,32,19,35],[20,32,21,32],[20,33,20,35]]}
[null,null,null,null,null,null,null,null,null,null,null,null,null,null,null,null,null,null,null,null,null,null,null,null,{"$f":"IFERROR(IF(REPORT_OWNER=\"Версия организации\",\"HIDDEN\",\"VISIBLE\"),0)","v":"HIDDEN"},null,null,null,null,"HIDDEN","HIDDEN","HIDDEN"]
[]
[]
[]
[]
[]
[]
[]
[null,null,null,null,null,"Список листов"]
[null,null,null,null,null,{"$f":"\"Форма для представления сведений по аренде прочего имущества за \"& god-2 & \" год, участвующего в деятельности по передаче электрической энергии\"","v":"Форма для представления сведений по аренде прочего имущества за -2 год, участвующего в деятельности по передаче электрической энергии"}]
[]
[]
[]
[null,null,null,null,null,null,null,null,null,null,null,null,null,null,null,null,null,null,null,null,null,null,null,null,null,null,"-"]
[]
[]
[]
[]
[]
[null,null,null,null,null,"№ п/п","Объект аренды","Аренда/субаренда","№ договора","Дата договора","Арендодатель","Собственник арендованного имущества",null,null,null,"№ доп. соглашения  (если применимо)","Дата начала действия договора / доп. соглашения","Дата окончания действия договора / доп. соглашения","Статус документа - зарегистрирован в Росреестре (да/нет/ получен отказ в регистрации)","Объект, адрес объекта","Площадь","Назначение",{"$f":"\"Величина арендной платы за пользование прочим имуществом на \"&god -2&\" год, утверждено,тыс. руб.\"","v":"Величина арендной платы за пользование прочим имуществом на -2 год, утверждено,тыс. руб."},{"$f":"\"Величина арендной платы за владение и (или) пользование прочим имуществом за \"&god -2&\" год, тыс. руб. (без НДС)\"","v":"Величина арендной платы за владение и (или) пользование прочим имуществом за -2 год, тыс. руб. (без НДС)"},null,null,null,null,null,null,null,null,"В соответствии с пп. 5 п. 28 Основ ценообразования,\nутв. ПП РФ от 29.12.2011 № 1178",null,null,null,null,null,"Комментарии*"]
[null,null,null,null,null,null,null,null,null,null,null,null,null,null,null,null,null,null,null,null,null,null,null,{"$f":"god -2&\", факт (отражен в отчете об исполнении сметы расходов за \"&god -2&\" год)\"","v":"-2, факт (отражен в отчете об исполнении сметы расходов за -2 год)"},{"$f":"god -2&\", факт версия регулятора\"","v":"-2, факт версия регулятора"},{"$f":"god -2&\" факт, подтвержденный первичными документами (договоры/акты и пр.)\"","v":"-2 факт, подтвержденный первичными документами (договоры/акты и пр.)"},{"$f":"god -2&\" факт, подтвержденный  бухгалтерскими документами (оборотно-сальдовые ведомости, карточки счетов)\"","v":"-2 факт, подтвержденный  бухгалтерскими документами (оборотно-сальдовые ведомости, карточки счетов)"},null,null,null,null,null,"Всего","в том числе"]
[null,null,null,null,null,null,null,null,null,null,null,null,null,null,null,null,null,null,null,null,null,null,null,null,null,null,"Всего","Прямые расходы","Косвенные общепроизводственные расходы, отнесенные на деятельность по передаче э/э",null,null,null,null,"амортизация","налог на имущество","др. обязательные платежи*"]
[]
[]
[]
[null,null,null,null,null,"1","Аренда нежилых  помещений Всего, в том числе:",null,null,null,null,null,null,null,null,null,null,null,null,null,{"$f":"SUM(U27,U30)","v":0},null,null,{"$f":"SUM(X27,X30)","v":0},0,0,0,0,0,null,null,null,{"$f":"AG27+AG30","v":0},{"$f":"AH27+AH30","v":0},{"$f":"AI27+AI30","v":0},{"$f":"AJ27+AJ30","v":0}]
[null,null,null,null,null,"1.1","Производственные помещения",null,null,null,null,null,null,null,null,null,null,null,null,null,{"$f":"SUM(U28:U29)","v":0},null,null,{"$f":"SUM(X28:X29)","v":0},{"$f":"SUM(Y28:Y29)","v":0},{"$f":"SUM(Z28:Z29)","v":0},{"$f":"SUM(AB27:AC27)+AE27","v":0},null,null,null,null,null,{"$f":"SUM(AG28:AG29)","v":0},{"$f":"SUM(AH28:AH29)","v":0},{"$f":"SUM(AI28:AI29)","v":0},{"$f":"SUM(AJ28:AJ29)","v":0}]
[null,null,null,null,null,"1.1.0"]
[null,null,null,null,null,null,"Добавить"]
[null,null,null,null,null,"1.2","Непроизводственные помещения",null,null,null,null,null,null,null,null,null,null,null,null,null,{"$f":"SUM(U31:U32)","v":0},null,null,{"$f":"SUM(X31:X32)","v":0},{"$f":"SUM(Y31:Y32)","v":0},{"$f":"SUM(Z31:Z32)","v":0},{"$f":"SUM(AB30:AC30)+AE30","v":0},null,null,null,null,null,{"$f":"SUM(AG31:AG32)","v":0},{"$f":"SUM(AH31:AH32)","v":0},{"$f":"SUM(AI31:AI32)","v":0},{"$f":"SUM(AJ31:AJ32)","v":0}]
[null,null,null,null,null,"1.2.0"]
[null,null,null,null,null,null,"Добавить"]
[null,null,null,null,null,"2","Аренда автотранспортных средств Всего, в том числе:",null,null,null,null,null,null,null,null,null,null,null,null,null,{"$f":"SUM(U34:U35)","v":0},null,null,{"$f":"SUM(X34:X35)","v":0},{"$f":"SUM(Y34:Y35)","v":0},{"$f":"SUM(Z34:Z35)","v":0},{"$f":"SUM(AB33:AC33)+AE33","v":0},null,null,null,null,null,{"$f":"SUM(AG34:AG35)","v":0},{"$f":"SUM(AH34:AH35)","v":0},{"$f":"SUM(AI34:AI35)","v":0},{"$f":"SUM(AJ34:AJ35)","v":0}]
[null,null,null,null,null,"2.0"]
[null,null,null,null,null,null,"Добавить"]
[null,null,null,null,null,"3","Аренда (прочее) Всего, в том числе:",null,null,null,null,null,null,null,null,null,null,null,null,null,{"$f":"SUM(U37:U38)","v":0},null,null,{"$f":"SUM(X37:X38)","v":0},{"$f":"SUM(Y37:Y38)","v":0},{"$f":"SUM(Z37:Z38)","v":0},{"$f":"SUM(AB36:AC36)+AE36","v":0},null,null,null,null,null,{"$f":"SUM(AG37:AG38)","v":0},{"$f":"SUM(AH37:AH38)","v":0},{"$f":"SUM(AI37:AI38)","v":0},{"$f":"SUM(AJ37:AJ38)","v":0}]
[null,null,null,null,null,"3.0"]
[null,null,null,null,null,null,"Добавить"]
[null,null,null,null,null,"4","Итого",null,null,null,null,null,null,null,null,null,null,null,null,null,{"$f":"U26+U33+U36","v":0},null,{"$f":"W26+W33+W36","v":0},0,0,0,0,0,0,null,null,null,{"$f":"AG26+AG33+AG36","v":0},{"$f":"AH26+AH33+AH36","v":0},{"$f":"AI26+AI33+AI36","v":0},{"$f":"AJ26+AJ33+AJ36","v":0}]
[]
[null,null,null,null,null,"Примечание:"]
[null,null,null,null,null,{"$f":"\"*Указать комментарий по фактически завершенному периоду (\"&Титульный!E23-2&\" год)\"","v":"*Указать комментарий по фактически завершенному периоду (-2 год)"}]
[null,null,null,null,null,"1) в случае отличия факта, отраженного в смете затрат от показателей, подтвержденных бухгалтерскими документами - указать обоснование"]

{"sheet":"modRENT_OTHER_FACT","index":59,"n_rows":0,"n_cols":0,"rows_kept":0,"cut":false,"hidden":true,"merged":[]}

{"sheet":"26_Аренда прочее им. план ","index":60,"n_rows":45,"n_cols":33,"rows_kept":45,"cut":false,"hidden":true,"merged":[[8,5,8,6],[20,26,21,26],[20,27,20,29],[19,14,21,14],[9,5,9,9],[19,12,21,12],[19,13,21,13],[19,5,21,5],[19,9,21,9],[19,10,21,10],[19,11,21,11],[19,6,21,6],[19,32,21,32],[20,23,21,23],[20,25,21,25],[19,7,21,7],[19,8,21,8],[19,17,21,17],[19,18,21,18],[19,23,19,25],[19,19,21,19],[20,24,21,24],[19,20,21,20],[19,21,21,21],[19,22,21,22],[19,16,21,16],[19,15,21,15],[19,26,19,29]]}
[null,null,null,null,null,null,null,null,null,null,null,null,null,null,null,null,null,null,null,null,null,null,null,null,{"$f":"IFERROR(IF(REPORT_OWNER=\"Версия организации\",\"HIDDEN\",\"VISIBLE\"),0)","v":"HIDDEN"}]
[]
[]
[]
[]
[]
[]
[]
[null,null,null,null,null,"Список листов"]
[null,null,null,null,null,{"$f":"\"Форма для представления сведений по аренде прочего имущества на \" & god & \" год, участвующего в деятельности по передаче электрической энергии\"","v":"Форма для представления сведений по аренде прочего имущества на  год, участвующего в деятельности по передаче электрической энергии"}]
[]
[]
[]
[]
[]
[]
[]
[]
[]
[null,null,null,null,null,"№ п/п","Объект аренды","Аренда/субаренда","№ договора","Дата договора","Арендодатель","Собственник арендованного имущества",null,null,null,"№ доп. соглашения  (если применимо)","Дата начала действия договора / доп. соглашения","Дата окончания действия договора / доп. соглашения","Статус документа - зарегистрирован в Росреестре (да/нет/ получен отказ в регистрации)","Объект, адрес объекта","Площадь","Назначение",{"$f":"\"Величина арендной платы за пользование прочим имуществом на \"&god -1&\" год, утверждено,тыс. руб.\"","v":"Величина арендной платы за пользование прочим имуществом на -1 год, утверждено,тыс. руб."},{"$f":"\"Величина арендной платы за владение и (или) пользование прочим имуществом за \"&god&\" год, тыс. руб. (без НДС)\"","v":"Величина арендной платы за владение и (или) пользование прочим имуществом за  год, тыс. руб. (без НДС)"},null,null,"в соответствии с пп. 5 п. 28 Основ ценообразования,\nутв. ПП РФ от 29.12.2011 № 1178",null,null,null,null,null,"Комментарии*"]
[null,null,null,null,null,null,null,null,null,null,null,null,null,null,null,null,null,null,null,null,null,null,null,{"$f":"\"заявлена в тарифе на \"&god&\" год\"","v":"заявлена в тарифе на  год"},{"$f":"\"Версия регулятора \"&god","v":"Версия регулятора "},{"$f":"\"сумма по договорам за \"&god&\" год\"","v":"сумма по договорам за  год"},"Всего","в том числе"]
[null,null,null,null,null,null,null,null,null,null,null,null,null,null,null,null,null,null,null,null,null,null,null,null,null,null,null,"амортизация","налог на имущество","др. обязательные платежи*"]
[]
[]
[]
[null,null,null,null,null,"1","Аренда нежилых  помещений Всего, в том числе:",null,null,null,null,null,null,null,null,null,null,null,null,null,{"$f":"SUM(U27,U30)","v":0},null,null,{"$f":"SUM(X27,X30)","v":0},{"$f":"SUM(Y27,Y30)","v":0},{"$f":"SUM(Z27,Z30)","v":0},{"$f":"AA27+AA30","v":0},{"$f":"AB27+AB30","v":0},{"$f":"AC27+AC30","v":0},{"$f":"AD27+AD30","v":0}]
[null,null,null,null,null,"1.1","Производственные помещения",null,null,null,null,null,null,null,null,null,null,null,null,null,{"$f":"SUM(U28:U29)","v":0},null,null,{"$f":"SUM(X28:X29)","v":0},{"$f":"SUM(Y28:Y29)","v":0},{"$f":"SUM(Z28:Z29)","v":0},{"$f":"SUM(AA28:AA29)/2","v":0},{"$f":"SUM(AB28:AB29)/2","v":0},{"$f":"SUM(AC28:AC29)/2","v":0},{"$f":"SUM(AD28:AD29)/2","v":0}]
[null,null,null,null,null,"1.1.0"]
[null,null,null,null,null,null,"Добавить"]
[null,null,null,null,null,"1.2","Непроизводственные помещения",null,null,null,null,null,null,null,null,null,null,null,null,null,{"$f":"SUM(U31:U32)","v":0},null,null,{"$f":"SUM(X31:X32)","v":0},{"$f":"SUM(Y31:Y32)","v":0},{"$f":"SUM(Z31:Z32)","v":0},{"$f":"SUM(AA31:AA32)/2","v":0},{"$f":"SUM(AB31:AB32)/2","v":0},{"$f":"SUM(AC31:AC32)/2","v":0},{"$f":"SUM(AD31:AD32)/2","v":0}]
[null,null,null,null,null,"1.2.0"]
[null,null,null,null,null,null,"Добавить"]
[null,null,null,null,null,"2","Аренда автотранспортных средств Всего, в том числе:",null,null,null,null,null,null,null,null,null,null,null,null,null,{"$f":"SUM(U34:U35)","v":0},null,null,{"$f":"SUM(X34:X35)","v":0},{"$f":"SUM(Y34:Y35)","v":0},{"$f":"SUM(Z34:Z35)","v":0},{"$f":"SUM(AA34:AA35)/2","v":0},{"$f":"SUM(AB34:AB35)/2","v":0},{"$f":"SUM(AC34:AC35)/2","v":0},{"$f":"SUM(AD34:AD35)/2","v":0}]
[null,null,null,null,null,"2.0"]
[null,null,null,null,null,null,"Добавить"]
[null,null,null,null,null,"3","Аренда (прочее) Всего, в том числе:",null,null,null,null,null,null,null,null,null,null,null,null,null,{"$f":"SUM(U37:U38)","v":0},null,null,{"$f":"SUM(X37:X38)","v":0},{"$f":"SUM(Y37:Y38)","v":0},{"$f":"SUM(Z37:Z38)","v":0},{"$f":"SUM(AA37:AA38)/2","v":0},{"$f":"SUM(AB37:AB38)/2","v":0},{"$f":"SUM(AC37:AC38)/2","v":0},{"$f":"SUM(AD37:AD38)/2","v":0}]
[null,null,null,null,null,"3.0"]
[null,null,null,null,null,null,"Добавить"]
[null,null,null,null,null,"4","Итого",null,null,null,null,null,null,null,null,null,null,null,null,null,{"$f":"U26+U33+U36","v":0},null,null,{"$f":"X26+X33+X36","v":0},0,0,0,0,0,0]
[]
[]
[null,null,null,null,null,"Примечание:"]
[null,null,null,null,null,{"$f":"\"*Указать комментарий по плановому периоду (\"&Титульный!E23&\" год)\"","v":"*Указать комментарий по плановому периоду ( год)"}]
[null,null,null,null,null,"1) ссылка на документы, подтверждающие/обосновывающие плановые расходы"]
[null,null,null,null,null,"2) ссылка на локально-нормативные акты организации (приказы и пр.) - при наличии."]

{"sheet":"modRENT_OTHER_PLAN","index":61,"n_rows":0,"n_cols":0,"rows_kept":0,"cut":false,"hidden":true,"merged":[]}

{"sheet":"27_Лизинг прочее им. факт","index":62,"n_rows":43,"n_cols":31,"rows_kept":43,"cut":false,"hidden":true,"merged":[[23,5,24,5],[23,6,24,6],[19,12,21,12],[19,30,21,30],[20,22,21,22],[20,23,21,23],[20,24,20,29],[19,7,21,7],[19,17,21,17],[19,18,21,18],[19,19,21,19],[19,20,21,20],[19,9,21,9],[19,10,21,10],[19,14,21,14],[19,15,21,15],[3,9,3,14],[9,5,9,29],[19,5,21,5],[19,6,21,6],[19,22,19,29],[19,21,21,21],[19,8,21,8],[19,16,21,16],[19,11,21,11],[19,13,21,13],[8,5,8,6]]}
[{"$f":"IFERROR(IF(region_name=\"Пермский край\",\"HIDDEN\",\"VISIBLE\"),0)","v":"VISIBLE"},null,null,null,null,null,null,null,null,null,null,null,null,null,null,null,null,null,null,null,null,{"$f":"IFERROR(IF(REPORT_OWNER=\"Версия организации\",\"HIDDEN\",\"VISIBLE\"),0)","v":"HIDDEN"},null,null,"Добавить группировку, что бы + - можно было скрыть и отобразить"]
[]
[]
[]
[]
[]
[]
[]
[null,null,null,null,null,"Список листов"]
[null,null,null,null,null,{"$f":"\"Форма для представления сведений по лизингу прочего имущества за \" & god - 2 &\" год, участвующего в деятельности по передаче электрической энергии\"","v":"Форма для представления сведений по лизингу прочего имущества за -2 год, участвующего в деятельности по передаче электрической энергии"}]
[]
[]
[]
[null,null,null,null,null,null,null,null,null,null,null,null,null,null,null,null,null,null,null,null,null,null,null,null,"-"]
[]
[]
[]
[]
[]
[null,null,null,null,null,"№ п/п","№ договора","Договор учтен в ИПР (да/нет)","Дата договора ","Лизингодатель","Собственник объектов, взятых в лизинг",null,null,null,"№ доп. соглашения","Дата  доп. соглашения","Статус документа - зарегистрирован в Росреестре (да/нет/ получен отказ в регистрации)","Объект, адрес объекта","Площадь","Назначение",{"$f":"\"Лизинг прочего имущества на \" & god - 2 &\" год, утверждено,тыс. руб.\"","v":"Лизинг прочего имущества на -2 год, утверждено,тыс. руб."},{"$f":"god &\" год факт версия регулятора,тыс. руб.\"","v":" год факт версия регулятора,тыс. руб."},{"$f":"\"Сумма лизинговых платежей по прочему имуществу за \" & god - 2 &\" год, тыс. руб. (без НДС)\"","v":"Сумма лизинговых платежей по прочему имуществу за -2 год, тыс. руб. (без НДС)"},null,null,null,null,null,null,null,"Комментарии*"]
[null,null,null,null,null,null,null,null,null,null,null,null,null,null,null,null,null,null,null,null,null,null,{"$f":"god - 2 &\", факт (отражен в отчете об исполнении сметы расходов за \" & god - 2 &\" год)\"","v":"-2, факт (отражен в отчете об исполнении сметы расходов за -2 год)"},{"$f":"god - 2 &\" факт, подтвержденный первичными документами (договоры/акты и пр.)\"","v":"-2 факт, подтвержденный первичными документами (договоры/акты и пр.)"},{"$f":"god - 2 &\" факт, подтвержденный  бухгалтерскими документами (оборотно-сальдовые ведомости, карточки счетов)\"","v":"-2 факт, подтвержденный  бухгалтерскими документами (оборотно-сальдовые ведомости, карточки счетов)"}]
[null,null,null,null,null,null,null,null,null,null,null,null,null,null,null,null,null,null,null,null,null,null,null,null,"Всего","Прямые расходы","Косвенные общепроизводственные расходы, отнесенные на деятельность по передаче э/э","Фактический процент распределения расходов на деятельность по передаче э/э","Косвенные общехозяйственные расходы, отнесенные на деятельность по передаче э/э","Фактический процент распределения расходов на деятельность по передаче э/э"]
[]
[]
[]
[null,null,null,null,null,"1","Лизинг нежилых  помещений Всего, в том числе:",null,null,null,null,null,null,null,null,null,null,null,{"$f":"SUM(S27,S30)","v":0},null,null,{"$f":"SUM(V27,V30)","v":0},0,0,0,0,0,null,{"$f":"SUM(AC27,AC30)","v":0},{"$f":"SUM(AD27,AD30)","v":0}]
[null,null,null,null,null,"1.1","Производственные помещения",null,null,null,null,null,null,null,null,null,null,null,{"$f":"SUM(S28:S29)","v":0},null,null,{"$f":"SUM(V28:V29)","v":0},{"$f":"SUM(W28:W29)","v":0},{"$f":"SUM(X28:X29)","v":0},{"$f":"SUM(Z27:AA27)+AC27","v":0},{"$f":"SUM(Z28:Z29)","v":0},{"$f":"SUM(AA28:AA29)","v":0},null,{"$f":"SUM(AC28:AC29)","v":0},{"$f":"SUM(AD28:AD29)","v":0}]
[null,null,null,null,null,"1.1.0"]
[null,null,null,null,null,null,"Добавить"]
[null,null,null,null,null,"1.2","Непроизводственные помещения",null,null,null,null,null,null,null,null,null,null,null,{"$f":"SUM(S31:S32)","v":0},null,null,{"$f":"SUM(V31:V32)","v":0},{"$f":"SUM(W31:W32)","v":0},{"$f":"SUM(X31:X32)","v":0},{"$f":"SUM(Z30:AA30)+AC30","v":0}]
[null,null,null,null,null,"1.2.0"]
[null,null,null,null,null,null,"Добавить"]
[null,null,null,null,null,"2","Лизинг автотранспортных средств Всего, в том числе:",null,null,null,null,null,null,null,null,null,null,null,{"$f":"SUM(S34:S35)","v":0},null,null,{"$f":"SUM(V34:V35)","v":0},{"$f":"SUM(W34:W35)","v":0},{"$f":"SUM(X34:X35)","v":0},{"$f":"SUM(Z33:AA33)+AC33","v":0}]
[null,null,null,null,null,"2.0"]
[null,null,null,null,null,null,"Добавить"]
[null,null,null,null,null,"3","Лизинг (прочее) Всего, в том числе:",null,null,null,null,null,null,null,null,null,null,null,{"$f":"SUM(S37:S38)","v":0},null,null,{"$f":"SUM(V37:V38)","v":0},{"$f":"SUM(W37:W38)","v":0},{"$f":"SUM(X37:X38)","v":0},{"$f":"SUM(Z36:AA36)+AC36","v":0}]
[null,null,null,null,null,"3.0"]
[null,null,null,null,null,null,"Добавить"]
[null,null,null,null,null,"4","Итого",null,null,null,null,null,null,null,null,null,null,null,{"$f":"S26+S33+S36","v":0},null,{"$f":"U36+U33+U26","v":0},{"$f":"V26+V33+V36","v":0},0,0,0,0,0,null,{"$f":"AC26+AC33+AC36","v":0}]
[]
[null,null,null,null,null,"Примечание:"]
[null,null,null,null,null,{"$f":"\"*Указать комментарий по фактически завершенному периоду (\"&Титульный!E23-2&\" год)\"","v":"*Указать комментарий по фактически завершенному периоду (-2 год)"}]
[null,null,null,null,null,"1) в случае отличия факта, отраженного в смете затрат от показателей, подтвержденных бухгалтерскими документами - указать обоснование"]

{"sheet":"modLEASING_OTHER_FACT","index":63,"n_rows":0,"n_cols":0,"rows_kept":0,"cut":false,"hidden":true,"merged":[]}

{"sheet":"28_Лизинг прочее им. план","index":64,"n_rows":44,"n_cols":24,"rows_kept":44,"cut":false,"hidden":true,"merged":[[3,9,3,14],[9,5,9,22],[19,5,21,5],[19,6,21,6],[19,7,21,7],[19,8,21,8],[19,9,21,9],[19,10,21,10],[19,14,21,14],[19,15,21,15],[19,11,21,11],[8,5,8,6],[19,23,21,23],[19,22,21,22],[19,16,21,16],[19,17,21,17],[19,18,21,18],[19,19,21,19],[19,20,21,20],[19,21,21,21]]}
[{"$f":"IFERROR(IF(region_name=\"Пермский край\",\"HIDDEN\",\"VISIBLE\"),0)","v":"VISIBLE"}]
[]
[]
[]
[]
[]
[]
[]
[null,null,null,null,null,"Список листов"]
[null,null,null,null,null,{"$f":"\"Форма для представления сведений по лизингу прочего имущества на \"& god &\" год, участвующего в деятельности по передаче электрической энергии \"","v":"Форма для представления сведений по лизингу прочего имущества на  год, участвующего в деятельности по передаче электрической энергии "}]
[]
[]
[]
[]
[]
[]
[]
[]
[]
[null,null,null,null,null,"№ п/п","№ договора ","Договор учтен в ИПР (да/нет)","Дата договора ","Лизингодатель","Собственник объектов, взятых в лизинг",null,null,null,"№ доп. соглашения","Дата  доп. соглашения","Статус документа - зарегистрирован в Росреестре (да/нет/ получен отказ в регистрации)","Объект, адрес объекта","Площадь","Назначение",{"$f":"\"Лизинг прочего имущества \" & god - 1 &\" год, утверждено,тыс. руб.\"","v":"Лизинг прочего имущества -1 год, утверждено,тыс. руб."},{"$f":"\"Сумма лизинговых платежей на \"&god&\" год, тыс. руб. (без НДС)\"","v":"Сумма лизинговых платежей на  год, тыс. руб. (без НДС)"},{"$f":"\"Сумма лизинговых платежей  на \"&(god)&\" год версия регулятора, тыс. руб. (без НДС)\"","v":"Сумма лизинговых платежей  на  год версия регулятора, тыс. руб. (без НДС)"},"Комментарии*"]
[]
[]
[]
[]
[]
[null,null,null,null,null,"1","Лизинг нежилых  помещений Всего, в том числе:",null,null,null,null,null,null,null,null,null,null,null,{"$f":"SUM(S27,S30)","v":0},null,null,{"$f":"SUM(V27,V30)","v":0},{"$f":"SUM(W27,W30)","v":0}]
[null,null,null,null,null,"1.1","Производственные помещения",null,null,null,null,null,null,null,null,null,null,null,{"$f":"SUM(S28:S29)","v":0},null,null,{"$f":"SUM(V28:V29)","v":0},{"$f":"SUM(W28:W29)","v":0}]
[null,null,null,null,null,"1.1.0"]
[null,null,null,null,null,null,"Добавить"]
[null,null,null,null,null,"1.2","Непроизводственные помещения",null,null,null,null,null,null,null,null,null,null,null,{"$f":"SUM(S31:S32)","v":0},null,null,{"$f":"SUM(V31:V32)","v":0},{"$f":"SUM(W31:W32)","v":0}]
[null,null,null,null,null,"1.2.0"]
[null,null,null,null,null,null,"Добавить"]
[null,null,null,null,null,"2","Лизинг автотранспортных средств Всего, в том числе:",null,null,null,null,null,null,null,null,null,null,null,{"$f":"SUM(S34:S35)","v":0},null,null,{"$f":"SUM(V34:V35)","v":0},{"$f":"SUM(W34:W35)","v":0}]
[null,null,null,null,null,"2.0"]
[null,null,null,null,null,null,"Добавить"]
[null,null,null,null,null,"3","Лизинг (прочее) Всего, в том числе:",null,null,null,null,null,null,null,null,null,null,null,{"$f":"SUM(S37:S38)","v":0},null,null,{"$f":"SUM(V37:V38)","v":0},{"$f":"SUM(W37:W38)","v":0}]
[null,null,null,null,null,"3.0"]
[null,null,null,null,null,null,"Добавить"]
[null,null,null,null,null,"4","Итого",null,null,null,null,null,null,null,null,null,null,null,{"$f":"S26+S33+S36","v":0},null,{"$f":"U36+U33+U26","v":0},{"$f":"V26+V33+V36","v":0},{"$f":"W26+W33+W36","v":0}]
[]
[]
[]
[null,null,null,null,null,"Примечание:"]
[null,null,null,null,null,{"$f":"\"*Указать комментарий по плановому периоду (\"&Титульный!E23&\" год)\"","v":"*Указать комментарий по плановому периоду ( год)"}]

{"sheet":"modLEASING_OTHER_PLAN","index":65,"n_rows":0,"n_cols":0,"rows_kept":0,"cut":false,"hidden":true,"merged":[]}

{"sheet":"modRENT_FACT","index":66,"n_rows":0,"n_cols":0,"rows_kept":0,"cut":false,"hidden":true,"merged":[]}

{"sheet":"29_Аренда земли факт","index":67,"n_rows":37,"n_cols":29,"rows_kept":37,"cut":false,"hidden":true,"merged":[[8,5,8,6],[9,5,9,28],[19,19,22,19],[19,5,22,5],[19,7,22,7],[19,8,22,8],[19,10,22,10],[19,11,22,11],[19,6,22,6],[19,27,22,27],[19,28,22,28],[19,17,22,17],[19,18,22,18],[19,13,22,13],[19,14,22,14],[19,15,22,15],[19,21,22,21],[19,9,22,9],[19,12,22,12],[19,16,22,16],[19,26,22,26],[19,25,22,25],[19,20,22,20],[19,23,22,23],[19,24,22,24],[19,22,22,22]]}
[null,null,null,null,null,null,null,null,null,null,"Дополнительное соглашение/договор в исходной редакции"]
[]
[]
[]
[]
[]
[]
[]
[null,null,null,null,null,"Список листов"]
[null,null,null,null,null,{"$f":"\"Форма для представления сведений по аренде земли за \"&(god-2)&\" год\"","v":"Форма для представления сведений по аренде земли за -2 год"}]
[]
[]
[]
[]
[]
[]
[]
[]
[]
[null,null,null,null,null,"№ п/п","Объект аренды","Вид документа","№ договора","Предмет договора","Арендодатель","Собственник арендованной земли (полное наименование)","Дата подписания договора",null,null,null,"№ доп. соглашения  (если применимо)","Дата подписания доп. соглашения  (если применимо)","Предмет доп. соглашения (если применимо)","Дата начала действия договора / доп. соглашения","Дата окончания действия договора / доп. соглашения","Цели эксплуатации","Статус документа - зарегистрирован в Росреестре (да/нет/ получен отказ в регистрации)","Объекты аренды","Адрес объектов аренды","Форма аренды",{"$f":"\"Расходы за \"&(god-2)&\" год, относящиеся на передачу ээ, тыс.руб\"","v":"Расходы за -2 год, относящиеся на передачу ээ, тыс.руб"},"Площадь","Комментарии*"]
[]
[]
[]
[]
[null,null,null,null,null,0]
[null,null,null,null,null,null,"Добавить"]
[null,null,null,null,null,null,"Итого",null,null,null,null,null,null,null,null,null,null,null,null,null,null,null,null,null,null,null,{"$f":"SUM(AA25:AA26)","v":0}]
[]
[]
[]
[]
[null,null,null,null,null,"Примечание:"]
[]
[null,null,null,null,null,{"$f":"\"*Указать комментарий по фактически завершенному периоду (\"&Титульный!E23-2&\" год)\"","v":"*Указать комментарий по фактически завершенному периоду (-2 год)"}]
[null,null,null,null,null,"1) в случае отличия факта, отраженного в смете затрат от показателей, подтвержденных бухгалтерскими документами - указать обоснование"]
[null,null,null,null,null,"2) ссылка на документы, подтверждающие/обосновывающие фактические расходы"]
[null,null,null,null,null,"3) ссылка на локально-нормативные акты организации (приказы и пр.) - при наличии."]

{"sheet":"30_Аренда земли план","index":68,"n_rows":37,"n_cols":35,"rows_kept":37,"cut":false,"hidden":true,"merged":[[8,5,8,6],[19,17,22,17],[19,15,22,15],[19,13,22,13],[19,14,22,14],[9,5,9,24],[19,5,22,5],[19,7,22,7],[19,8,22,8],[19,9,22,9],[19,6,22,6],[19,10,22,10],[19,11,22,11],[19,12,22,12],[19,16,22,16],[19,25,22,25],[19,18,22,18],[19,34,22,34],[19,26,22,26],[19,29,22,29],[19,30,21,30],[19,27,21,27],[19,28,21,28],[19,31,21,31],[19,23,22,23],[19,24,22,24],[19,19,22,19],[19,20,22,20],[19,21,22,21],[19,22,22,22]]}
[null,null,null,null,null,null,null,null,null,null,"Дополнительное соглашение/договор в исходной редакции",null,null,null,null,null,null,null,null,null,null,null,null,null,null,null,null,null,{"$f":"IFERROR(IF(REPORT_OWNER=\"Версия организации\",\"HIDDEN\",\"VISIBLE\"),0)","v":"HIDDEN"}]
[]
[]
[]
[]
[]
[]
[]
[null,null,null,null,null,"Список листов"]
[null,null,null,null,null,{"$f":"\"Форма для представления сведений по аренде земли за \"&(god)&\" год\"","v":"Форма для представления сведений по аренде земли за  год"}]
[]
[]
[]
[]
[]
[]
[]
[]
[]
[null,null,null,null,null,"№ п/п","Объект аренды","Вид документа","№ договора","Предмет договора","Арендодатель","Собственник арендованной земли (полное наименование)","Дата подписания договора",null,null,null,"№ доп. соглашения  (если применимо)","Дата подписания доп. соглашения  (если применимо)","Предмет доп. соглашения (если применимо)","Доп. соглашение к договору на передачу э/э на включение точек поставки","Дата начала действия договора / доп. соглашения","Дата окончания действия договора / доп. соглашения","Цели эксплуатации","Статус документа - зарегистрирован в Росреестре (да/нет/ получен отказ в регистрации)","Объекты аренды","Адрес объектов аренды","Форма аренды","Площадь участка под объектом","Кадастровая стоимость ","Кадастровый номер","Ставка налога",{"$f":"Титульный!E23&\",  предожение организации\"","v":",  предожение организации"},null,null,"Комментарии*"]
[]
[]
[null,null,null,null,null,null,null,null,null,null,null,null,null,null,null,null,null,null,null,null,null,null,null,null,null,null,null,"кв.м","тыс.руб",null,"%","тыс.руб"]
[]
[null,null,null,null,null,0]
[null,null,null,null,null,null,"Добавить"]
[null,null,null,null,null,null,"Итого",null,null,null,null,null,null,null,null,null,null,null,null,null,null,null,null,null,null,null,null,null,null,null,null,{"$f":"SUM(AF25:AF26)","v":0}]
[]
[]
[]
[]
[null,null,null,null,null,"Примечание:"]
[]
[null,null,null,null,null,{"$f":"\"*Указать комментарий по фактически текущему периоду \"&Титульный!E23&\" год\"","v":"*Указать комментарий по фактически текущему периоду  год"}]
[null,null,null,null,null,"1) в случае отличия факта, отраженного в смете затрат от показателей, подтвержденных бухгалтерскими документами - указать обоснование"]
[null,null,null,null,null,"2) ссылка на документы, подтверждающие/обосновывающие фактические расходы"]
[null,null,null,null,null,"3) ссылка на локально-нормативные акты организации (приказы и пр.) - при наличии."]

{"sheet":"modRENT_PLAN","index":69,"n_rows":0,"n_cols":0,"rows_kept":0,"cut":false,"hidden":true,"merged":[]}

{"sheet":"modNPR","index":70,"n_rows":0,"n_cols":0,"rows_kept":0,"cut":false,"hidden":true,"merged":[]}

{"sheet":"31_Прочие НПР ","index":71,"n_rows":20,"n_cols":25,"rows_kept":20,"cut":false,"hidden":true,"merged":[[11,24,13,24],[12,11,13,11],[12,12,13,12],[12,14,13,14],[12,15,12,20],[12,21,13,21],[12,13,13,13],[12,23,13,23],[12,9,13,9],[12,4,13,4],[12,3,13,3],[6,3,6,4],[12,22,13,22],[9,3,9,21],[12,10,13,10],[12,5,13,5],[12,6,13,6],[12,7,13,7],[12,8,13,8]]}
[null,null,null,null,null,null,null,null,null,null,null,null,null,{"$f":"IFERROR(IF(REPORT_OWNER=\"Версия организации\",\"HIDDEN\",\"VISIBLE\"),0)","v":"HIDDEN"},null,null,null,null,null,"HIDDEN","HIDDEN",null,null,{"$f":"IFERROR(IF(REPORT_OWNER=\"Версия организации\",\"HIDDEN\",\"VISIBLE\"),0)","v":"HIDDEN"}]
[]
[]
[]
[]
[]
[null,null,null,"Список листов"]
[null,null,null,null,null,null,null,null,null,null,{"$f":"IF(god=\"\",\"Не определено\",god+4)","v":"Не определено"},{"$f":"IF(god=\"\",\"Не определено\",god+5)","v":"Не определено"},{"$f":"IF(god=\"\",\"Не определено\",god+5)","v":"Не определено"},{"$f":"IF(god=\"\",\"Не определено\",god+5)","v":"Не определено"},null,null,null,null,null,null,{"$f":"IF(god=\"\",\"Не определено\",god+5)","v":"Не определено"},{"$f":"IF(god=\"\",\"Не определено\",god+6)","v":"Не определено"},{"$f":"IF(god=\"\",\"Не определено\",god+7)","v":"Не определено"},{"$f":"IF(god=\"\",\"Не определено\",god+7)","v":"Не определено"}]
[]
[null,null,null,"Расшифровка неподконтрольных расходов"]
[]
[null,null,null,null,null,null,null,null,null,null,null,null,null,null,null,null,null,null,null,null,null,null,null,null,"Комментарии и примечания (не будут загружены в БД)"]
[null,null,null,"№ п/п","Показатели, тыс.руб.",null,null,null,"Наименование затрат",null,"Договоры/доп. соглашения/ при заполнении факта дополнительно - акты выполненных работ *",{"$f":"Титульный!E23-2&\",  утверждено\"","v":"-2,  утверждено"},{"$f":"Титульный!E23-2&\", факт (отражен в отчете об исполнении сметы расходов за \"&Титульный!E23-2&\" год)\"","v":"-2, факт (отражен в отчете об исполнении сметы расходов за -2 год)"},{"$f":"Титульный!E23-2&\", факт версия регулятора\"","v":"-2, факт версия регулятора"},{"$f":"Титульный!E23-2&\" факт, подтвержденный первичными документами (договоры/акты и пр.)\"","v":"-2 факт, подтвержденный первичными документами (договоры/акты и пр.)"},{"$f":"Титульный!E23-2&\" факт, подтвержденный первичными документами (договоры/акты и пр.)\"","v":"-2 факт, подтвержденный первичными документами (договоры/акты и пр.)"},null,null,null,null,null,{"$f":"Титульный!E23-1&\",  утверждено\"","v":"-1,  утверждено"},{"$f":"Титульный!E23&\",  предожение\"","v":",  предожение"},{"$f":"Титульный!E23&\",  версия регулятора\"","v":",  версия регулятора"}]
[null,null,null,"№ п/п","Показатели, тыс.руб.",null,null,null,null,null,null,"2016 год план (утверждённый органами регулирования)","2016 факт (отражен в отчете об исполнении сметы расходов за 2016 год)","2016 факт (отражен в отчете об исполнении сметы расходов за 2016 год)","2016, факт (отражен в отчете об исполнении сметы расходов за 2016 год)","Всего","Прямые расходы","Косвенные общехозяйственные расходы, отнесенные на деятельность по передаче э/э","Фактический процент распределения расходов на деятельность по передаче э/э",null,null,"2017 год план (утверждённый органами регулирования)","2018 год план","2018 год план"]
[]
[null,null,null,null,"Прочие неподконтрольные расходы Всего, в том числе:",null,null,null,null,null,null,{"$f":"SUM(L18:L20)","v":0},0,0,0,0,0,0,null,null,null,{"$f":"SUM(V18:V20)","v":0},{"$f":"SUM(W18:W20)","v":0},{"$f":"SUM(X18:X20)","v":0}]
[null,null,null,{"$f":"D16 & \".0\"","v":".0"}]
[null,null,"О",1,"Расходы на обслуживание заемных средств на капитальные вложения",null,null,null,null,null,null,0,0,{"$f":"'44_кредиты'!M23","v":0},null,{"$f":"SUM(Q18:R18,T18)","v":0}]
[null,null,null,1]
[null,null,null,null,"Добавить расход"]

{"sheet":"modCalcAmortFact","index":72,"n_rows":0,"n_cols":0,"rows_kept":0,"cut":false,"hidden":true,"merged":[]}

{"sheet":"32_Расчет амортизации факт","index":73,"n_rows":28,"n_cols":42,"rows_kept":28,"cut":false,"hidden":true,"merged":[[8,5,8,6],[11,41,12,41],[34,6,34,13],[11,29,11,31],[11,32,12,32],[11,33,12,33],[11,34,12,34],[11,35,11,39],[11,40,12,40],[11,14,13,14],[11,15,12,15],[11,16,12,16],[11,17,11,20],[11,21,11,22],[11,23,11,28],[9,6,9,19],[11,10,13,10],[11,11,13,11],[11,12,13,12],[11,13,13,13],[11,5,13,5],[11,6,13,6],[11,7,13,7],[11,8,13,8],[11,9,13,9]]}
[null,null,null,null,null,"Вернуться к перечню форм",null,null,null,null,null,null,null,null,null,null,null,null,null,null,null,null,null,null,null,null,null,null,null,null,null,null,null,null,{"$f":"IFERROR(IF(REPORT_OWNER=\"Версия организации\",\"HIDDEN\",\"VISIBLE\"),0)","v":"HIDDEN"}]
[]
[]
[]
[]
[]
[]
[]
[null,null,null,null,null,"Список листов"]
[null,null,null,null,null,null,{"$f":"\"Расчет амортизационных отчислений за \"&(god-2)&\"-\"&(god-1)&\" по основным средствам, находящимся в собственности организации и участвующих в деятельности по передаче электрической энергии\"","v":"Расчет амортизационных отчислений за -2--1 по основным средствам, находящимся в собственности организации и участвующих в деятельности по передаче электрической энергии"}]
[]
[null,null,null,null,null,"№ п/п","Наименование основного средства","Амортизационная группа (в соответствии с классификацией ОС, включаемых в амортизационные группы)","Инвентарный номер","Технический столбцец","Вид объекта сетевого хозяйства","Уровень напряжения","Адрес","Инв. номер группы (если применимо)","Дата ввода в эксплуатацию","Балансовая (первоначальная) стоимость при вводе в эксплуатацию","Срок полезного использования при вводе в эксплуатацию",{"$f":"\"По состоянию на 01.01.\"&(god-2)&\" (31.12.\"&(god-3)&\")\"","v":"По состоянию на 01.01.-2 (31.12.-3)"},null,null,null,{"$f":"\"Изменение балансовой стоимости за \"&(god-2)&\" год\"","v":"Изменение балансовой стоимости за -2 год"},null,{"$f":"\"Начисленная  амортизация за \"&(god-2)&\" год\"","v":"Начисленная  амортизация за -2 год"},null,null,null,null,null,{"$f":"\"По состоянию на 01.01.\"&(god-1)&\" (31.12.\"&(god-2)&\")\"","v":"По состоянию на 01.01.-1 (31.12.-2)"},null,null,{"$f":"\"Налог на имущество - \"&(god-2)&\",  утверждено\"","v":"Налог на имущество - -2,  утверждено"},{"$f":"\"Налог на имущество - \"&(god-2)&\", факт (отражен в отчете об исполнении сметы расходов за \"&(god-2)&\" год)\"","v":"Налог на имущество - -2, факт (отражен в отчете об исполнении сметы расходов за -2 год)"},{"$f":"\"Налог на имущество - \"&(god-2)&\", факт версия регулятора\"","v":"Налог на имущество - -2, факт версия регулятора"},{"$f":"\"Налог на имущество - \"&(god-2)&\" факт, подтвержденный  бухгалтерскими документами (оборотно-сальдовые ведомости, карточки счетов, налоговые декларации)\"","v":"Налог на имущество - -2 факт, подтвержденный  бухгалтерскими документами (оборотно-сальдовые ведомости, карточки счетов, налоговые декларации)"},null,null,null,null,{"$f":"\"Амортизация за \"&(god-1)&\" год, утверждено\"","v":"Амортизация за -1 год, утверждено"},{"$f":"\"Налог на имущество - \"&(god-1)&\",  утверждено\"","v":"Налог на имущество - -1,  утверждено"}]
[null,null,null,null,null,null,null,null,null,null,null,null,null,null,null,null,null,"балансовая стоимость","накопленная амортизация \n(Всего с момента ввода в эксплуатацию)","остаточная стоимость","срок полезного использования (остаточный)","введено, в т.ч. по модернизации и реконструкции ","выбыло","Величина амортизационных отчислений в год, утверждено","Фактическая величина амортизационных отчислений в месяц","Величина амортизационных отчислений за 12 месяцев","Сумма фактически начисленной амортизации (по данным бухгалтерского учета)","процент отнесения на передачу э/э","Сумма фактически начисленной амортизации, отнесенной на передачу э/э","балансовая стоимость","остаточная стоимость","срок полезного использования (остаточный)",null,null,null,"Среднегодовая стоимость имущества","Ставка налога","Всего","Фактический процент распределения расходов на деятельность по передаче э/э","Расходы, отнесенные на деятельность по передаче э/э"]
[null,null,null,null,null,null,null,null,null,null,null,null,null,null,null,"тыс.руб.","мес.","тыс.руб.","тыс.руб.","тыс.руб.","мес.","тыс.руб.","тыс.руб.","тыс.руб.","тыс.руб.","тыс.руб.","тыс.руб.","%","тыс.руб.","тыс.руб.","тыс.руб.","мес.","тыс.руб.","тыс.руб.","руб.","тыс.руб.","%","тыс.руб.","%","тыс.руб.","тыс.руб.","тыс.руб."]
[]
[]
[]
[]
[null,null,null,null,null,0]
[null,null,null,null,null,null,"Добавить"]
[null,null,null,null,null,null,"Итого (тыс. руб.)",null,null,null,null,null,null,null,null,{"$f":"SUM(P19:P20)","v":0},null,{"$f":"SUM(R19:R20)","v":0},{"$f":"SUM(S19:S20)","v":0},{"$f":"SUM(T19:T20)","v":0},null,{"$f":"SUM(V19:V20)","v":0},{"$f":"SUM(W19:W20)","v":0},null,{"$f":"SUM(Y19:Y20)","v":0},{"$f":"SUM(Z19:Z20)","v":0},{"$f":"SUM(AA19:AA20)","v":0},null,{"$f":"SUM(AC19:AC20)","v":0},{"$f":"SUM(AD19:AD20)","v":0},{"$f":"SUM(AE19:AE20)","v":0},null,null,{"$f":"SUM(AH19:AH20)","v":0},{"$f":"SUM(AI19:AI20)","v":0},{"$f":"SUM(AJ19:AJ20)","v":0},null,{"$f":"SUM(AL19:AL20)","v":0},null,{"$f":"SUM(AN19:AN20)","v":0}]
[]
[null,null,null,null,null,null,"Итого Прочие и прочее ЭСХ (тыс. руб.)",null,null,"Прочее",null,null,null,null,null,{"$f":"SUMIF($J$19:$J$20,$J$23,P$19:P$20)+SUMIF($J$19:$J$20,\"ЭСХнет\",P$19:P$20)","v":0},null,{"$f":"SUMIF($J$19:$J$20,$J$23,R$19:R$20)+SUMIF($J$19:$J$20,\"ЭСХнет\",R$19:R$20)","v":0},{"$f":"SUMIF($J$19:$J$20,$J$23,S$19:S$20)+SUMIF($J$19:$J$20,\"ЭСХнет\",S$19:S$20)","v":0},{"$f":"SUMIF($J$19:$J$20,$J$23,T$19:T$20)+SUMIF($J$19:$J$20,\"ЭСХнет\",T$19:T$20)","v":0},null,{"$f":"SUMIF($J$19:$J$20,$J$23,V$19:V$20)+SUMIF($J$19:$J$20,\"ЭСХнет\",V$19:V$20)","v":0},{"$f":"SUMIF($J$19:$J$20,$J$23,W$19:W$20)+SUMIF($J$19:$J$20,\"ЭСХнет\",W$19:W$20)","v":0},null,{"$f":"SUMIF($J$19:$J$20,$J$23,Y$19:Y$20)+SUMIF($J$19:$J$20,\"ЭСХнет\",Y$19:Y$20)","v":0},{"$f":"SUMIF($J$19:$J$20,$J$23,Z$19:Z$20)+SUMIF($J$19:$J$20,\"ЭСХнет\",Z$19:Z$20)","v":0},{"$f":"SUMIF($J$19:$J$20,$J$23,AA$19:AA$20)+SUMIF($J$19:$J$20,\"ЭСХнет\",AA$19:AA$20)","v":0},null,{"$f":"SUMIF($J$19:$J$20,$J$23,AC$19:AC$20)+SUMIF($J$19:$J$20,\"ЭСХнет\",AC$19:AC$20)","v":0},{"$f":"SUMIF($J$19:$J$20,$J$23,AD$19:AD$20)+SUMIF($J$19:$J$20,\"ЭСХнет\",AD$19:AD$20)","v":0},{"$f":"SUMIF($J$19:$J$20,$J$23,AE$19:AE$20)+SUMIF($J$19:$J$20,\"ЭСХнет\",AE$19:AE$20)","v":0},null,null,{"$f":"SUMIF($J$19:$J$20,$J$23,AH$19:AH$20)+SUMIF($J$19:$J$20,\"ЭСХнет\",AH$19:AH$20)","v":0},{"$f":"SUMIF($J$19:$J$20,$J$23,AI$19:AI$20)+SUMIF($J$19:$J$20,\"ЭСХнет\",AI$19:AI$20)","v":0},{"$f":"SUMIF($J$19:$J$20,$J$23,AJ$19:AJ$20)+SUMIF($J$19:$J$20,\"ЭСХнет\",AJ$19:AJ$20)","v":0},null,{"$f":"SUMIF($J$19:$J$20,$J$23,AL$19:AL$20)+SUMIF($J$19:$J$20,\"ЭСХнет\",AL$19:AL$20)","v":0},null,{"$f":"SUMIF($J$19:$J$20,$J$23,AN$19:AN$20)+SUMIF($J$19:$J$20,\"ЭСХнет\",AN$19:AN$20)","v":0}]
[null,null,null,null,null,null,"Итого по ВН (тыс. руб.)",null,null,"ЭСХВН",null,null,null,null,null,{"$f":"SUMIF($J$19:$J$20,$J$24,P$19:P$20)","v":0},null,{"$f":"SUMIF($J$19:$J$20,$J$24,R$19:R$20)","v":0},{"$f":"SUMIF($J$19:$J$20,$J$24,S$19:S$20)","v":0},{"$f":"SUMIF($J$19:$J$20,$J$24,T$19:T$20)","v":0},null,{"$f":"SUMIF($J$19:$J$20,$J$24,V$19:V$20)","v":0},{"$f":"SUMIF($J$19:$J$20,$J$24,W$19:W$20)","v":0},null,{"$f":"SUMIF($J$19:$J$20,$J$24,Y$19:Y$20)","v":0},{"$f":"SUMIF($J$19:$J$20,$J$24,Z$19:Z$20)","v":0},{"$f":"SUMIF($J$19:$J$20,$J$24,AA$19:AA$20)","v":0},null,{"$f":"SUMIF($J$19:$J$20,$J$24,AC$19:AC$20)","v":0},{"$f":"SUMIF($J$19:$J$20,$J$24,AD$19:AD$20)","v":0},{"$f":"SUMIF($J$19:$J$20,$J$24,AE$19:AE$20)","v":0},null,null,{"$f":"SUMIF($J$19:$J$20,$J$24,AH$19:AH$20)","v":0},{"$f":"SUMIF($J$19:$J$20,$J$24,AI$19:AI$20)","v":0},{"$f":"SUMIF($J$19:$J$20,$J$24,AJ$19:AJ$20)","v":0},null,{"$f":"SUMIF($J$19:$J$20,$J$24,AL$19:AL$20)","v":0},null,{"$f":"SUMIF($J$19:$J$20,$J$24,AN$19:AN$20)","v":0}]
[null,null,null,null,null,null,"Итого по СН1 (тыс. руб.)",null,null,"ЭСХСН1",null,null,null,null,null,{"$f":"SUMIF($J$19:$J$20,$J$25,P$19:P$20)","v":0},null,{"$f":"SUMIF($J$19:$J$20,$J$25,R$19:R$20)","v":0},{"$f":"SUMIF($J$19:$J$20,$J$25,S$19:S$20)","v":0},{"$f":"SUMIF($J$19:$J$20,$J$25,T$19:T$20)","v":0},null,{"$f":"SUMIF($J$19:$J$20,$J$25,V$19:V$20)","v":0},{"$f":"SUMIF($J$19:$J$20,$J$25,W$19:W$20)","v":0},null,{"$f":"SUMIF($J$19:$J$20,$J$25,Y$19:Y$20)","v":0},{"$f":"SUMIF($J$19:$J$20,$J$25,Z$19:Z$20)","v":0},{"$f":"SUMIF($J$19:$J$20,$J$25,AA$19:AA$20)","v":0},null,{"$f":"SUMIF($J$19:$J$20,$J$25,AC$19:AC$20)","v":0},{"$f":"SUMIF($J$19:$J$20,$J$25,AD$19:AD$20)","v":0},{"$f":"SUMIF($J$19:$J$20,$J$25,AE$19:AE$20)","v":0},null,null,{"$f":"SUMIF($J$19:$J$20,$J$25,AH$19:AH$20)","v":0},{"$f":"SUMIF($J$19:$J$20,$J$25,AI$19:AI$20)","v":0},{"$f":"SUMIF($J$19:$J$20,$J$25,AJ$19:AJ$20)","v":0},null,{"$f":"SUMIF($J$19:$J$20,$J$25,AL$19:AL$20)","v":0},null,{"$f":"SUMIF($J$19:$J$20,$J$25,AN$19:AN$20)","v":0}]
[null,null,null,null,null,null,"Итого по СН2 (тыс. руб.)",null,null,"ЭСХСН2",null,null,null,null,null,{"$f":"SUMIF($J$19:$J$20,$J$26,P$19:P$20)","v":0},null,{"$f":"SUMIF($J$19:$J$20,$J$26,R$19:R$20)","v":0},{"$f":"SUMIF($J$19:$J$20,$J$26,S$19:S$20)","v":0},{"$f":"SUMIF($J$19:$J$20,$J$26,T$19:T$20)","v":0},null,{"$f":"SUMIF($J$19:$J$20,$J$26,V$19:V$20)","v":0},{"$f":"SUMIF($J$19:$J$20,$J$26,W$19:W$20)","v":0},null,{"$f":"SUMIF($J$19:$J$20,$J$26,Y$19:Y$20)","v":0},{"$f":"SUMIF($J$19:$J$20,$J$26,Z$19:Z$20)","v":0},{"$f":"SUMIF($J$19:$J$20,$J$26,AA$19:AA$20)","v":0},null,{"$f":"SUMIF($J$19:$J$20,$J$26,AC$19:AC$20)","v":0},{"$f":"SUMIF($J$19:$J$20,$J$26,AD$19:AD$20)","v":0},{"$f":"SUMIF($J$19:$J$20,$J$26,AE$19:AE$20)","v":0},null,null,{"$f":"SUMIF($J$19:$J$20,$J$26,AH$19:AH$20)","v":0},{"$f":"SUMIF($J$19:$J$20,$J$26,AI$19:AI$20)","v":0},{"$f":"SUMIF($J$19:$J$20,$J$26,AJ$19:AJ$20)","v":0},null,{"$f":"SUMIF($J$19:$J$20,$J$26,AL$19:AL$20)","v":0},null,{"$f":"SUMIF($J$19:$J$20,$J$26,AN$19:AN$20)","v":0}]
[null,null,null,null,null,null,"Итого по НН (тыс. руб.)",null,null,"ЭСХНН",null,null,null,null,null,{"$f":"SUMIF($J$19:$J$20,$J$27,P$19:P$20)","v":0},null,{"$f":"SUMIF($J$19:$J$20,$J$27,R$19:R$20)","v":0},{"$f":"SUMIF($J$19:$J$20,$J$27,S$19:S$20)","v":0},{"$f":"SUMIF($J$19:$J$20,$J$27,T$19:T$20)","v":0},null,{"$f":"SUMIF($J$19:$J$20,$J$27,V$19:V$20)","v":0},{"$f":"SUMIF($J$19:$J$20,$J$27,W$19:W$20)","v":0},null,{"$f":"SUMIF($J$19:$J$20,$J$27,Y$19:Y$20)","v":0},{"$f":"SUMIF($J$19:$J$20,$J$27,Z$19:Z$20)","v":0},{"$f":"SUMIF($J$19:$J$20,$J$27,AA$19:AA$20)","v":0},null,{"$f":"SUMIF($J$19:$J$20,$J$27,AC$19:AC$20)","v":0},{"$f":"SUMIF($J$19:$J$20,$J$27,AD$19:AD$20)","v":0},{"$f":"SUMIF($J$19:$J$20,$J$27,AE$19:AE$20)","v":0},null,null,{"$f":"SUMIF($J$19:$J$20,$J$27,AH$19:AH$20)","v":0},{"$f":"SUMIF($J$19:$J$20,$J$27,AI$19:AI$20)","v":0},{"$f":"SUMIF($J$19:$J$20,$J$27,AJ$19:AJ$20)","v":0},null,{"$f":"SUMIF($J$19:$J$20,$J$27,AL$19:AL$20)","v":0},null,{"$f":"SUMIF($J$19:$J$20,$J$27,AN$19:AN$20)","v":0}]
[null,null,null,null,null,null,"Итого (тыс. руб.)",null,null,null,null,null,null,null,null,{"$f":"SUM(P24:P27)+P23","v":0},null,{"$f":"SUM(R24:R27)+R23","v":0},{"$f":"SUM(S24:S27)+S23","v":0},{"$f":"SUM(T24:T27)+T23","v":0},null,{"$f":"SUM(V24:V27)+V23","v":0},{"$f":"SUM(W24:W27)+W23","v":0},{"$f":"X21","v":0},{"$f":"SUM(Y24:Y27)+Y23","v":0},{"$f":"SUM(Z24:Z27)+Z23","v":0},{"$f":"SUM(AA24:AA27)+AA23","v":0},null,{"$f":"SUM(AC24:AC27)+AC23","v":0},{"$f":"SUM(AD24:AD27)+AD23","v":0},{"$f":"SUM(AE24:AE27)+AE23","v":0},null,{"$f":"AG21","v":0},{"$f":"SUM(AH24:AH27)+AH23","v":0},{"$f":"SUM(AI24:AI27)+AI23","v":0},{"$f":"SUM(AJ24:AJ27)+AJ23","v":0},null,{"$f":"SUM(AL24:AL27)+AL23","v":0},null,{"$f":"SUM(AN24:AN27)+AN23","v":0},{"$f":"AO21","v":0},{"$f":"AP21","v":0}]

{"sheet":"32_Расчет амортизации факт макс","index":74,"n_rows":28,"n_cols":42,"rows_kept":28,"cut":false,"hidden":true,"merged":[[8,5,8,6],[11,41,12,41],[11,34,12,34],[11,29,11,31],[11,5,13,5],[11,6,13,6],[11,7,13,7],[11,8,13,8],[11,10,13,10],[11,15,12,15],[11,16,12,16],[11,17,11,20],[11,40,12,40],[11,21,11,22],[11,23,11,28],[9,6,9,19],[34,6,34,13],[11,32,12,32],[11,33,12,33],[11,35,11,39],[11,11,13,11],[11,12,13,12],[11,13,13,13],[11,14,13,14],[11,9,13,9]]}
[null,null,null,null,null,"Вернуться к перечню форм",null,null,null,null,null,null,null,null,null,null,null,null,null,null,null,null,null,null,null,null,null,null,null,null,null,null,null,null,{"$f":"IFERROR(IF(REPORT_OWNER=\"Версия организации\",\"HIDDEN\",\"VISIBLE\"),0)","v":"HIDDEN"}]
[]
[]
[]
[]
[]
[]
[]
[null,null,null,null,null,"Список листов"]
[null,null,null,null,null,null,{"$f":"\"Расчет амортизационных отчислений за \"&(god-2)&\"-\"&(god-1)&\" по основным средствам, находящимся в собственности организации и участвующих в деятельности по передаче электрической энергии\"","v":"Расчет амортизационных отчислений за -2--1 по основным средствам, находящимся в собственности организации и участвующих в деятельности по передаче электрической энергии"}]
[]
[null,null,null,null,null,"№ п/п","Наименование основного средства","Амортизационная группа (в соответствии с классификацией ОС, включаемых в амортизационные группы)","Инвентарный номер","Технический столбцец","Вид объекта сетевого хозяйства","Уровень напряжения","Адрес","Инв. номер группы (если применимо)","Дата ввода в эксплуатацию","Балансовая (первоначальная) стоимость при вводе в эксплуатацию","Срок полезного использования - максимальный",{"$f":"\"По состоянию на 01.01.\"&(god-2)&\" (31.12.\"&(god-3)&\")\"","v":"По состоянию на 01.01.-2 (31.12.-3)"},null,null,null,{"$f":"\"Изменение балансовой стоимости за \"&(god-2)&\" год\"","v":"Изменение балансовой стоимости за -2 год"},null,{"$f":"\"Начисленная  амортизация за \"&(god-2)&\" год\"","v":"Начисленная  амортизация за -2 год"},null,null,null,null,null,{"$f":"\"По состоянию на 01.01.\"&(god-1)&\" (31.12.\"&(god-2)&\")\"","v":"По состоянию на 01.01.-1 (31.12.-2)"},null,null,{"$f":"\"Налог на имущество - \"&(god-2)&\",  утверждено\"","v":"Налог на имущество - -2,  утверждено"},{"$f":"\"Налог на имущество - \"&(god-2)&\", факт (отражен в отчете об исполнении сметы расходов за \"&(god-2)&\" год)\"","v":"Налог на имущество - -2, факт (отражен в отчете об исполнении сметы расходов за -2 год)"},{"$f":"\"Налог на имущество - \"&(god-2)&\", факт версия регулятора\"","v":"Налог на имущество - -2, факт версия регулятора"},{"$f":"\"Налог на имущество - \"&(god-2)&\" факт, подтвержденный  бухгалтерскими документами (оборотно-сальдовые ведомости, карточки счетов, налоговые декларации)\"","v":"Налог на имущество - -2 факт, подтвержденный  бухгалтерскими документами (оборотно-сальдовые ведомости, карточки счетов, налоговые декларации)"},null,null,null,null,{"$f":"\"Амортизация за \"&(god-1)&\" год, утверждено\"","v":"Амортизация за -1 год, утверждено"},{"$f":"\"Налог на имущество - \"&(god-1)&\",  утверждено\"","v":"Налог на имущество - -1,  утверждено"}]
[null,null,null,null,null,null,null,null,null,null,null,null,null,null,null,null,null,"балансовая стоимость","накопленная амортизация \n(Всего с момента ввода в эксплуатацию)","остаточная стоимость","срок полезного использования (остаточный)","введено, в т.ч. по модернизации и реконструкции ","выбыло","Величина амортизационных отчислений в год, утверждено","Фактическая величина амортизационных отчислений в месяц","Величина амортизационных отчислений за 12 месяцев","Сумма фактически начисленной амортизации (по данным бухгалтерского учета)","процент отнесения на передачу э/э","Сумма фактически начисленной амортизации, отнесенной на передачу э/э","балансовая стоимость","остаточная стоимость","срок полезного использования (остаточный)",null,null,null,"Среднегодовая стоимость имущества","Ставка налога","Всего","Фактический процент распределения расходов на деятельность по передаче э/э","Расходы, отнесенные на деятельность по передаче э/э"]
[null,null,null,null,null,null,null,null,null,null,null,null,null,null,null,"тыс.руб.","мес.","тыс.руб.","тыс.руб.","тыс.руб.","мес.","тыс.руб.","тыс.руб.","тыс.руб.","тыс.руб.","тыс.руб.","тыс.руб.","%","тыс.руб.","тыс.руб.","тыс.руб.","мес.","тыс.руб.","тыс.руб.","руб.","тыс.руб.","%","тыс.руб.","%","тыс.руб.","тыс.руб.","тыс.руб."]
[]
[]
[]
[]
[null,null,null,null,null,0]
[null,null,null,null,null,null,"Добавить"]
[null,null,null,null,null,null,"Итого (тыс. руб.)",null,null,null,null,null,null,null,null,{"$f":"SUM(P19:P20)","v":0},null,{"$f":"SUM(R19:R20)","v":0},{"$f":"SUM(S19:S20)","v":0},{"$f":"SUM(T19:T20)","v":0},null,{"$f":"SUM(V19:V20)","v":0},{"$f":"SUM(W19:W20)","v":0},null,{"$f":"SUM(Y19:Y20)","v":0},{"$f":"SUM(Z19:Z20)","v":0},{"$f":"SUM(AA19:AA20)","v":0},null,{"$f":"SUM(AC19:AC20)","v":0},{"$f":"SUM(AD19:AD20)","v":0},{"$f":"SUM(AE19:AE20)","v":0},null,null,{"$f":"SUM(AH19:AH20)","v":0},{"$f":"SUM(AI19:AI20)","v":0},{"$f":"SUM(AJ19:AJ20)","v":0},null,{"$f":"SUM(AL19:AL20)","v":0},null,{"$f":"SUM(AN19:AN20)","v":0}]
[]
[null,null,null,null,null,null,"Итого Прочие и прочее ЭСХ (тыс. руб.)",null,null,"Прочее",null,null,null,null,null,{"$f":"SUMIF($J$19:$J$20,$J$23,P$19:P$20)+SUMIF($J$19:$J$20,\"ЭСХнет\",P$19:P$20)","v":0},null,{"$f":"SUMIF($J$19:$J$20,$J$23,R$19:R$20)+SUMIF($J$19:$J$20,\"ЭСХнет\",R$19:R$20)","v":0},{"$f":"SUMIF($J$19:$J$20,$J$23,S$19:S$20)+SUMIF($J$19:$J$20,\"ЭСХнет\",S$19:S$20)","v":0},{"$f":"SUMIF($J$19:$J$20,$J$23,T$19:T$20)+SUMIF($J$19:$J$20,\"ЭСХнет\",T$19:T$20)","v":0},null,{"$f":"SUMIF($J$19:$J$20,$J$23,V$19:V$20)+SUMIF($J$19:$J$20,\"ЭСХнет\",V$19:V$20)","v":0},{"$f":"SUMIF($J$19:$J$20,$J$23,W$19:W$20)+SUMIF($J$19:$J$20,\"ЭСХнет\",W$19:W$20)","v":0},null,{"$f":"SUMIF($J$19:$J$20,$J$23,Y$19:Y$20)+SUMIF($J$19:$J$20,\"ЭСХнет\",Y$19:Y$20)","v":0},{"$f":"SUMIF($J$19:$J$20,$J$23,Z$19:Z$20)+SUMIF($J$19:$J$20,\"ЭСХнет\",Z$19:Z$20)","v":0},{"$f":"SUMIF($J$19:$J$20,$J$23,AA$19:AA$20)+SUMIF($J$19:$J$20,\"ЭСХнет\",AA$19:AA$20)","v":0},null,{"$f":"SUMIF($J$19:$J$20,$J$23,AC$19:AC$20)+SUMIF($J$19:$J$20,\"ЭСХнет\",AC$19:AC$20)","v":0},{"$f":"SUMIF($J$19:$J$20,$J$23,AD$19:AD$20)+SUMIF($J$19:$J$20,\"ЭСХнет\",AD$19:AD$20)","v":0},{"$f":"SUMIF($J$19:$J$20,$J$23,AE$19:AE$20)+SUMIF($J$19:$J$20,\"ЭСХнет\",AE$19:AE$20)","v":0},null,null,{"$f":"SUMIF($J$19:$J$20,$J$23,AH$19:AH$20)+SUMIF($J$19:$J$20,\"ЭСХнет\",AH$19:AH$20)","v":0},{"$f":"SUMIF($J$19:$J$20,$J$23,AI$19:AI$20)+SUMIF($J$19:$J$20,\"ЭСХнет\",AI$19:AI$20)","v":0},{"$f":"SUMIF($J$19:$J$20,$J$23,AJ$19:AJ$20)+SUMIF($J$19:$J$20,\"ЭСХнет\",AJ$19:AJ$20)","v":0},null,{"$f":"SUMIF($J$19:$J$20,$J$23,AL$19:AL$20)+SUMIF($J$19:$J$20,\"ЭСХнет\",AL$19:AL$20)","v":0},null,{"$f":"SUMIF($J$19:$J$20,$J$23,AN$19:AN$20)+SUMIF($J$19:$J$20,\"ЭСХнет\",AN$19:AN$20)","v":0}]
[null,null,null,null,null,null,"Итого по ВН (тыс. руб.)",null,null,"ЭСХВН",null,null,null,null,null,{"$f":"SUMIF($J$19:$J$20,$J$24,P$19:P$20)","v":0},null,{"$f":"SUMIF($J$19:$J$20,$J$24,R$19:R$20)","v":0},{"$f":"SUMIF($J$19:$J$20,$J$24,S$19:S$20)","v":0},{"$f":"SUMIF($J$19:$J$20,$J$24,T$19:T$20)","v":0},null,{"$f":"SUMIF($J$19:$J$20,$J$24,V$19:V$20)","v":0},{"$f":"SUMIF($J$19:$J$20,$J$24,W$19:W$20)","v":0},null,{"$f":"SUMIF($J$19:$J$20,$J$24,Y$19:Y$20)","v":0},{"$f":"SUMIF($J$19:$J$20,$J$24,Z$19:Z$20)","v":0},{"$f":"SUMIF($J$19:$J$20,$J$24,AA$19:AA$20)","v":0},null,{"$f":"SUMIF($J$19:$J$20,$J$24,AC$19:AC$20)","v":0},{"$f":"SUMIF($J$19:$J$20,$J$24,AD$19:AD$20)","v":0},{"$f":"SUMIF($J$19:$J$20,$J$24,AE$19:AE$20)","v":0},null,null,{"$f":"SUMIF($J$19:$J$20,$J$24,AH$19:AH$20)","v":0},{"$f":"SUMIF($J$19:$J$20,$J$24,AI$19:AI$20)","v":0},{"$f":"SUMIF($J$19:$J$20,$J$24,AJ$19:AJ$20)","v":0},null,{"$f":"SUMIF($J$19:$J$20,$J$24,AL$19:AL$20)","v":0},null,{"$f":"SUMIF($J$19:$J$20,$J$24,AN$19:AN$20)","v":0}]
[null,null,null,null,null,null,"Итого по СН1 (тыс. руб.)",null,null,"ЭСХСН1",null,null,null,null,null,{"$f":"SUMIF($J$19:$J$20,$J$25,P$19:P$20)","v":0},null,{"$f":"SUMIF($J$19:$J$20,$J$25,R$19:R$20)","v":0},{"$f":"SUMIF($J$19:$J$20,$J$25,S$19:S$20)","v":0},{"$f":"SUMIF($J$19:$J$20,$J$25,T$19:T$20)","v":0},null,{"$f":"SUMIF($J$19:$J$20,$J$25,V$19:V$20)","v":0},{"$f":"SUMIF($J$19:$J$20,$J$25,W$19:W$20)","v":0},null,{"$f":"SUMIF($J$19:$J$20,$J$25,Y$19:Y$20)","v":0},{"$f":"SUMIF($J$19:$J$20,$J$25,Z$19:Z$20)","v":0},{"$f":"SUMIF($J$19:$J$20,$J$25,AA$19:AA$20)","v":0},null,{"$f":"SUMIF($J$19:$J$20,$J$25,AC$19:AC$20)","v":0},{"$f":"SUMIF($J$19:$J$20,$J$25,AD$19:AD$20)","v":0},{"$f":"SUMIF($J$19:$J$20,$J$25,AE$19:AE$20)","v":0},null,null,{"$f":"SUMIF($J$19:$J$20,$J$25,AH$19:AH$20)","v":0},{"$f":"SUMIF($J$19:$J$20,$J$25,AI$19:AI$20)","v":0},{"$f":"SUMIF($J$19:$J$20,$J$25,AJ$19:AJ$20)","v":0},null,{"$f":"SUMIF($J$19:$J$20,$J$25,AL$19:AL$20)","v":0},null,{"$f":"SUMIF($J$19:$J$20,$J$25,AN$19:AN$20)","v":0}]
[null,null,null,null,null,null,"Итого по СН2 (тыс. руб.)",null,null,"ЭСХСН2",null,null,null,null,null,{"$f":"SUMIF($J$19:$J$20,$J$26,P$19:P$20)","v":0},null,{"$f":"SUMIF($J$19:$J$20,$J$26,R$19:R$20)","v":0},{"$f":"SUMIF($J$19:$J$20,$J$26,S$19:S$20)","v":0},{"$f":"SUMIF($J$19:$J$20,$J$26,T$19:T$20)","v":0},null,{"$f":"SUMIF($J$19:$J$20,$J$26,V$19:V$20)","v":0},{"$f":"SUMIF($J$19:$J$20,$J$26,W$19:W$20)","v":0},null,{"$f":"SUMIF($J$19:$J$20,$J$26,Y$19:Y$20)","v":0},{"$f":"SUMIF($J$19:$J$20,$J$26,Z$19:Z$20)","v":0},{"$f":"SUMIF($J$19:$J$20,$J$26,AA$19:AA$20)","v":0},null,{"$f":"SUMIF($J$19:$J$20,$J$26,AC$19:AC$20)","v":0},{"$f":"SUMIF($J$19:$J$20,$J$26,AD$19:AD$20)","v":0},{"$f":"SUMIF($J$19:$J$20,$J$26,AE$19:AE$20)","v":0},null,null,{"$f":"SUMIF($J$19:$J$20,$J$26,AH$19:AH$20)","v":0},{"$f":"SUMIF($J$19:$J$20,$J$26,AI$19:AI$20)","v":0},{"$f":"SUMIF($J$19:$J$20,$J$26,AJ$19:AJ$20)","v":0},null,{"$f":"SUMIF($J$19:$J$20,$J$26,AL$19:AL$20)","v":0},null,{"$f":"SUMIF($J$19:$J$20,$J$26,AN$19:AN$20)","v":0}]
[null,null,null,null,null,null,"Итого по НН (тыс. руб.)",null,null,"ЭСХНН",null,null,null,null,null,{"$f":"SUMIF($J$19:$J$20,$J$27,P$19:P$20)","v":0},null,{"$f":"SUMIF($J$19:$J$20,$J$27,R$19:R$20)","v":0},{"$f":"SUMIF($J$19:$J$20,$J$27,S$19:S$20)","v":0},{"$f":"SUMIF($J$19:$J$20,$J$27,T$19:T$20)","v":0},null,{"$f":"SUMIF($J$19:$J$20,$J$27,V$19:V$20)","v":0},{"$f":"SUMIF($J$19:$J$20,$J$27,W$19:W$20)","v":0},null,{"$f":"SUMIF($J$19:$J$20,$J$27,Y$19:Y$20)","v":0},{"$f":"SUMIF($J$19:$J$20,$J$27,Z$19:Z$20)","v":0},{"$f":"SUMIF($J$19:$J$20,$J$27,AA$19:AA$20)","v":0},null,{"$f":"SUMIF($J$19:$J$20,$J$27,AC$19:AC$20)","v":0},{"$f":"SUMIF($J$19:$J$20,$J$27,AD$19:AD$20)","v":0},{"$f":"SUMIF($J$19:$J$20,$J$27,AE$19:AE$20)","v":0},null,null,{"$f":"SUMIF($J$19:$J$20,$J$27,AH$19:AH$20)","v":0},{"$f":"SUMIF($J$19:$J$20,$J$27,AI$19:AI$20)","v":0},{"$f":"SUMIF($J$19:$J$20,$J$27,AJ$19:AJ$20)","v":0},null,{"$f":"SUMIF($J$19:$J$20,$J$27,AL$19:AL$20)","v":0},null,{"$f":"SUMIF($J$19:$J$20,$J$27,AN$19:AN$20)","v":0}]
[null,null,null,null,null,null,"Итого (тыс. руб.)",null,null,null,null,null,null,null,null,{"$f":"SUM(P24:P27)+P23","v":0},null,{"$f":"SUM(R24:R27)+R23","v":0},{"$f":"SUM(S24:S27)+S23","v":0},{"$f":"SUM(T24:T27)+T23","v":0},null,{"$f":"SUM(V24:V27)+V23","v":0},{"$f":"SUM(W24:W27)+W23","v":0},{"$f":"X21","v":0},{"$f":"SUM(Y24:Y27)+Y23","v":0},{"$f":"SUM(Z24:Z27)+Z23","v":0},{"$f":"SUM(AA24:AA27)+AA23","v":0},null,{"$f":"SUM(AC24:AC27)+AC23","v":0},{"$f":"SUM(AD24:AD27)+AD23","v":0},{"$f":"SUM(AE24:AE27)+AE23","v":0},null,{"$f":"AG21","v":0},{"$f":"SUM(AH24:AH27)+AH23","v":0},{"$f":"SUM(AI24:AI27)+AI23","v":0},{"$f":"SUM(AJ24:AJ27)+AJ23","v":0},null,{"$f":"SUM(AL24:AL27)+AL23","v":0},null,{"$f":"SUM(AN24:AN27)+AN23","v":0},{"$f":"AO21","v":0},{"$f":"AP21","v":0}]

{"sheet":"modCalcAmortFactMax","index":75,"n_rows":0,"n_cols":0,"rows_kept":0,"cut":false,"hidden":true,"merged":[]}

{"sheet":"modCalcAmortPlan","index":76,"n_rows":0,"n_cols":0,"rows_kept":0,"cut":false,"hidden":true,"merged":[]}

{"sheet":"33_Расчет Амортизации план","index":77,"n_rows":42,"n_cols":41,"rows_kept":42,"cut":false,"hidden":true,"merged":[[7,5,7,6],[8,40,10,40],[11,40,12,40],[11,5,13,5],[11,6,13,6],[11,7,13,7],[11,8,13,8],[11,10,13,10],[11,9,13,9],[0,7,0,13],[11,36,11,39],[11,31,11,35],[11,15,12,15],[11,16,12,16],[11,19,11,22],[11,23,11,24],[11,25,11,27],[11,28,11,30],[11,18,12,18],[11,17,12,17],[11,11,13,11],[11,12,13,12],[11,13,13,13],[11,14,13,14],[8,39,10,39]]}
[null,null,null,null,null,"Вернуться к перечню форм",null,"Проверить работоспособность  1000 заполненных строк\n предусмотреть кнопку \"пересчитать\", если не будет работать, то отдельный файл\nДля столбца G (уровень напряжения) предуспотреть возможность выбора пустого значения или 0 для прочих видов ОС, не относящихся к ЭСХ",null,null,null,null,null,null,null,null,null,null,null,null,null,null,null,null,null,null,null,null,null,null,null,null,null,null,null,null,{"$f":"IFERROR(IF(REPORT_OWNER=\"Версия организации\",\"HIDDEN\",\"VISIBLE\"),0)","v":"HIDDEN"},{"$f":"IFERROR(IF(REPORT_OWNER=\"Версия организации\",\"HIDDEN\",\"VISIBLE\"),0)","v":"HIDDEN"},{"$f":"IFERROR(IF(REPORT_OWNER=\"Версия организации\",\"HIDDEN\",\"VISIBLE\"),0)","v":"HIDDEN"},{"$f":"IFERROR(IF(REPORT_OWNER=\"Версия организации\",\"HIDDEN\",\"VISIBLE\"),0)","v":"HIDDEN"}]
[]
[]
[]
[]
[]
[]
[null,null,null,null,null,"Список листов"]
[]
[null,null,null,null,null,null,"Расчет амортизационных отчислений  по основным средствам, находящимся в собственности организации и участвующих в деятельности по передаче электрической энергии",null,null,null,null,null,null,null,null,null,null,null,null,null,null,null,null,null,null,null,null,null,null,null,null,"СН2",null,null,"Подстанция",null,"СН2",null,"Подстанция"]
[null,null,null,null,null,null,null,null,null,null,null,null,null,null,null,null,null,null,null,null,null,null,null,null,null,null,null,null,null,null,null,"НН",null,null,"Прочее",null,"НН",null,"Прочее"]
[null,null,null,null,null,"№ п/п","Наименование основного средства ","Амортизационная группа (в соответствии с классификацией ОС, включаемых в амортизационные группы)","Инвентарный номер","Технический столбцец","Вид объекта сетевого хозяйства (КЛЭП, ВЛЭП, Подстанция, прочее)","Уровень напряжения","Адрес","Инв. номер или № группы*","Дата ввода в эксплуатацию","Балансовая (первоначальная) стоимость при вводе в эксплуатацию","Срок полезного использования при вводе в эксплуатацию","Расчитывать налог на имущество от кадастровой стоимости (да/нет)","Кадастровая стоимость",{"$f":"\"По состоянию на 01.01.\"&(god)&\" (31.12.\"&(god-1)&\")\"","v":"По состоянию на 01.01. (31.12.-1)"},null,null,null,{"$f":"\"Изменение балансовой стоимости за \"&(god)&\" год\"","v":"Изменение балансовой стоимости за  год"},null,{"$f":"\"Амортизация на  \"&(god)&\" год\"","v":"Амортизация на   год"},null,null,{"$f":"\"По состоянию на 01.01.\"&(god+1)&\" (31.12.\"&(god)&\")\"","v":"По состоянию на 01.01.1 (31.12.)"},null,null,{"$f":"\"Налог на имущество - заявлено в тарифе на  \"&(god)&\" год\"","v":"Налог на имущество - заявлено в тарифе на   год"},null,null,null,null,{"$f":"\"Налог на имущество - \"&(god)&\" год версия регулятора\"","v":"Налог на имущество -  год версия регулятора"},null,null,null,"процент отнесения на передачу э/э"]
[null,null,null,null,null,null,null,null,null,null,null,null,null,null,null,null,null,null,null,"балансовая стоимость","накопленная амортизация \n(Всего с момента ввода в эксплуатацию)","остаточная стоимость","срок полезного использования (остаточный)","введено, в т.ч. по модернизации и реконструкции ","выбыло","Величина амортизационных отчислений в месяц","Величина амортизационных отчислений за 12 месяцев","Величина амортизационных отчислений, отнесенная на передачу э/э, учтенная в смете затрат, за год","балансовая стоимость","остаточная стоимость","срок полезного использования (остаточный)",{"$f":"\"Сумма налога на имущество - заявлено в тарифе на \"&(god)&\" год\"","v":"Сумма налога на имущество - заявлено в тарифе на  год"},"Фактический процент распределения расходов на деятельность по передаче э/э","Всего","Среднегодовая стоимость имущества","Ставка налога на имущество",{"$f":"\"Сумма налога на имущество - заявлено в тарифе на \"&(god)&\" год\"","v":"Сумма налога на имущество - заявлено в тарифе на  год"},"Всего","Среднегодовая стоимость имущества","Ставка налога на имущество"]
[null,null,null,null,null,null,null,null,null,null,null,null,null,null,null,"тыс.руб.","мес.",null,null,"тыс.руб.","тыс.руб.","тыс.руб.","мес.","тыс.руб.","тыс.руб.","тыс.руб.","тыс.руб.","тыс.руб.","тыс.руб.","тыс.руб.","мес.","тыс.руб.","абс.знач","тыс.руб.","тыс.руб.","абс.знач","тыс.руб.","тыс.руб.","тыс.руб.","абс.знач","абс.знач"]
[]
[]
[]
[]
[null,null,null,null,null,0]
[null,null,null,null,null,null,"Добавить"]
[null,null,null,null,null,"2.0"]
[null,null,null,null,null,null,"Добавить"]
[null,null,null,null,null,3,"Итого (тыс. руб.)",null,null,null,null,null,null,null,null,{"$f":"SUM(P19:P22)","v":0},null,null,null,{"$f":"SUM(T19:T22)","v":0},{"$f":"SUM(U19:U22)","v":0},{"$f":"SUM(V19:V22)","v":0},null,{"$f":"SUM(X19:X22)","v":0},0,0,0,0,0,0,null,{"$f":"SUM(AF19:AF22)","v":0},null,{"$f":"SUM(AH19:AH22)","v":0},{"$f":"SUM(AI19:AI22)","v":0},null,{"$f":"SUM(AK19:AK22)","v":0},{"$f":"SUM(AL19:AL22)","v":0},{"$f":"SUM(AM19:AM22)","v":0}]
[null,null,null,null,null,4,"Итого ЭСХ (тыс. руб.)",null,null,null,null,null,null,null,null,{"$f":"SUM(P25:P28)","v":0},null,null,null,{"$f":"SUM(T25:T28)","v":0},0,0,null,0,0,0,0,0,0,0,null,{"$f":"SUM(AF25:AF28)","v":0},null,{"$f":"SUM(AH25:AH28)","v":0},{"$f":"SUM(AI25:AI28)","v":0},null,null,{"$f":"SUM(AL25:AL28)","v":0},{"$f":"SUM(AM25:AM28)","v":0}]
[null,null,null,null,null,5,"Итого ЭСХ по ВН (тыс. руб.)",null,null,"ЭСХВН","ВЛЭП",null,null,null,null,{"$f":"SUMIF($J$19:$J$22,$J25,P$19:P$22)","v":0},null,null,null,{"$f":"SUMIF($J$19:$J$22,$J25,T$19:T$22)","v":0},0,0,null,{"$f":"SUMIF($J$19:$J$22,$J25,X$19:X$22)","v":0},0,0,0,0,0,0,null,{"$f":"SUMIF($J$19:$J$22,$J25,AF$19:AF$22)","v":0},null,{"$f":"SUMIF($J$19:$J$22,$J25,AH$19:AH$22)","v":0},0,null,null,{"$f":"SUMIF($J$19:$J$22,$J25,AL$19:AL$22)","v":0},0]
[null,null,null,null,null,6,"Итого ЭСХ по СН1 (тыс. руб.)",null,null,"ЭСХСН1","КЛЭП",null,null,null,null,{"$f":"SUMIF($J$19:$J$22,$J26,P$19:P$22)","v":0},null,null,null,0,0,0,null,0,0,0,0,0,0,0,null,{"$f":"SUMIF($J$19:$J$22,$J26,AF$19:AF$22)","v":0},null,0,0,null,null,0,0]
[null,null,null,null,null,7,"Итого ЭСХ по СН2 (тыс. руб.)",null,null,"ЭСХСН2","Подстанция",null,null,null,null,{"$f":"SUMIF($J$19:$J$22,$J27,P$19:P$22)","v":0},null,null,null,0,0,0,null,0,0,0,0,0,0,0,null,{"$f":"SUMIF($J$19:$J$22,$J27,AF$19:AF$22)","v":0},null,0,0,null,null,0,0]
[null,null,null,null,null,8,"Итого ЭСХ по НН (тыс. руб.)",null,null,"ЭСХНН",null,null,null,null,null,{"$f":"SUMIF($J$19:$J$22,$J28,P$19:P$22)","v":0},null,null,null,0,0,0,null,0,0,0,0,0,0,0,null,{"$f":"SUMIF($J$19:$J$22,$J28,AF$19:AF$22)","v":0},null,0,0,null,null,0,0]
[]
[null,null,null,null,null,9,"Итого Прочие и прочее ЭСХ (тыс. руб.)",null,null,"Прочее",null,null,null,null,null,{"$f":"SUMIF($J$19:$J$22,$J30,P$19:P$22)+SUMIF($J$19:$J$22,\"ЭСХнет\",P$19:P$22)","v":0},null,null,null,{"$f":"SUMIF($J$19:$J$22,$J30,T$19:T$22)+SUMIF($J$19:$J$22,\"ЭСХнет\",T$19:T$22)","v":0},{"$f":"SUMIF($J$19:$J$22,$J30,U$19:U$22)+SUMIF($J$19:$J$22,\"ЭСХнет\",U$19:U$22)","v":0},{"$f":"SUMIF($J$19:$J$22,$J30,V$19:V$22)+SUMIF($J$19:$J$22,\"ЭСХнет\",V$19:V$22)","v":0},null,{"$f":"SUMIF($J$19:$J$22,$J30,X$19:X$22)+SUMIF($J$19:$J$22,\"ЭСХнет\",X$19:X$22)","v":0},{"$f":"SUMIF($J$19:$J$22,$J30,Y$19:Y$22)+SUMIF($J$19:$J$22,\"ЭСХнет\",Y$19:Y$22)","v":0},{"$f":"SUMIF($J$19:$J$22,$J30,Z$19:Z$22)+SUMIF($J$19:$J$22,\"ЭСХнет\",Z$19:Z$22)","v":0},{"$f":"SUMIF($J$19:$J$22,$J30,AA$19:AA$22)+SUMIF($J$19:$J$22,\"ЭСХнет\",AA$19:AA$22)","v":0},{"$f":"SUMIF($J$19:$J$22,$J30,AB$19:AB$22)+SUMIF($J$19:$J$22,\"ЭСХнет\",AB$19:AB$22)","v":0},{"$f":"SUMIF($J$19:$J$22,$J30,AC$19:AC$22)+SUMIF($J$19:$J$22,\"ЭСХнет\",AC$19:AC$22)","v":0},{"$f":"SUMIF($J$19:$J$22,$J30,AD$19:AD$22)+SUMIF($J$19:$J$22,\"ЭСХнет\",AD$19:AD$22)","v":0},null,{"$f":"SUMIF($J$19:$J$22,$J30,AF$19:AF$22)+SUMIF($J$19:$J$22,\"ЭСХнет\",AF$19:AF$22)","v":0},null,{"$f":"SUMIF($J$19:$J$22,$J30,AH$19:AH$22)+SUMIF($J$19:$J$22,\"ЭСХнет\",AH$19:AH$22)","v":0},{"$f":"SUMIF($J$19:$J$22,$J30,AI$19:AI$22)+SUMIF($J$19:$J$22,\"ЭСХнет\",AI$19:AI$22)","v":0},null,null,{"$f":"SUMIF($J$19:$J$22,$J30,AL$19:AL$22)+SUMIF($J$19:$J$22,\"ЭСХнет\",AL$19:AL$22)","v":0},{"$f":"SUMIF($J$19:$J$22,$J30,AM$19:AM$22)+SUMIF($J$19:$J$22,\"ЭСХнет\",AM$19:AM$22)","v":0}]
[null,null,null,null,null,10,"Итого по Прочее_ ВН (тыс. руб.)",null,null,null,null,null,null,null,null,null,null,null,null,null,null,null,null,null,null,{"$f":"IF('7_Свод УЕ '!$L$39=0,0,Z$30*'7_Свод УЕ '!$H$39/'7_Свод УЕ '!$L$39)","v":0},{"$f":"IF('7_Свод УЕ '!$L$39=0,0,AA$30*'7_Свод УЕ '!$H$39/'7_Свод УЕ '!$L$39)","v":0},{"$f":"IF('7_Свод УЕ '!$L$39=0,0,AB$30*'7_Свод УЕ '!$H$39/'7_Свод УЕ '!$L$39)","v":0},null,null,null,{"$f":"IF('7_Свод УЕ '!$L$39=0,0,AF$30*'7_Свод УЕ '!$H$39/'7_Свод УЕ '!$L$39)","v":0},null,{"$f":"IF('7_Свод УЕ '!$L$39=0,0,AH$30*'7_Свод УЕ '!$H$39/'7_Свод УЕ '!$L$39)","v":0},{"$f":"IF('7_Свод УЕ '!$L$39=0,0,AI$30*'7_Свод УЕ '!$H$39/'7_Свод УЕ '!$L$39)","v":0},null,null,{"$f":"IF('7_Свод УЕ '!$L$39=0,0,AL$30*'7_Свод УЕ '!$H$39/'7_Свод УЕ '!$L$39)","v":0},{"$f":"IF('7_Свод УЕ '!$L$39=0,0,AM$30*'7_Свод УЕ '!$H$39/'7_Свод УЕ '!$L$39)","v":0}]
[null,null,null,null,null,11,"Итого по Прочее_ СН1 (тыс. руб.)",null,null,null,null,null,null,null,null,null,null,null,null,null,null,null,null,null,null,{"$f":"IF('7_Свод УЕ '!$L$39=0,0,Z$30*'7_Свод УЕ '!$I$39/'7_Свод УЕ '!$L$39)","v":0},{"$f":"IF('7_Свод УЕ '!$L$39=0,0,AA$30*'7_Свод УЕ '!$I$39/'7_Свод УЕ '!$L$39)","v":0},{"$f":"IF('7_Свод УЕ '!$L$39=0,0,AB$30*'7_Свод УЕ '!$I$39/'7_Свод УЕ '!$L$39)","v":0},null,null,null,{"$f":"IF('7_Свод УЕ '!$L$39=0,0,AF$30*'7_Свод УЕ '!$I$39/'7_Свод УЕ '!$L$39)","v":0},null,{"$f":"IF('7_Свод УЕ '!$L$39=0,0,AH$30*'7_Свод УЕ '!$I$39/'7_Свод УЕ '!$L$39)","v":0},{"$f":"IF('7_Свод УЕ '!$L$39=0,0,AI$30*'7_Свод УЕ '!$I$39/'7_Свод УЕ '!$L$39)","v":0},null,null,{"$f":"IF('7_Свод УЕ '!$L$39=0,0,AL$30*'7_Свод УЕ '!$I$39/'7_Свод УЕ '!$L$39)","v":0},{"$f":"IF('7_Свод УЕ '!$L$39=0,0,AM$30*'7_Свод УЕ '!$I$39/'7_Свод УЕ '!$L$39)","v":0}]
[null,null,null,null,null,12,"Итого по Прочее_ СН2 (тыс. руб.)",null,null,null,null,null,null,null,null,null,null,null,null,null,null,null,null,null,null,{"$f":"IF('7_Свод УЕ '!$L$39=0,0,Z$30*'7_Свод УЕ '!$J$39/'7_Свод УЕ '!$L$39)","v":0},{"$f":"IF('7_Свод УЕ '!$L$39=0,0,AA$30*'7_Свод УЕ '!$J$39/'7_Свод УЕ '!$L$39)","v":0},{"$f":"IF('7_Свод УЕ '!$L$39=0,0,AB$30*'7_Свод УЕ '!$J$39/'7_Свод УЕ '!$L$39)","v":0},null,null,null,{"$f":"IF('7_Свод УЕ '!$L$39=0,0,AF$30*'7_Свод УЕ '!$J$39/'7_Свод УЕ '!$L$39)","v":0},null,{"$f":"IF('7_Свод УЕ '!$L$39=0,0,AH$30*'7_Свод УЕ '!$J$39/'7_Свод УЕ '!$L$39)","v":0},{"$f":"IF('7_Свод УЕ '!$L$39=0,0,AI$30*'7_Свод УЕ '!$J$39/'7_Свод УЕ '!$L$39)","v":0},null,null,{"$f":"IF('7_Свод УЕ '!$L$39=0,0,AL$30*'7_Свод УЕ '!$J$39/'7_Свод УЕ '!$L$39)","v":0},{"$f":"IF('7_Свод УЕ '!$L$39=0,0,AM$30*'7_Свод УЕ '!$J$39/'7_Свод УЕ '!$L$39)","v":0}]
[null,null,null,null,null,13,"Итого по Прочее_ НН (тыс. руб.)",null,null,null,null,null,null,null,null,null,null,null,null,null,null,null,null,null,null,{"$f":"IF('7_Свод УЕ '!$L$39=0,0,Z$30*'7_Свод УЕ '!$K$39/'7_Свод УЕ '!$L$39)","v":0},{"$f":"IF('7_Свод УЕ '!$L$39=0,0,AA$30*'7_Свод УЕ '!$K$39/'7_Свод УЕ '!$L$39)","v":0},{"$f":"IF('7_Свод УЕ '!$L$39=0,0,AB$30*'7_Свод УЕ '!$K$39/'7_Свод УЕ '!$L$39)","v":0},null,null,null,{"$f":"IF('7_Свод УЕ '!$L$39=0,0,AF$30*'7_Свод УЕ '!$K$39/'7_Свод УЕ '!$L$39)","v":0},null,{"$f":"IF('7_Свод УЕ '!$L$39=0,0,AH$30*'7_Свод УЕ '!$K$39/'7_Свод УЕ '!$L$39)","v":0},{"$f":"IF('7_Свод УЕ '!$L$39=0,0,AI$30*'7_Свод УЕ '!$K$39/'7_Свод УЕ '!$L$39)","v":0},null,null,{"$f":"IF('7_Свод УЕ '!$L$39=0,0,AL$30*'7_Свод УЕ '!$K$39/'7_Свод УЕ '!$L$39)","v":0},{"$f":"IF('7_Свод УЕ '!$L$39=0,0,AM$30*'7_Свод УЕ '!$K$39/'7_Свод УЕ '!$L$39)","v":0}]
[]
[null,null,null,null,null,14,"Итого (тыс. руб.)",null,null,null,null,null,null,null,null,{"$f":"P24+P30","v":0},null,null,null,{"$f":"T24+T30","v":0},{"$f":"U24+U30","v":0},{"$f":"V24+V30","v":0},null,{"$f":"X24+X30","v":0},0,0,0,0,{"$f":"AC24+AC30","v":0},0,null,{"$f":"AF24+AF30","v":0},null,{"$f":"AH24+AH30","v":0},{"$f":"AI24+AI30","v":0},null,null,{"$f":"AL24+AL30","v":0},0]
[null,null,null,null,null,15,"Итого по ВН (тыс. руб.)",null,null,null,null,null,null,null,null,null,null,null,null,null,null,null,null,null,null,{"$f":"Z25+Z31","v":0},{"$f":"AA25+AA31","v":0},0,null,null,null,{"$f":"AF25+AF31","v":0},null,{"$f":"AH25+AH31","v":0},0,null,null,0,0]
[null,null,null,null,null,16,"Итого по СН1 (тыс. руб.)",null,null,null,null,null,null,null,null,null,null,null,null,null,null,null,null,null,null,0,0,0,null,null,null,{"$f":"AF26+AF32","v":0},null,0,0,null,null,0,0]
[null,null,null,null,null,17,"Итого по СН2 (тыс. руб.)",null,null,null,null,null,null,null,null,null,null,null,null,null,null,null,null,null,null,0,0,0,null,null,null,{"$f":"AF27+AF33","v":0},null,0,0,null,null,0,0]
[null,null,null,null,null,18,"Итого по НН (тыс. руб.)",null,null,null,null,null,null,null,null,null,null,null,null,null,null,null,null,null,null,0,0,0,null,null,null,{"$f":"AF28+AF34","v":0},null,0,0,null,null,0,0]
[]
[null,null,null,null,null,null,"Проверка итогов",null,null,null,null,null,null,null,null,{"$f":"P23-P36","v":0},null,null,null,{"$f":"T23-T36","v":0},0,0,null,0,0,0,0,0,0,0,null,0,null,0,0,null,null,0,0]

{"sheet":"34_Амортизация свод ","index":78,"n_rows":25,"n_cols":13,"rows_kept":25,"cut":false,"hidden":true,"merged":[[6,5,6,6],[9,5,9,6],[27,5,27,6],[45,6,45,10],[29,6,29,7],[30,6,30,7],[31,6,31,10],[43,6,43,10]]}
[{"$f":"IFERROR(IF(region_name=\"Пермский край\",\"HIDDEN\",\"VISIBLE\"),0)","v":"VISIBLE"},null,null,null,null,null,null,null,null,null,null,null,{"$f":"IFERROR(IF(REPORT_OWNER=\"Версия организации\",\"HIDDEN\",\"VISIBLE\"),0)","v":"HIDDEN"}]
[]
[]
[]
[]
[]
[null,null,null,null,null,"Список листов"]
[]
[]
[null,null,null,null,null,"Свод амортизационных отчислений на восстановление ОС"]
[]
[]
[]
[]
[null,null,null,null,null,null,null,null,null,null,null,"тыс.руб."]
[null,null,null,null,null,"№\nп/п","Показатели",{"$f":"(god-2)&\",  утверждено\"","v":"-2,  утверждено"},{"$f":" (god-2)&\", факт (отражен в отчете об исполнении сметы расходов за  \"&(god-2)&\" год)\"","v":"-2, факт (отражен в отчете об исполнении сметы расходов за  -2 год)"},{"$f":"(god-2)&\", факт версия регулятора\"","v":"-2, факт версия регулятора"},{"$f":"(god-1)&\",  утверждено\"","v":"-1,  утверждено"},{"$f":"(god)&\",  предложение\"","v":",  предложение"},{"$f":"(god)&\",  версия регулятора\"","v":",  версия регулятора"}]
[]
[]
[]
[null,null,null,null,null,"1","Балансовая стоимость основных производственных фондов на начало периода регулирования",null,{"$f":"'32_Расчет амортизации факт'!R28","v":0},null,null,{"$f":"'33_Расчет Амортизации план'!T36","v":0}]
[null,null,null,null,null,"2","Ввод основных производственных фондов",null,{"$f":"'32_Расчет амортизации факт'!V28","v":0},null,null,{"$f":"'33_Расчет Амортизации план'!X36","v":0}]
[null,null,null,null,null,"3","Выбытие основных производственных фондов",null,{"$f":"'32_Расчет амортизации факт'!W28","v":0},null,null,{"$f":"'33_Расчет Амортизации план'!Y36","v":0}]
[null,null,null,null,null,"4","Средняя за отчетный период стоимость основных производственных фондов, в том числе:",null,{"$f":"'32_Расчет амортизации факт'!AJ28","v":0},null,null,{"$f":"'33_Расчет Амортизации план'!AI36","v":0},{"$f":"'33_Расчет Амортизации план'!AM36","v":0}]
[null,null,null,null,null,"5","Средняя норма амортизации",null,{"$f":"IFERROR(I25/I23,0)","v":0},null,null,{"$f":"IFERROR(L25/L23,0)","v":0}]
[null,null,null,null,null,"6","Сумма амортизационных отчислений",{"$f":"'32_Расчет амортизации факт'!X28","v":0},{"$f":"'32_Расчет амортизации факт'!AC21","v":0},null,{"$f":"'32_Расчет амортизации факт'!AO28","v":0},{"$f":"'33_Расчет Амортизации план'!AA23","v":0},{"$f":"'33_Расчет Амортизации план'!AB36","v":0}]

{"sheet":"35_Средняя стоимость ОС","index":79,"n_rows":40,"n_cols":13,"rows_kept":40,"cut":false,"hidden":true,"merged":[[9,5,9,8],[8,5,8,6]]}
[{"$f":"IFERROR(IF(region_name=\"Пермский край\",\"HIDDEN\",\"VISIBLE\"),0)","v":"VISIBLE"}]
[]
[]
[]
[]
[]
[]
[]
[null,null,null,null,null,"Список листов"]
[null,null,null,null,null,{"$f":"\"Расчет среднегодовой стоимости основных производственных фондов по линиям электропередач и подстанциям на \"&god&\" год\"","v":"Расчет среднегодовой стоимости основных производственных фондов по линиям электропередач и подстанциям на  год"}]
[]
[null,null,null,null,null,null,null,null,null,null,null,null,"руб."]
[null,null,null,null,null,"№ п.п.","Виды производственных фондов","стоимость на начало регулируемого периода","Ввод основных производственных фондов","Выбытие основных производственных фондов","стоимость на конец регулируемого периода ","среднегодовая стоимость ","Амортизация"]
[]
[]
[]
[]
[]
[]
[null,null,null,null,null,"1","Линии электропередач",{"$f":"H21+H26","v":0},0,0,0,0,0]
[null,null,null,null,null,"1.1","ВЛЭП",{"$f":"SUM(H22:H25)","v":0},0,0,0,0,0]
[null,null,null,null,null,"1.2","ВН",{"$f":"SUMIFS('33_Расчет Амортизации план'!$T$20:$T$22,'33_Расчет Амортизации план'!$L$20:$L$22,\"ВН\",'33_Расчет Амортизации план'!$K$20:$K$22,\"ВЛЭП\")","v":0},{"$f":"SUMIFS('33_Расчет Амортизации план'!$X$20:$X$22,'33_Расчет Амортизации план'!$L$20:$L$22,\"ВН\",'33_Расчет Амортизации план'!$K$20:$K$22,\"ВЛЭП\")","v":0},{"$f":"SUMIFS('33_Расчет Амортизации план'!$Y$20:$Y$22,'33_Расчет Амортизации план'!$L$20:$L$22,\"ВН\",'33_Расчет Амортизации план'!$K$20:$K$22,\"ВЛЭП\")","v":0},{"$f":"H22+I22-J22","v":0},{"$f":"SUMIFS('33_Расчет Амортизации план'!$AI$20:$AI$22,'33_Расчет Амортизации план'!$L$20:$L$22,\"ВН\",'33_Расчет Амортизации план'!$K$20:$K$22,\"ВЛЭП\")","v":0},{"$f":"SUMIFS('33_Расчет Амортизации план'!$AB$20:$AB$22,'33_Расчет Амортизации план'!$L$20:$L$22,\"ВН\",'33_Расчет Амортизации план'!$K$20:$K$22,\"ВЛЭП\")","v":0}]
[null,null,null,null,null,"1.3","СН1",{"$f":"SUMIFS('33_Расчет Амортизации план'!$T$20:$T$22,'33_Расчет Амортизации план'!$L$20:$L$22,\"СН1\",'33_Расчет Амортизации план'!$K$20:$K$22,\"ВЛЭП\")","v":0},{"$f":"SUMIFS('33_Расчет Амортизации план'!$X$20:$X$22,'33_Расчет Амортизации план'!$L$20:$L$22,\"СН1\",'33_Расчет Амортизации план'!$K$20:$K$22,\"ВЛЭП\")","v":0},{"$f":"SUMIFS('33_Расчет Амортизации план'!$Y$20:$Y$22,'33_Расчет Амортизации план'!$L$20:$L$22,\"СН1\",'33_Расчет Амортизации план'!$K$20:$K$22,\"ВЛЭП\")","v":0},{"$f":"H23+I23-J23","v":0},{"$f":"SUMIFS('33_Расчет Амортизации план'!$AI$20:$AI$22,'33_Расчет Амортизации план'!$L$20:$L$22,\"СН1\",'33_Расчет Амортизации план'!$K$20:$K$22,\"ВЛЭП\")","v":0},{"$f":"SUMIFS('33_Расчет Амортизации план'!$AB$20:$AB$22,'33_Расчет Амортизации план'!$L$20:$L$22,\"СН1\",'33_Расчет Амортизации план'!$K$20:$K$22,\"ВЛЭП\")","v":0}]
[null,null,null,null,null,"1.4","СН2",{"$f":"SUMIFS('33_Расчет Амортизации план'!$T$20:$T$22,'33_Расчет Амортизации план'!$L$20:$L$22,\"СН2\",'33_Расчет Амортизации план'!$K$20:$K$22,\"ВЛЭП\")","v":0},{"$f":"SUMIFS('33_Расчет Амортизации план'!$X$20:$X$22,'33_Расчет Амортизации план'!$L$20:$L$22,\"СН2\",'33_Расчет Амортизации план'!$K$20:$K$22,\"ВЛЭП\")","v":0},{"$f":"SUMIFS('33_Расчет Амортизации план'!$Y$20:$Y$22,'33_Расчет Амортизации план'!$L$20:$L$22,\"СН2\",'33_Расчет Амортизации план'!$K$20:$K$22,\"ВЛЭП\")","v":0},{"$f":"H24+I24-J24","v":0},{"$f":"SUMIFS('33_Расчет Амортизации план'!$AI$20:$AI$22,'33_Расчет Амортизации план'!$L$20:$L$22,\"СН2\",'33_Расчет Амортизации план'!$K$20:$K$22,\"ВЛЭП\")","v":0},{"$f":"SUMIFS('33_Расчет Амортизации план'!$AB$20:$AB$22,'33_Расчет Амортизации план'!$L$20:$L$22,\"СН2\",'33_Расчет Амортизации план'!$K$20:$K$22,\"ВЛЭП\")","v":0}]
[null,null,null,null,null,"1.5","НН",{"$f":"SUMIFS('33_Расчет Амортизации план'!$T$20:$T$22,'33_Расчет Амортизации план'!$L$20:$L$22,\"НН\",'33_Расчет Амортизации план'!$K$20:$K$22,\"ВЛЭП\")","v":0},{"$f":"SUMIFS('33_Расчет Амортизации план'!$X$20:$X$22,'33_Расчет Амортизации план'!$L$20:$L$22,\"НН\",'33_Расчет Амортизации план'!$K$20:$K$22,\"ВЛЭП\")","v":0},{"$f":"SUMIFS('33_Расчет Амортизации план'!$Y$20:$Y$22,'33_Расчет Амортизации план'!$L$20:$L$22,\"НН\",'33_Расчет Амортизации план'!$K$20:$K$22,\"ВЛЭП\")","v":0},{"$f":"H25+I25-J25","v":0},{"$f":"SUMIFS('33_Расчет Амортизации план'!$AI$20:$AI$22,'33_Расчет Амортизации план'!$L$20:$L$22,\"НН\",'33_Расчет Амортизации план'!$K$20:$K$22,\"ВЛЭП\")","v":0},{"$f":"SUMIFS('33_Расчет Амортизации план'!$AB$20:$AB$22,'33_Расчет Амортизации план'!$L$20:$L$22,\"НН\",'33_Расчет Амортизации план'!$K$20:$K$22,\"ВЛЭП\")","v":0}]
[null,null,null,null,null,"1.6","КЛЭП",{"$f":"SUM(H27:H30)","v":0},0,{"$f":"SUM(J27:J30)","v":0},0,0,0]
[null,null,null,null,null,"1.7","ВН",{"$f":"SUMIFS('33_Расчет Амортизации план'!$T$20:$T$22,'33_Расчет Амортизации план'!$L$20:$L$22,\"ВН\",'33_Расчет Амортизации план'!$K$20:$K$22,\"КЛЭП\")","v":0},{"$f":"SUMIFS('33_Расчет Амортизации план'!$X$20:$X$22,'33_Расчет Амортизации план'!$L$20:$L$22,\"ВН\",'33_Расчет Амортизации план'!$K$20:$K$22,\"КЛЭП\")","v":0},{"$f":"SUMIFS('33_Расчет Амортизации план'!$Y$20:$Y$22,'33_Расчет Амортизации план'!$L$20:$L$22,\"ВН\",'33_Расчет Амортизации план'!$K$20:$K$22,\"КЛЭП\")","v":0},{"$f":"H27+I27-J27","v":0},{"$f":"SUMIFS('33_Расчет Амортизации план'!$AI$20:$AI$22,'33_Расчет Амортизации план'!$L$20:$L$22,\"ВН\",'33_Расчет Амортизации план'!$K$20:$K$22,\"КЛЭП\")","v":0},{"$f":"SUMIFS('33_Расчет Амортизации план'!$AB$20:$AB$22,'33_Расчет Амортизации план'!$L$20:$L$22,\"ВН\",'33_Расчет Амортизации план'!$K$20:$K$22,\"КЛЭП\")","v":0}]
[null,null,null,null,null,"1.8","СН1",{"$f":"SUMIFS('33_Расчет Амортизации план'!$T$20:$T$22,'33_Расчет Амортизации план'!$L$20:$L$22,\"СН1\",'33_Расчет Амортизации план'!$K$20:$K$22,\"КЛЭП\")","v":0},{"$f":"SUMIFS('33_Расчет Амортизации план'!$X$20:$X$22,'33_Расчет Амортизации план'!$L$20:$L$22,\"СН1\",'33_Расчет Амортизации план'!$K$20:$K$22,\"КЛЭП\")","v":0},{"$f":"SUMIFS('33_Расчет Амортизации план'!$Y$20:$Y$22,'33_Расчет Амортизации план'!$L$20:$L$22,\"СН1\",'33_Расчет Амортизации план'!$K$20:$K$22,\"КЛЭП\")","v":0},{"$f":"H28+I28-J28","v":0},{"$f":"SUMIFS('33_Расчет Амортизации план'!$AI$20:$AI$22,'33_Расчет Амортизации план'!$L$20:$L$22,\"СН1\",'33_Расчет Амортизации план'!$K$20:$K$22,\"КЛЭП\")","v":0},{"$f":"SUMIFS('33_Расчет Амортизации план'!$AB$20:$AB$22,'33_Расчет Амортизации план'!$L$20:$L$22,\"СН1\",'33_Расчет Амортизации план'!$K$20:$K$22,\"КЛЭП\")","v":0}]
[null,null,null,null,null,"1.9","СН2",{"$f":"SUMIFS('33_Расчет Амортизации план'!$T$20:$T$22,'33_Расчет Амортизации план'!$L$20:$L$22,\"СН2\",'33_Расчет Амортизации план'!$K$20:$K$22,\"КЛЭП\")","v":0},{"$f":"SUMIFS('33_Расчет Амортизации план'!$X$20:$X$22,'33_Расчет Амортизации план'!$L$20:$L$22,\"СН2\",'33_Расчет Амортизации план'!$K$20:$K$22,\"КЛЭП\")","v":0},{"$f":"SUMIFS('33_Расчет Амортизации план'!$Y$20:$Y$22,'33_Расчет Амортизации план'!$L$20:$L$22,\"СН2\",'33_Расчет Амортизации план'!$K$20:$K$22,\"КЛЭП\")","v":0},{"$f":"H29+I29-J29","v":0},{"$f":"SUMIFS('33_Расчет Амортизации план'!$AI$20:$AI$22,'33_Расчет Амортизации план'!$L$20:$L$22,\"СН2\",'33_Расчет Амортизации план'!$K$20:$K$22,\"КЛЭП\")","v":0},{"$f":"SUMIFS('33_Расчет Амортизации план'!$AB$20:$AB$22,'33_Расчет Амортизации план'!$L$20:$L$22,\"СН2\",'33_Расчет Амортизации план'!$K$20:$K$22,\"КЛЭП\")","v":0}]
[null,null,null,null,null,"1.10","НН",{"$f":"SUMIFS('33_Расчет Амортизации план'!$T$20:$T$22,'33_Расчет Амортизации план'!$L$20:$L$22,\"НН\",'33_Расчет Амортизации план'!$K$20:$K$22,\"КЛЭП\")","v":0},{"$f":"SUMIFS('33_Расчет Амортизации план'!$X$20:$X$22,'33_Расчет Амортизации план'!$L$20:$L$22,\"НН\",'33_Расчет Амортизации план'!$K$20:$K$22,\"КЛЭП\")","v":0},{"$f":"SUMIFS('33_Расчет Амортизации план'!$Y$20:$Y$22,'33_Расчет Амортизации план'!$L$20:$L$22,\"НН\",'33_Расчет Амортизации план'!$K$20:$K$22,\"КЛЭП\")","v":0},{"$f":"H30+I30-J30","v":0},{"$f":"SUMIFS('33_Расчет Амортизации план'!$AI$20:$AI$22,'33_Расчет Амортизации план'!$L$20:$L$22,\"НН\",'33_Расчет Амортизации план'!$K$20:$K$22,\"КЛЭП\")","v":0},{"$f":"SUMIFS('33_Расчет Амортизации план'!$AB$20:$AB$22,'33_Расчет Амортизации план'!$L$20:$L$22,\"НН\",'33_Расчет Амортизации план'!$K$20:$K$22,\"КЛЭП\")","v":0}]
[null,null,null,null,null,"2","Подстанция",{"$f":"SUM(H32:H35)","v":0},0,{"$f":"SUM(J32:J35)","v":0},0,0,0]
[null,null,null,null,null,"2.1","ВН",{"$f":"SUMIFS('33_Расчет Амортизации план'!$T$20:$T$22,'33_Расчет Амортизации план'!$L$20:$L$22,\"ВН\",'33_Расчет Амортизации план'!$K$20:$K$22,\"Подстанция\")","v":0},{"$f":"SUMIFS('33_Расчет Амортизации план'!$X$20:$X$22,'33_Расчет Амортизации план'!$L$20:$L$22,\"ВН\",'33_Расчет Амортизации план'!$K$20:$K$22,\"Подстанция\")","v":0},{"$f":"SUMIFS('33_Расчет Амортизации план'!$Y$20:$Y$22,'33_Расчет Амортизации план'!$L$20:$L$22,\"ВН\",'33_Расчет Амортизации план'!$K$20:$K$22,\"Подстанция\")","v":0},{"$f":"H32+I32-J32","v":0},{"$f":"SUMIFS('33_Расчет Амортизации план'!$AI$20:$AI$22,'33_Расчет Амортизации план'!$L$20:$L$22,\"ВН\",'33_Расчет Амортизации план'!$K$20:$K$22,\"Подстанция\")","v":0},{"$f":"SUMIFS('33_Расчет Амортизации план'!$AB$20:$AB$22,'33_Расчет Амортизации план'!$L$20:$L$22,\"ВН\",'33_Расчет Амортизации план'!$K$20:$K$22,\"Подстанция\")","v":0}]
[null,null,null,null,null,"2.2","СН1",{"$f":"SUMIFS('33_Расчет Амортизации план'!$T$20:$T$22,'33_Расчет Амортизации план'!$L$20:$L$22,\"СН1\",'33_Расчет Амортизации план'!$K$20:$K$22,\"Подстанция\")","v":0},{"$f":"SUMIFS('33_Расчет Амортизации план'!$X$20:$X$22,'33_Расчет Амортизации план'!$L$20:$L$22,\"СН1\",'33_Расчет Амортизации план'!$K$20:$K$22,\"Подстанция\")","v":0},{"$f":"SUMIFS('33_Расчет Амортизации план'!$Y$20:$Y$22,'33_Расчет Амортизации план'!$L$20:$L$22,\"СН1\",'33_Расчет Амортизации план'!$K$20:$K$22,\"Подстанция\")","v":0},{"$f":"H33+I33-J33","v":0},{"$f":"SUMIFS('33_Расчет Амортизации план'!$AI$20:$AI$22,'33_Расчет Амортизации план'!$L$20:$L$22,\"СН1\",'33_Расчет Амортизации план'!$K$20:$K$22,\"Подстанция\")","v":0},{"$f":"SUMIFS('33_Расчет Амортизации план'!$AB$20:$AB$22,'33_Расчет Амортизации план'!$L$20:$L$22,\"СН1\",'33_Расчет Амортизации план'!$K$20:$K$22,\"Подстанция\")","v":0}]
[null,null,null,null,null,"2.3","СН2",{"$f":"SUMIFS('33_Расчет Амортизации план'!$T$20:$T$22,'33_Расчет Амортизации план'!$L$20:$L$22,\"СН2\",'33_Расчет Амортизации план'!$K$20:$K$22,\"Подстанция\")","v":0},{"$f":"SUMIFS('33_Расчет Амортизации план'!$X$20:$X$22,'33_Расчет Амортизации план'!$L$20:$L$22,\"СН2\",'33_Расчет Амортизации план'!$K$20:$K$22,\"Подстанция\")","v":0},{"$f":"SUMIFS('33_Расчет Амортизации план'!$Y$20:$Y$22,'33_Расчет Амортизации план'!$L$20:$L$22,\"СН2\",'33_Расчет Амортизации план'!$K$20:$K$22,\"Подстанция\")","v":0},{"$f":"H34+I34-J34","v":0},{"$f":"SUMIFS('33_Расчет Амортизации план'!$AI$20:$AI$22,'33_Расчет Амортизации план'!$L$20:$L$22,\"СН2\",'33_Расчет Амортизации план'!$K$20:$K$22,\"Подстанция\")","v":0},{"$f":"SUMIFS('33_Расчет Амортизации план'!$AB$20:$AB$22,'33_Расчет Амортизации план'!$L$20:$L$22,\"СН2\",'33_Расчет Амортизации план'!$K$20:$K$22,\"Подстанция\")","v":0}]
[null,null,null,null,null,"2.4","НН",{"$f":"SUMIFS('33_Расчет Амортизации план'!$T$20:$T$22,'33_Расчет Амортизации план'!$L$20:$L$22,\"НН\",'33_Расчет Амортизации план'!$K$20:$K$22,\"Подстанция\")","v":0},{"$f":"SUMIFS('33_Расчет Амортизации план'!$X$20:$X$22,'33_Расчет Амортизации план'!$L$20:$L$22,\"НН\",'33_Расчет Амортизации план'!$K$20:$K$22,\"Подстанция\")","v":0},{"$f":"SUMIFS('33_Расчет Амортизации план'!$Y$20:$Y$22,'33_Расчет Амортизации план'!$L$20:$L$22,\"НН\",'33_Расчет Амортизации план'!$K$20:$K$22,\"Подстанция\")","v":0},{"$f":"H35+I35-J35","v":0},{"$f":"SUMIFS('33_Расчет Амортизации план'!$AI$20:$AI$22,'33_Расчет Амортизации план'!$L$20:$L$22,\"НН\",'33_Расчет Амортизации план'!$K$20:$K$22,\"Подстанция\")","v":0},{"$f":"SUMIFS('33_Расчет Амортизации план'!$AB$20:$AB$22,'33_Расчет Амортизации план'!$L$20:$L$22,\"НН\",'33_Расчет Амортизации план'!$K$20:$K$22,\"Подстанция\")","v":0}]
[null,null,null,null,null,"2.5","Всего (стр. 1+стр.2)",{"$f":"H20+H31","v":0},0,0,0,0,0]
[null,null,null,null,null,"2.6","ВН",{"$f":"H22+H32+H27","v":0},0,0,0,0,0]
[null,null,null,null,null,"2.7","СН1",0,0,0,0,0,0]
[null,null,null,null,null,"2.8","СН2",0,0,0,0,0,0]
[null,null,null,null,null,"2.9","НН",0,0,0,0,0,0]

{"sheet":"36_Прибыль","index":80,"n_rows":59,"n_cols":14,"rows_kept":59,"cut":false,"hidden":true,"merged":[[60,6,60,10],[9,5,9,11],[8,5,8,6]]}
[null,null,null,null,null,null,null,null,null,{"$f":"IFERROR(IF(REPORT_OWNER=\"Версия организации\",\"HIDDEN\",\"VISIBLE\"),0)","v":"HIDDEN"},null,null,{"$f":"IFERROR(IF(REPORT_OWNER=\"Версия организации\",\"HIDDEN\",\"VISIBLE\"),0)","v":"HIDDEN"}]
[]
[]
[]
[]
[]
[]
[]
[null,null,null,null,null,"Список листов"]
[null,null,null,null,null,"Расчет балансовой прибыли , принимаемой при установлении тарифов \nна передачу электрической энергии"]
[]
[]
[]
[]
[]
[]
[]
[]
[]
[null,null,null,null,null,"№ п.п.","Наименование показателя, тыс.руб.",{"$f":"'8_Расчет НВВ '!I$21&\" \"&'8_Расчет НВВ '!I$20","v":"утверждено (заполняет ТСО) -2"},{"$f":"'8_Расчет НВВ '!J$21&\" \"&'8_Расчет НВВ '!J$20","v":"факт ТСО -2"},{"$f":"'8_Расчет НВВ '!L$21&\" \"&'8_Расчет НВВ '!L$20","v":"факт версия регулятора -2"},{"$f":"'8_Расчет НВВ '!N$21&\" \"&'8_Расчет НВВ '!N$20","v":"утверждено (заполняет ТСО) -1"},{"$f":"'8_Расчет НВВ '!P$21&\" \"&'8_Расчет НВВ '!P$20","v":"предложение ТСО 0"},{"$f":"'8_Расчет НВВ '!Q$21&\" \"&'8_Расчет НВВ '!Q$20","v":"Версия регулятора 0"},"Комментарии*"]
[]
[]
[]
[]
[]
[null,null,null,null,null,"1","Прибыль на развитие производства",{"$f":"H28","v":0},0,0,0,0,0]
[]
[null,null,null,null,null,"1.1","капитальные вложения",{"$f":"SUM(H29:H32)","v":0},0,0,0,0,0]
[null,null,null,null,null,"1.1.1","ВН"]
[null,null,null,null,null,"1.1.2","СН1"]
[null,null,null,null,null,"1.1.3","СН2"]
[null,null,null,null,null,"1.1.4","НН"]
[null,null,null,null,null,"2","Прибыль на социальное развитие "]
[null,null,null,null,null,"3","Льготы, компенсации и проч.выплаты по Кол. договору"]
[null,null,null,null,null,"4","Дивиденды по акциям"]
[null,null,null,null,null,"5","Прибыль на прочие цели",{"$f":"SUM(H37:H38)","v":0},0,0,0,0,0]
[null,null,null,null,null,"5.0"]
[null,null,null,null,null,null,"Добавить"]
[null,null,null,null,null,"6","Прибыль, облагаемая налогом",{"$f":"(H26+H33+H34+H35+H36)/0.8","v":0},0,0,0,0,0]
[null,null,null,null,null,"7","Налоги, сборы, платежи - Всего",{"$f":"SUM(H42:H47)","v":0},0,0,0,0,0]
[null,null,null,null,null,"7.1","Ставка налога на прибыль"]
[null,null,null,null,null,"7.2","Налог на прибыль"]
[null,null,null,null,null,"7.2.1","ВН",{"$f":"IF('7_Свод УЕ '!$H$35=0,0,H29/(1-H$41/100)*H$41/100)","v":0},{"$f":"IF('7_Свод УЕ '!$H$36=0,0,I29/(1-I$41/100)*I$41/100)","v":0},{"$f":"IF('7_Свод УЕ '!$H$38=0,0,J29/(1-J$41/100)*J$41/100)","v":0},{"$f":"IF('7_Свод УЕ '!$H$38=0,0,K29/(1-K$41/100)*K$41/100)","v":0},{"$f":"IF('7_Свод УЕ '!$H$39=0,0,L29/(1-L$41/100)*L$41/100)","v":0},{"$f":"IF('7_Свод УЕ '!$H$39=0,0,M29/(1-M$41/100)*M$41/100)","v":0}]
[null,null,null,null,null,"7.2.2","СН1",{"$f":"IF('7_Свод УЕ '!$I$35=0,0,H30/(1-H$41/100)*H$41/100)","v":0},{"$f":"IF('7_Свод УЕ '!$I$36=0,0,I30/(1-I$41/100)*I$41/100)","v":0},{"$f":"IF('7_Свод УЕ '!$I$38=0,0,J30/(1-J$41/100)*J$41/100)","v":0},{"$f":"IF('7_Свод УЕ '!$I$38=0,0,K30/(1-K$41/100)*K$41/100)","v":0},{"$f":"IF('7_Свод УЕ '!$I$39=0,0,L30/(1-L$41/100)*L$41/100)","v":0},{"$f":"IF('7_Свод УЕ '!$I$39=0,0,M30/(1-M$41/100)*M$41/100)","v":0}]
[null,null,null,null,null,"7.2.3","СН2",{"$f":"IF('7_Свод УЕ '!$J$35=0,0,H31/(1-H$41/100)*H$41/100)","v":0},{"$f":"IF('7_Свод УЕ '!$J$36=0,0,I31/(1-I$41/100)*I$41/100)","v":0},{"$f":"IF('7_Свод УЕ '!$J$38=0,0,J31/(1-J$41/100)*J$41/100)","v":0},{"$f":"IF('7_Свод УЕ '!$J$38=0,0,K31/(1-K$41/100)*K$41/100)","v":0},{"$f":"IF('7_Свод УЕ '!$J$39=0,0,L31/(1-L$41/100)*L$41/100)","v":0},{"$f":"IF('7_Свод УЕ '!$J$39=0,0,M31/(1-M$41/100)*M$41/100)","v":0}]
[null,null,null,null,null,"7.2.4","НН",{"$f":"IF('7_Свод УЕ '!$K$35=0,0,H32/(1-H$41/100)*H$41/100)","v":0},{"$f":"IF('7_Свод УЕ '!$K$36=0,0,I32/(1-I$41/100)*I$41/100)","v":0},{"$f":"IF('7_Свод УЕ '!$K$38=0,0,J32/(1-J$41/100)*J$41/100)","v":0},{"$f":"IF('7_Свод УЕ '!$K$38=0,0,K32/(1-K$41/100)*K$41/100)","v":0},{"$f":"IF('7_Свод УЕ '!$K$39=0,0,L32/(1-L$41/100)*L$41/100)","v":0},{"$f":"IF('7_Свод УЕ '!$K$39=0,0,M32/(1-M$41/100)*M$41/100)","v":0}]
[null,null,null,null,null,"7.3","Налог на имущество",{"$f":"'32_Расчет амортизации факт макс'!AG28","v":0},{"$f":"'32_Расчет амортизации факт'!AH21","v":0},{"$f":"'32_Расчет амортизации факт макс'!AI28","v":0},{"$f":"'32_Расчет амортизации факт макс'!AP28","v":0},{"$f":"'33_Расчет Амортизации план'!AH23","v":0}]
[null,null,null,null,null,"7.4","Плата за землю",null,0,null,null,0]
[null,null,null,null,null,"7.5","Транспортный налог"]
[null,null,null,null,null,"7.6","Прочие налоги, сборы и платежи"]
[null,null,null,null,null,"8"," Прибыль от реализации услуг по передаче электрической энергии",null,{"$f":"I26+I33+I34+I35+I36","v":0},{"$f":"J26+J33+J34+J35+J36","v":0},{"$f":"K26+K33+K34+K35+K36","v":0},{"$f":"L26+L33+L34+L35+L36","v":0},{"$f":"M26+M33+M34+M35+M36","v":0}]
[]
[]
[]
[null,null,null,null,null,"Примечание:"]
[null,null,null,null,null,{"$f":"\"*Указать комментарий по фактически завершенному периоду (\"&god-2&\" год) / по плановому периоду (\"&god&\" год)\"","v":"*Указать комментарий по фактически завершенному периоду (-2 год) / по плановому периоду ( год)"}]
[null,null,null,null,null,"1) в случае отличия факта, отраженного в смете затрат от показателей, подтвержденных бухгалтерскими документами - указать обоснование"]
[null,null,null,null,null,"2) ссылка на документы, подтверждающие/обосновывающие фактические/плановые расходы"]
[null,null,null,null,null,"3) ссылка на локально-нормативные акты организации (приказы и пр.) - при наличии."]

{"sheet":"37_Факт потери","index":81,"n_rows":42,"n_cols":18,"rows_kept":42,"cut":false,"hidden":true,"merged":[[41,5,41,8],[0,5,0,8],[14,17,15,17],[14,9,15,9],[8,5,8,6],[39,5,39,8],[40,5,40,8],[38,5,38,8],[19,3,35,3],[19,6,35,6],[19,7,35,7],[14,16,15,16],[0,15,0,18],[1,16,1,18],[14,10,14,12],[14,6,15,6],[14,13,15,13],[14,14,15,14],[14,15,15,15],[9,5,9,9],[10,5,10,9],[14,7,15,7],[14,5,15,5],[14,8,15,8]]}
[null,null,null,null,null,"Вернуться к перечню форм"]
[]
[]
[]
[]
[]
[]
[]
[null,null,null,null,null,"Список листов"]
[null,null,null,null,null,"Информация о фактических расходах на покупку электроэнергии в целях компенсации потерь"]
[null,null,null,null,null,{"$f":"god-2&\" год\"","v":"-2 год"}]
[]
[]
[]
[null,null,null,null,null,"№ п/п","Основание приобретения компенсации потерь","Дата и номер заключенного договора купли-продажи электрической энергии на компенсацию потерь","Показатель","№ и дата акта приема-передачи электрической энергии","Количество  электрической энергии для  компенсации потерь,  (кВтч), в т.ч.:",null,null,"Цена покупки нормативных потерь БЕЗ НДС,  (руб/кВтч)","Цена покупки сверхнормативных потерь БЕЗ НДС,  (руб/кВтч)","Средневзвешенная цена покупки потерь БЕЗ НДС,  (руб/кВтч)","Стоимость без НДС (руб.) ","Комментарии"]
[null,null,null,null,null,null,null,null,null,null,"Всего ","Нормативных","Сверхнормативных"]
[]
[]
[]
[null,null,null,1,null,{"$f":"D20&\".1\"","v":"1.1"},null,null,"январь",null,{"$f":"SUM(L20:M20)","v":0},null,null,null,null,{"$f":"IFERROR(SUM(L20*N20,M20*O20)/SUM(L20:M20),0)","v":0},{"$f":"L20*N20+M20*O20","v":0}]
[null,null,null,null,null,{"$f":"D20&\".2\"","v":"1.2"},null,null,"февраль",null,0,null,null,null,null,0,0]
[null,null,null,null,null,{"$f":"D20&\".3\"","v":"1.3"},null,null,"март",null,0,null,null,null,null,0,0]
[null,null,null,null,null,{"$f":"D20&\".4\"","v":"1.4"},null,null,"апрель",null,0,null,null,null,null,0,0]
[null,null,null,null,null,{"$f":"D20&\".5\"","v":"1.5"},null,null,"май",null,0,null,null,null,null,0,0]
[null,null,null,null,null,{"$f":"D20&\".6\"","v":"1.6"},null,null,"июнь",null,0,null,null,null,null,0,0]
[]
[]
[null,null,null,null,null,{"$f":"D20&\".7\"","v":"1.7"},null,null,"июль",null,0,null,null,null,null,0,{"$f":"L28*N28+M28*O28","v":0}]
[null,null,null,null,null,{"$f":"D20&\".8\"","v":"1.8"},null,null,"август",null,0,null,null,null,null,0,0]
[null,null,null,null,null,{"$f":"D20&\".9\"","v":"1.9"},null,null,"сентябрь",null,0,null,null,null,null,0,0]
[null,null,null,null,null,{"$f":"D20&\".10\"","v":"1.10"},null,null,"октябрь",null,0,null,null,null,null,0,0]
[null,null,null,null,null,{"$f":"D20&\".11\"","v":"1.11"},null,null,"ноябрь",null,0,null,null,null,null,0,0]
[null,null,null,null,null,{"$f":"D20&\".12\"","v":"1.12"},null,null,"декабрь",null,{"$f":"SUM(L33:M33)","v":0},null,null,null,null,0,0]
[null,null,null,null,null,{"$f":"D20&\".13\"","v":"1.13"},null,null,"1 полугодие",null,{"$f":"SUM(L34:M34)","v":0},{"$f":"SUM(L20:L25)","v":0},{"$f":"SUM(M20:M25)","v":0},{"$f":"IFERROR(SUMPRODUCT(L20:L25,N20:N25)/SUM(L20:L25),0)","v":0},{"$f":"IFERROR(SUMPRODUCT(M20:M25,O20:O25)/SUM(M20:M25),0)","v":0},{"$f":"IFERROR(SUMPRODUCT(K20:K25,P20:P25)/SUM(K20:K25),0)","v":0},{"$f":"SUM(Q20:Q25)","v":0}]
[null,null,null,null,null,{"$f":"D20&\".14\"","v":"1.14"},null,null,"2 полугодие",null,{"$f":"SUM(L35:M35)","v":0},{"$f":"SUM(L28:L33)","v":0},{"$f":"SUM(M28:M33)","v":0},{"$f":"IFERROR(SUMPRODUCT(L28:L33,N28:N33)/SUM(L28:L33),0)","v":0},{"$f":"IFERROR(SUMPRODUCT(M28:M33,O28:O33)/SUM(M28:M33),0)","v":0},{"$f":"IFERROR(SUMPRODUCT(K28:K33,P28:P33)/SUM(K28:K33),0)","v":0},{"$f":"SUM(Q28:Q33)","v":0}]
[null,null,null,null,null,{"$f":"D20&\".15\"","v":"1.15"},null,null,{"$f":"god-2&\" год\"","v":"-2 год"},null,{"$f":"SUM(L36:M36)","v":0},{"$f":"L34+L35","v":0},{"$f":"M34+M35","v":0},{"$f":"IFERROR(SUMPRODUCT(L20:L33,N20:N33)/SUM(L20:L33),0)","v":0},{"$f":"IFERROR(SUMPRODUCT(M20:M33,O20:O33)/SUM(M20:M33),0)","v":0},{"$f":"IFERROR(SUMPRODUCT(K20:K33,P20:P33)/SUM(K20:K33),0)","v":0},{"$f":"Q34+Q35","v":0}]
[null,null,null,null,null,null,"Добавить"]
[]
[null,null,null,null,null,"Размер экономии расходов на оплату потерь электрической энергии",null,null,null,null,null,null,null,null,null,null,{"$f":"('9 Тариф'!H21/100*'9 Тариф'!I18*1000-K42/1000)*P42","v":0}]
[null,null,null,null,null,"1 полугодие",null,null,null,null,{"$f":"SUM(L40:M40)","v":0},{"$f":"SUMIF($I$20:$I$37,$F40,L$20:L$37)","v":0},0]
[null,null,null,null,null,"2 полугодие",null,null,"2 полугодие",null,{"$f":"SUM(L41:M41)","v":0},0,0]
[null,null,null,null,null,{"$f":"god-2&\" год\"","v":"-2 год"},null,null,{"$f":"god-2&\" год\"","v":"-2 год"},null,{"$f":"SUM(L42:M42)","v":0},0,0,null,null,{"$f":"IF(K42=0,0,Q42/K42)","v":0},{"$f":"SUMIF($I$20:$I$37,$F42,Q$20:Q$37)","v":0}]

{"sheet":"modLosses","index":82,"n_rows":0,"n_cols":0,"rows_kept":0,"cut":false,"hidden":true,"merged":[]}

{"sheet":"modProceedsFact","index":83,"n_rows":0,"n_cols":0,"rows_kept":0,"cut":false,"hidden":true,"merged":[]}

{"sheet":"38_товарная выручка факт","index":84,"n_rows":24,"n_cols":23,"rows_kept":24,"cut":false,"hidden":true,"merged":[[23,6,23,12],[19,6,19,12],[13,6,13,8],[14,6,14,8],[15,6,15,8],[5,20,5,22],[20,6,20,12],[2,5,2,6],[21,6,21,12],[22,6,22,12],[3,5,3,13],[4,5,4,13],[5,5,5,9]]}
[]
[]
[null,null,null,null,null,"Список листов"]
[null,null,null,null,null,"Информация по расчетам за оказанные  услуги  по передаче электрической энергии"]
[null,null,null,null,null,{"$f":"god-2&\" год\"","v":"-2 год"}]
[]
[null,null,null,null,null,"№ п/п","Дата и номер заключенного договора на услуги по передаче электрической  энергии*","Контрагент","Вариант тарифа (одноставочный/\nдвухставочный)","Отчетный период",null,null,null,"№ и дата  акта оказания услуг по передаче электрической энергии","Количество ээ, оплачиваемой по одноставочному тарифу  (тыс.квтч)","Количество ээ, оплачиваемой по двухставочному тарифу (тыс.квтч)","Оплачиваемая мощность (МВт)","Стоимость по Акту                       (тыс. руб. с НДС)","Стоимость по Акту\n(тыс. руб. \nбез НДС)","Фактическая оплата \n(тыс. руб. с НДС)","Фактическая оплата \n(тыс. руб. \nбез НДС)","Месяц оплаты","№ и дата платежного поручения "]
[]
[]
[null,null,null,null,null,0]
[null,null,null,null,null,null,"Добавить договор"]
[]
[]
[null,null,null,null,null,"0.1","Итого 1 полугодие",null,null,null,null,null,null,null,{"$f":"SUMIF($J10:$J11,\"Итого по договору 1 полугодие\",O10:O11)","v":0},0,0,0,0,0,0]
[null,null,null,null,null,"0.2","Итого  2 полугодие",null,null,null,null,null,null,null,{"$f":"SUMIF($J10:$J11,\"Итого по договору 2 полугодие\",O10:O11)","v":0},0,0,0,0,0,0]
[null,null,null,null,null,"0.3","Итого год",null,null,null,null,null,null,null,{"$f":"SUMIF($J10:$J11,\"Итого по договору\",O10:O11)","v":0},0,0,0,0,0,0]
[]
[null,null,null,null,null,"2. Расчет отклонения для корректировки"]
[]
[null,null,null,null,null,"№ п/п","Отчетный период",null,null,null,null,null,null,"Стоимость услуг по передаче э/э  по актам, тыс. руб. без НДС","Ставка на компенсацию потерь, руб./тыс. кВтч","Полезный отпуск электроэнергии, тыс. кВтч","Компенсация расходов на потери, тыс. руб.","Расчет компенсации НВВ на содержание на базе фактической выручки, тыс. руб.","Утвержденная НВВ на содержание, тыс. руб.","отклонение НВВ на содержание, тыс. руб."]
[]
[null,null,null,null,null,1,"Итого 1 полугодие",null,null,null,null,null,null,{"$f":"S14","v":0},null,{"$f":"O14+P14","v":0}]
[null,null,null,null,null,2,"Итого 2 полугодие","Итого  2 полугодие","Итого  2 полугодие","Итого  2 полугодие","Итого  2 полугодие","Итого  2 полугодие","Итого  2 полугодие",{"$f":"S15","v":0},null,{"$f":"O15+P15","v":0}]
[null,null,null,null,null,3,"Итого год","Итого год","Итого год","Итого год","Итого год","Итого год","Итого год",{"$f":"S16","v":0},{"$f":"nerr('9 Тариф'!H46)/1000","v":0},{"$f":"O16+P16","v":0},{"$f":"O24*P24/1000","v":0},{"$f":"N24-Q24","v":0},{"$f":"'8_Расчет НВВ '!I111","v":0},{"$f":"S24-R24","v":0}]

{"sheet":"39_ФСК факт","index":85,"n_rows":52,"n_cols":34,"rows_kept":52,"cut":false,"hidden":true,"merged":[[0,30,0,33],[0,17,0,20],[19,6,20,6],[19,7,20,7],[19,8,19,20],[9,5,9,9],[19,5,20,5],[8,5,8,6]]}
[]
[]
[]
[]
[]
[]
[]
[]
[null,null,null,null,null,"Список листов"]
[null,null,null,null,null,"Расходы на услуги ФСК"]
[]
[]
[]
[]
[]
[]
[]
[]
[]
[null,null,null,null,null,"№ п/п","Показатель","Единица измерения",{"$f":"god-2&\" год,\"&\" факт\"","v":"-2 год, факт"},null,null,null,null,null,null,null,null,null,null,null,null,{"$f":"god-2&\" год,\"&\" факт версия регулятора\"","v":"-2 год, факт версия регулятора"}]
[null,null,null,null,null,null,null,null,"январь","февраль","март","апрель","май","июнь","июль","август","сентябрь","октябрь","ноябрь","декабрь","год","январь","февраль","март","апрель","май","июнь","июль","август","сентябрь","октябрь","ноябрь","декабрь","год"]
[]
[]
[]
[null,null,null,null,null,1,"Заявленная мощность","МВт",null,null,null,null,null,null,null,null,null,null,null,null,{"$f":"IFERROR(AVERAGE(I25:T25),0)","v":0},{"$f":"I25","v":0},0,0,0,0,0,0,0,0,0,0,0,{"$f":"IFERROR(AVERAGE(V25:AG25),0)","v":0}]
[null,null,null,null,null,2,"Ставка тарифа на содержание объектов","руб./МВт в мес.",null,null,null,null,null,null,null,null,null,null,null,null,{"$f":"IFERROR(SUM(I27:T27)/SUM(I25:T25),0)","v":0},0,0,0,0,0,0,0,0,0,0,0,0,{"$f":"IFERROR(SUM(V27:AG27)/SUM(V25:AG25),0)","v":0}]
[null,null,null,null,null,3,"Стоимость услуг по передаче электрической энергии на содержание сетей","руб.",{"$f":"I25*I26","v":0},0,0,0,0,0,0,0,0,0,0,0,{"$f":"SUM(I27:T27)","v":0},{"$f":"V25*V26","v":0},0,0,0,0,0,0,0,0,0,0,0,{"$f":"SUM(V27:AG27)","v":0}]
[null,null,null,null,null,"4.1","Отпуск электрической энергии в сальдированном выражении из сетей напряжением 330 кВ и выше","МВт*ч",null,null,null,null,null,null,null,null,null,null,null,null,0,{"$f":"I28","v":0},{"$f":"J28","v":0},{"$f":"K28","v":0},{"$f":"L28","v":0},{"$f":"M28","v":0},{"$f":"N28","v":0},{"$f":"O28","v":0},{"$f":"P28","v":0},{"$f":"Q28","v":0},{"$f":"R28","v":0},{"$f":"S28","v":0},{"$f":"T28","v":0},0]
[null,null,null,null,null,"4.2","Отпуск электрической энергии, неучтенный в предыдущих расчетных периодах в сальдированном выражении из сетей напряжением 330 кВ и выше","МВт*ч",null,null,null,null,null,null,null,null,null,null,null,null,0,0,0,0,0,0,0,0,0,0,0,0,0,0]
[null,null,null,null,null,"4.3","Отпуск электрической энергии в сальдированном выражении из сетей напряжением 330 кВ и выше с учетом корректировки","МВт*ч",null,null,null,null,null,null,null,null,null,null,null,null,0,0,0,0,0,0,0,0,0,0,0,0,0,0]
[null,null,null,null,null,"4.4","Отпуск электрической энергии в сальдированном выражении из сетей напряжением 220 кВ и ниже","МВт*ч",null,null,null,null,null,null,null,null,null,null,null,null,0,0,0,0,0,0,0,0,0,0,0,0,0,0]
[null,null,null,null,null,"4.5","Отпуск электрической энергии, неучтенный в предыдущих расчетных периодах в сальдированном выражении из сетей напряжением 220 кВ и ниже","МВт*ч",null,null,null,null,null,null,null,null,null,null,null,null,0,0,0,0,0,0,0,0,0,0,0,0,0,0]
[null,null,null,null,null,"4.6","Отпуск электрической энергии в сальдированном выражении из сетей напряжением 220 кВ и ниже с учетом корректировки","МВт*ч",null,null,null,null,null,null,null,null,null,null,null,null,0,0,0,0,0,0,0,0,0,0,0,0,0,0]
[null,null,null,null,null,"4.7","Отпуск электрической энергии в сальдированном выражении из сетей ЕНЭС, расположенных на смежной для Заказчика территории субъекта РФ","МВт*ч",null,null,null,null,null,null,null,null,null,null,null,null,0,0,0,0,0,0,0,0,0,0,0,0,0,0]
[null,null,null,null,null,"4.8","Отпуск электрической энергии, неучтенный в предыдущих расчетных периодах в сальдированном выражении из сетей ЕНЭС, расположенных на смежной для Заказчика территории субъекта РФ","МВт*ч",null,null,null,null,null,null,null,null,null,null,null,null,0,0,0,0,0,0,0,0,0,0,0,0,0,0]
[null,null,null,null,null,"4.9","Отпуск электрической энергии в сальдированном выражении из сетей ЕНЭС, расположенных на смежной для Заказчика территории субъекта РФ с учетом корректировки","МВт*ч",null,null,null,null,null,null,null,null,null,null,null,null,0,0,0,0,0,0,0,0,0,0,0,0,0,0]
[null,null,null,null,null,"5.1","Норматив технологических потерь электрической энергии в сетях напряжением 330 кВ и выше","абс.знач",null,null,null,null,null,null,null,null,null,null,null,null,{"$f":"IFERROR(SUMPRODUCT(I37:T37,I30:T30)/SUM(I30:T30),0)","v":0},0,0,0,0,0,0,0,0,0,0,0,0,{"$f":"IFERROR(SUMPRODUCT(V37:AG37,V30:AG30)/SUM(V30:AG30),0)","v":0}]
[null,null,null,null,null,"5.2","Норматив технологических потерь электрической энергии в сетях напряжением 220 кВ и ниже","абс.знач",null,null,null,null,null,null,null,null,null,null,null,null,{"$f":"IFERROR(SUMPRODUCT(I38:T38,I33:T33)/SUM(I33:T33),0)","v":0},0,0,0,0,0,0,0,0,0,0,0,0,{"$f":"IFERROR(SUMPRODUCT(V38:AG38,V33:AG33)/SUM(V33:AG33),0)","v":0}]
[null,null,null,null,null,"5.3","Норматив технологических потерь электрической энергии в сетях ЕНЭС, расположенных на смежной для Заказчика территории субъекта РФ","абс.знач",null,null,null,null,null,null,null,null,null,null,null,null,{"$f":"IFERROR(SUMPRODUCT(I39:T39,I36:T36)/SUM(I36:T36),0)","v":0},0,0,0,0,0,0,0,0,0,0,0,0,{"$f":"IFERROR(SUMPRODUCT(V39:AG39,V36:AG36)/SUM(V36:AG36),0)","v":0}]
[null,null,null,null,null,"6.1","Объем нормативных потерь электрической энергии, рассчитанных исходя из отпуска электрической энергии в сальдированном выражении из сетей напряжением 330 кВ и выше","МВт*ч",{"$f":"I30*I37","v":0},0,0,0,0,0,0,0,0,0,0,0,{"$f":"SUM(I40:T40)","v":0},{"$f":"V30*V37","v":0},0,0,0,0,0,0,0,0,0,0,0,{"$f":"SUM(V40:AG40)","v":0}]
[null,null,null,null,null,"6.2","Объем нормативных потерь электрической энергии, рассчитанных исходя из отпуска электрической энергии в сальдированном выражении из сетей напряжением 220 кВ и ниже","МВт*ч",{"$f":"I33*I38","v":0},0,0,0,0,0,0,0,0,0,0,0,{"$f":"SUM(I41:T41)","v":0},{"$f":"V33*V38","v":0},0,0,0,0,0,0,0,0,0,0,0,{"$f":"SUM(V41:AG41)","v":0}]
[null,null,null,null,null,"6.3","Объем нормативных потерь электрической энергии, рассчитанных исходя из отпуска электрической энергии в сальдированном выражении из сетей ЕНЭС, расположенных на смежной для Заказчика территории субъекта РФ","МВт*ч",{"$f":"I36*I39","v":0},0,0,0,0,0,0,0,0,0,0,0,{"$f":"SUM(I42:T42)","v":0},{"$f":"V36*V39","v":0},0,0,0,0,0,0,0,0,0,0,0,{"$f":"SUM(V42:AG42)","v":0}]
[null,null,null,null,null,"7.1","Ставка тариф на оплату нормативных технологических потерь электроэнергии (Тариф на покупку объемов электрической энергии, необходимых для компенсации потерь электрической энергии в ЕНЭС )","руб./МВт*ч",null,null,null,null,null,null,null,null,null,null,null,null,{"$f":"AVERAGE(I43:T43)","v":{"$error":"#DIV/0!"}},{"$f":"I43","v":0},0,0,0,0,0,0,0,0,0,0,0]
[null,null,null,null,null,"7.2","Ставка тариф на оплату нормативных технологических потерь электроэнергии (Тариф на покупку объемов электрической энергии, необходимых для компенсации потерь электрической энергии в ЕНЭС по смежной для Заказчика территории субъекта РФ)","руб./МВт*ч",null,null,null,null,null,null,null,null,null,null,null,null,{"$f":"AVERAGE(I44:T44)","v":{"$error":"#DIV/0!"}},0,0,0,0,0,0,0,0,0,0,0,0]
[null,null,null,null,null,"8.1","Стоимость нормативных потерь электрической энергии, рассчитанных исходя из отпуска электрической энергии в сальдированном выражении из сетей напряжением 330 кВ и выше","руб.",{"$f":"I43*I40","v":0},0,0,0,0,0,0,0,0,0,0,0,{"$f":"SUM(I45:T45)","v":0},{"$f":"V43*V40","v":0},0,0,0,0,0,0,0,0,0,0,0,{"$f":"SUM(V45:AG45)","v":0}]
[null,null,null,null,null,"8.2","Стоимость нормативных потерь электрической энергии, рассчитанных исходя из отпуска электрической энергии в сальдированном выражении из сетей напряжением 220 кВ и ниже","руб.",{"$f":"I43*I41","v":0},0,0,0,0,0,0,0,0,0,0,0,0,{"$f":"V43*V41","v":0},0,0,0,0,0,0,0,0,0,0,0,0]
[null,null,null,null,null,"8.3","Стоимость нормативных потерь электрической энергии, рассчитанных исходя из отпуска электрической энергии в сальдированном выражении из сетей ЕНЭС, расположенных на смежной для Заказчика территории субъекта РФ","руб.",{"$f":"I44*I42","v":0},0,0,0,0,0,0,0,0,0,0,0,0,{"$f":"V44*V42","v":0},0,0,0,0,0,0,0,0,0,0,0,0]
[null,null,null,null,null,"9","Объем потерь электрической энергии, оплаченных в составе цен (тарифов) на оптовом рынке электрической энергии (мощности)","МВт*ч",null,null,null,null,null,null,null,null,null,null,null,null,0,{"$f":"I48","v":0},0,0,0,0,0,0,0,0,0,0,0,0]
[null,null,null,null,null,"10","Стоимость потерь электрической энергии, оплаченных в составе цен (тарифов) на оптовом рынке электрической энергии (мощности)","руб.",null,null,null,null,null,null,null,null,null,null,null,null,0,0,0,0,0,0,0,0,0,0,0,0,0,0]
[null,null,null,null,null,"11","Итого стоимость услуги по передаче электрической энергии по единой национальной (общероссийской) электрической сети (без НДС)","руб.",{"$f":"SUM(I27,I45:I47)-I49","v":0},0,0,0,0,0,0,0,0,0,0,0,0,{"$f":"SUM(V27,V45:V47)-V49","v":0},0,0,0,0,0,0,0,0,0,0,0,0]
[null,null,null,null,null,"12","НДС","руб.",{"$f":"I50*20%","v":0},{"$f":"J50*20%","v":0},{"$f":"K50*20%","v":0},{"$f":"L50*20%","v":0},{"$f":"M50*20%","v":0},{"$f":"N50*20%","v":0},{"$f":"O50*20%","v":0},{"$f":"P50*20%","v":0},{"$f":"Q50*20%","v":0},{"$f":"R50*20%","v":0},{"$f":"S50*20%","v":0},{"$f":"T50*20%","v":0},0,{"$f":"V50*20%","v":0},{"$f":"W50*20%","v":0},{"$f":"X50*20%","v":0},{"$f":"Y50*20%","v":0},{"$f":"Z50*20%","v":0},{"$f":"AA50*20%","v":0},{"$f":"AB50*20%","v":0},{"$f":"AC50*20%","v":0},{"$f":"AD50*20%","v":0},{"$f":"AE50*20%","v":0},{"$f":"AF50*20%","v":0},{"$f":"AG50*20%","v":0},0]
[null,null,null,null,null,"13","Итого стоимость услуги по передаче электрической энергии по единой национальной (общероссийской) электрической сети (с НДС)","руб.",{"$f":"SUM(I50:I51)","v":0},0,0,0,0,0,0,0,0,0,0,0,0,{"$f":"SUM(V50:V51)","v":0},0,0,0,0,0,0,0,0,0,0,0,0]

{"sheet":"40_ИПР факт ","index":86,"n_rows":26,"n_cols":19,"rows_kept":26,"cut":false,"hidden":true,"merged":[[10,5,10,18],[9,5,9,10],[8,5,8,6]]}
["Вернуться к перечню форм",null,null,null,null,null,null,null,null,null,null,{"$f":"IFERROR(IF(REPORT_OWNER=\"Версия организации\",\"HIDDEN\",\"VISIBLE\"),0)","v":"HIDDEN"}]
[]
[]
[]
[]
[]
[]
[]
[null,null,null,null,null,"Список листов"]
[null,null,null,null,null,{"$f":"\"Справочная таблица: исполнение инвестиционной программы за \"&god-2&\" год\"","v":"Справочная таблица: исполнение инвестиционной программы за -2 год"}]
[]
[null,null,null,null,null,null,null,null,null,null,null,null,null,null,null,null,null,null,"тыс. руб. без НДС"]
[null,null,null,null,null,"№ п/п","Период реализации ИПР","Утверждено до корректировки","Утверждено в ИПР","Выполнение общее","Выполнено по утв. проектам","Выполнено по утв. Проектам версия регулятора","Отклонение общее","% выполнения утв. проектов","Выполнено\nпо утв. объемам","% выполнения утв. объемов","Выполнено\nвне утв. объемов ИПР","Невыполнение\nутв. объемов ИПР","Выполнено\nвне утв. проектов ИПР"]
[]
[]
[]
[null,null,null,null,null,"1","Всего, в том числе",{"$f":"SUM(H18,H22)","v":0},{"$f":"SUM(I18,I22)","v":0},{"$f":"SUM(J18,J22)","v":0},{"$f":"SUM(K18,K22)","v":0},{"$f":"SUM(L18,L22)","v":0},{"$f":"K17-I17","v":0},{"$f":"IFERROR(K17/I17*100,0)","v":0},{"$f":"SUM(O18,O22)","v":0},{"$f":"IFERROR(M17/K17*100,0)","v":0},{"$f":"SUM(Q18,Q22)","v":0},{"$f":"SUM(R18,R22)","v":0},{"$f":"SUM(S18,S22)","v":0}]
[null,null,null,null,null,"1.1","Тарифные источники, в т.ч.:",{"$f":"SUM(H19:H21)","v":0},{"$f":"SUM(I19:I21)","v":0},{"$f":"SUM(J19:J21)","v":0},{"$f":"SUM(K19:K21)","v":0},{"$f":"SUM(L19:L21)","v":0},0,0,{"$f":"SUM(O19:O21)","v":0},0,{"$f":"SUM(Q19:Q21)","v":0},{"$f":"SUM(R19:R21)","v":0},{"$f":"SUM(S19:S21)","v":0}]
[null,null,null,null,null,"1.1.1","амортизация",null,null,null,null,null,0,0,{"$f":"J19-Q19","v":0},{"$f":"IFERROR(I19/K19*100,0)","v":0},null,null,{"$f":"J19-K19","v":0}]
[null,null,null,null,null,"1.1.2","прибыль",null,null,null,null,null,0,0,0,{"$f":"IFERROR(I20/K20*100,0)","v":0},null,null,0]
[null,null,null,null,null,"1.1.3","лизинг",null,null,null,null,null,0,0,0,{"$f":"IFERROR(I21/K21*100,0)","v":0},null,null,0]
[null,null,null,null,null,"1.2","Прочие источники",{"$f":"SUM(H23:H26)","v":0},{"$f":"SUM(I23:I26)","v":0},{"$f":"SUM(J23:J26)","v":0},{"$f":"SUM(K23:K26)","v":0},{"$f":"SUM(L23:L26)","v":0},0,0,0,{"$f":"IFERROR(I22/K22*100,0)","v":0},{"$f":"SUM(Q23:Q26)","v":0},{"$f":"SUM(R23:R26)","v":0},0]
[null,null,null,null,null,"1.2.1","Дополнительная эмиссия акций",null,null,null,null,null,0,0,0,{"$f":"IFERROR(I23/K23*100,0)","v":0},null,null,0]
[null,null,null,null,null,"1.2.2","Плата за техприсоединение",null,null,null,null,null,0,0,0,{"$f":"IFERROR(I24/K24*100,0)","v":0},null,null,0]
[null,null,null,null,null,"1.2.3","Субсидии",null,null,null,null,null,0,0,0,{"$f":"IFERROR(I25/K25*100,0)","v":0},null,null,0]
[null,null,null,null,null,"1.2.4","Прочие",null,null,null,null,null,0,0,0,{"$f":"IFERROR(I26/K26*100,0)","v":0},null,null,0]

{"sheet":"41_Бездоговор","index":87,"n_rows":57,"n_cols":15,"rows_kept":57,"cut":false,"hidden":true,"merged":[[16,13,17,13],[16,14,17,14],[8,5,8,11],[9,5,9,11],[17,7,18,7],[16,11,17,11],[17,8,18,8],[0,5,0,6],[16,5,18,5],[16,6,18,6],[16,7,16,10],[16,12,17,12],[7,5,7,6]]}
[null,null,null,null,null,"Вернуться к перечню форм"]
[]
[]
[]
[]
[]
[]
[null,null,null,null,null,"Список листов"]
[null,null,null,null,null,"Информация о доходах, возникших у ТСО вследствие взыскания стоимости выявленного в порядке, предусмотренном Основными положениями функционирования розничных рынков электрической энергии, объема бездоговорного потребления электрической энергии с лиц,\nосуществляющих бездоговорное потребление электрической энергии "]
[null,null,null,null,null,{"$f":"god-2&\" год\"","v":"-2 год"}]
[]
[]
[]
[]
[]
[]
[null,null,null,null,null,"№ п/п","Потребитель","Реквизиты акта",null,null,null,"стоимость\nобъема бездоговорного потребления","Услуги по передаче эл.эн., руб./кВтч","Цена на покупку потерь","Дополнительный доход"]
[null,null,null,null,null,null,null,"номер","дата","объем\nбездоговорного потребления","цена,\nприменяемая для определения стоимости","стоимость\nобъема бездоговорного потребления"]
[null,null,null,null,null,null,null,null,null,"кВтч","руб./кВтч","руб. (без НДС)","руб./кВтч","руб./кВтч"," тыс.руб. (без НДС)"]
[]
[null,null,null,null,null,1,"Январь",null,null,{"$f":"SUM(J22:J23)","v":0},null,{"$f":"SUM(L22:L23)","v":0},{"$f":"SUM(M22:M23)","v":0},{"$f":"SUM(N22:N23)","v":0},{"$f":"SUM(O22:O23)","v":0}]
[null,null,null,null,null,"1.0"]
[null,null,null,null,null,null,"Добавить акт"]
[null,null,null,null,null,2,"Февраль",null,null,{"$f":"SUM(J25:J26)","v":0},null,{"$f":"SUM(L25:L26)","v":0},{"$f":"SUM(M25:M26)","v":0},{"$f":"SUM(N25:N26)","v":0},{"$f":"SUM(O25:O26)/1000","v":0}]
[null,null,null,null,null,"2.0"]
[null,null,null,null,null,null,"Добавить акт"]
[null,null,null,null,null,3,"Март",null,null,{"$f":"SUM(J28:J29)","v":0},null,{"$f":"SUM(L28:L29)","v":0},{"$f":"SUM(M28:M29)","v":0},{"$f":"SUM(N28:N29)","v":0},{"$f":"SUM(O28:O29)/1000","v":0}]
[null,null,null,null,null,"3.0"]
[null,null,null,null,null,null,"Добавить акт"]
[null,null,null,null,null,4,"Апрель",null,null,{"$f":"SUM(J31:J32)","v":0},null,{"$f":"SUM(L31:L32)","v":0},{"$f":"SUM(M31:M32)","v":0},{"$f":"SUM(N31:N32)","v":0},{"$f":"SUM(O31:O32)/1000","v":0}]
[null,null,null,null,null,"4.0"]
[null,null,null,null,null,null,"Добавить акт"]
[null,null,null,null,null,5,"Май",null,null,{"$f":"SUM(J34:J35)","v":0},null,{"$f":"SUM(L34:L35)","v":0},{"$f":"SUM(M34:M35)","v":0},{"$f":"SUM(N34:N35)","v":0},{"$f":"SUM(O34:O35)/1000","v":0}]
[null,null,null,null,null,"5.0"]
[null,null,null,null,null,null,"Добавить акт"]
[null,null,null,null,null,6,"Июнь",null,null,{"$f":"SUM(J37:J38)","v":0},null,{"$f":"SUM(L37:L38)","v":0},{"$f":"SUM(M37:M38)","v":0},{"$f":"SUM(N37:N38)","v":0},{"$f":"SUM(O37:O38)/1000","v":0}]
[null,null,null,null,null,"6.0"]
[null,null,null,null,null,null,"Добавить акт"]
[null,null,null,null,null,7,"Июль",null,null,{"$f":"SUM(J40:J41)","v":0},null,{"$f":"SUM(L40:L41)","v":0},{"$f":"SUM(M40:M41)","v":0},{"$f":"SUM(N40:N41)","v":0},{"$f":"SUM(O40:O41)/1000","v":0}]
[null,null,null,null,null,"7.0"]
[null,null,null,null,null,null,"Добавить акт"]
[null,null,null,null,null,8,"Август",null,null,{"$f":"SUM(J43:J44)","v":0},null,{"$f":"SUM(L43:L44)","v":0},{"$f":"SUM(M43:M44)","v":0},{"$f":"SUM(N43:N44)","v":0},{"$f":"SUM(O43:O44)/1000","v":0}]
[null,null,null,null,null,"8.0"]
[null,null,null,null,null,null,"Добавить акт"]
[null,null,null,null,null,9,"Сентябрь",null,null,{"$f":"SUM(J46:J47)","v":0},null,{"$f":"SUM(L46:L47)","v":0},{"$f":"SUM(M46:M47)","v":0},{"$f":"SUM(N46:N47)","v":0},{"$f":"SUM(O46:O47)/1000","v":0}]
[null,null,null,null,null,"9.0"]
[null,null,null,null,null,null,"Добавить акт"]
[null,null,null,null,null,10,"Октябрь",null,null,{"$f":"SUM(J49:J50)","v":0},null,{"$f":"SUM(L49:L50)","v":0},{"$f":"SUM(M49:M50)","v":0},{"$f":"SUM(N49:N50)","v":0},{"$f":"SUM(O49:O50)/1000","v":0}]
[null,null,null,null,null,"10.0"]
[null,null,null,null,null,null,"Добавить акт"]
[null,null,null,null,null,11,"Ноябрь",null,null,{"$f":"SUM(J52:J53)","v":0},null,{"$f":"SUM(L52:L53)","v":0},{"$f":"SUM(M52:M53)","v":0},{"$f":"SUM(N52:N53)","v":0},{"$f":"SUM(O52:O53)/1000","v":0}]
[null,null,null,null,null,"11.0"]
[null,null,null,null,null,null,"Добавить акт"]
[null,null,null,null,null,12,"Декабрь",null,null,{"$f":"SUM(J55:J56)","v":0},null,{"$f":"SUM(L55:L56)","v":0},{"$f":"SUM(M55:M56)","v":0},{"$f":"SUM(N55:N56)","v":0},{"$f":"SUM(O55:O56)/1000","v":0}]
[null,null,null,null,null,"12.0"]
[null,null,null,null,null,null,"Добавить акт"]
[null,null,null,null,null,13,"Итого",null,null,{"$f":"+J21+J24+J27+J30+J33+J36+J39+J42+J45+J48+J51+J54","v":0},{"$f":"IFERROR(L57/J57,0)","v":0},{"$f":"+L21+L24+L27+L30+L33+L36+L39+L42+L45+L48+L51+L54","v":0},null,null,{"$f":"+O21+O24+O27+O30+O33+O36+O39+O42+O45+O48+O51+O54","v":0}]

{"sheet":"modNoContract","index":88,"n_rows":0,"n_cols":0,"rows_kept":0,"cut":false,"hidden":true,"merged":[]}

{"sheet":"42_финансовые показатели","index":89,"n_rows":54,"n_cols":13,"rows_kept":54,"cut":false,"hidden":true,"merged":[[0,4,0,6],[9,5,9,9],[19,13,19,18],[8,5,8,6]]}
[null,null,null,null,"Вернуться к перечню форм"]
[]
[]
[]
[]
[]
[]
[]
[null,null,null,null,null,"Список листов"]
[null,null,null,null,null,"Основные финансовые показатели за фактически завершенные периоды"]
[]
[]
[]
[]
[null,null,null,null,null,"№ п/п","Показатели","Единица измерения",{"$f":"god-4","v":-4},{"$f":"god-3","v":-3},{"$f":"god-2","v":-2},"Абсолютный прирост","Относительный прирост"]
[]
[]
[]
[null,null,null,null,null,1,"Балансовые показатели"]
[null,null,null,null,null,"1.1","Общая стоимость имущества (валюта баланса)","тыс. руб.",null,null,null,{"$f":"K20-J20","v":0},{"$f":"IF(J20= 0,0,K20/J20)","v":0}]
[null,null,null,null,null,"1.2","Стоимость внеоборотных активов или недвижимого имущества (стр. 1100 баланса), в том числе","тыс. руб.",null,null,null,0,{"$f":"IF(J21= 0,0,K21/J21)","v":0}]
[null,null,null,null,null,"1.2.1","основные средства","тыс. руб.",null,null,null,0,{"$f":"IF(J22= 0,0,K22/J22)","v":0}]
[null,null,null,null,null,"1.3","Стоимость оборотных активов (стр. 1200 баланса)","тыс. руб.",null,null,null,0,0]
[null,null,null,null,null,"1.4","Величина собственных средств - капитал и резервы (стр. 1300 баланса)","тыс. руб.",null,null,null,0,0]
[null,null,null,null,null,"1.5","Величина заемных средств (сумма Итогов  разделов 4 и 5 баланса)","тыс. руб.",null,null,null,0,0]
[null,null,null,null,null,"2","Показатели дебиторской и кредиторской задолженности"]
[null,null,null,null,null,"2.1","Дебиторская задолженность (долгосрочная и краткосрочная)","тыс. руб.",null,null,null,{"$f":"K27-J27","v":0},0]
[null,null,null,null,null,"2.2","Кредиторская задолженность (долгосрочная и краткосрочная)","тыс. руб.",null,null,null,{"$f":"K28-J28","v":0},0]
[null,null,null,null,null,"3","Показатели доходов и расходов"]
[null,null,null,null,null,"3.1","Выручка","тыс. руб.",null,null,null,{"$f":"K30-J30","v":0},0]
[null,null,null,null,null,"3.1.1","в т.ч. передача э/э","тыс. руб.",null,null,null,0,0]
[null,null,null,null,null,"3.2","Себестоимость","тыс. руб.",null,null,null,0,0]
[null,null,null,null,null,"3.2.1","в т.ч. передача э/э","тыс. руб.",null,null,null,0,0]
[null,null,null,null,null,"3.3","Коммерческие расходы","тыс. руб.",null,null,null,0,0]
[null,null,null,null,null,"3.3.1","в т.ч. передача э/э","тыс. руб.",null,null,null,0,0]
[null,null,null,null,null,"3.4","Амортизация","тыс. руб.",null,null,null,0,0]
[null,null,null,null,null,"3.4.1","в т.ч. передача э/э","тыс. руб.",null,null,null,0,0]
[null,null,null,null,null,"3.5","Прибыль (убыток) от продаж","тыс. руб.",null,null,null,0,0]
[null,null,null,null,null,"3.5.1","в т.ч. передача э/э","тыс. руб.",null,null,null,0,0]
[null,null,null,null,null,"3.6","Проценты к получению","тыс. руб.",null,null,null,0,{"$f":"IF(J40= 0,0,K40/J40)","v":0}]
[null,null,null,null,null,"3.6.1","в т.ч. передача э/э","тыс. руб.",null,null,null,0,0]
[null,null,null,null,null,"3.7","Проценты к уплате","тыс. руб.",null,null,null,0,0]
[null,null,null,null,null,"3.7.1","в т.ч. передача э/э","тыс. руб.",null,null,null,0,0]
[null,null,null,null,null,"3.8","Прибыль до налогообложения","тыс. руб.",null,null,null,0,0]
[null,null,null,null,null,"3.8.1","в т.ч. передача э/э","тыс. руб.",null,null,null,0,0]
[null,null,null,null,null,"3.9","EBITDA","тыс. руб.",{"$f":"I44-I40+I42+I36","v":0},{"$f":"J44-J40+J42+J36","v":0},{"$f":"K44-K40+K42+K36","v":0},0,0]
[null,null,null,null,null,"3.9.1","в т.ч. передача э/э","тыс. руб.",null,null,null,0,0]
[null,null,null,null,null,"3.10","Чистая прибыль","тыс. руб.",null,null,null,0,0]
[null,null,null,null,null,"3.10.1","в т.ч. передача э/э","тыс. руб.",null,null,null,0,0]
[null,null,null,null,null,"4","Показатели финансовой устойчивости"]
[null,null,null,null,null,"4.1","Коэффициент автономии (п. 1.4 / п. 1.1)","%",{"$f":"IFERROR(I24/I20,0)","v":0},{"$f":"IFERROR(J24/J20,0)","v":0},{"$f":"IFERROR(K24/K20,0)","v":0},{"$f":"K51-J51","v":0},0]
[null,null,null,null,null,"4.2","Отношение долговых обязательств к EBITDA","ед.",{"$f":"IFERROR(I$25/I46,0)","v":0},{"$f":"IFERROR(J$25/J46,0)","v":0},{"$f":"IFERROR(K$25/K46,0)","v":0},{"$f":"K52-J52","v":0},0]
[null,null,null,null,null,"4.3","Операционный денежный поток","тыс. руб.",{"$f":"I48+I36","v":0},{"$f":"J48+J36","v":0},{"$f":"K48+K36","v":0},{"$f":"K53-J53","v":0},0]
[null,null,null,null,null,"4.4","Коэффициент обеспеченности собственными средствами","%",{"$f":"IFERROR((I24-I21)/I23,0)","v":0},{"$f":"IFERROR((J24-J21)/J23,0)","v":0},{"$f":"IFERROR((K24-K21)/K23,0)","v":0},{"$f":"K54-J54","v":0},0]

{"sheet":"modProfit","index":90,"n_rows":0,"n_cols":0,"rows_kept":0,"cut":false,"hidden":true,"merged":[]}

{"sheet":"43_Депозиты","index":91,"n_rows":30,"n_cols":16,"rows_kept":30,"cut":false,"hidden":true,"merged":[[8,5,8,6],[27,6,27,9],[11,5,11,15],[9,5,9,9],[17,6,17,9],[22,6,22,9]]}
[null,null,null,null,null,"Вернуться к перечню форм"]
[]
[]
[]
[]
[]
[]
[]
[null,null,null,null,null,"Список листов"]
[null,null,null,null,null,"Справочная таблица: доходы по депозитам"]
[]
[]
[]
[null,null,null,null,null,"№ п/п","Наименование контрагента","Реквизиты договора","Срок депозита","Ставка в год, %","Сумма депозита на нач.года, тыс.руб.","Сумма процентных доходов в год","Внесение средств на депозитный счет за расчетный период, тыс.руб.","Снятие средств с депозитного счета за расчетный период, тыс.руб.","Сумма депозита на конец года, тыс.руб.","Комментарии"]
[]
[]
[]
[null,null,null,null,null,"1",{"$f":"\"Доходы по депозитам на \"&god-2&\" год (фактические значения)\"","v":"Доходы по депозитам на -2 год (фактические значения)"},null,null,null,null,null,null,null,{"$f":"SUM(O19:O21)","v":0}]
[null,null,null,null,null,"1.0"]
[null,null,null,null,null,null,"Добавить"]
[]
[]
[null,null,null,null,null,2,{"$f":"\"Доходы по депозитам на \"&god-1&\" год (прогнозные значения)\"","v":"Доходы по депозитам на -1 год (прогнозные значения)"},null,null,null,null,null,null,null,{"$f":"SUM(O24:O26)","v":0}]
[null,null,null,null,null,"2.0"]
[null,null,null,null,null,null,"Добавить"]
[]
[]
[null,null,null,null,null,3,{"$f":"\"Доходы по депозитам на \"&god&\" год (прогнозные значения)\"","v":"Доходы по депозитам на  год (прогнозные значения)"},null,null,null,null,null,null,null,{"$f":"SUM(O29:O31)","v":0}]
[null,null,null,null,null,"3.0"]
[null,null,null,null,null,null,"Добавить"]

{"sheet":"modDeposits","index":92,"n_rows":0,"n_cols":0,"rows_kept":0,"cut":false,"hidden":true,"merged":[]}

{"sheet":"modCredit","index":93,"n_rows":0,"n_cols":0,"rows_kept":0,"cut":false,"hidden":true,"merged":[]}

{"sheet":"44_кредиты","index":94,"n_rows":31,"n_cols":17,"rows_kept":31,"cut":false,"hidden":true,"merged":[[5,5,5,6],[12,16,13,16],[12,13,13,13],[12,12,13,12],[6,5,6,9],[12,10,13,10],[12,11,13,11],[12,14,13,14],[12,15,13,15],[25,6,25,9],[21,6,21,9],[19,6,19,9],[27,6,27,9],[12,5,13,5],[12,6,13,6],[12,7,13,7],[12,8,13,8],[12,9,13,9]]}
["HIDDEN",null,null,null,null,null,null,null,null,null,null,null,{"$f":"IFERROR(IF(REPORT_OWNER=\"Версия организации\",\"HIDDEN\",\"VISIBLE\"),0)","v":"HIDDEN"}]
[]
[]
[]
[]
[null,null,null,null,null,"Список листов"]
[null,null,null,null,null,"Справочная таблица: расходы по кредитам"]
[]
[]
[]
[]
[]
[null,null,null,null,null,"№ п/п","Наименование контрагента","Реквизиты договора","Срок займа","Ставка в год, %","Сумма займа на нач.года, тыс.руб.","Сумма процентов в год","Версия регулятора","Получение займов и кредитов за расчетный период, тыс.руб.","Возврат займов и кредитов за расчетный период, тыс.руб.","Сумма займа на конец года, тыс.руб.","Сведения о назначении займа (на какие цели)"]
[]
[]
[]
[]
[]
[]
[null,null,null,null,null,1,{"$f":"\"Расходы на уплату процентов по займам и кредитам на \"&god-2&\" год (утвержденные значения)\"","v":"Расходы на уплату процентов по займам и кредитам на -2 год (утвержденные значения)"}]
[null,null,null,null,null,"1.1","Займы и кредиты на капитальные вложения"]
[null,null,null,null,null,"2",{"$f":"\"Расходы на уплату процентов по займам и кредитам на \"&god-2&\" год (фактические значения)\"","v":"Расходы на уплату процентов по займам и кредитам на -2 год (фактические значения)"}]
[null,null,null,null,null,"2.1","Займы и кредиты на капитальные вложения",null,null,null,{"$f":"SUM(K24:K25)","v":0},0,0,0,0,0]
[null,null,null,null,null,"2.1.0"]
[null,null,null,null,null,null,"Добавить"]
[null,null,null,null,null,"3",{"$f":"\"Расходы на уплату процентов по займам и кредитам на \"&god-1&\" год (утвержденные значения)\"","v":"Расходы на уплату процентов по займам и кредитам на -1 год (утвержденные значения)"}]
[null,null,null,null,null,"3.1","Займы и кредиты на капитальные вложения"]
[null,null,null,null,null,"4",{"$f":"\"Расходы на уплату процентов по займам и кредитам на \"&god&\" год (предложенные значения)\"","v":"Расходы на уплату процентов по займам и кредитам на  год (предложенные значения)"}]
[null,null,null,null,null,"4.1","Займы и кредиты на капитальные вложения",null,null,null,{"$f":"SUM(K30:K31)","v":0},0,0,0,0,0]
[null,null,null,null,null,"4.0",null,null,null,null,null,null,null,null,null,{"$f":"K30+N30-O30","v":0}]
[null,null,null,null,null,null,"Добавить"]

{"sheet":"modInstruction","index":95,"n_rows":0,"n_cols":0,"rows_kept":0,"cut":false,"hidden":true,"merged":[]}

{"sheet":"modSheetTitle","index":96,"n_rows":0,"n_cols":0,"rows_kept":0,"cut":false,"hidden":true,"merged":[]}

{"sheet":"modUncontrolledExpenses","index":97,"n_rows":0,"n_cols":0,"rows_kept":0,"cut":false,"hidden":true,"merged":[]}

{"sheet":"modDocs","index":98,"n_rows":0,"n_cols":0,"rows_kept":0,"cut":false,"hidden":true,"merged":[]}

{"sheet":"tech","index":99,"n_rows":403,"n_cols":41,"rows_kept":403,"cut":false,"hidden":true,"merged":[[297,3,313,3],[297,6,313,6],[297,7,313,7],[116,8,117,8],[116,9,117,9],[213,5,214,5],[213,6,214,6],[277,3,278,3],[277,4,278,4],[249,5,250,5],[249,6,250,6],[257,5,258,5],[257,6,258,6],[265,5,266,5],[265,6,266,6],[222,5,223,5],[116,10,117,10],[93,8,94,8],[93,9,94,9],[93,10,94,10],[200,5,201,5],[200,6,201,6],[158,5,159,5],[158,6,159,6],[179,5,180,5],[179,6,180,6],[175,5,176,5],[175,6,176,6],[133,5,135,5],[222,6,223,6],[235,5,237,5],[235,6,237,6],[242,5,243,5],[242,6,243,6],[73,0,73,1],[75,0,75,1],[87,5,88,5],[87,6,88,6],[109,5,110,5],[109,6,110,6],[326,5,364,5],[326,6,364,6],[326,7,364,7],[326,8,364,8],[326,9,328,9],[329,9,331,9],[332,9,334,9],[335,9,337,9],[338,9,340,9],[341,9,343,9],[344,9,346,9],[347,9,349,9],[350,9,352,9],[353,9,355,9],[356,9,358,9],[359,9,361,9],[235,7,236,7],[235,8,236,8],[235,9,236,9],[235,10,236,10],[235,11,236,11]]}
["LIST_CALC_AMORT_FACT_MAX_DOP_ADD_RANGE","32 - Расчет амортизации факт"]
[null,null,null,null,"О",null,{"$f":"'32_Расчет амортизации факт макс'!G2","v":0},{"$f":"'32_Расчет амортизации факт макс'!H2","v":0},{"$f":"'32_Расчет амортизации факт макс'!I2","v":0},{"$f":"'32_Расчет амортизации факт макс'!J2","v":0},{"$f":"'32_Расчет амортизации факт макс'!K2","v":0},{"$f":"'32_Расчет амортизации факт макс'!L2","v":0},{"$f":"'32_Расчет амортизации факт макс'!M2","v":0},{"$f":"'32_Расчет амортизации факт макс'!N2","v":0},{"$f":"'32_Расчет амортизации факт макс'!O2","v":"00:00:00"},{"$f":"'32_Расчет амортизации факт макс'!P2","v":0},null,null,null,null,null,null,null,null,null,null,null,null,null,null,null,{"$f":"AG2*AH2","v":0},null,{"$f":"AI2*AJ2","v":0},null,null,{"$f":"AG2*AL2","v":0},{"$f":"AM2*AN2","v":0}]
["LIST_CALC_AMORT_FACT_MAX_ADD_RANGE","32 - Расчет амортизации факт"]
[null,null,null,null,"О",null,{"$f":"'32_Расчет амортизации факт'!G4","v":0},{"$f":"'32_Расчет амортизации факт'!H4","v":0},{"$f":"'32_Расчет амортизации факт'!I4","v":0},{"$f":"'32_Расчет амортизации факт'!J4","v":0},{"$f":"'32_Расчет амортизации факт'!K4","v":0},{"$f":"'32_Расчет амортизации факт'!L4","v":0},{"$f":"'32_Расчет амортизации факт'!M4","v":0},{"$f":"'32_Расчет амортизации факт'!N4","v":0},{"$f":"'32_Расчет амортизации факт'!O4","v":"00:00:00"},{"$f":"'32_Расчет амортизации факт'!P4","v":0},null,null,null,null,null,null,null,null,null,null,null,null,null,null,null,null,null,null,null,null,null,{"$f":"AJ4*AK4","v":0},null,{"$f":"AL4*AM4","v":0}]
[]
["UNCONTROLLED_EXPENSES_ADD_RANGE","Неподк. расходы"]
[]
[]
[]
[]
[]
["KEY_RATE_ADD_RANGE","Ключевая ставка ЦБ"]
[]
[]
[null,null,null,null,null,null,null,"Ключевая ставка ЦБ",null,null,null,{"$f":"IF(OR(I15=\"\",K15=\"\"),,(DATEDIF(I15,K15,\"d\"))+1)","v":0}]
[]
[]
[]
[]
[]
[]
[]
[]
[]
[]
[]
[]
[]
[]
[]
[]
[]
[]
[]
[]
[]
[]
[]
[]
[]
[]
[]
[]
[]
[]
[]
[]
[]
[]
[]
[]
[]
[]
[]
[]
[]
[]
[]
[]
[]
[]
[]
[]
[]
[]
[]
[]
[]
[]
[]
[]
[]
[]
["docs_locked_range"]
[null,null,null,{"$f":"ROW(D75)-15","v":60}]
["docs_unlocked_range"]
[]
[]
[]
[]
[null,null,null,null,"1"]
[]
[]
[]
["LIST_MATERIALS_ADD_COSTS_RANGE","12_Сырье и материалы"]
[]
[]
[null,null,null,null,"О","1.1.2",null,null,0,null,null,null,null,null,null,null,null,null,null,null,null,null,null,null,null,null,null,null,null,null,null,{"$f":"AD88*AE88","v":0}]
[null,null,null,null,null,null,null,null,null,null,"Добавить документ"]
[]
["LIST_MATERIALS_ADD_DOC_RANGE","12_Сырье и материалы"]
[]
[]
[null,null,null,null,null,null,null,"О",null,{"$f":"F93&\".\"&I94","v":"."},null,null,0,null,null,null,null,null,null,null,null,null,null,null,null,null,null,null,null,null,null,{"$f":"AD94*AE94","v":0}]
[null,null,null,null,null,null,null,null,null,null,null,null,null,null,"Добавить дополнительное соглашение"]
[]
["LIST_MATERIALS_ADD_DOC_DOP_RANGE","12_Сырье и материалы"]
[]
[]
[]
[null,null,null,null,null,null,null,null,null,null,null,"О",1]
[]
[]
[]
[]
[]
["LIST_RPR_REPAIR_ADD_COSTS_RANGE","13_РПР Ремонт "]
[]
[]
[null,null,null,null,"О",null,null,null,0]
[null,null,null,null,null,null,null,null,null,null,"Добавить документ"]
[]
[]
["LIST_RPR_REPAIR_ADD_DOC_RANGE","13_РПР Ремонт "]
[]
[]
[null,null,null,null,null,null,null,"О",null,{"$f":"F116&\".\"&I117","v":"."},null,null,0]
[null,null,null,null,null,null,null,null,null,null,null,null,null,null,"Добавить дополнительное соглашение"]
["LIST_RPR_REPAIR_ADD_DOC_DOP_RANGE","13_РПР Ремонт "]
[null,null,null,null,null,null,null,null,null,null,null,"О",1]
[]
["LIST_ESX_REPAIR_ADD_RANGE","14_Ремонты ЭСХ"]
[]
[null,null,null,null,"О","1.1"]
[]
[]
["LIST_INFORMATION_TO_ADD_RANGE","15_Информация по ТО"]
[]
[null,null,null,null,"О","1.1"]
[]
[]
["LIST_STAFF_ADD_RANGE","16_Персонал"]
[]
[null,null,null,null,"О","2.11"]
[null,null,null,null,null,null,"процент выплаты","%"]
[null,null,null,null,null,null,"сумма выплат","руб.",null,{"$f":"(J$27*J135/100)","v":0},{"$f":"(K$27*K135/100)","v":0},null,{"$f":"(M$27*M135/100)","v":0},"sum"]
[]
["LIST_PPR_ADD_RANGE","17_ППР"]
[]
[]
[null,null,null,null,"О"]
[]
["LIST_PPR_ADD_OTHER_RANGE","17_ППР"]
[]
[]
[null,null,null,null,"О"]
[]
[]
["LIST_PPR_ADD_RANGE","17_ППР"]
[]
[null,null,null,null,"О",{"$f":"ROW() - ROW(G$22)","v":129}]
[]
[]
["LIST_RENT_ESX_FACT_ADD_RANGE","19_Аренда ЭСХ факт"]
[]
[]
[]
[]
[null,null,null,null,"О",null,null,null,null,null,null,0,"0",null,null,null,null,null,null,null,null,null,null,null,null,null,{"$f":"Z159","v":0},null,null,{"$f":"SUM(AE159:AG159)","v":0},null,null,null,{"$f":"SUMIF('20_Структура потребления факт'!G154:G162,'19_Аренда ЭСХ факт'!G146,'20_Структура потребления факт'!J155:J162)","v":0}]
[null,null,null,null,null,null,null,null,null,null,null,null,null,null,"Добавить дополнительное соглашение"]
[]
["LIST_RENT_ESX_FACT_ADD_DOC_RANGE","19_Аренда ЭСХ факт"]
[]
[]
[null,null,null,null,null,null,null,null,null,null,null,"О"]
[]
[]
["LIST_CONS_STRUCT_FACT_ADD_RANGE",20]
[]
[null,null,null,null,"О","1.1",null,{"$f":"SUM(I170,K170)","v":0},null,{"$f":"IFERROR(I170/H170,0)","v":0}]
[]
[]
[]
["LIST_RENT_ESX_CALC_PLAN_ADD_RANGE","21_Аренда ЭСХ план"]
[]
[null,null,null,null,"О",1,null,null,null,null,null,null,null,null,"0",null,null,null,null,null,null,null,null,null,null,null,null,null,null,{"$f":"SUM(AE176:AG176)","v":0},null,null,null,null,null,null,{"$f":"SUM(AL176:AN176)","v":0}]
[null,null,null,null,null,null,null,null,null,null,null,null,null,null,null,null,"Добавить дополнительное соглашение"]
[]
["LIST_RENT_ESX_PLAN_ADD_RANGE","21_Аренда ЭСХ план"]
[null,null,null,null,"О",1,null,null,null,null,null,null,null,null,"0",null,null,null,null,null,null,null,null,null,null,null,null,{"$f":"AC180","v":0},null,{"$f":"SUM(AE180:AG180)","v":0},null,null,null,null,{"$f":"AJ180","v":0},null,{"$f":"SUM(AL180:AN180)","v":0}]
[null,null,null,null,null,null,null,null,null,null,null,null,null,null,null,null,"Добавить дополнительное соглашение"]
[]
["LIST_RENT_ESX_PLAN_ADD_DOC_RANGE","21_Аренда ЭСХ план"]
[]
[null,null,null,null,null,null,null,null,null,null,null,null,null,"О"]
[]
[]
[]
[]
[]
["LIST_CONS_STRUCT_PLAN_ADD_RANGE",22]
[]
[null,null,null,null,"О",1,null,{"$f":"SUM(I193,K193)","v":0},null,{"$f":"IFERROR(I193/H193,0)","v":0}]
[]
[]
[]
[]
["LIST_LEASING_ESX_FACT_ADD_RANGE","23_Лизинг ЭСХ факт"]
[]
[]
[null,null,null,null,"О",1,null,null,null,null,null,null,null,"0"]
[null,null,null,null,null,null,null,null,null,null,null,null,null,null,null,"Добавить дополнительное соглашение"]
[]
[]
[]
["LIST_LEASING_ESX_FACT_ADD_DOC_RANGE","23_Лизинг ЭСХ факт"]
[]
[null,null,null,null,null,null,null,null,null,null,null,null,"О"]
[]
[]
["LIST_LEASING_ESX_PLAN_ADD_RANGE","24_Лизинг ЭСХ план"]
[]
[]
[null,null,null,null,"О",1,null,null,null,null,null,null,null,"0"]
[null,null,null,null,null,null,null,null,null,null,null,null,null,null,null,"Добавить дополнительное соглашение"]
[]
[]
["LIST_LEASING_ESX_PLAN_ADD_DOC_RANGE","24_Лизинг ЭСХ план"]
[]
[null,null,null,null,null,null,null,null,null,null,null,null,"О"]
[]
["LIST_RENT_OTHER_FACT_ADD_RANGE","25 - Аренда прочее им. факт"]
[null,null,null,null,"О","1.1.1",null,null,null,null,null,null,null,0,null,null,null,null,null,null,null,null,null,null,null,null,null,null,null,null,null,null,{"$f":"SUM(AH223:AJ223)","v":0}]
[null,null,null,null,null,null,null,null,null,null,null,null,null,null,null,"Добавить дополнительное соглашение"]
[]
[]
[]
[]
["LIST_RENT_OTHER_FACT_ADD_DOC_RANGE","25 - Аренда прочее им. факт"]
[null,null,null,null,null,null,null,null,null,null,null,null,"О",null,null,null,null,null,null,null,null,null,null,null,null,null,null,null,null,null,null,null,{"$f":"SUM(AH230:AJ230)","v":0}]
[]
["LIST_RENT_OTHER_PLAN_ADD_DOC_RANGE","26_Аренда прочее им. план "]
[null,null,null,null,null,null,null,null,null,null,null,null,"О",null,null,null,null,null,null,null,null,null,null,null,null,null,{"$f":"SUM(AB233:AD233)","v":0}]
[]
["LIST_RENT_OTHER_PLAN_ADD_RANGE","26_Аренда прочее им. план "]
[null,null,null,null,"О",null,null,null,null,null,null,null,null,0,null,null,null,null,null,null,null,null,null,null,null,null,{"$f":"SUM(AA237:AA238)","v":0},{"$f":"SUM(AB237:AB238)","v":0},{"$f":"SUM(AC237:AC238)","v":0},{"$f":"SUM(AD237:AD238)","v":0}]
[null,null,null,null,null,null,null,null,null,null,null,null,null,0]
[null,null,null,null,null,null,null,null,null,null,null,null,null,null,null,"Добавить дополнительное соглашение"]
[]
[]
[]
["LIST_LEASING_OTHER_FACT_ADD_RANGE","27_Лизинг прочее им. факт"]
[null,null,null,null,"О",null,null,null,null,null,null,null,0]
[null,null,null,null,null,null,null,null,null,null,null,null,null,null,"Добавить дополнительное соглашение"]
[]
["LIST_LEASING_OTHER_FACT_ADD_DOC_RANGE","25 - Аренда прочее им. факт"]
[null,null,null,null,null,null,null,null,null,null,null,"О"]
[]
["LIST_LEASING_OTHER_PLAN_ADD_RANGE","28_Лизинг прочее им. план"]
[null,null,null,null,"О",null,null,null,null,null,null,null,0]
[null,null,null,null,null,null,null,null,null,null,null,null,null,null,"Добавить дополнительное соглашение"]
[]
["LIST_LEASING_OTHER_PLAN_ADD_DOC_RANGE","28_Лизинг прочее им. план"]
[null,null,null,null,null,null,null,null,null,null,null,"О"]
[]
[]
["LIST_RENT_FACT_ADD_RANGE","29_Аренда земли факт"]
[null,null,null,null,"О","3",null,null,null,null,null,null,null,0,0]
[null,null,null,null,null,null,null,null,null,null,null,null,null,null,null,null,"Добавить дополнительное соглашение"]
[]
["LIST_RENT_FACT_ADD_DOC_RANGE","29_Аренда земли факт"]
[null,null,null,null,null,null,null,null,null,null,null,null,null,"О"]
[]
[]
["LIST_RENT_PLAN_ADD_RANGE","29_Аренда земли факт"]
[null,null,null,null,"О","1",null,null,null,null,null,null,null,null,0]
[null,null,null,null,null,null,null,null,null,null,null,null,null,null,null,null,"Добавить дополнительное соглашение"]
[]
["LIST_RENT_PLAN_ADD_DOC_RANGE","29_Аренда земли факт"]
[null,null,null,null,null,null,null,null,null,null,null,null,null,"О"]
[]
["LIST_NPR_ADD_DOC_RANGE","31 - НПР"]
[null,null,null,null,null,"О"]
[]
[]
["LIST_NPR_ADD_RANGE","31 - НПР"]
[]
[null,null,"О",null,null,null,0,null,null,null,null,null,null,null,null,null,null,0]
[null,null,null,null,null,null,null,null,"Добавить затраты"]
[]
[]
["LIST_LT_ADD_RANGE","8_Расчет НВВ "]
[]
[null,null,null,null,"О","5.4.1",null,"тыс.руб.",null,null,{"$f":"J284-I284","v":0},null,{"$f":"L284-J284","v":0},null,null,null,null,null,{"$f":"Q284-R284","v":0},null,null,{"$f":"T284-U284","v":0}]
[]
[]
["LIST_CALC_AMORT_FACT_ADD_RANGE","32 - Расчет амортизации факт"]
[]
[null,null,null,null,"О","13",null,null,null,{"$f":"IF(K289=\"Прочее не ЭСХ\",\"Прочее\",\"ЭСХ\"&L289)","v":"ЭСХ"},null,null,null,null,null,null,null,null,null,null,null,null,null,null,null,null,null,null,null,null,null,null,null,null,null,null,null,{"$f":"AJ289*AK289","v":0},null,{"$f":"AL289*AM289","v":0}]
["LIST_CALC_AMORT_FACT_MAX_ADD_RANGE","32 - Расчет амортизации факт"]
[]
[null,null,null,null,null,"13",null,null,null,{"$f":"IF(K292=\"Прочее НЕ ЭСХ\",\"Прочее\",\"ЭСХ\"&L292)","v":"ЭСХ"},null,null,null,null,null,null,null,null,{"$f":"R292-T292","v":0},null,{"$f":"IFERROR(ROUND(T292/Y292,0),0)","v":0},null,null,null,{"$f":"IFERROR(P292+V292-W292/Q292,0)","v":0},{"$f":"IF(T292*12=0,0,Y292*(12-MONTH(O292)))","v":0},null,null,{"$f":"AA292*AB292","v":0},null,null,{"$f":"IFERROR(ROUND(AE292/Y292,0),0)","v":0},null,null,null,{"$f":"(T292+AE292)/2","v":0},null,{"$f":"AJ292*AK292","v":0},null,{"$f":"AL292*AM292","v":0}]
["LIST_LOSSES_ADD_RANGE","37_Факт потери"]
[null,null,null,null,"О",4,null,null,null,{"$f":"IF(K294=\"Прочее не ЭСХ\",\"Прочее\",\"ЭСХ\"&L294)","v":"ЭСХ"},null,null,null,null,null,null,null,null,null,null,null,null,null,null,null,null,null,null,null,null,null,{"$f":"AG294*AH294","v":0},null,{"$f":"AI294*AJ294","v":0},null,null,{"$f":"AG294*AL294","v":0},{"$f":"AM294*AN294","v":0},null,null,1]
[]
[]
[]
[null,null,null,1,"О",{"$f":"D298&\".1\"","v":"1.1"},null,null,"январь",null,{"$f":"SUM(L298:M298)","v":0},null,null,null,null,{"$f":"IFERROR(SUM(L298*N298,M298*O298)/SUM(L298:M298),0)","v":0},{"$f":"L298*N298+M298*O298","v":0}]
[null,null,null,null,null,{"$f":"D298&\".2\"","v":"1.2"},null,null,"февраль",null,0,null,null,null,null,0,0]
[null,null,null,null,null,{"$f":"D298&\".3\"","v":"1.3"},null,null,"март",null,0,null,null,null,null,0,0]
[null,null,null,null,null,{"$f":"D298&\".4\"","v":"1.4"},null,null,"апрель",null,0,null,null,null,null,0,0]
[null,null,null,null,null,{"$f":"D298&\".5\"","v":"1.5"},null,null,"май",null,0,null,null,null,null,0,0]
[null,null,null,null,null,{"$f":"D298&\".6\"","v":"1.6"},null,null,"июнь",null,0,null,null,null,null,0,0]
[]
[]
[null,null,null,null,null,{"$f":"D298&\".7\"","v":"1.7"},null,null,"июль",null,0,null,null,null,null,0,{"$f":"L306*N306+M306*O306","v":0},null,null,null,null," "]
[null,null,null,null,null,{"$f":"D298&\".8\"","v":"1.8"},null,null,"август",null,0,null,null,null,null,0,0]
[null,null,null,null,null,{"$f":"D298&\".9\"","v":"1.9"},null,null,"сентябрь",null,0,null,null,null,null,0,0]
[null,null,null,null,null,{"$f":"D298&\".10\"","v":"1.10"},null,null,"октябрь",null,0,null,null,null,null,0,0]
[null,null,null,null,null,{"$f":"D298&\".11\"","v":"1.11"},null,null,"ноябрь",null,0,null,null,null,null,0,0]
[null,null,null,null,null,{"$f":"D298&\".12\"","v":"1.12"},null,null,"декабрь",null,{"$f":"SUM(L311:M311)","v":0},null,null,null,null,0,0]
[null,null,null,null,null,{"$f":"D298&\".13\"","v":"1.13"},null,null,"1 полугодие",null,{"$f":"SUM(L312:M312)","v":0},{"$f":"SUM(L298:L303)","v":0},{"$f":"SUM(M298:M303)","v":0},{"$f":"IFERROR(SUMPRODUCT(L298:L303,N298:N303)/SUM(L298:L303),0)","v":0},{"$f":"IFERROR(SUMPRODUCT(M298:M303,O298:O303)/SUM(M298:M303),0)","v":0},{"$f":"IFERROR(SUMPRODUCT(K298:K303,P298:P303)/SUM(K298:K303),0)","v":0},{"$f":"SUM(Q298:Q303)","v":0}]
[null,null,null,null,null,{"$f":"D298&\".14\"","v":"1.14"},null,null,"2 полугодие",null,{"$f":"SUM(L313:M313)","v":0},{"$f":"SUM(L306:L311)","v":0},{"$f":"SUM(M306:M311)","v":0},{"$f":"IFERROR(SUMPRODUCT(L306:L311,N306:N311)/SUM(L306:L311),0)","v":0},{"$f":"IFERROR(SUMPRODUCT(M306:M311,O306:O311)/SUM(M306:M311),0)","v":0},{"$f":"IFERROR(SUMPRODUCT(K306:K311,P306:P311)/SUM(K306:K311),0)","v":0},{"$f":"SUM(Q306:Q311)","v":0}]
[null,null,null,null,null,{"$f":"D298&\".15\"","v":"1.15"},null,null,{"$f":"god-2&\" год\"","v":"-2 год"},null,{"$f":"SUM(L314:M314)","v":0},{"$f":"L312+L313","v":0},{"$f":"M312+M313","v":0},{"$f":"IFERROR(SUMPRODUCT(L298:L311,N298:N311)/SUM(L298:L311),0)","v":0},{"$f":"IFERROR(SUMPRODUCT(M298:M311,O298:O311)/SUM(M298:M311),0)","v":0},{"$f":"IFERROR(SUMPRODUCT(K298:K311,P298:P311)/SUM(K298:K311),0)","v":0},{"$f":"Q312+Q313","v":0}]
[]
[]
[]
["LIST_PROCEEDS_FACT_ADD_DOC_RANGE","38_товарная выручка факт"]
[]
[]
[null,null,null,null,null,null,null,null,null,null,"О"]
[]
[]
[]
["LIST_PROCEEDS_FACT_ADD_RANGE","38_товарная выручка факт"]
[]
[null,null,null,null,"О",null,null,null,null,"январь",null,null,null,null,{"$f":"SUM(O328:O329)","v":0},{"$f":"SUM(P328:P329)","v":0},null,{"$f":"SUM(R328:R329)","v":0},{"$f":"SUM(S328:S329)","v":0},{"$f":"SUM(T328:T329)","v":0},{"$f":"SUM(U328:U329)","v":0}]
[null,null,null,null,null,null,null,null,null,null,null,0]
[null,null,null,null,null,null,null,null,null,null,null,null,null,"Добавить акт"]
[null,null,null,null,null,null,null,null,null,"февраль",null,null,null,null,{"$f":"SUM(O331:O332)","v":0},{"$f":"SUM(P331:P332)","v":0},null,{"$f":"SUM(R331:R332)","v":0},{"$f":"SUM(S331:S332)","v":0},{"$f":"SUM(T331:T332)","v":0},{"$f":"SUM(U331:U332)","v":0}]
[null,null,null,null,null,null,null,null,null,null,null,0]
[null,null,null,null,null,null,null,null,null,null,null,null,null,"Добавить акт"]
[null,null,null,null,null,null,null,null,null,"март",null,null,null,null,{"$f":"SUM(O334:O335)","v":0},{"$f":"SUM(P334:P335)","v":0},null,{"$f":"SUM(R334:R335)","v":0},{"$f":"SUM(S334:S335)","v":0},{"$f":"SUM(T334:T335)","v":0},{"$f":"SUM(U334:U335)","v":0}]
[null,null,null,null,null,null,null,null,null,null,null,0]
[null,null,null,null,null,null,null,null,null,null,null,null,null,"Добавить акт"]
[null,null,null,null,null,null,null,null,null,"апрель",null,null,null,null,{"$f":"SUM(O337:O338)","v":0},{"$f":"SUM(P337:P338)","v":0},null,{"$f":"SUM(R337:R338)","v":0},{"$f":"SUM(S337:S338)","v":0},{"$f":"SUM(T337:T338)","v":0},{"$f":"SUM(U337:U338)","v":0}]
[null,null,null,null,null,null,null,null,null,null,null,0]
[null,null,null,null,null,null,null,null,null,null,null,null,null,"Добавить акт"]
[null,null,null,null,null,null,null,null,null,"май",null,null,null,null,{"$f":"SUM(O340:O341)","v":0},{"$f":"SUM(P340:P341)","v":0},null,{"$f":"SUM(R340:R341)","v":0},{"$f":"SUM(S340:S341)","v":0},{"$f":"SUM(T340:T341)","v":0},{"$f":"SUM(U340:U341)","v":0}]
[null,null,null,null,null,null,null,null,null,null,null,0]
[null,null,null,null,null,null,null,null,null,null,null,null,null,"Добавить акт"]
[null,null,null,null,null,null,null,null,null,"июнь",null,null,null,null,{"$f":"SUM(O343:O344)","v":0},{"$f":"SUM(P343:P344)","v":0},null,{"$f":"SUM(R343:R344)","v":0},{"$f":"SUM(S343:S344)","v":0},{"$f":"SUM(T343:T344)","v":0},{"$f":"SUM(U343:U344)","v":0}]
[null,null,null,null,null,null,null,null,null,null,null,0]
[null,null,null,null,null,null,null,null,null,null,null,null,null,"Добавить акт"]
[null,null,null,null,null,null,null,null,null,"июль",null,null,null,null,{"$f":"SUM(O346:O347)","v":0},{"$f":"SUM(P346:P347)","v":0},null,{"$f":"SUM(R346:R347)","v":0},{"$f":"SUM(S346:S347)","v":0},{"$f":"SUM(T346:T347)","v":0},{"$f":"SUM(U346:U347)","v":0}]
[null,null,null,null,null,null,null,null,null,null,null,0]
[null,null,null,null,null,null,null,null,null,null,null,null,null,"Добавить акт"]
[null,null,null,null,null,null,null,null,null,"август",null,null,null,null,{"$f":"SUM(O349:O350)","v":0},{"$f":"SUM(P349:P350)","v":0},null,{"$f":"SUM(R349:R350)","v":0},{"$f":"SUM(S349:S350)","v":0},{"$f":"SUM(T349:T350)","v":0},{"$f":"SUM(U349:U350)","v":0}]
[null,null,null,null,null,null,null,null,null,null,null,0]
[null,null,null,null,null,null,null,null,null,null,null,null,null,"Добавить акт"]
[null,null,null,null,null,null,null,null,null,"сентябрь",null,null,null,null,{"$f":"SUM(O352:O353)","v":0},{"$f":"SUM(P352:P353)","v":0},null,{"$f":"SUM(R352:R353)","v":0},{"$f":"SUM(S352:S353)","v":0},{"$f":"SUM(T352:T353)","v":0},{"$f":"SUM(U352:U353)","v":0}]
[null,null,null,null,null,null,null,null,null,null,null,0]
[null,null,null,null,null,null,null,null,null,null,null,null,null,"Добавить акт"]
[null,null,null,null,null,null,null,null,null,"октябрь",null,null,null,null,{"$f":"SUM(O355:O356)","v":0},{"$f":"SUM(P355:P356)","v":0},null,{"$f":"SUM(R355:R356)","v":0},{"$f":"SUM(S355:S356)","v":0},{"$f":"SUM(T355:T356)","v":0},{"$f":"SUM(U355:U356)","v":0}]
[null,null,null,null,null,null,null,null,null,null,null,0]
[null,null,null,null,null,null,null,null,null,null,null,null,null,"Добавить акт"]
[null,null,null,null,null,null,null,null,null,"ноябрь",null,null,null,null,{"$f":"SUM(O358:O359)","v":0},{"$f":"SUM(P358:P359)","v":0},null,{"$f":"SUM(R358:R359)","v":0},{"$f":"SUM(S358:S359)","v":0},{"$f":"SUM(T358:T359)","v":0},{"$f":"SUM(U358:U359)","v":0}]
[null,null,null,null,null,null,null,null,null,null,null,0]
[null,null,null,null,null,null,null,null,null,null,null,null,null,"Добавить акт"]
[null,null,null,null,null,null,null,null,null,"декабрь",null,null,null,null,{"$f":"SUM(O361:O362)","v":0},{"$f":"SUM(P361:P362)","v":0},null,{"$f":"SUM(R361:R362)","v":0},{"$f":"SUM(S361:S362)","v":0},{"$f":"SUM(T361:T362)","v":0},{"$f":"SUM(U361:U362)","v":0}]
[null,null,null,null,null,null,null,null,null,null,null,0]
[null,null,null,null,null,null,null,null,null,null,null,null,null,"Добавить акт"]
[null,null,null,null,null,null,null,null,null,"Итого по договору 1 полугодие",null,null,null,null,{"$f":"SUM(O327,O330,O333,O336,O339,O342)","v":0},{"$f":"SUM(P327,P330,P333,P336,P339,P342)","v":0},{"$f":"SUM(Q327:Q344)","v":0},{"$f":"SUM(R327,R330,R333,R336,R339,R342)","v":0},{"$f":"SUM(S327,S330,S333,S336,S339,S342)","v":0},{"$f":"SUM(T327,T330,T333,T336,T339,T342)","v":0},{"$f":"SUM(U327,U330,U333,U336,U339,U342)","v":0}]
[null,null,null,null,null,null,null,null,null,"Итого по договору 2 полугодие",null,null,null,null,{"$f":"SUM(O360,O357,O354,O351,O348,O345)","v":0},{"$f":"SUM(P360,P357,P354,P351,P348,P345)","v":0},{"$f":"SUM(Q345:Q362)","v":0},{"$f":"SUM(R360,R357,R354,R351,R348,R345)","v":0},{"$f":"SUM(S360,S357,S354,S351,S348,S345)","v":0},{"$f":"SUM(T360,T357,T354,T351,T348,T345)","v":0},{"$f":"SUM(U360,U357,U354,U351,U348,U345)","v":0}]
[null,null,null,null,null,null,null,null,null,"Итого по договору",null,null,null,null,{"$f":"O364+O363","v":0},{"$f":"P364+P363","v":0},{"$f":"Q363+Q364","v":0},{"$f":"R364+R363","v":0},{"$f":"S364+S363","v":0},{"$f":"T364+T363","v":0},{"$f":"U364+U363","v":0}]
[]
[]
[]
[]
[]
[]
[]
["LIST_NO_CONTRACT_ADD_RANGE","41_Бездоговор"]
[null,null,null,null,"О",null,null,null,null,null,null,null,null,null,{"$f":"+J374*(K374-M374-N374)","v":0}]
[]
["LIST_CREDIT_ADD_RANGE","44_кредиты"]
[]
[]
[null,null,null,null,"О","2.1",null,null,null,null,null,null,null,null,{"$f":"K379+M379-N379","v":0}]
[]
[]
["LIST_CREDIT_ADD_RANGE","44_кредиты"]
[]
[]
[null,null,null,null,"О","2.1",null,null,null,null,null,null,null,null,null,{"$f":"L385+N385-O385","v":0}]
[]
["LIST_PROFIT_ADD_RANGE","44_кредиты"]
[null,null,null,null,"О","1.1"]
[]
[]
[]
["DOC_ADD_RANGE_BLOCK\n","Настройка документов"]
[]
[null,null,null,null,null,null,null,""]
[]
[]
[]
[null,null,null,null,"О","1.15"]
[]
[]
["DOC_ADD_RANGE_LINK\nADD_PP_ENTRY","Настройка документов"]
[]
[null,null,null,null,null,null,null,null,"О"]

{"sheet":"45_НВВ РСК","index":100,"n_rows":74,"n_cols":19,"rows_kept":74,"cut":false,"hidden":true,"merged":[[5,4,5,5],[6,4,6,5],[0,4,0,5],[1,4,1,5],[2,4,2,5],[3,4,3,5],[4,4,4,5],[27,4,27,6],[50,4,50,6],[9,13,10,15],[9,16,10,18],[7,4,7,6],[9,7,10,9],[9,10,10,12],[9,4,12,4],[9,5,12,5],[9,6,12,6]]}
[null,null,null,null,"Список листов",null,null,null,null,null,null,null,null,null,null,null,{"$f":"IFERROR(IF(REPORT_OWNER=\"Версия организации\",\"HIDDEN\",\"VISIBLE\"),0)","v":"HIDDEN"},{"$f":"IFERROR(IF(REPORT_OWNER=\"Версия организации\",\"HIDDEN\",\"VISIBLE\"),0)","v":"HIDDEN"},{"$f":"IFERROR(IF(REPORT_OWNER=\"Версия организации\",\"HIDDEN\",\"VISIBLE\"),0)","v":"HIDDEN"}]
[null,null,null,null,"Список листов"]
[null,null,null,null,"Список листов"]
[null,null,null,null,"Список листов"]
[null,null,null,null,"Список листов"]
[null,null,null,null,"Список листов"]
[null,null,null,null,"Список листов"]
[null,null,null,null,"Затраты сетевых организаций в 2020 году"]
[]
[null,null,null,null,"№ п/п","Наименование показателя","Ед. изм.",{"$f":"\"Утверждено версия ТСО \"&god-1","v":"Утверждено версия ТСО -1"},null,null,{"$f":"\"МИН \"&god","v":"МИН "},null,null,{"$f":"\"МАКС \"&god","v":"МАКС "},null,null,{"$f":"\"План версия регулятора на \"&Титульный!E23&\" год\"","v":"План версия регулятора на  год"}]
[]
[]
[null,null,null,null,null,null,null,"1 полугодие","2 полугодие","год","1 полугодие","2 полугодие","год","1 полугодие","2 полугодие","год","1 полугодие","2 полугодие","год"]
[null,null,null,null,null,"Коэффициент деления по полугодиям","%",{"$f":"'9 Тариф'!L41","v":0.5},{"$f":"'9 Тариф'!M41","v":0.5},{"$f":"'9 Тариф'!K41","v":1},null,null,null,{"$f":"H14","v":0.5},{"$f":"I14","v":0.5},{"$f":"J14","v":1},{"$f":"'9 Тариф'!Q41","v":0},{"$f":"S14-Q14","v":1},1]
[null,null,null,null,null,"Индекс потребительских цен (ИПЦ) ","%",{"$f":"J15","v":0},{"$f":"J15","v":0},{"$f":"'8_Расчет НВВ '!N25","v":0},null,null,{"$f":"'8_Расчет НВВ '!N25","v":0},null,null,{"$f":"M15","v":0},null,null,{"$f":"P15","v":0}]
[null,null,null,null,"1","Покупная энергия на компенсацию потерь без учета потерь ФСК","тыс.руб",{"$f":"H18*H19*10","v":0},{"$f":"I18*I19*10","v":0},{"$f":"J18*J19*10","v":0},{"$f":"K18*K19*10","v":0},0,0,0,0,{"$f":"P18*P19*10","v":0},0,0,{"$f":"S18*S19*10","v":0}]
[null,null,null,null,"1.1","Поступление в сеть","млн.кВт.ч",{"$f":"'9 Тариф'!L18","v":0},null,null,{"$f":"H17","v":0},0,null,{"$f":"P17*N$14","v":0},{"$f":"P17*O$14","v":0},{"$f":"'9 Тариф'!N18","v":0},{"$f":"'9 Тариф'!Q18","v":0},{"$f":"'9 Тариф'!R18","v":0},{"$f":"'9 Тариф'!P18","v":0}]
[null,null,null,null,"1.2","объем потерь в сетях ","млн.кВт.ч",null,null,null,0,0,null,{"$f":"P18*N$14","v":0},{"$f":"P18*O$14","v":0},{"$f":"'9 Тариф'!N20","v":0},{"$f":"'9 Тариф'!Q20","v":0},{"$f":"'9 Тариф'!R20","v":0},{"$f":"'9 Тариф'!P20","v":0}]
[null,null,null,null,"1.3","тариф покупки","коп/кВт.ч",null,null,null,0,0,null,{"$f":"P19","v":0},{"$f":"P19","v":0},{"$f":"'9 Тариф'!N44/10000","v":0},{"$f":"'9 Тариф'!Q44/1000","v":0},{"$f":"'9 Тариф'!R44/1000","v":0},{"$f":"'9 Тариф'!P44/10000","v":0}]
[null,null,null,null,"2","Плата ФСК","тыс.руб",{"$f":"H21+H24","v":0},{"$f":"I21+I24","v":0},{"$f":"I20+H20","v":0},{"$f":"K21+K24","v":0},0,{"$f":"L20+K20","v":0},{"$f":"N21+N24","v":0},0,{"$f":"O20+N20","v":0},0,0,{"$f":"R20+Q20","v":0}]
[null,null,null,null,"2.1","Содержание сетей ФСК","тыс.руб",{"$f":"'18_ФСК'!M22","v":0},{"$f":"'18_ФСК'!M25","v":0},{"$f":"I21+H21","v":0},{"$f":"H21*(1+$M$15)","v":0},{"$f":"I21*(1+$M$15)","v":0},{"$f":"L21+K21","v":0},{"$f":"'18_ФСК'!N22","v":0},{"$f":"'18_ФСК'!N25","v":0},{"$f":"O21+N21","v":0},{"$f":"'18_ФСК'!O22","v":0},{"$f":"'18_ФСК'!O25","v":0},{"$f":"R21+Q21","v":0}]
[null,null,null,null,"2.1.1","Заявленная мощность к сетям ФСК","МВт",{"$f":"'18_ФСК'!M23","v":0},{"$f":"'18_ФСК'!M26","v":0},null,null,null,null,{"$f":"'18_ФСК'!N23","v":0},{"$f":"'18_ФСК'!N26","v":0},null,{"$f":"'18_ФСК'!O23","v":0},{"$f":"'18_ФСК'!O26","v":0}]
[null,null,null,null,"2.1.2","Тариф на содержание сетей ФСК","руб.Мвт в месяц",{"$f":"nerr(H21/H22/6*1000)","v":0},{"$f":"nerr(I21/I22/6*1000)","v":0},null,{"$f":"IF(K22/6*1000=0,0,K21/K22/6*1000)","v":0},{"$f":"IF(L22/6*1000=0,0,L21/L22/6*1000)","v":0},null,{"$f":"IF(N22/6*1000=0,0,N21/N22/6*1000)","v":0},{"$f":"IF(O22/6*1000=0,0,O21/O22/6*1000)","v":0},null,{"$f":"nerr(Q21/Q22/6*1000)","v":0},{"$f":"nerr(R21/R22/6*1000)","v":0}]
[null,null,null,null,"2.2","Стоимость потерь в сетях ФСК","тыс.руб",{"$f":"H25*H26*10","v":0},{"$f":"I25*I26*10","v":0},{"$f":"I24+H24","v":0},{"$f":"K25*K26*10","v":0},{"$f":"L25*L26*10","v":0},{"$f":"L24+K24","v":0},{"$f":"N25*N26*10","v":0},{"$f":"O25*O26*10","v":0},{"$f":"O24+N24","v":0},{"$f":"Q25*Q26*10","v":0},{"$f":"R25*R26*10","v":0},{"$f":"R24+Q24","v":0}]
[null,null,null,null,"2.2.1","объем потерь в сетях ФСК","млн.кВт.ч",{"$f":"'18_ФСК'!M30","v":0},{"$f":"'18_ФСК'!M35","v":0},null,{"$f":"H25","v":0},{"$f":"I25","v":0},null,{"$f":"'18_ФСК'!N30","v":0},{"$f":"'18_ФСК'!O35","v":0},null,{"$f":"'18_ФСК'!O30","v":0},{"$f":"'18_ФСК'!O35","v":0}]
[null,null,null,null,"2.2.2","тариф покупки потерь","коп/кВт.ч",{"$f":"IF(H25=0,0,H27/10/H25)","v":0},{"$f":"IF(I25=0,0,I27/10/I25)","v":0},{"$f":"I26+H26","v":0},{"$f":"IF(K25=0,0,K27/10/K25)","v":0},{"$f":"IF(L25=0,0,L27/10/L25)","v":0},{"$f":"L26+K26","v":0},{"$f":"'18_ФСК'!N33/10000","v":0},{"$f":"'18_ФСК'!O38/10000","v":0},{"$f":"O26+N26","v":0},{"$f":"'18_ФСК'!O33/10000","v":0},{"$f":"'18_ФСК'!O38/10000","v":0},{"$f":"R26+Q26","v":0}]
[null,null,null,null,"2.2.3","проверка стоимость потерь в сетях ФСК","тыс.руб",{"$f":"'18_ФСК'!M29","v":0},{"$f":"'18_ФСК'!M34","v":0},null,{"$f":"H27*(1+$M$15)","v":0},{"$f":"I27*(1+$M$15)","v":0}]
[null,null,null,null," С п.п.3 по 15 заполняется по организациям регулируемым по методу экономически обоснованных расходов и по методу индексации на 1 год"]
[null,null,null,null,"3","Энергия на хозяйственные нужды","тыс.руб",{"$f":"J29*H$14","v":0},{"$f":"J29*I$14","v":0},{"$f":"IF(REGULATION_METHODS=\"Затраты+\",'8_Расчет НВВ '!O53,0)","v":0},{"$f":"H29*(1+$M$15)","v":0},0,null,{"$f":"P29*N$14","v":0},{"$f":"P29*O$14","v":0},{"$f":"IF(REGULATION_METHODS=\"Затраты+\",'8_Расчет НВВ '!P53,0)","v":0},{"$f":"S29*Q$14","v":0},{"$f":"S29*R$14","v":0},{"$f":"IF(REGULATION_METHODS=\"Затраты+\",'8_Расчет НВВ '!T53,0)","v":0}]
[null,null,null,null,"4","Затраты на оплату труда","тыс.руб",0,0,{"$f":"IF(REGULATION_METHODS=\"Затраты+\",'8_Расчет НВВ '!O38,0)","v":0},0,0,null,{"$f":"P30*N$14","v":0},{"$f":"P30*O$14","v":0},{"$f":"IF(REGULATION_METHODS=\"Затраты+\",'8_Расчет НВВ '!P38,0)","v":0},{"$f":"S30*Q$14","v":0},{"$f":"S30*R$14","v":0},{"$f":"IF(REGULATION_METHODS=\"Затраты+\",'8_Расчет НВВ '!T38,0)","v":0}]
[null,null,null,null,"4.1","на ремонтную программу","тыс.руб",0,0,null,0,0]
[null,null,null,null,"5","Отчисления на социальные нужды","тыс.руб",0,0,{"$f":"IF(REGULATION_METHODS=\"Затраты+\",'8_Расчет НВВ '!O81,0)","v":0},0,0,null,{"$f":"P32*N$14","v":0},{"$f":"P32*O$14","v":0},{"$f":"IF(REGULATION_METHODS=\"Затраты+\",'8_Расчет НВВ '!P81,0)","v":0},{"$f":"S32*Q14","v":0},{"$f":"S32*R14","v":0},{"$f":"IF(REGULATION_METHODS=\"Затраты+\",'8_Расчет НВВ '!T81,0)","v":0}]
[null,null,null,null,"5.1","на ремонтную программу","тыс.руб",0,0,null,0,0]
[null,null,null,null,"6","Амортизация основных фондов","тыс.руб",0,0,{"$f":"IF(REGULATION_METHODS=\"Затраты+\",'8_Расчет НВВ '!O90,0)","v":0},0,0,null,{"$f":"P34*N$14","v":0},{"$f":"P34*O$14","v":0},{"$f":"IF(REGULATION_METHODS=\"Затраты+\",'8_Расчет НВВ '!P90,0)","v":0},{"$f":"S34*Q$14","v":0},{"$f":"S34*R$14","v":0},{"$f":"IF(REGULATION_METHODS=\"Затраты+\",'8_Расчет НВВ '!T90,0)","v":0}]
[null,null,null,null,"7","Прочие затраты всего","тыс.руб",0,0,{"$f":"J36+J37","v":0},{"$f":"K36+K37","v":0},{"$f":"L36+L37","v":0},null,{"$f":"N36+N37","v":0},{"$f":"O36+O37","v":0},{"$f":"P36+P37","v":0},{"$f":"S35*Q$14","v":0},{"$f":"S35*R$14","v":0},{"$f":"S36+S37","v":0}]
[null,null,null,null,"7.1","Ремонтная программа, кроме оплаты труда и отчислений на социальные нужды","тыс.руб",0,0,{"$f":"IF(REGULATION_METHODS=\"Затраты+\",'8_Расчет НВВ '!O40,0)","v":0},{"$f":"H36*(1+$M$15)","v":0},{"$f":"I36*(1+$M$15)","v":0},null,{"$f":"P36*N$14","v":0},{"$f":"P36*O$14","v":0},{"$f":"IF(REGULATION_METHODS=\"Затраты+\",'8_Расчет НВВ '!P40,0)","v":0},{"$f":"S36*Q$14","v":0},{"$f":"S36*R$14","v":0},{"$f":"IF(REGULATION_METHODS=\"Затраты+\",'8_Расчет НВВ '!T40,0)","v":0}]
[null,null,null,null,"7.2","Другие затраты, относимые на себестоимость продукции, всего","тыс.руб",{"$f":"($J37+J20)*H$14-H20","v":0},{"$f":"($J37+J20)*I$14-I20","v":0},{"$f":"IF(REGULATION_METHODS=\"Затраты+\",'8_Расчет НВВ '!O64+'8_Расчет НВВ '!O93-J34-J32-J30-J29-J36+'8_Расчет НВВ '!O95+'8_Расчет НВВ '!O108-'8_Расчет НВВ '!O109-J46-J48-J49-J20,0)","v":0},{"$f":"H37*(1+$M$15)","v":0},{"$f":"I37*(1+$M$15)","v":0},null,{"$f":"IF(REGULATION_METHODS=\"Затраты+\",($P37+P20)*N$14-N20,0)","v":0},{"$f":"IF(REGULATION_METHODS=\"Затраты+\",($P37+P20)*O$14-O20,)","v":0},{"$f":"IF(REGULATION_METHODS=\"Затраты+\",'8_Расчет НВВ '!P64+'8_Расчет НВВ '!P93-P34-P32-P30-P29-P36+'8_Расчет НВВ '!P95+'8_Расчет НВВ '!P108-'8_Расчет НВВ '!P109-P46-P48-P49-P20,0)","v":0},{"$f":"IF(REGULATION_METHODS=\"Затраты+\",($S37+S20)*Q$14-Q20,0)","v":0},{"$f":"IF(REGULATION_METHODS=\"Затраты+\",($S37+S20)*R$14-R20,0)","v":0},{"$f":"IF(REGULATION_METHODS=\"Затраты+\",'8_Расчет НВВ '!Q64+'8_Расчет НВВ '!Q93-S34-S32-S30-S29-S36+'8_Расчет НВВ '!Q95+'8_Расчет НВВ '!Q108-'8_Расчет НВВ '!Q109-S46-S48-S49-S20,0)","v":0}]
[]
[null,null,null,null,"8","Итого затрат по организации регулируемой по методу экономически обоснованных расходов или по методу индексации на 1 год","тыс.руб",{"$f":"H29+H30+H32+H34+H35","v":0},{"$f":"I29+I30+I32+I34+I35","v":0},{"$f":"J29+J30+J32+J34+J35","v":0},{"$f":"K29+K30+K32+K34+K35","v":0},{"$f":"L29+L30+L32+L34+L35","v":0},null,{"$f":"N29+N30+N32+N34+N35","v":0},0,0,0,0,0]
[null,null,null,null,"9","Недополученный по независящим причинам доход","тыс.руб",{"$f":"J40*H$14","v":0},{"$f":"J40*I$14","v":0},{"$f":"IF(REGULATION_METHODS=\"Затраты+\",IF('8_Расчет НВВ '!O109>0,'8_Расчет НВВ '!O109,0),0)","v":0},{"$f":"H40*(1+$M$15)","v":0},{"$f":"I40*(1+$M$15)","v":0},null,{"$f":"P40*N$14","v":0},{"$f":"P40*O$14","v":0},{"$f":"IF('8_Расчет НВВ '!P109>0,'8_Расчет НВВ '!P109,0)","v":0},{"$f":"S40*Q$14","v":0},{"$f":"S40*R$14","v":0},{"$f":"IF(REGULATION_METHODS=\"Затраты+\",IF('8_Расчет НВВ '!T109>0,'8_Расчет НВВ '!T109,0),0)","v":0}]
[null,null,null,null,"9.1","потери по нерегулируемым ценам","тыс.руб",{"$f":"J41*H$14","v":0},{"$f":"J41*I$14","v":0},null,{"$f":"H41*(1+$M$15)","v":0},0]
[null,null,null,null,"9.2","льготное технологическое присоединение","тыс.руб",{"$f":"J42*H$14","v":0},{"$f":"J42*I$14","v":0},{"$f":"IF(REGULATION_METHODS=\"Затраты+\",'8_Расчет НВВ '!O89,0)","v":0},0,0,null,{"$f":"P42*N$14","v":0},{"$f":"P42*O$14","v":0},{"$f":"IF(REGULATION_METHODS=\"Затраты+\",'8_Расчет НВВ '!P89,0)","v":0},{"$f":"S42*Q$14","v":0},{"$f":"S42*R$14","v":0},{"$f":"IF(REGULATION_METHODS=\"Затраты+\",'8_Расчет НВВ '!T89,0)","v":0}]
[null,null,null,null,"10","Избыток средств, полученный в предыдущем периоде регулирования","тыс.руб",{"$f":"J43*H$14","v":0},{"$f":"J43*I$14","v":0},{"$f":"IF(REGULATION_METHODS=\"Затраты+\",IF('8_Расчет НВВ '!O109<0,'8_Расчет НВВ '!O109,0)+'8_Расчет НВВ '!O108,0)","v":0},0,0,null,{"$f":"P43*N$14","v":0},{"$f":"P43*O$14","v":0},{"$f":"IF(REGULATION_METHODS=\"Затраты+\",IF('8_Расчет НВВ '!P109<0,'8_Расчет НВВ '!P109,0)+'8_Расчет НВВ '!P108,0)","v":0},{"$f":"S43*Q$14","v":0},{"$f":"S43*R$14","v":0},{"$f":"IF(REGULATION_METHODS=\"Затраты+\",IF('8_Расчет НВВ '!T109<0,'8_Расчет НВВ '!T109,0)+'8_Расчет НВВ '!T108,0)","v":0}]
[null,null,null,null,"11","Себестоимость товарной продукции по организации регулируемой по методу экономически обоснованных расходов или по методу индексации на 1 год","тыс.руб",{"$f":"H39+H40-H43","v":0},{"$f":"I39+I40-I43","v":0},{"$f":"J39+J40-J43","v":0},{"$f":"K39+K40-K43","v":0},{"$f":"L39+L40-L43","v":0},null,{"$f":"N39+N40-N43","v":0},0,0,0,0,0]
[]
[null,null,null,null,"12","Прибыль на развитие производства","тыс.руб",{"$f":"J46*H$14","v":0},{"$f":"J46*I$14","v":0},{"$f":"J47","v":0},{"$f":"H46*(1+$M$15)","v":0},{"$f":"I46*(1+$M$15)","v":0},null,{"$f":"P46*N$14","v":0},{"$f":"P46*O$14","v":0},{"$f":"P47","v":0},{"$f":"Q47","v":0},{"$f":"R47","v":0},{"$f":"S47","v":0}]
[null,null,null,null,"12.1","капитальные вложения (без учета налогов)","тыс.руб",{"$f":"J47*H$14","v":0},{"$f":"J47*I$14","v":0},{"$f":"IF(REGULATION_METHODS=\"Затраты+\",'36_Прибыль'!K36,0)","v":0},{"$f":"H47*(1+$M$15)","v":0},0,null,{"$f":"P47*N$14","v":0},{"$f":"P47*O$14","v":0},{"$f":"IF(REGULATION_METHODS=\"Затраты+\",'36_Прибыль'!L36,0)","v":0},{"$f":"S47*Q$14","v":0},{"$f":"S47*R$14","v":0},{"$f":"IF(REGULATION_METHODS=\"Затраты+\",'36_Прибыль'!M36,0)","v":0}]
[null,null,null,null,"13","Прибыль на прочие цели","тыс.руб",{"$f":"J48*H$14","v":0},{"$f":"J48*I$14","v":0},{"$f":"IF(REGULATION_METHODS=\"Затраты+\",'8_Расчет НВВ '!O57,0)","v":0},0,0,null,{"$f":"P48*N$14","v":0},{"$f":"P48*O$14","v":0},{"$f":"IF(REGULATION_METHODS=\"Затраты+\",'8_Расчет НВВ '!AA57,0)","v":0},{"$f":"S48*Q$14","v":0},{"$f":"S48*R$14","v":0},{"$f":"IF(REGULATION_METHODS=\"Затраты+\",'8_Расчет НВВ '!T57,0)","v":0}]
[null,null,null,null,"14","Налоги, сборы, платежи - всего","тыс.руб",{"$f":"J49*H$14","v":0},{"$f":"J49*I$14","v":0},{"$f":"IF(REGULATION_METHODS=\"Затраты+\",'36_Прибыль'!K42,0)","v":0},0,0,null,{"$f":"P49*N$14","v":0},{"$f":"P49*O$14","v":0},{"$f":"IF(REGULATION_METHODS=\"Затраты+\",'36_Прибыль'!L42,0)","v":0},{"$f":"S49*Q$14","v":0},{"$f":"S49*R$14","v":0},{"$f":"IF(REGULATION_METHODS=\"Затраты+\",'36_Прибыль'!M41,0)","v":0}]
[null,null,null,null,"15","Валовая прибыль по организации  регулируемой по методу экономически обоснованных расходов или по методу индексации на 1 год","тыс.руб",{"$f":"H46+H48+H49","v":0},{"$f":"I46+I48+I49","v":0},{"$f":"J46+J48+J49","v":0},{"$f":"K46+K48+K49","v":0},{"$f":"L46+L48+L49","v":0},null,{"$f":"N46+N48+N49","v":0},0,0,0,0,0]
[null,null,null,null," С п.п.23 по 27 заполняется по организациям регулируемым по методу индексации на долгосрочной основе"]
[null,null,null,null,"23","Неподконтрольные расходы (за исключением платы ФСК, амортизации ОС и прибыли на капитальные вложения)","тыс.руб",{"$f":"IF(REGULATION_METHODS=\"Затраты+\",0,('8_Расчет НВВ '!O93+'8_Расчет НВВ '!O96)*H$14-H20-H57-H58)","v":0},{"$f":"IF(REGULATION_METHODS=\"Затраты+\",0,('8_Расчет НВВ '!O93+'8_Расчет НВВ '!O96)*I$14-I20-I57-I58)","v":0},{"$f":"IF(REGULATION_METHODS=\"Затраты+\",0,('8_Расчет НВВ '!O93+'8_Расчет НВВ '!O96-J20-J57-J58))","v":0},{"$f":"H52*(1+$M$15)","v":0},0,null,{"$f":"IF(REGULATION_METHODS=\"Затраты+\",0,('8_Расчет НВВ '!P93+'8_Расчет НВВ '!P96)*N$14-N57-N58-N20)","v":0},{"$f":"IF(REGULATION_METHODS=\"Затраты+\",0,('8_Расчет НВВ '!P93+'8_Расчет НВВ '!P96)*O$14-O57-O58-O20)","v":0},{"$f":"IF(REGULATION_METHODS=\"Затраты+\",0,'8_Расчет НВВ '!P93+'8_Расчет НВВ '!P96-P57-P58-P20)","v":0},{"$f":"S52*Q$14","v":0},{"$f":"S52*R$14","v":0},{"$f":"IF(REGULATION_METHODS=\"Затраты+\",0,'8_Расчет НВВ '!T93+'8_Расчет НВВ '!T96-S20-S57-S58)","v":0}]
[null,null,null,null,"24","Операционные (подконтрольные ) расходы","тыс.руб",{"$f":"J53*H$14","v":0},{"$f":"J53*I$14","v":0},{"$f":"IF(REGULATION_METHODS=\"Затраты+\",0,('8_Расчет НВВ '!O64))","v":0},0,0,null,{"$f":"P53*N$14","v":0},{"$f":"P53*O$14","v":0},{"$f":"IF(REGULATION_METHODS=\"Затраты+\",0,'8_Расчет НВВ '!P64)","v":0},{"$f":"S53*Q$14","v":0},{"$f":"S53*R$14","v":0},{"$f":"IF(REGULATION_METHODS=\"Затраты+\",0,'8_Расчет НВВ '!T64)","v":0}]
[null,null,null,null,"24.1","Затраты на оплату труда","тыс.руб",0,0,{"$f":"IF(REGULATION_METHODS=\"Затраты+\",0,'8_Расчет НВВ '!O38)","v":0},0,0,null,{"$f":"P54*N$14","v":0},{"$f":"P54*O$14","v":0},{"$f":"IF(REGULATION_METHODS=\"Затраты+\",0,'8_Расчет НВВ '!P38)","v":0},{"$f":"S54*Q$14","v":0},{"$f":"S54*R$14","v":0},{"$f":"IF(REGULATION_METHODS=\"Затраты+\",0,'8_Расчет НВВ '!T38)","v":0}]
[null,null,null,null,"24.1.1","на ремонтную программу","тыс.руб",0,0]
[null,null,null,null,"24.2","Ремонтная программа без учета оплаты труда и ЕСН","тыс.руб",0,0,{"$f":"IF(REGULATION_METHODS=\"Затраты+\",0,'8_Расчет НВВ '!O40)","v":0},{"$f":"H56*(1+$M$15)","v":0},0,null,{"$f":"P56*N$14","v":0},{"$f":"P56*O$14","v":0},{"$f":"IF(REGULATION_METHODS=\"Затраты+\",0,'8_Расчет НВВ '!P40)","v":0},{"$f":"S56*Q$14","v":0},{"$f":"S56*R$14","v":0},{"$f":"IF(REGULATION_METHODS=\"Затраты+\",0,'8_Расчет НВВ '!T40)","v":0}]
[null,null,null,null,"25","Амортизация ОС","тыс.руб",0,0,{"$f":"IF(REGULATION_METHODS=\"Затраты+\",0,'8_Расчет НВВ '!O90)","v":0},0,0,null,{"$f":"P57*N$14","v":0},{"$f":"P57*O$14","v":0},{"$f":"IF(REGULATION_METHODS=\"Затраты+\",0,'8_Расчет НВВ '!P90)","v":0},{"$f":"S57*Q$14","v":0},{"$f":"S57*R$14","v":0},{"$f":"IF(REGULATION_METHODS=\"Затраты+\",0,'8_Расчет НВВ '!T90)","v":0}]
[null,null,null,null,"26","Прибыль на капитальные вложения","тыс.руб",0,0,{"$f":"IF(REGULATION_METHODS=\"Затраты+\",0,'8_Расчет НВВ '!O82)","v":0},0,0,null,{"$f":"P58*N$14","v":0},{"$f":"P58*O$14","v":0},{"$f":"IF(REGULATION_METHODS=\"Затраты+\",0,'8_Расчет НВВ '!P82)","v":0},{"$f":"S58*Q$14","v":0},{"$f":"S58*R$14","v":0},{"$f":"IF(REGULATION_METHODS=\"Затраты+\",0,'8_Расчет НВВ '!T82)","v":0}]
[null,null,null,null,"27","Выпадающие доходы (за исключением выпадающих доходов по п.87 Основ ценообразования)","тыс.руб",0,0,{"$f":"IF(REGULATION_METHODS=\"Затраты+\",0,'8_Расчет НВВ '!O109)","v":0},0,0,null,{"$f":"P59*N$14","v":0},{"$f":"P59*O$14","v":0},{"$f":"IF(REGULATION_METHODS=\"Затраты+\",0,'8_Расчет НВВ '!P109)","v":0},{"$f":"S59*Q$14","v":0},{"$f":"S59*R$14","v":0},{"$f":"IF(REGULATION_METHODS=\"Затраты+\",0,'8_Расчет НВВ '!T109)","v":0}]
[]
[null,null,null,null,"28","Товарная продукция на 1 год","тыс.руб",{"$f":"H44+H50+H20","v":0},{"$f":"I44+I50+I20","v":0},{"$f":"J44+J50+J20","v":0},{"$f":"K44+K50+K20","v":0},{"$f":"L44+L50+L20","v":0},{"$f":"L61+K61","v":0},{"$f":"N44+N50+N20","v":0},0,0,0,0,0]
[null,null,null,null,"29","Товарная продукция долгосрочное","тыс.руб",{"$f":"H52+H53+H57+H58+H59+H20","v":0},{"$f":"I52+I53+I57+I58+I59+I20","v":0},{"$f":"J52+J53+J57+J58+J59+J20","v":0},{"$f":"K52+K53+K57+K58+K59+K20","v":0},{"$f":"L52+L53+L57+L58+L59+L20","v":0},{"$f":"L62+K62","v":0},{"$f":"N52+N53+N57+N58+N59+N20","v":0},{"$f":"O52+O53+O57+O58+O59+O20","v":0},0,0,0,0]
[null,null,null,null,"29.1","расходы на реализацию инвестиционной программы (с налогами)","тыс.руб",{"$f":"H64+H65","v":0},{"$f":"I64+I65","v":0},{"$f":"J64+J65","v":0},{"$f":"K64+K65","v":0},{"$f":"L64+L65","v":0},null,{"$f":"N64+N65","v":0},0,0,0,0,0]
[null,null,null,null,"29.1.1","инвестиционная программа","тыс.руб"]
[null,null,null,null,"29.1.2","налог на прибыль","тыс.руб"]
[null,null,null,null,"30","Полезный отпуск потребителям","млн.кВт.ч",{"$f":"'9 Тариф'!L27","v":0},{"$f":"'9 Тариф'!M27","v":0},{"$f":"'9 Тариф'!K27","v":0},{"$f":"H66","v":0},{"$f":"I66","v":0},null,{"$f":"P66*N$14","v":0},{"$f":"P66*O$14","v":0},{"$f":"'9 Тариф'!N27","v":0},{"$f":"'9 Тариф'!Q27","v":0},{"$f":"'9 Тариф'!R27","v":0},{"$f":"'9 Тариф'!P27","v":0}]
[null,null,null,null,"30.1","справочно: генераторное напряжение","млн.кВт.ч"]
[null,null,null,null,"31","Средний тариф с учетом ГН","коп/кВт.ч",{"$f":"nerr(H61/H66/10)","v":0},{"$f":"nerr(I61/I66/10)","v":0},{"$f":"nerr(J61/J66/10)","v":0},{"$f":"IF(K66/10=0,0,K61/K66/10)","v":0},{"$f":"IF(L66/10=0,0,L61/L66/10)","v":0},null,{"$f":"IF(N66/10=0,0,N61/N66/10)","v":0},{"$f":"IF(O66/10=0,0,O61/O66/10)","v":0},{"$f":"IF(P66/10=0,0,P61/P66/10)","v":0},{"$f":"nerr(Q61/Q66/10)","v":0},{"$f":"nerr(R61/R66/10)","v":0},{"$f":"nerr(S61/S66/10)","v":0}]
[null,null,null,null,"32","Объем условных единиц","у.е.",{"$f":"J69","v":0},{"$f":"J69","v":0},{"$f":"'8_Расчет НВВ '!O27","v":0},{"$f":"H69","v":0},{"$f":"I69","v":0},null,{"$f":"'8_Расчет НВВ '!P27","v":0},{"$f":"N69","v":0},{"$f":"'8_Расчет НВВ '!P27","v":0},{"$f":"'8_Расчет НВВ '!L27","v":0},{"$f":"Q69","v":0},{"$f":"'8_Расчет НВВ '!Q27","v":0}]
[null,null,null,null,"33","Стоимость обслуживания у.е.","тыс.руб",{"$f":"IF(H69=0,0,IF(H61=0,H62/H69,(H61)/H69))","v":0},{"$f":"IF(I69=0,0,IF(I61=0,I62/I69,(I61)/I69))","v":0},{"$f":"IF(J69=0,0,IF(J61=0,J62/J69,(J61)/J69))","v":0},{"$f":"IF(K69=0,0,IF(K61=0,K62/K69,(K61)/K69))","v":0},{"$f":"IF(L69=0,0,IF(L61=0,L62/L69,(L61)/L69))","v":0},null,{"$f":"IF(N69=0,0,IF(N61=0,N62/N69,(N61)/N69))","v":0},0,0,0,0,0]
[]
[null,null,null,null,null,"ИТОГО НВВ на содержание",null,{"$f":"J72*H$14","v":0},{"$f":"J72*I$14","v":0},{"$f":"'8_Расчет НВВ '!O111","v":0},{"$f":"H72*(1+$M$15)","v":0},{"$f":"I72*(1+$M$15)","v":0},{"$f":"L72+K72","v":0},{"$f":"P72*N$14","v":0},{"$f":"P72*O$14","v":0},{"$f":"'8_Расчет НВВ '!P111","v":0},{"$f":"'8_Расчет НВВ '!U111","v":0},{"$f":"'8_Расчет НВВ '!V111","v":0},{"$f":"'8_Расчет НВВ '!T111","v":0}]
[null,null,null,null,null,"Проверка",null,{"$f":"IF(REGULATION_METHODS=\"Затраты+\",H72=H61,0)","v":0},0,0,0,0,0,0,0,0,0,0,0]
[null,null,null,null,null,"Проверка",null,{"$f":"IF(REGULATION_METHODS=\"Затраты+\",0,H72=H62)","v":true},true,true,true,true,true,true,true,true,true,true,true]

{"sheet":"46_PEREDACHA.XX.FACT.EXPENSES","index":101,"n_rows":30,"n_cols":64,"rows_kept":30,"cut":false,"hidden":true,"merged":[[4,5,4,6],[10,50,11,50],[9,7,11,7],[9,63,11,63],[10,58,11,58],[10,52,11,52],[10,53,11,53],[10,54,11,54],[10,55,11,55],[10,56,11,56],[10,57,11,57],[10,26,11,26],[9,59,11,59],[9,60,11,60],[9,61,11,61],[9,62,11,62],[10,51,11,51],[10,46,11,46],[10,47,11,47],[10,48,11,48],[10,49,11,49],[10,39,11,39],[10,40,10,41],[10,35,11,35],[10,36,11,36],[10,37,11,37],[10,38,11,38],[9,5,12,5],[9,6,12,6],[9,8,9,17],[9,18,9,38],[10,8,11,8],[10,9,11,9],[10,10,10,14],[10,15,11,15],[10,16,11,16],[10,32,11,32],[10,21,11,21],[10,22,11,22],[10,23,11,23],[10,24,11,24],[10,25,11,25],[10,34,11,34],[6,5,6,9],[9,39,9,58],[10,17,11,17],[10,18,11,18],[10,19,11,19],[10,20,11,20],[10,27,11,27],[10,28,11,28],[10,29,11,29],[10,30,11,30],[10,31,11,31],[10,42,11,42],[10,43,11,43],[10,44,11,44],[10,45,11,45],[10,33,11,33]]}
[]
[]
[]
[]
[null,null,null,null,null,"Список листов"]
[]
[null,null,null,null,null,"PEREDACHA.FACT.EXPENSES"]
[]
[]
[null,null,null,null,null,"Период","План/факт",null,"Расчет коэффициента индексации",null,null,null,null,null,null,null,null,null,"Расчет подконтрольных расходов",null,null,null,null,null,null,null,null,null,null,null,null,null,null,null,null,null,null,null,null,"Расчет неподконтрольных расходов",null,null,null,null,null,null,null,null,null,null,null,null,null,null,null,null,null,null,null,"Выручка организации, полученная от услуг по передаче электрической энергии","Расходы, связанные с компенсацией незапланированных расходов или полученного избытка","Итого НВВ на содержание сетей"," Итого НВВ с расчетного листа","Проверка"]
[null,null,null,null,null,null,null,null,"Инфляция","Индекс эффективности операционных расходов","Количество активов",null,null,null,null,"Индекс изменения количества активов","Коэффициент эластичности затрат по росту активов","Итого коэффициент индексации","Материальные затраты","Сырье, материалы, запасные части, инструмент, топливо","Работы и услуги производственного характера (в т.ч. услуги сторонних организаций по содержанию сетей и распределительных устройств)","Расходы на оплату труда","Прочие расходы, всего, в том числе:","Ремонт основных фондов","Оплата работ и услуг сторонних организаций","услуги связи","Расходы на услуги вневедомственной охраны и коммунального хозяйства","Расходы на юридические и информационные услуги","Расходы на аудиторские и консультационные услуги","Транспортные услуги","Прочие услуги сторонних организаций","Расходы на командировки и представительские","Расходы на подготовку кадров","Расходы на обеспечение нормальных условий труда и мер по технике безопасности","Расходы на страхование","Другие прочие расходы","Электроэнергия на хоз. нужды","Подконтрольные расходы из прибыли","ИТОГО подконтрольные расходы","Оплата услуг ОАО \"ФСК ЕЭС\"","в том числе",null,"Теплоэнергия","Аренда, всего","в том числе аренда объектов электро-\nсетевого комплекса","Налоги (без учета налога на прибыль), всего, в том числе:","плата за землю","Налог на имущество","Прочие налоги и сборы","Отчисления на социальные нужды (ЕСН)","Прочие неподконтрольные расходы","Налог на прибыль, в том числе:","налог на прибыль на капитальные вложения ","Выпадающие доходы по п.87 Основ ценообразования","Амортизация ОС","Прибыль на капитальные вложения","Возврат заемных средств, направляемый на финансирование капитальных вложений","Проверка прибыли на капитальные вложения (не более 12% от НВВ на содержание сетей)","ИТОГО неподконтрольных расходов"]
[null,null,null,null,null,null,null,null,null,null,"всего","ВН","СН1","СН2","НН",null,null,null,null,null,null,null,null,null,null,null,null,null,null,null,null,null,null,null,null,null,null,null,null,null,"Оплата услуг ОАО \"ФСК ЕЭС\"\n1 полугодие","Оплата услуг ОАО \"ФСК ЕЭС\"\n2 полугодие"]
[null,null,null,null,null,null,null,null,"%","%","у.е.","у.е.","у.е.","у.е.","у.е.","%",null,null,"тыс.руб","тыс.руб","тыс.руб","тыс.руб","тыс.руб","тыс.руб","тыс.руб","тыс.руб","тыс.руб","тыс.руб","тыс.руб","тыс.руб","тыс.руб","тыс.руб","тыс.руб","тыс.руб","тыс.руб","тыс.руб","тыс.руб","тыс.руб","тыс.руб","тыс.руб","тыс.руб","тыс.руб","тыс.руб","тыс.руб","тыс.руб","тыс.руб","тыс.руб","тыс.руб","тыс.руб","тыс.руб","тыс.руб","тыс.руб","тыс.руб","тыс.руб","тыс.руб","тыс.руб","тыс.руб","%","тыс.руб","тыс.руб","тыс.руб","тыс.руб","тыс.руб","тыс.руб"]
[]
[]
[{"$f":"IFERROR(IF(B16<FIRST_PERIOD_IN_LT-2,\"HIDDEN\",\"VISIBLE\"),0)","v":"HIDDEN"},{"$f":"B19-1","v":-4},null,null,null,{"$f":"F19-1","v":-4},"План",{"$f":"G16&F16","v":"План-4"},null,null,{"$f":"SUM(L16:O16)","v":0},null,null,null,null,null,null,{"$f":"(1+I16)*(1-J16)*(1+P16)","v":1},{"$f":"SUM(T16:U16)","v":0},null,null,null,{"$f":"X16+Y16+AF16+AG16+AH16+AI16+AJ16+AK16+AL16","v":0},null,{"$f":"SUM(Z16:AE16)","v":0},null,null,null,null,null,null,null,null,null,null,null,null,null,{"$f":"S16+V16+W16","v":0},{"$f":"AO16+AP16","v":0},null,null,null,null,null,{"$f":"SUM(AU16:AW16)","v":0},null,null,null,null,null,null,null,null,null,null,null,{"$f":"nerr((BD16+BE16)/(BJ16-AN16-BA16-BD16-BE16-AS16))","v":0},{"$f":"AN16+AQ16+AR16+AT16+AY16+AZ16+BB16+AX16+BC16+BD16+BE16","v":0},null,null,{"$f":"SUM(BG16,BI16,AM16)","v":0}]
[{"$f":"IFERROR(IF(B17<FIRST_PERIOD_IN_LT-2,\"HIDDEN\",\"VISIBLE\"),0)","v":"HIDDEN"},{"$f":"B16","v":-4},null,null,null,{"$f":"F16","v":-4},"Факт ТСО",{"$f":"G17&F17","v":"Факт ТСО-4"},null,null,0]
[{"$f":"IFERROR(IF(REPORT_OWNER=\"Версия организации\",\"HIDDEN\",(IF(B18<FIRST_PERIOD_IN_LT-2,\"HIDDEN\",\"VISIBLE\"))),0)","v":"HIDDEN"},{"$f":"B17","v":-4},null,null,null,{"$f":"F17","v":-4},"Экономически-обоснованный факт, признанный РЭК",{"$f":"G18&F18","v":"Экономически-обоснованный факт, признанный РЭК-4"},null,null,0]
[{"$f":"IFERROR(IF(B19<FIRST_PERIOD_IN_LT-2,\"HIDDEN\",\"VISIBLE\"),0)","v":"HIDDEN"},{"$f":"B21","v":-3},null,null,null,{"$f":"F21","v":-3},"План",{"$f":"G19&F19","v":"План-3"},null,null,0,null,null,null,null,null,null,1,0,null,null,null,0,null,0,null,null,null,null,null,null,null,null,null,null,null,null,null,0,0,{"$f":"'8_Расчет НВВ '!$I$68/2","v":0},{"$f":"AO19","v":0},null,null,null,0,null,null,null,null,null,null,null,null,null,null,null,{"$f":"IF((BJ19-AN19-BA19-BD19-BE19-AS19)=0,0,(BD19+BE19)/(BJ19-AN19-BA19-BD19-BE19-AS19))","v":0},0,null,null,{"$f":"SUM(BG19,BI19,AM19)","v":0}]
[{"$f":"IFERROR(IF(B20<FIRST_PERIOD_IN_LT-2,\"HIDDEN\",\"VISIBLE\"),0)","v":"HIDDEN"},{"$f":"B21","v":-3},null,null,null,{"$f":"F21","v":-3},"Факт ТСО",{"$f":"G20&F20","v":"Факт ТСО-3"},null,null,0,null,null,null,null,null,null,1,0,null,null,null,0,null,0,null,null,null,null,null,null,null,null,null,null,null,null,null,0,0,null,null,null,null,null,0,null,null,null,null,null,null,null,null,null,null,null,0,0,null,null,0]
[{"$f":"IFERROR(IF(REPORT_OWNER=\"Версия организации\",\"HIDDEN\",(IF(B21<FIRST_PERIOD_IN_LT-2,\"HIDDEN\",\"VISIBLE\"))),0)","v":"HIDDEN"},{"$f":"B22-1","v":-3},null,null,null,{"$f":"F22-1","v":-3},"Факт, признанный РЭК","Факт, признанный РЭК-3",null,null,0,null,null,null,null,null,null,1,0,null,null,null,0,null,0,null,null,null,null,null,null,null,null,null,null,null,null,null,0,0,null,null,null,null,null,0,null,null,null,null,null,null,null,null,null,null,null,0,0,null,null,0]
[{"$f":"IFERROR(IF(REPORT_OWNER=\"Версия организации\",\"HIDDEN\",IF(B22>FIRST_PERIOD_IN_LT+PERIOD_LENGTH-1,\"HIDDEN\",\"VISIBLE\")),)","v":"HIDDEN"},{"$f":"B24","v":-2},null,null,null,{"$f":"F24","v":-2},"План","План-2",{"$f":"'8_Расчет НВВ '!I25","v":0},{"$f":"'8_Расчет НВВ '!I26","v":0},0,{"$f":"'7_Свод УЕ '!H35","v":0},{"$f":"'7_Свод УЕ '!I35","v":0},{"$f":"'7_Свод УЕ '!J35","v":0},{"$f":"'7_Свод УЕ '!K35","v":0},{"$f":"'8_Расчет НВВ '!I28*Q22","v":0},{"$f":"'8_Расчет НВВ '!I29","v":0.75},1,0,{"$f":"'8_Расчет НВВ '!I36","v":0},{"$f":"'8_Расчет НВВ '!I37","v":0},{"$f":"'8_Расчет НВВ '!I38","v":0},0,{"$f":"'8_Расчет НВВ '!I40","v":0},0,{"$f":"'8_Расчет НВВ '!$I42","v":0},{"$f":"'8_Расчет НВВ '!$I43","v":0},{"$f":"'8_Расчет НВВ '!$I44","v":0},{"$f":"'8_Расчет НВВ '!$I45","v":0},{"$f":"'8_Расчет НВВ '!$I46","v":0},{"$f":"'8_Расчет НВВ '!$I47","v":0},{"$f":"'8_Расчет НВВ '!$I48","v":0},{"$f":"'8_Расчет НВВ '!$I49","v":0},{"$f":"'8_Расчет НВВ '!$I50","v":0},{"$f":"'8_Расчет НВВ '!$I51","v":0},{"$f":"'8_Расчет НВВ '!$I52+'8_Расчет НВВ '!$I54+'8_Расчет НВВ '!$I55","v":0},{"$f":"'8_Расчет НВВ '!$I53","v":0},{"$f":"'8_Расчет НВВ '!$I57","v":0},0,{"$f":"AO19+AP19","v":0},null,null,null,{"$f":"'8_Расчет НВВ '!$I69","v":0},{"$f":"'8_Расчет НВВ '!$I74+'8_Расчет НВВ '!$I71","v":0},0,{"$f":"'8_Расчет НВВ '!$I78","v":0},{"$f":"'8_Расчет НВВ '!$I77","v":0},{"$f":"'8_Расчет НВВ '!$I80+'8_Расчет НВВ '!$I79","v":0},{"$f":"'8_Расчет НВВ '!$I81","v":0},{"$f":"'8_Расчет НВВ '!$I$85","v":0},{"$f":"'8_Расчет НВВ '!$I83","v":0},{"$f":"'8_Расчет НВВ '!$I84","v":0},{"$f":"'8_Расчет НВВ '!$I89","v":0},{"$f":"'8_Расчет НВВ '!$I90","v":0},{"$f":"'8_Расчет НВВ '!$I82","v":0},null,0,0,{"$f":"'8_Расчет НВВ '!$I106","v":0},{"$f":"'8_Расчет НВВ '!$I$95+'8_Расчет НВВ '!$I$110","v":0},0,{"$f":"'8_Расчет НВВ '!$I111","v":0},{"$f":"BK22-BJ22","v":0}]
[{"$f":"IFERROR(IF(REPORT_OWNER=\"Версия организации\",\"HIDDEN\",IF(B23>FIRST_PERIOD_IN_LT+PERIOD_LENGTH-1,\"HIDDEN\",\"VISIBLE\")),)","v":"HIDDEN"},{"$f":"B24","v":-2},null,null,null,{"$f":"F24","v":-2},"Факт ТСО","Факт ТСО-2",{"$f":"'8_Расчет НВВ '!J25","v":0},{"$f":"'8_Расчет НВВ '!J26","v":0},0,{"$f":"'7_Свод УЕ '!H36","v":0},{"$f":"'7_Свод УЕ '!I36","v":0},{"$f":"'7_Свод УЕ '!J36","v":0},{"$f":"'7_Свод УЕ '!K36","v":0},{"$f":"'8_Расчет НВВ '!J28*Q23","v":0},{"$f":"'8_Расчет НВВ '!J29","v":0.75},1,0,{"$f":"'8_Расчет НВВ '!J36","v":0},{"$f":"'8_Расчет НВВ '!J37","v":0},{"$f":"'8_Расчет НВВ '!J38","v":0},0,{"$f":"'8_Расчет НВВ '!J40","v":0},0,{"$f":"'8_Расчет НВВ '!$J42","v":0},{"$f":"'8_Расчет НВВ '!$J43","v":0},{"$f":"'8_Расчет НВВ '!$J44","v":0},{"$f":"'8_Расчет НВВ '!$J45","v":0},{"$f":"'8_Расчет НВВ '!$J46","v":0},{"$f":"'8_Расчет НВВ '!$J47","v":0},{"$f":"'8_Расчет НВВ '!$J48","v":0},{"$f":"'8_Расчет НВВ '!$J49","v":0},{"$f":"'8_Расчет НВВ '!$J50","v":0},{"$f":"'8_Расчет НВВ '!$J51","v":0},{"$f":"'8_Расчет НВВ '!$J52+'8_Расчет НВВ '!$J54+'8_Расчет НВВ '!$J55","v":0},{"$f":"'8_Расчет НВВ '!$J53","v":0},{"$f":"'8_Расчет НВВ '!$J57","v":0},0,0,{"$f":"'8_Расчет НВВ '!$J$68/2","v":0},{"$f":"AO23","v":0},null,{"$f":"'8_Расчет НВВ '!$J69","v":0},{"$f":"'8_Расчет НВВ '!$J74+'8_Расчет НВВ '!$J71","v":0},0,{"$f":"'8_Расчет НВВ '!$J78","v":0},{"$f":"'8_Расчет НВВ '!$J77","v":0},{"$f":"'8_Расчет НВВ '!$J80+'8_Расчет НВВ '!$J79","v":0},{"$f":"'8_Расчет НВВ '!$J81","v":0},{"$f":"'8_Расчет НВВ '!$J$85","v":0},{"$f":"'8_Расчет НВВ '!$J83","v":0},{"$f":"'8_Расчет НВВ '!$J84","v":0},{"$f":"'8_Расчет НВВ '!$J89","v":0},{"$f":"'8_Расчет НВВ '!$J90","v":0},{"$f":"'8_Расчет НВВ '!$J82","v":0},null,0,0,{"$f":"'8_Расчет НВВ '!$J106","v":0},{"$f":"'8_Расчет НВВ '!$J$110+'8_Расчет НВВ '!$J$95","v":0},{"$f":"SUM(BG23,BI23,AM23)","v":0},{"$f":"'8_Расчет НВВ '!$J111","v":0},0]
[{"$f":"IFERROR(IF(REPORT_OWNER=\"Версия организации\",\"HIDDEN\",IF(B24>FIRST_PERIOD_IN_LT+PERIOD_LENGTH-1,\"HIDDEN\",\"VISIBLE\")),)","v":"HIDDEN"},{"$f":"B25-1","v":-2},null,null,null,{"$f":"F25-1","v":-2},"Факт, признанный РЭК","Факт, признанный РЭК-2",{"$f":"'8_Расчет НВВ '!L25","v":0},{"$f":"'8_Расчет НВВ '!L26","v":0},0,{"$f":"'7_Свод УЕ '!H37","v":0},{"$f":"'7_Свод УЕ '!I37","v":0},{"$f":"'7_Свод УЕ '!J37","v":0},{"$f":"'7_Свод УЕ '!K37","v":0},{"$f":"'8_Расчет НВВ '!L28*Q24","v":0},{"$f":"'8_Расчет НВВ '!L29","v":0.75},1,0,{"$f":"'8_Расчет НВВ '!L36","v":0},{"$f":"'8_Расчет НВВ '!L37","v":0},{"$f":"'8_Расчет НВВ '!L38","v":0},0,{"$f":"'8_Расчет НВВ '!L40","v":0},0,{"$f":"'8_Расчет НВВ '!$L42","v":0},{"$f":"'8_Расчет НВВ '!$L43","v":0},{"$f":"'8_Расчет НВВ '!$L44","v":0},{"$f":"'8_Расчет НВВ '!$L45","v":0},{"$f":"'8_Расчет НВВ '!$L46","v":0},{"$f":"'8_Расчет НВВ '!$L47","v":0},{"$f":"'8_Расчет НВВ '!$L48","v":0},{"$f":"'8_Расчет НВВ '!$L49","v":0},{"$f":"'8_Расчет НВВ '!$L50","v":0},{"$f":"'8_Расчет НВВ '!$L51","v":0},{"$f":"'8_Расчет НВВ '!$L52+'8_Расчет НВВ '!$L54+'8_Расчет НВВ '!$L55","v":0},{"$f":"'8_Расчет НВВ '!$L53","v":0},{"$f":"'8_Расчет НВВ '!$L57","v":0},0,0,{"$f":"'8_Расчет НВВ '!$L$68/2","v":0},{"$f":"AO24","v":0},null,{"$f":"'8_Расчет НВВ '!$L69","v":0},{"$f":"'8_Расчет НВВ '!$L74+'8_Расчет НВВ '!$L71","v":0},0,{"$f":"'8_Расчет НВВ '!$L78","v":0},{"$f":"'8_Расчет НВВ '!$L77","v":0},{"$f":"'8_Расчет НВВ '!$L80+'8_Расчет НВВ '!$L79","v":0},{"$f":"'8_Расчет НВВ '!$L81","v":0},{"$f":"'8_Расчет НВВ '!$L$85","v":0},{"$f":"'8_Расчет НВВ '!$L83","v":0},{"$f":"'8_Расчет НВВ '!$L84","v":0},{"$f":"'8_Расчет НВВ '!$L89","v":0},{"$f":"'8_Расчет НВВ '!$L90","v":0},{"$f":"'8_Расчет НВВ '!$L82","v":0},null,0,0,{"$f":"'8_Расчет НВВ '!$L106","v":0},{"$f":"'8_Расчет НВВ '!$L$110+'8_Расчет НВВ '!$L$95","v":0},0,{"$f":"'8_Расчет НВВ '!$L111","v":0},0]
[{"$f":"IFERROR(IF(REPORT_OWNER=\"Версия организации\",\"HIDDEN\",IF(B25>FIRST_PERIOD_IN_LT+PERIOD_LENGTH-1,\"HIDDEN\",\"VISIBLE\")),)","v":"HIDDEN"},{"$f":"B26-1","v":-1},null,null,null,{"$f":"F26-1","v":-1},"План","План-1",{"$f":"'8_Расчет НВВ '!N25","v":0},{"$f":"'8_Расчет НВВ '!N26","v":0},0,{"$f":"'7_Свод УЕ '!H38","v":0},{"$f":"'7_Свод УЕ '!I38","v":0},{"$f":"'7_Свод УЕ '!J38","v":0},{"$f":"'7_Свод УЕ '!K38","v":0},{"$f":"'8_Расчет НВВ '!N28*Q25","v":0},{"$f":"'8_Расчет НВВ '!N29","v":0.75},1,0,{"$f":"'8_Расчет НВВ '!N36","v":0},{"$f":"'8_Расчет НВВ '!N37","v":0},{"$f":"'8_Расчет НВВ '!N38","v":0},0,{"$f":"'8_Расчет НВВ '!N40","v":0},0,{"$f":"'8_Расчет НВВ '!$N42","v":0},{"$f":"'8_Расчет НВВ '!$N43","v":0},{"$f":"'8_Расчет НВВ '!$N44","v":0},{"$f":"'8_Расчет НВВ '!$N45","v":0},{"$f":"'8_Расчет НВВ '!$N46","v":0},{"$f":"'8_Расчет НВВ '!$N47","v":0},{"$f":"'8_Расчет НВВ '!$N48","v":0},{"$f":"'8_Расчет НВВ '!$N49","v":0},{"$f":"'8_Расчет НВВ '!$N50","v":0},{"$f":"'8_Расчет НВВ '!$N51","v":0},{"$f":"'8_Расчет НВВ '!$N52+'8_Расчет НВВ '!$N54+'8_Расчет НВВ '!$N55","v":0},{"$f":"'8_Расчет НВВ '!$N53","v":0},{"$f":"'8_Расчет НВВ '!$N57","v":0},0,0,{"$f":"'45_НВВ РСК'!H20","v":0},{"$f":"'45_НВВ РСК'!I20","v":0},null,{"$f":"'8_Расчет НВВ '!$N69","v":0},{"$f":"'8_Расчет НВВ '!$N74+'8_Расчет НВВ '!$N71","v":0},0,{"$f":"'8_Расчет НВВ '!$N78","v":0},{"$f":"'8_Расчет НВВ '!$N77","v":0},{"$f":"'8_Расчет НВВ '!$N80+'8_Расчет НВВ '!$N79","v":0},{"$f":"'8_Расчет НВВ '!$N81","v":0},{"$f":"'8_Расчет НВВ '!$N$85","v":0},{"$f":"'8_Расчет НВВ '!$N83","v":0},{"$f":"'8_Расчет НВВ '!$N84","v":0},{"$f":"'8_Расчет НВВ '!$N89","v":0},{"$f":"'8_Расчет НВВ '!$N90","v":0},{"$f":"'8_Расчет НВВ '!$N82","v":0},null,0,0,{"$f":"'8_Расчет НВВ '!$N106","v":0},{"$f":"'8_Расчет НВВ '!$N$110+'8_Расчет НВВ '!$N$95","v":0},0,{"$f":"'8_Расчет НВВ '!N111","v":0},0]
[{"$f":"IFERROR(IF(REPORT_OWNER=\"Версия организации\",\"HIDDEN\",IF(B26>FIRST_PERIOD_IN_LT+PERIOD_LENGTH-1,\"HIDDEN\",\"VISIBLE\")),)","v":"HIDDEN"},{"$f":"god","v":0},null,null,null,{"$f":"god","v":0},"План","План0",{"$f":"'8_Расчет НВВ '!T25","v":0},{"$f":"'8_Расчет НВВ '!T26","v":0},0,{"$f":"'7_Свод УЕ '!H40*'9 Тариф'!$P$35","v":0},{"$f":"'7_Свод УЕ '!I40*'9 Тариф'!$P$35","v":0},{"$f":"'7_Свод УЕ '!J40*'9 Тариф'!$P$35","v":0},{"$f":"'7_Свод УЕ '!K40*'9 Тариф'!$P$35","v":0},{"$f":"'8_Расчет НВВ '!T28*Q26","v":0},{"$f":"'8_Расчет НВВ '!Q29","v":0.75},1,0,{"$f":"'8_Расчет НВВ '!T36","v":0},{"$f":"'8_Расчет НВВ '!T37","v":0},{"$f":"'8_Расчет НВВ '!T38","v":0},0,{"$f":"'8_Расчет НВВ '!T40","v":0},0,{"$f":"'8_Расчет НВВ '!T42","v":0},{"$f":"'8_Расчет НВВ '!T43","v":0},{"$f":"'8_Расчет НВВ '!T44","v":0},{"$f":"'8_Расчет НВВ '!T45","v":0},{"$f":"'8_Расчет НВВ '!T46","v":0},{"$f":"'8_Расчет НВВ '!T47","v":0},{"$f":"'8_Расчет НВВ '!T48","v":0},{"$f":"'8_Расчет НВВ '!T49","v":0},{"$f":"'8_Расчет НВВ '!T50","v":0},{"$f":"'8_Расчет НВВ '!T51","v":0},{"$f":"'8_Расчет НВВ '!T52+'8_Расчет НВВ '!$T54+'8_Расчет НВВ '!$T55","v":0},{"$f":"'8_Расчет НВВ '!T53","v":0},{"$f":"'8_Расчет НВВ '!T57","v":0},0,0,{"$f":"'8_Расчет НВВ '!R68","v":0},{"$f":"'8_Расчет НВВ '!S68","v":0},null,{"$f":"'8_Расчет НВВ '!T69","v":0},{"$f":"'8_Расчет НВВ '!T74+'8_Расчет НВВ '!$Q71","v":0},0,{"$f":"'8_Расчет НВВ '!T78","v":0},{"$f":"'8_Расчет НВВ '!T77","v":0},{"$f":"'8_Расчет НВВ '!T80+'8_Расчет НВВ '!$Q79","v":0},{"$f":"'8_Расчет НВВ '!T81","v":0},{"$f":"'8_Расчет НВВ '!T$85","v":0},{"$f":"'8_Расчет НВВ '!T83","v":0},{"$f":"'8_Расчет НВВ '!T84","v":0},{"$f":"'8_Расчет НВВ '!T89","v":0},{"$f":"'8_Расчет НВВ '!T90","v":0},{"$f":"'8_Расчет НВВ '!T82","v":0},null,0,0,{"$f":"'8_Расчет НВВ '!$T$106","v":0},{"$f":"'8_Расчет НВВ '!$T$110+'8_Расчет НВВ '!$T$95","v":0},0,{"$f":"'8_Расчет НВВ '!$Q111","v":0},0]
[{"$f":"IFERROR(IF(REPORT_OWNER=\"Версия организации\",\"HIDDEN\",IF(B27>FIRST_PERIOD_IN_LT+PERIOD_LENGTH-1,\"HIDDEN\",\"VISIBLE\")),)","v":"HIDDEN"},{"$f":"B26+1","v":1},null,null,null,{"$f":"F26+1","v":1},"План","План1",{"$f":"'8_Расчет НВВ '!$X$25","v":0},{"$f":"'8_Расчет НВВ '!$X$26","v":0},{"$f":"SUM(L27:O27)","v":0},{"$f":"L26","v":0},0,0,0,{"$f":"'8_Расчет НВВ '!$X$28*Q27","v":0},{"$f":"'8_Расчет НВВ '!$X$29","v":0.75},1,0,{"$f":"T26*$R27","v":0},0,0,0,{"$f":"X26*$R27","v":0},0,{"$f":"Z26*$R27","v":0},{"$f":"AA26*$R27","v":0},0,0,0,0,0,0,0,0,0,0,0,0,0,{"$f":"'8_Расчет НВВ '!$X$68/2","v":0},{"$f":"AO27","v":0},null,{"$f":"'8_Расчет НВВ '!$X$70","v":0},{"$f":"'8_Расчет НВВ '!$X$75+'8_Расчет НВВ '!$X$72","v":0},0,{"$f":"'8_Расчет НВВ '!$X$79","v":0},{"$f":"'8_Расчет НВВ '!$X$78","v":0},{"$f":"'8_Расчет НВВ '!$X$81+'8_Расчет НВВ '!$X$80","v":0},{"$f":"'8_Расчет НВВ '!$X$82","v":0},{"$f":"'8_Расчет НВВ '!$X$85","v":0},{"$f":"'8_Расчет НВВ '!$X$84","v":0},{"$f":"'8_Расчет НВВ '!$X$85","v":0},{"$f":"'8_Расчет НВВ '!$X$89","v":0},{"$f":"'8_Расчет НВВ '!$X$90","v":0},{"$f":"'8_Расчет НВВ '!$X$83","v":0},null,0,0,{"$f":"'8_Расчет НВВ '!$X$106","v":0},{"$f":"'8_Расчет НВВ '!$X$110+'8_Расчет НВВ '!$X$95","v":0},0,{"$f":"'8_Расчет НВВ '!$X111","v":0},0]
[{"$f":"IFERROR(IF(REPORT_OWNER=\"Версия организации\",\"HIDDEN\",IF(B28>FIRST_PERIOD_IN_LT+PERIOD_LENGTH-1,\"HIDDEN\",\"VISIBLE\")),)","v":"HIDDEN"},{"$f":"B27+1","v":2},null,null,null,{"$f":"F27+1","v":2},"План","План2",{"$f":"'8_Расчет НВВ '!$Z$25","v":0},{"$f":"'8_Расчет НВВ '!$Z$26","v":0},{"$f":"SUM(L28:O28)","v":0},0,0,0,0,{"$f":"'8_Расчет НВВ '!$Z$28*Q28","v":0},{"$f":"'8_Расчет НВВ '!$Z$29","v":0.75},1,0,0,0,0,0,{"$f":"X27*$R28","v":0},{"$f":"SUM(Z28:AE28)","v":0},{"$f":"Z27*$R28","v":0},0,0,0,0,0,0,0,0,0,0,0,0,0,0,{"$f":"'8_Расчет НВВ '!$Z$68/2","v":0},{"$f":"AO28","v":0},null,{"$f":"'8_Расчет НВВ '!$Z$70","v":0},{"$f":"'8_Расчет НВВ '!$Z$75+'8_Расчет НВВ '!$Z$72","v":0},{"$f":"SUM(AU28:AW28)","v":0},{"$f":"'8_Расчет НВВ '!$Z$79","v":0},{"$f":"'8_Расчет НВВ '!$Z$78","v":0},{"$f":"'8_Расчет НВВ '!$Z$81+'8_Расчет НВВ '!$Z$80","v":0},{"$f":"'8_Расчет НВВ '!$Z$82","v":0},{"$f":"'8_Расчет НВВ '!$Z$85","v":0},{"$f":"'8_Расчет НВВ '!$Z$84","v":0},{"$f":"'8_Расчет НВВ '!$Z$85","v":0},{"$f":"'8_Расчет НВВ '!$Z$89","v":0},{"$f":"'8_Расчет НВВ '!$Z$90","v":0},{"$f":"'8_Расчет НВВ '!$Z$83","v":0},null,0,0,{"$f":"'8_Расчет НВВ '!$Z$106","v":0},{"$f":"'8_Расчет НВВ '!$Z$110+'8_Расчет НВВ '!$Z$95","v":0},0,{"$f":"'8_Расчет НВВ '!$Z111","v":0},0]
[{"$f":"IFERROR(IF(REPORT_OWNER=\"Версия организации\",\"HIDDEN\",IF(B29>FIRST_PERIOD_IN_LT+PERIOD_LENGTH-1,\"HIDDEN\",\"VISIBLE\")),)","v":"HIDDEN"},{"$f":"B28+1","v":3},null,null,null,{"$f":"F28+1","v":3},"План","План3",{"$f":"'8_Расчет НВВ '!$AB$25","v":0},{"$f":"'8_Расчет НВВ '!$AB$26","v":0},{"$f":"SUM(L29:O29)","v":0},0,0,0,0,{"$f":"'8_Расчет НВВ '!$AB$28*Q29","v":0},{"$f":"'8_Расчет НВВ '!$AB$29","v":0.75},1,0,0,0,0,0,{"$f":"X28*$R29","v":0},{"$f":"SUM(Z29:AE29)","v":0},{"$f":"Z28*$R29","v":0},0,0,0,0,0,0,0,0,0,0,0,0,0,0,{"$f":"'8_Расчет НВВ '!$AB$68/2","v":0},{"$f":"AO29","v":0},null,{"$f":"'8_Расчет НВВ '!$AB$70","v":0},{"$f":"'8_Расчет НВВ '!$AB$75+'8_Расчет НВВ '!$AB$72","v":0},{"$f":"SUM(AU29:AW29)","v":0},{"$f":"'8_Расчет НВВ '!$AB$79","v":0},{"$f":"'8_Расчет НВВ '!$AB$78","v":0},{"$f":"'8_Расчет НВВ '!$AB$81+'8_Расчет НВВ '!$AB$80","v":0},{"$f":"'8_Расчет НВВ '!$AB$82","v":0},{"$f":"'8_Расчет НВВ '!$AB$85","v":0},{"$f":"'8_Расчет НВВ '!$AB$84","v":0},{"$f":"'8_Расчет НВВ '!$AB$85","v":0},{"$f":"'8_Расчет НВВ '!$AB$89","v":0},{"$f":"'8_Расчет НВВ '!$AB$90","v":0},{"$f":"'8_Расчет НВВ '!$AB$83","v":0},null,0,0,{"$f":"'8_Расчет НВВ '!$AB$106","v":0},{"$f":"'8_Расчет НВВ '!$AB$110+'8_Расчет НВВ '!$AB$95","v":0},0,{"$f":"'8_Расчет НВВ '!$AB111","v":0},0]
[{"$f":"IFERROR(IF(REPORT_OWNER=\"Версия организации\",\"HIDDEN\",IF(B30>FIRST_PERIOD_IN_LT+PERIOD_LENGTH-1,\"HIDDEN\",\"VISIBLE\")),)","v":"HIDDEN"},{"$f":"B29+1","v":4},null,null,null,{"$f":"F29+1","v":4},"План","План4",{"$f":"'8_Расчет НВВ '!$AD$25","v":0},{"$f":"'8_Расчет НВВ '!$AD$26","v":0},{"$f":"SUM(L30:O30)","v":0},0,0,0,0,{"$f":"'8_Расчет НВВ '!$AD$28*Q30","v":0},{"$f":"'8_Расчет НВВ '!$AD$29","v":0.75},1,0,0,0,0,0,{"$f":"X29*$R30","v":0},{"$f":"SUM(Z30:AE30)","v":0},{"$f":"Z29*$R30","v":0},0,0,0,0,0,0,0,0,0,0,0,0,0,0,{"$f":"'8_Расчет НВВ '!$AD$68/2","v":0},{"$f":"AO30","v":0},null,{"$f":"'8_Расчет НВВ '!$AD$70","v":0},{"$f":"'8_Расчет НВВ '!$AD$75+'8_Расчет НВВ '!$AD$72","v":0},{"$f":"SUM(AU30:AW30)","v":0},{"$f":"'8_Расчет НВВ '!$AD$79","v":0},{"$f":"'8_Расчет НВВ '!$AD$78","v":0},{"$f":"'8_Расчет НВВ '!$AD$81+'8_Расчет НВВ '!$AD$80","v":0},{"$f":"'8_Расчет НВВ '!$AD$82","v":0},{"$f":"'8_Расчет НВВ '!$AD$85","v":0},{"$f":"'8_Расчет НВВ '!$AD$84","v":0},{"$f":"'8_Расчет НВВ '!$AD$85","v":0},{"$f":"'8_Расчет НВВ '!$AD$89","v":0},{"$f":"'8_Расчет НВВ '!$AD$90","v":0},{"$f":"'8_Расчет НВВ '!$AD$83","v":0},null,0,0,{"$f":"'8_Расчет НВВ '!$AD$106","v":0},{"$f":"'8_Расчет НВВ '!$AD$110+'8_Расчет НВВ '!$AD$95","v":0},0,{"$f":"'8_Расчет НВВ '!$AD111","v":0},0]

{"sheet":"47_PEREDACHA.M.ХХ Индекс","index":102,"n_rows":22,"n_cols":74,"rows_kept":22,"cut":false,"hidden":true,"merged":[[8,4,8,5],[16,4,21,4],[12,49,13,49],[12,50,13,50],[12,51,13,51],[12,30,13,30],[12,32,13,32],[12,33,13,33],[12,34,13,34],[12,35,13,35],[12,36,13,36],[12,37,13,37],[9,4,9,5],[10,4,10,5],[11,4,14,4],[11,5,14,5],[11,70,12,71],[12,52,13,52],[12,38,13,38],[12,39,13,39],[12,40,12,41],[12,42,13,42],[12,43,13,43],[12,44,13,44],[12,54,13,54],[11,64,13,64],[12,45,13,45],[12,46,13,46],[12,47,13,47],[12,48,13,48],[11,60,13,60],[11,61,12,62],[11,72,13,72],[11,73,13,73],[12,8,13,8],[12,9,13,9],[12,10,13,10],[12,11,13,11],[12,12,13,12],[12,13,13,13],[12,14,13,14],[12,15,13,15],[11,65,13,65],[11,66,13,66],[11,67,13,67],[11,68,13,68],[11,69,13,69],[12,26,13,26],[11,63,13,63],[12,55,13,55],[12,56,13,56],[12,57,13,57],[12,58,13,58],[11,39,11,58],[11,59,13,59],[12,53,13,53],[11,8,11,17],[11,18,11,38],[12,16,13,16],[12,17,13,17],[12,18,13,18],[12,19,13,19],[12,31,13,31],[12,20,13,20],[12,21,13,21],[12,22,13,22],[12,28,13,28],[12,29,13,29],[12,23,13,23],[12,24,13,24],[12,25,13,25],[12,27,13,27]]}
[]
[]
[]
[]
[]
[]
[]
[]
[null,null,null,null,"Список листов"]
[null,null,null,null,"Расчет НВВ методом индексации"]
[]
[null,null,null,null,"Наименование организации","Период",null,null,"Расчет коэффициента индексации",null,null,null,null,null,null,null,null,null,"Расчет подконтрольных расходов",null,null,null,null,null,null,null,null,null,null,null,null,null,null,null,null,null,null,null,null,"Расчет неподконтрольных расходов",null,null,null,null,null,null,null,null,null,null,null,null,null,null,null,null,null,null,null,"Расходы, связанные с компенсацией незапланированных расходов или полученного избытка","Итого НВВ на содержание сетей","в том числе",null,"Доля стороннего отпуска в сеть от организаций, занимающихся несколькими видами деятельности (без собственных нужд)","Отношение НВВ на содержание сетей текущего года к предыдущему года","Поступление в сеть электроэнергии","Объем технологического расхода (потерь)","Тариф на покупку потерь ","Норматив техноло-гического расхода (потерь) электро-энергии ","Итого расходов на оплату потерь","в том числе",null,"Прирост расходов на оплату потерь текущего года к предыдущему году","Поступление в сеть мощности"]
[null,null,null,null,null,null,null,null,"Инфляция","Индекс эффективности операционных расходов","Количество активов, всего","ВН","СН1","СН2","НН","Индекс изменения количества активов","Коэффициент эластичности затрат по росту активов","Итого коэффициент индексации","Материальные затраты","Сырье, материалы, запасные части, инструмент, топливо","Работы и услуги производственного характера (в т.ч. услуги сторонних организаций по содержанию сетей и распределительных устройств)","Расходы на оплату труда","Прочие расходы, всего, в том числе:","Ремонт основных фондов","Оплата работ и услуг сторонних организаций","услуги связи","Расходы на услуги вневедомственной охраны и коммунального хозяйства","Расходы на юридические и информационные услуги","Расходы на аудиторские и консультационные услуги","Транспортные услуги","Прочие услуги сторонних организаций","Расходы на командировки и представительские","Расходы на подготовку кадров","Расходы на обеспечение нормальных условий труда и мер по технике безопасности","Расходы на страхование","Другие прочие расходы","Электроэнергия на хоз. нужды","Подконтрольные расходы из прибыли","ИТОГО подконтрольные расходы","Оплата услуг ОАО \"ФСК ЕЭС\"","в том числе",null,"Теплоэнергия","Аренда, всего","в том числе аренда объектов электро-\nсетевого комплекса","Налоги (без учета налога на прибыль), всего, в том числе:","плата за землю","Налог на имущество","Прочие налоги и сборы","Отчисления на социальные нужды (ЕСН)","Прочие неподконтрольные расходы","Налог на прибыль, в том числе:","налог на прибыль на капитальные вложения ","Выпадающие доходы по п.87 Основ ценообразования","Амортизация ОС","Прибыль на капитальные вложения","Возврат заемных средств, направляемый на финансирование капитальных вложений","Проверка прибыли на капитальные вложения (не более 12% от НВВ на содержание сетей)","ИТОГО неподконтрольных расходов"]
[null,null,null,null,null,null,"период","слияние",null,null,null,null,null,null,null,null,null,null,null,null,null,null,null,null,null,null,null,null,null,null,null,null,null,null,null,null,null,null,null,null,"Оплата услуг ОАО \"ФСК ЕЭС\"\n1 полугодие","Оплата услуг ОАО \"ФСК ЕЭС\"\n2 полугодие",null,null,null,null,null,null,null,null,null,null,null,null,null,null,null,null,null,null,null,"НВВ на 1 полугодие","НВВ на 2 полугодие",null,null,null,null,null,null,null,"расходы на 1 полугодие","расходы на 2 полугодие"]
[null,null,null,null,null,null,null,null,"%","%","у.е.","у.е.","у.е.","у.е.","у.е.","%",null,null,"тыс.руб","тыс.руб","тыс.руб","тыс.руб","тыс.руб","тыс.руб","тыс.руб","тыс.руб","тыс.руб","тыс.руб","тыс.руб","тыс.руб","тыс.руб","тыс.руб","тыс.руб","тыс.руб","тыс.руб","тыс.руб","тыс.руб","тыс.руб","тыс.руб","тыс.руб","тыс.руб","тыс.руб","тыс.руб","тыс.руб","тыс.руб","тыс.руб","тыс.руб","тыс.руб","тыс.руб","тыс.руб","тыс.руб","тыс.руб","тыс.руб","тыс.руб","тыс.руб","тыс.руб","тыс.руб","%","тыс.руб","тыс.руб","тыс.руб","тыс.руб","тыс.руб","%","%","млн.кВтч","млн.кВтч","руб./МВтч","%","тыс.руб","тыс.руб","тыс.руб","%","МВт"]
[null,null,null,null,"А","Б",null,null,"0.1","0.2","0.3","0.3.1","0.3.2","0.3.3","0.3.4","0.4","0.5","0.6","1.1","1.1.1","1.1.2","1.2","1.3","1.3.1","1.3.2","1.3.2.1","1.3.2.2","1.3.2.3","1.3.2.4","1.3.2.5","1.3.2.6","1.3.3","1.3.4","1.3.5","1.3.6","1.3.7","1.4","1.5","1.6","2.1","2.1.1","2.1.2","2.2","2.3","2.3.1","2.4","2.4.1","2.4.2","2.4.3","2.5","2.6","2.7","2.7.1","2.8","2.9","2.10","2.11","2.12","2.13","3","4","4.1","4.2","5","6","7","8","9","10","11","11.1","11.2","12","13"]
[null,null,null,null,{"$f":"IF(ORG<>0,ORG,\"\")","v":""},{"$f":"IFERROR(F18-1,0)","v":-1},"план",{"$f":"IFERROR(G17&F17,0)","v":"план-1"},null,null,{"$f":"IFERROR(SUM(L17:O17),0)","v":0},null,null,null,null,null,null,null,{"$f":"IFERROR(SUM(T17:U17),0)","v":0},null,null,null,{"$f":"IFERROR(X17+Y17+AF17+AG17+AH17+AI17+AJ17+AK17+AL17,0)","v":0},null,{"$f":"IFERROR(SUM(Z17:AE17),0)","v":0},null,null,null,null,null,null,null,null,null,null,null,null,null,{"$f":"IFERROR(S17+V17+W17,0)","v":0},{"$f":"IFERROR(AO17+AP17,0)","v":0},null,null,null,null,null,{"$f":"IFERROR(SUM(AU17:AW17),0)","v":0},null,null,null,null,null,null,null,null,null,null,null,null,{"$f":"IFERROR(AN17+AQ17+AR17+AT17+AY17+AZ17+BB17+AX17+BC17+BD17+BE17,0)","v":0},null,{"$f":"IFERROR(SUM(BG17,BH17,AM17),0)","v":0},null,{"$f":"IFERROR(BI17-BJ17,0)","v":0},{"$f":"IFERROR(IF('9 Тариф'!H$27=0,0,'9 Тариф'!H$27/('9 Тариф'!H$28+'9 Тариф'!H$27)),0)","v":0},null,{"$f":"IFERROR('9 Тариф'!H$18,0)","v":0},{"$f":"IFERROR('9 Тариф'!H24,0)","v":0},{"$f":"IFERROR('9 Тариф'!H44,0)","v":0},{"$f":"IFERROR(IF(BN17=0,0,BO17/BN17),0)","v":0},{"$f":"IFERROR(BO17*BP17,0)","v":0},null,{"$f":"IFERROR(BR17-BS17,0)","v":0},null,{"$f":"IFERROR('9 Тариф'!H17,0)","v":0}]
[null,null,null,null,null,{"$f":"FIRST_PERIOD_IN_LT","v":0},"план","план0",{"$f":"IFERROR(VLOOKUP(H18,'46_PEREDACHA.XX.FACT.EXPENSES'!$H$16:$O$30,2,0),0)","v":0},{"$f":"IFERROR(VLOOKUP(H18,'46_PEREDACHA.XX.FACT.EXPENSES'!$H$16:$O$30,3,0)*Q18,0)","v":0},0,{"$f":"IFERROR(VLOOKUP($H18,'46_PEREDACHA.XX.FACT.EXPENSES'!$H$16:$Q$30,5,0),0)","v":0},{"$f":"IFERROR(VLOOKUP($H18,'46_PEREDACHA.XX.FACT.EXPENSES'!$H$16:$Q$30,6,0),0)","v":0},{"$f":"IFERROR(VLOOKUP($H18,'46_PEREDACHA.XX.FACT.EXPENSES'!$H$16:$Q$30,7,0),0)","v":0},{"$f":"IFERROR(VLOOKUP($H18,'46_PEREDACHA.XX.FACT.EXPENSES'!$H$16:$Q$30,8,0),0)","v":0},{"$f":"IFERROR(IF(K17=0,0,(K18-K17)/K17),0)","v":0},{"$f":"IFERROR(VLOOKUP($H18,'46_PEREDACHA.XX.FACT.EXPENSES'!$H$16:$Q$30,10,0),0)","v":0.75},null,0,{"$f":"IFERROR(VLOOKUP($H18,'46_PEREDACHA.XX.FACT.EXPENSES'!$H$16:$AL$30,13,0),0)","v":0},{"$f":"IFERROR(VLOOKUP($H18,'46_PEREDACHA.XX.FACT.EXPENSES'!$H$16:$AL$30,14,0),0)","v":0},{"$f":"IFERROR(VLOOKUP($H18,'46_PEREDACHA.XX.FACT.EXPENSES'!$H$16:$AL$30,15,0),0)","v":0},0,{"$f":"IFERROR(VLOOKUP($H18,'46_PEREDACHA.XX.FACT.EXPENSES'!$H$16:$AL$30,17,0),0)","v":0},0,{"$f":"IFERROR(VLOOKUP($H18,'46_PEREDACHA.XX.FACT.EXPENSES'!$H$16:$AL$30,19,0),0)","v":0},{"$f":"IFERROR(VLOOKUP($H18,'46_PEREDACHA.XX.FACT.EXPENSES'!$H$16:$AL$30,20,0),0)","v":0},{"$f":"IFERROR(VLOOKUP($H18,'46_PEREDACHA.XX.FACT.EXPENSES'!$H$16:$AL$30,21,0),0)","v":0},{"$f":"IFERROR(VLOOKUP($H18,'46_PEREDACHA.XX.FACT.EXPENSES'!$H$16:$AL$30,22,0),0)","v":0},{"$f":"IFERROR(VLOOKUP($H18,'46_PEREDACHA.XX.FACT.EXPENSES'!$H$16:$AL$30,23,0),0)","v":0},{"$f":"IFERROR(VLOOKUP($H18,'46_PEREDACHA.XX.FACT.EXPENSES'!$H$16:$AL$30,24,0),0)","v":0},{"$f":"IFERROR(VLOOKUP($H18,'46_PEREDACHA.XX.FACT.EXPENSES'!$H$16:$AL$30,25,0),0)","v":0},{"$f":"IFERROR(VLOOKUP($H18,'46_PEREDACHA.XX.FACT.EXPENSES'!$H$16:$AL$30,26,0),0)","v":0},{"$f":"IFERROR(VLOOKUP($H18,'46_PEREDACHA.XX.FACT.EXPENSES'!$H$16:$AL$30,27,0),0)","v":0},{"$f":"IFERROR(VLOOKUP($H18,'46_PEREDACHA.XX.FACT.EXPENSES'!$H$16:$AL$30,28,0),0)","v":0},{"$f":"IFERROR(VLOOKUP($H18,'46_PEREDACHA.XX.FACT.EXPENSES'!$H$16:$AL$30,29,0),0)","v":0},{"$f":"IFERROR(VLOOKUP($H18,'46_PEREDACHA.XX.FACT.EXPENSES'!$H$16:$AL$30,30,0),0)","v":0},{"$f":"IFERROR(VLOOKUP($H18,'46_PEREDACHA.XX.FACT.EXPENSES'!$H$16:$AL$30,31,0),0)","v":0},0,0,{"$f":"IFERROR(VLOOKUP($H18,'46_PEREDACHA.XX.FACT.EXPENSES'!$H$16:$BI$30,34,0),0)","v":0},{"$f":"IFERROR(VLOOKUP($H18,'46_PEREDACHA.XX.FACT.EXPENSES'!$H$16:$BI$30,35,0),0)","v":0},{"$f":"IFERROR(VLOOKUP($H18,'46_PEREDACHA.XX.FACT.EXPENSES'!$H$16:$BI$30,36,0),0)","v":0},{"$f":"IFERROR(VLOOKUP($H18,'46_PEREDACHA.XX.FACT.EXPENSES'!$H$16:$BI$30,37,0),0)","v":0},{"$f":"IFERROR(VLOOKUP($H18,'46_PEREDACHA.XX.FACT.EXPENSES'!$H$16:$BI$30,38,0),0)","v":0},0,{"$f":"IFERROR(VLOOKUP($H18,'46_PEREDACHA.XX.FACT.EXPENSES'!$H$16:$BI$30,40,0),0)","v":0},{"$f":"IFERROR(VLOOKUP($H18,'46_PEREDACHA.XX.FACT.EXPENSES'!$H$16:$BI$30,41,0),0)","v":0},{"$f":"IFERROR(VLOOKUP($H18,'46_PEREDACHA.XX.FACT.EXPENSES'!$H$16:$BI$30,42,0),0)","v":0},{"$f":"IFERROR(VLOOKUP($H18,'46_PEREDACHA.XX.FACT.EXPENSES'!$H$16:$BI$30,43,0),0)","v":0},{"$f":"IFERROR(VLOOKUP($H18,'46_PEREDACHA.XX.FACT.EXPENSES'!$H$16:$BI$30,44,0),0)","v":0},{"$f":"IFERROR(VLOOKUP($H18,'46_PEREDACHA.XX.FACT.EXPENSES'!$H$16:$BI$30,45,0),0)","v":0},{"$f":"IFERROR(VLOOKUP($H18,'46_PEREDACHA.XX.FACT.EXPENSES'!$H$16:$BI$30,46,0),0)","v":0},{"$f":"IFERROR(VLOOKUP($H18,'46_PEREDACHA.XX.FACT.EXPENSES'!$H$16:$BI$30,47,0),0)","v":0},{"$f":"IFERROR(VLOOKUP($H18,'46_PEREDACHA.XX.FACT.EXPENSES'!$H$16:$BI$30,48,0),0)","v":0},{"$f":"IFERROR(VLOOKUP($H18,'46_PEREDACHA.XX.FACT.EXPENSES'!$H$16:$BI$30,49,0),0)","v":0},{"$f":"IFERROR(VLOOKUP($H18,'46_PEREDACHA.XX.FACT.EXPENSES'!$H$16:$BI$30,50,0),0)","v":0},{"$f":"IFERROR(nerr((BD18+BE18)/(BI18-AN18-BA18-BD18-BE18-AS18)),0)","v":0},0,{"$f":"IFERROR(VLOOKUP($H18,'46_PEREDACHA.XX.FACT.EXPENSES'!$H$16:$BI$30,53,0),0)","v":0},0,null,0,{"$f":"IFERROR(IF('9 Тариф'!K$27=0,0,'9 Тариф'!K$27/('9 Тариф'!K$28+'9 Тариф'!K$27)),0)","v":0},{"$f":"IFERROR(nerr((BI18-BI17)/BI17),0)","v":0},{"$f":"IFERROR('9 Тариф'!K18,0)","v":0},{"$f":"IFERROR('9 Тариф'!K24,0)","v":0},{"$f":"IFERROR('9 Тариф'!K44,0)","v":0},0,0,{"$f":"IFERROR('9 Тариф'!L45,0)","v":0},0,{"$f":"IFERROR(nerr((BR18-BR17)/BR17),0)","v":0},{"$f":"IFERROR('9 Тариф'!K17,0)","v":0}]
[{"$f":"IFERROR(IF(REPORT_OWNER=\"Версия организации\",\"HIDDEN\",IF(F19>FIRST_PERIOD_IN_LT+PERIOD_LENGTH-1,\"HIDDEN\",\"VISIBLE\")),)","v":"HIDDEN"},null,null,null,null,{"$f":"IFERROR(F18+1,0)","v":1},"план","план1",{"$f":"IFERROR(VLOOKUP(H19,'46_PEREDACHA.XX.FACT.EXPENSES'!$H$16:$O$30,2,0),0)","v":0},{"$f":"IFERROR(VLOOKUP(H19,'46_PEREDACHA.XX.FACT.EXPENSES'!$H$16:$O$30,3,0),0)","v":0},0,{"$f":"IFERROR(VLOOKUP($H19,'46_PEREDACHA.XX.FACT.EXPENSES'!$H$16:$Q$30,5,0),0)","v":0},{"$f":"IFERROR(VLOOKUP($H19,'46_PEREDACHA.XX.FACT.EXPENSES'!$H$16:$Q$30,6,0),0)","v":0},{"$f":"IFERROR(VLOOKUP($H19,'46_PEREDACHA.XX.FACT.EXPENSES'!$H$16:$Q$30,7,0),0)","v":0},{"$f":"IFERROR(VLOOKUP($H19,'46_PEREDACHA.XX.FACT.EXPENSES'!$H$16:$Q$30,8,0),0)","v":0},{"$f":"IFERROR(IF(K18=0,0,(K19-K18)/K18*Q19),0)","v":0},0.75,{"$f":"IFERROR((1+I19)*(1-J19)*(1+P19),0)","v":1},0,{"$f":"IFERROR(T18*$R19,0)","v":0},0,0,0,{"$f":"IFERROR(X18*$R19,0)","v":0},0,{"$f":"IFERROR(Z18*$R19,0)","v":0},0,0,0,0,0,0,0,0,0,0,0,0,0,0,{"$f":"IFERROR(VLOOKUP($H19,'46_PEREDACHA.XX.FACT.EXPENSES'!$H$16:$BI$30,34,0),0)","v":0},{"$f":"IFERROR(VLOOKUP($H19,'46_PEREDACHA.XX.FACT.EXPENSES'!$H$16:$BI$30,35,0),0)","v":0},{"$f":"IFERROR(VLOOKUP($H19,'46_PEREDACHA.XX.FACT.EXPENSES'!$H$16:$BI$30,36,0),0)","v":0},{"$f":"IFERROR(VLOOKUP($H19,'46_PEREDACHA.XX.FACT.EXPENSES'!$H$16:$BI$30,37,0),0)","v":0},{"$f":"IFERROR(VLOOKUP($H19,'46_PEREDACHA.XX.FACT.EXPENSES'!$H$16:$BI$30,38,0),0)","v":0},0,{"$f":"IFERROR(VLOOKUP($H19,'46_PEREDACHA.XX.FACT.EXPENSES'!$H$16:$BI$30,40,0),0)","v":0},{"$f":"IFERROR(VLOOKUP($H19,'46_PEREDACHA.XX.FACT.EXPENSES'!$H$16:$BI$30,41,0),0)","v":0},{"$f":"IFERROR(VLOOKUP($H19,'46_PEREDACHA.XX.FACT.EXPENSES'!$H$16:$BI$30,42,0),0)","v":0},{"$f":"IFERROR(VLOOKUP($H19,'46_PEREDACHA.XX.FACT.EXPENSES'!$H$16:$BI$30,43,0),0)","v":0},{"$f":"IFERROR(VLOOKUP($H19,'46_PEREDACHA.XX.FACT.EXPENSES'!$H$16:$BI$30,44,0),0)","v":0},{"$f":"IFERROR(VLOOKUP($H19,'46_PEREDACHA.XX.FACT.EXPENSES'!$H$16:$BI$30,45,0),0)","v":0},{"$f":"IFERROR(VLOOKUP($H19,'46_PEREDACHA.XX.FACT.EXPENSES'!$H$16:$BI$30,46,0),0)","v":0},{"$f":"IFERROR(VLOOKUP($H19,'46_PEREDACHA.XX.FACT.EXPENSES'!$H$16:$BI$30,47,0),0)","v":0},{"$f":"IFERROR(VLOOKUP($H19,'46_PEREDACHA.XX.FACT.EXPENSES'!$H$16:$BI$30,48,0),0)","v":0},{"$f":"IFERROR(VLOOKUP($H19,'46_PEREDACHA.XX.FACT.EXPENSES'!$H$16:$BI$30,49,0),0)","v":0},{"$f":"IFERROR(VLOOKUP($H19,'46_PEREDACHA.XX.FACT.EXPENSES'!$H$16:$BI$30,50,0),0)","v":0},{"$f":"IFERROR(nerr((BD19+BE19)/(BI19-AN19-BA19-BD19-BE19-AS19)),0)","v":0},0,{"$f":"IFERROR(VLOOKUP($H19,'46_PEREDACHA.XX.FACT.EXPENSES'!$H$16:$BI$30,53,0),0)","v":0},0,null,0,{"$f":"IFERROR(IF('9 Тариф'!P$27=0,0,'9 Тариф'!P$27/('9 Тариф'!P$28+'9 Тариф'!P$27)),0)","v":0},{"$f":"IFERROR(nerr((BI19-BI18)/BI18),0)","v":0},{"$f":"IFERROR('9 Тариф'!P18,0)","v":0},{"$f":"IFERROR('9 Тариф'!P24,0)","v":0},{"$f":"IFERROR('9 Тариф'!P44,0)","v":0},0,0,{"$f":"IFERROR('9 Тариф'!Q45,0)","v":0},0,{"$f":"IFERROR(nerr((BR19-BR18)/BR18),0)","v":0},{"$f":"IFERROR('9 Тариф'!P17,0)","v":0}]
[{"$f":"IFERROR(IF(REPORT_OWNER=\"Версия организации\",\"HIDDEN\",IF(F20>FIRST_PERIOD_IN_LT+PERIOD_LENGTH-1,\"HIDDEN\",\"VISIBLE\")),)","v":"HIDDEN"},null,null,null,null,{"$f":"IFERROR(F19+1,0)","v":2},"план","план2",{"$f":"IFERROR(VLOOKUP(H20,'46_PEREDACHA.XX.FACT.EXPENSES'!$H$16:$O$30,2,0),0)","v":0},{"$f":"IFERROR(VLOOKUP(H20,'46_PEREDACHA.XX.FACT.EXPENSES'!$H$16:$O$30,3,0),0)","v":0},0,{"$f":"IFERROR(VLOOKUP($H20,'46_PEREDACHA.XX.FACT.EXPENSES'!$H$16:$Q$30,5,0),0)","v":0},{"$f":"IFERROR(VLOOKUP($H20,'46_PEREDACHA.XX.FACT.EXPENSES'!$H$16:$Q$30,6,0),0)","v":0},{"$f":"IFERROR(VLOOKUP($H20,'46_PEREDACHA.XX.FACT.EXPENSES'!$H$16:$Q$30,7,0),0)","v":0},{"$f":"IFERROR(VLOOKUP($H20,'46_PEREDACHA.XX.FACT.EXPENSES'!$H$16:$Q$30,8,0),0)","v":0},{"$f":"IFERROR(IF(K19=0,0,(K20-K19)/K19*Q20),0)","v":0},0.75,{"$f":"IFERROR((1+I20)*(1-J20)*(1+P20),0)","v":1},0,0,0,0,0,{"$f":"IFERROR(X19*$R20,0)","v":0},0,0,0,0,0,0,0,0,0,0,0,0,0,0,0,0,{"$f":"IFERROR(VLOOKUP($H20,'46_PEREDACHA.XX.FACT.EXPENSES'!$H$16:$BI$30,34,0),0)","v":0},{"$f":"IFERROR(VLOOKUP($H20,'46_PEREDACHA.XX.FACT.EXPENSES'!$H$16:$BI$30,35,0),0)","v":0},{"$f":"IFERROR(VLOOKUP($H20,'46_PEREDACHA.XX.FACT.EXPENSES'!$H$16:$BI$30,36,0),0)","v":0},{"$f":"IFERROR(VLOOKUP($H20,'46_PEREDACHA.XX.FACT.EXPENSES'!$H$16:$BI$30,37,0),0)","v":0},{"$f":"IFERROR(VLOOKUP($H20,'46_PEREDACHA.XX.FACT.EXPENSES'!$H$16:$BI$30,38,0),0)","v":0},0,{"$f":"IFERROR(VLOOKUP($H20,'46_PEREDACHA.XX.FACT.EXPENSES'!$H$16:$BI$30,40,0),0)","v":0},{"$f":"IFERROR(VLOOKUP($H20,'46_PEREDACHA.XX.FACT.EXPENSES'!$H$16:$BI$30,41,0),0)","v":0},{"$f":"IFERROR(VLOOKUP($H20,'46_PEREDACHA.XX.FACT.EXPENSES'!$H$16:$BI$30,42,0),0)","v":0},{"$f":"IFERROR(VLOOKUP($H20,'46_PEREDACHA.XX.FACT.EXPENSES'!$H$16:$BI$30,43,0),0)","v":0},{"$f":"IFERROR(VLOOKUP($H20,'46_PEREDACHA.XX.FACT.EXPENSES'!$H$16:$BI$30,44,0),0)","v":0},{"$f":"IFERROR(VLOOKUP($H20,'46_PEREDACHA.XX.FACT.EXPENSES'!$H$16:$BI$30,45,0),0)","v":0},{"$f":"IFERROR(VLOOKUP($H20,'46_PEREDACHA.XX.FACT.EXPENSES'!$H$16:$BI$30,46,0),0)","v":0},{"$f":"IFERROR(VLOOKUP($H20,'46_PEREDACHA.XX.FACT.EXPENSES'!$H$16:$BI$30,47,0),0)","v":0},{"$f":"IFERROR(VLOOKUP($H20,'46_PEREDACHA.XX.FACT.EXPENSES'!$H$16:$BI$30,48,0),0)","v":0},{"$f":"IFERROR(VLOOKUP($H20,'46_PEREDACHA.XX.FACT.EXPENSES'!$H$16:$BI$30,49,0),0)","v":0},{"$f":"IFERROR(VLOOKUP($H20,'46_PEREDACHA.XX.FACT.EXPENSES'!$H$16:$BI$30,50,0),0)","v":0},{"$f":"IFERROR(nerr((BD20+BE20)/(BI20-AN20-BA20-BD20-BE20-AS20)),0)","v":0},0,{"$f":"IFERROR(VLOOKUP($H20,'46_PEREDACHA.XX.FACT.EXPENSES'!$H$16:$BI$30,53,0),0)","v":0},0,null,0,null,{"$f":"IFERROR(nerr((BI20-BI19)/BI19),0)","v":0},null,null,null,0,0,null,0,{"$f":"IFERROR(nerr((BR20-BR19)/BR19),0)","v":0}]
[{"$f":"IFERROR(IF(REPORT_OWNER=\"Версия организации\",\"HIDDEN\",IF(F21>FIRST_PERIOD_IN_LT+PERIOD_LENGTH-1,\"HIDDEN\",\"VISIBLE\")),)","v":"HIDDEN"},null,null,null,null,{"$f":"IFERROR(F20+1,0)","v":3},"план","план3",{"$f":"IFERROR(VLOOKUP(H21,'46_PEREDACHA.XX.FACT.EXPENSES'!$H$16:$O$30,2,0),0)","v":0},{"$f":"IFERROR(VLOOKUP(H21,'46_PEREDACHA.XX.FACT.EXPENSES'!$H$16:$O$30,3,0),0)","v":0},0,{"$f":"IFERROR(VLOOKUP($H21,'46_PEREDACHA.XX.FACT.EXPENSES'!$H$16:$Q$30,5,0),0)","v":0},{"$f":"IFERROR(VLOOKUP($H21,'46_PEREDACHA.XX.FACT.EXPENSES'!$H$16:$Q$30,6,0),0)","v":0},{"$f":"IFERROR(VLOOKUP($H21,'46_PEREDACHA.XX.FACT.EXPENSES'!$H$16:$Q$30,7,0),0)","v":0},{"$f":"IFERROR(VLOOKUP($H21,'46_PEREDACHA.XX.FACT.EXPENSES'!$H$16:$Q$30,8,0),0)","v":0},{"$f":"IFERROR(IF(K20=0,0,(K21-K20)/K20*Q21),0)","v":0},0.75,{"$f":"IFERROR((1+I21)*(1-J21)*(1+P21),0)","v":1},0,0,0,0,0,{"$f":"IFERROR(X20*$R21,0)","v":0},0,0,0,0,0,0,0,0,0,0,0,0,0,0,0,0,{"$f":"IFERROR(VLOOKUP($H21,'46_PEREDACHA.XX.FACT.EXPENSES'!$H$16:$BI$30,34,0),0)","v":0},{"$f":"IFERROR(VLOOKUP($H21,'46_PEREDACHA.XX.FACT.EXPENSES'!$H$16:$BI$30,35,0),0)","v":0},{"$f":"IFERROR(VLOOKUP($H21,'46_PEREDACHA.XX.FACT.EXPENSES'!$H$16:$BI$30,36,0),0)","v":0},{"$f":"IFERROR(VLOOKUP($H21,'46_PEREDACHA.XX.FACT.EXPENSES'!$H$16:$BI$30,37,0),0)","v":0},{"$f":"IFERROR(VLOOKUP($H21,'46_PEREDACHA.XX.FACT.EXPENSES'!$H$16:$BI$30,38,0),0)","v":0},0,{"$f":"IFERROR(VLOOKUP($H21,'46_PEREDACHA.XX.FACT.EXPENSES'!$H$16:$BI$30,40,0),0)","v":0},{"$f":"IFERROR(VLOOKUP($H21,'46_PEREDACHA.XX.FACT.EXPENSES'!$H$16:$BI$30,41,0),0)","v":0},{"$f":"IFERROR(VLOOKUP($H21,'46_PEREDACHA.XX.FACT.EXPENSES'!$H$16:$BI$30,42,0),0)","v":0},{"$f":"IFERROR(VLOOKUP($H21,'46_PEREDACHA.XX.FACT.EXPENSES'!$H$16:$BI$30,43,0),0)","v":0},{"$f":"IFERROR(VLOOKUP($H21,'46_PEREDACHA.XX.FACT.EXPENSES'!$H$16:$BI$30,44,0),0)","v":0},{"$f":"IFERROR(VLOOKUP($H21,'46_PEREDACHA.XX.FACT.EXPENSES'!$H$16:$BI$30,45,0),0)","v":0},{"$f":"IFERROR(VLOOKUP($H21,'46_PEREDACHA.XX.FACT.EXPENSES'!$H$16:$BI$30,46,0),0)","v":0},{"$f":"IFERROR(VLOOKUP($H21,'46_PEREDACHA.XX.FACT.EXPENSES'!$H$16:$BI$30,47,0),0)","v":0},{"$f":"IFERROR(VLOOKUP($H21,'46_PEREDACHA.XX.FACT.EXPENSES'!$H$16:$BI$30,48,0),0)","v":0},{"$f":"IFERROR(VLOOKUP($H21,'46_PEREDACHA.XX.FACT.EXPENSES'!$H$16:$BI$30,49,0),0)","v":0},{"$f":"IFERROR(VLOOKUP($H21,'46_PEREDACHA.XX.FACT.EXPENSES'!$H$16:$BI$30,50,0),0)","v":0},{"$f":"IFERROR(nerr((BD21+BE21)/(BI21-AN21-BA21-BD21-BE21-AS21)),0)","v":0},0,{"$f":"IFERROR(VLOOKUP($H21,'46_PEREDACHA.XX.FACT.EXPENSES'!$H$16:$BI$30,53,0),0)","v":0},0,null,0,null,{"$f":"IFERROR(nerr((BI21-BI20)/BI20),0)","v":0},null,null,null,0,0,null,0,{"$f":"IFERROR(nerr((BR21-BR20)/BR20),0)","v":0}]
[{"$f":"IFERROR(IF(REPORT_OWNER=\"Версия организации\",\"HIDDEN\",IF(F22>FIRST_PERIOD_IN_LT+PERIOD_LENGTH-1,\"HIDDEN\",\"VISIBLE\")),)","v":"HIDDEN"},null,null,null,null,{"$f":"IFERROR(F21+1,0)","v":4},"план","план4",{"$f":"IFERROR(VLOOKUP(H22,'46_PEREDACHA.XX.FACT.EXPENSES'!$H$16:$O$30,2,0),0)","v":0},{"$f":"IFERROR(VLOOKUP(H22,'46_PEREDACHA.XX.FACT.EXPENSES'!$H$16:$O$30,3,0),0)","v":0},0,{"$f":"IFERROR(VLOOKUP($H22,'46_PEREDACHA.XX.FACT.EXPENSES'!$H$16:$Q$30,5,0),0)","v":0},{"$f":"IFERROR(VLOOKUP($H22,'46_PEREDACHA.XX.FACT.EXPENSES'!$H$16:$Q$30,6,0),0)","v":0},{"$f":"IFERROR(VLOOKUP($H22,'46_PEREDACHA.XX.FACT.EXPENSES'!$H$16:$Q$30,7,0),0)","v":0},{"$f":"IFERROR(VLOOKUP($H22,'46_PEREDACHA.XX.FACT.EXPENSES'!$H$16:$Q$30,8,0),0)","v":0},{"$f":"IFERROR(IF(K21=0,0,(K22-K21)/K21*Q22),0)","v":0},0.75,{"$f":"IFERROR((1+I22)*(1-J22)*(1+P22),0)","v":1},0,0,0,0,0,{"$f":"IFERROR(X21*$R22,0)","v":0},0,0,0,0,0,0,0,0,0,0,0,0,0,0,0,0,{"$f":"IFERROR(VLOOKUP($H22,'46_PEREDACHA.XX.FACT.EXPENSES'!$H$16:$BI$30,34,0),0)","v":0},{"$f":"IFERROR(VLOOKUP($H22,'46_PEREDACHA.XX.FACT.EXPENSES'!$H$16:$BI$30,35,0),0)","v":0},{"$f":"IFERROR(VLOOKUP($H22,'46_PEREDACHA.XX.FACT.EXPENSES'!$H$16:$BI$30,36,0),0)","v":0},{"$f":"IFERROR(VLOOKUP($H22,'46_PEREDACHA.XX.FACT.EXPENSES'!$H$16:$BI$30,37,0),0)","v":0},{"$f":"IFERROR(VLOOKUP($H22,'46_PEREDACHA.XX.FACT.EXPENSES'!$H$16:$BI$30,38,0),0)","v":0},0,{"$f":"IFERROR(VLOOKUP($H22,'46_PEREDACHA.XX.FACT.EXPENSES'!$H$16:$BI$30,40,0),0)","v":0},{"$f":"IFERROR(VLOOKUP($H22,'46_PEREDACHA.XX.FACT.EXPENSES'!$H$16:$BI$30,41,0),0)","v":0},{"$f":"IFERROR(VLOOKUP($H22,'46_PEREDACHA.XX.FACT.EXPENSES'!$H$16:$BI$30,42,0),0)","v":0},{"$f":"IFERROR(VLOOKUP($H22,'46_PEREDACHA.XX.FACT.EXPENSES'!$H$16:$BI$30,43,0),0)","v":0},{"$f":"IFERROR(VLOOKUP($H22,'46_PEREDACHA.XX.FACT.EXPENSES'!$H$16:$BI$30,44,0),0)","v":0},{"$f":"IFERROR(VLOOKUP($H22,'46_PEREDACHA.XX.FACT.EXPENSES'!$H$16:$BI$30,45,0),0)","v":0},{"$f":"IFERROR(VLOOKUP($H22,'46_PEREDACHA.XX.FACT.EXPENSES'!$H$16:$BI$30,46,0),0)","v":0},{"$f":"IFERROR(VLOOKUP($H22,'46_PEREDACHA.XX.FACT.EXPENSES'!$H$16:$BI$30,47,0),0)","v":0},{"$f":"IFERROR(VLOOKUP($H22,'46_PEREDACHA.XX.FACT.EXPENSES'!$H$16:$BI$30,48,0),0)","v":0},{"$f":"IFERROR(VLOOKUP($H22,'46_PEREDACHA.XX.FACT.EXPENSES'!$H$16:$BI$30,49,0),0)","v":0},{"$f":"IFERROR(VLOOKUP($H22,'46_PEREDACHA.XX.FACT.EXPENSES'!$H$16:$BI$30,50,0),0)","v":0},{"$f":"IFERROR(nerr((BD22+BE22)/(BI22-AN22-BA22-BD22-BE22-AS22)),0)","v":0},0,{"$f":"IFERROR(VLOOKUP($H22,'46_PEREDACHA.XX.FACT.EXPENSES'!$H$16:$BI$30,53,0),0)","v":0},0,null,0,null,{"$f":"IFERROR(nerr((BI22-BI21)/BI21),0)","v":0},null,null,null,0,0,null,0,{"$f":"IFERROR(nerr((BR22-BR21)/BR21),0)","v":0}]

{"sheet":"modfrmReestr","index":103,"n_rows":0,"n_cols":0,"rows_kept":0,"cut":false,"hidden":true,"merged":[]}

{"sheet":"modReestr","index":104,"n_rows":2,"n_cols":3,"rows_kept":2,"cut":false,"hidden":true,"merged":[]}
["ID","LINK_NAME","REGION"]
["64275710","https://regportal-tariff.ru/disclo/get_file?p_guid=????????-????-????-????-????????????","ALL"]

{"sheet":"REESTR_MO","index":105,"n_rows":110,"n_cols":6,"rows_kept":110,"cut":false,"hidden":true,"merged":[]}
["МР","МО","ОКТМО","ТИП МО","МР","ИМЯ ДИАПАЗОНА"]
["Беломорский муниципальный район","Город Беломорск","86604101","городское поселение, в состав которого входит город","Беломорский муниципальный район","MO_LIST_2"]
["Беломорский муниципальный район","Летнереченское сельское поселение","86604409","сельское поселение","Калевальский муниципальный район","MO_LIST_3"]
["Беломорский муниципальный район","Сосновецкое сельское поселение","86604430","сельское поселение","Кемский муниципальный район","MO_LIST_4"]
["Беломорский муниципальный район","Сумпосадское сельское поселение","86604433","сельское поселение","Кондопожский муниципальный район","MO_LIST_5"]
["Калевальский муниципальный район","Боровское сельское поселение","86609405","сельское поселение","Костомукшский","MO_LIST_6"]
["Калевальский муниципальный район","Луусалмское сельское поселение","86609444","сельское поселение","Лахденпохский муниципальный район","MO_LIST_7"]
["Калевальский муниципальный район","Поселок городского типа Калевала","86609151","городское поселение, в состав которого входит поселок","Лоухский муниципальный район","MO_LIST_8"]
["Калевальский муниципальный район","Юшкозерское сельское поселение","86609455","сельское поселение","Медвежьегорский муниципальный район","MO_LIST_9"]
["Кемский муниципальный район","Город Кемь","86612101","городское поселение, в состав которого входит город","Муезерский муниципальный район","MO_LIST_10"]
["Кемский муниципальный район","Кривопорожское сельское поселение","86612437","сельское поселение","Олонецкий муниципальный район","MO_LIST_11"]
["Кемский муниципальный район","Куземское сельское поселение","86612444","сельское поселение","Петрозаводский","MO_LIST_12"]
["Кемский муниципальный район","Рабочеостровское сельское поселение","86612460","сельское поселение","Питкярантский муниципальный район","MO_LIST_13"]
["Кондопожский муниципальный район","Гирвасское сельское поселение","86615412","сельское поселение","Прионежский муниципальный район","MO_LIST_14"]
["Кондопожский муниципальный район","Город Кондопога","86615101","городское поселение, в состав которого входит город","Пряжинский муниципальный район","MO_LIST_15"]
["Кондопожский муниципальный район","Кедрозерское сельское поселение","86615425","сельское поселение","Пудожский муниципальный район","MO_LIST_16"]
["Кондопожский муниципальный район","Кончезерское сельское поселение","86615415","сельское поселение","Сегежский муниципальный район","MO_LIST_17"]
["Кондопожский муниципальный район","Кяппесельгское сельское поселение","86615420","сельское поселение","Сортавальский муниципальный район","MO_LIST_18"]
["Кондопожский муниципальный район","Новинское сельское поселение","86615430","сельское поселение","Суоярвский муниципальный район","MO_LIST_19"]
["Кондопожский муниципальный район","Петровское сельское поселение","86615435","сельское поселение"]
["Кондопожский муниципальный район","Янишпольское сельское поселение","86615455","сельское поселение"]
["Костомукшский","Костомукшский","86706000","городской округ"]
["Лахденпохский муниципальный район","Город Лахденпохья","86618101","городское поселение, в состав которого входит город"]
["Лахденпохский муниципальный район","Куркиекское сельское поселение","86618411","сельское поселение"]
["Лахденпохский муниципальный район","Мийнальское сельское поселение","86618422","сельское поселение"]
["Лахденпохский муниципальный район","Хийтольское сельское поселение","86618433","сельское поселение"]
["Лахденпохский муниципальный район","Элисенваарское сельское поселение","86618450","сельское поселение"]
["Лоухский муниципальный район","Амбарнское сельское поселение","86621403","сельское поселение"]
["Лоухский муниципальный район","Кестеньгское сельское поселение","86621425","сельское поселение"]
["Лоухский муниципальный район","Малиновараккское сельское поселение","86621430","сельское поселение"]
["Лоухский муниципальный район","Плотинское сельское поселение","86621452","сельское поселение"]
["Лоухский муниципальный район","Поселок городского типа Лоухи","86621151","городское поселение, в состав которого входит поселок"]
["Лоухский муниципальный район","Пяозерское городское поселение","86621162","городское поселение, в состав которого входит поселок"]
["Лоухский муниципальный район","Чупинское городское поселение","86621170","городское поселение, в состав которого входит поселок"]
["Медвежьегорский муниципальный район","Великогубское сельское поселение","86624405","сельское поселение"]
["Медвежьегорский муниципальный район","Город Медвежьегорск","86624101","городское поселение, в состав которого входит город"]
["Медвежьегорский муниципальный район","Паданское сельское поселение","86624435","сельское поселение"]
["Медвежьегорский муниципальный район","Пиндушское городское поселение","86624155","городское поселение, в состав которого входит поселок"]
["Медвежьегорский муниципальный район","Повенецкое городское поселение","86624160","городское поселение, в состав которого входит поселок"]
["Медвежьегорский муниципальный район","Толвуйское сельское поселение","86624450","сельское поселение"]
["Медвежьегорский муниципальный район","Чебинское сельское поселение","86624455","сельское поселение"]
["Медвежьегорский муниципальный район","Челмужское сельское поселение","86624460","сельское поселение"]
["Медвежьегорский муниципальный район","Шуньгское сельское поселение","86624470","сельское поселение"]
["Муезерский муниципальный район","Воломское сельское поселение","86627410","сельское поселение"]
["Муезерский муниципальный район","Ледмозерское сельское поселение","86627427","сельское поселение"]
["Муезерский муниципальный район","Лендерское сельское поселение","86627430","сельское поселение"]
["Муезерский муниципальный район","Пенингское сельское поселение","86627445","сельское поселение"]
["Муезерский муниципальный район","Поселок городского типа Муезерский","86627151","городское поселение, в состав которого входит поселок"]
["Муезерский муниципальный район","Ребольское сельское поселение","86627450","сельское поселение"]
["Муезерский муниципальный район","Ругозерское сельское поселение","86627460","сельское поселение"]
["Муезерский муниципальный район","Суккозерское сельское поселение","86627465","сельское поселение"]
["Олонецкий муниципальный район","Видлицкое сельское поселение","86630410","сельское поселение"]
["Олонецкий муниципальный район","Город Олонец","86630101","городское поселение, в состав которого входит город"]
["Олонецкий муниципальный район","Ильинское сельское поселение","86630415","сельское поселение"]
["Олонецкий муниципальный район","Коверское сельское поселение","86630419","сельское поселение"]
["Олонецкий муниципальный район","Коткозерское сельское поселение","86630420","сельское поселение"]
["Олонецкий муниципальный район","Куйтежское сельское поселение","86630430","сельское поселение"]
["Олонецкий муниципальный район","Мегрегское сельское поселение","86630440","сельское поселение"]
["Олонецкий муниципальный район","Михайловское сельское поселение","86630450","сельское поселение"]
["Олонецкий муниципальный район","Туксинское сельское поселение","86630490","сельское поселение"]
["Петрозаводский","Петрозаводский","86701000","городской округ"]
["Питкярантский муниципальный район","Город Питкяранта","86633101","городское поселение, в состав которого входит город"]
["Питкярантский муниципальный район","Импилахтинское сельское поселение","86633405","сельское поселение"]
["Питкярантский муниципальный район","Ляскельское сельское поселение","86633409","сельское поселение"]
["Питкярантский муниципальный район","Салминское сельское поселение","86633420","сельское поселение"]
["Питкярантский муниципальный район","Харлуское сельское поселение","86633430","сельское поселение"]
["Прионежский муниципальный район","Гарнизонное сельское поселение","86636410","сельское поселение"]
["Прионежский муниципальный район","Деревянкское сельское поселение","86636420","сельское поселение"]
["Прионежский муниципальный район","Деревянское сельское поселение","86636422","сельское поселение"]
["Прионежский муниципальный район","Заозерское сельское поселение","86636433","сельское поселение"]
["Прионежский муниципальный район","Ладва-Веткинское сельское поселение","86636436","сельское поселение"]
["Прионежский муниципальный район","Ладвинское сельское поселение","86636438","сельское поселение"]
["Прионежский муниципальный район","Мелиоративное сельское поселение","86636440","сельское поселение"]
["Прионежский муниципальный район","Нововилговское сельское поселение","86636411","сельское поселение"]
["Прионежский муниципальный район","Пайское сельское поселение","86636442","сельское поселение"]
["Прионежский муниципальный район","Рыборецкое вепсское сельское поселение","86636443","сельское поселение"]
["Прионежский муниципальный район","Шелтозерское вепсское сельское поселение","86636475","сельское поселение"]
["Прионежский муниципальный район","Шокшинское вепсское сельское поселение","86636476","сельское поселение"]
["Прионежский муниципальный район","Шуйское сельское поселение","86636470","сельское поселение"]
["Пряжинский муниципальный район","Ведлозерское сельское поселение","86639405","сельское поселение"]
["Пряжинский муниципальный район","Крошнозерское сельское поселение","86639425","сельское поселение"]
["Пряжинский муниципальный район","Матросское сельское поселение","86639435","сельское поселение"]
["Пряжинский муниципальный район","Поселок городского типа Пряжа","86639151","городское поселение, в состав которого входит поселок"]
["Пряжинский муниципальный район","Святозерское сельское поселение","86639450","сельское поселение"]
["Пряжинский муниципальный район","Чалнинское сельское поселение","86639458","сельское поселение"]
["Пряжинский муниципальный район","Эссойльское сельское поселение","86639460","сельское поселение"]
["Пудожский муниципальный район","Авдеевское сельское поселение","86642405","сельское поселение"]
["Пудожский муниципальный район","Город Пудож","86642101","городское поселение, в состав которого входит город"]
["Пудожский муниципальный район","Красноборское сельское поселение","86642416","сельское поселение"]
["Пудожский муниципальный район","Кривецкое сельское поселение","86642420","сельское поселение"]
["Пудожский муниципальный район","Кубовское сельское поселение","86642425","сельское поселение"]
["Пудожский муниципальный район","Куганаволокское сельское поселение","86642430","сельское поселение"]
["Пудожский муниципальный район","Пяльмское сельское поселение","86642442","сельское поселение"]
["Пудожский муниципальный район","Шальское сельское поселение","86642460","сельское поселение"]
["Сегежский муниципальный район","Валдайское сельское поселение","86645411","сельское поселение"]
["Сегежский муниципальный район","Город Сегежа","86645101","городское поселение, в состав которого входит город"]
["Сегежский муниципальный район","Идельское сельское поселение","86645420","сельское поселение"]
["Сегежский муниципальный район","Надвоицкое городское поселение","86645160","городское поселение, в состав которого входит поселок"]
["Сегежский муниципальный район","Поповпорожское сельское поселение","86645444","сельское поселение"]
["Сегежский муниципальный район","Чернопорожское сельское поселение","86645450","сельское поселение"]
["Сортавальский муниципальный район","Вяртсильское городское поселение","86610160","городское поселение, в состав которого входит поселок"]
["Сортавальский муниципальный район","Город Сортавала","86610101","городское поселение, в состав которого входит город"]
["Сортавальский муниципальный район","Кааламское сельское поселение","86610411","сельское поселение"]
["Сортавальский муниципальный район","Хаапалампинское сельское поселение","86610405","сельское поселение"]
["Сортавальский муниципальный район","Хелюльское городское поселение","86610165","городское поселение, в состав которого входит поселок"]
["Суоярвский муниципальный район","Вешкельское сельское поселение","86650410","сельское поселение"]
["Суоярвский муниципальный район","Город Суоярви","86650101","городское поселение, в состав которого входит город"]
["Суоярвский муниципальный район","Лоймольское сельское поселение","86650435","сельское поселение"]
["Суоярвский муниципальный район","Найстеньярвское сельское поселение","86650437","сельское поселение"]
["Суоярвский муниципальный район","Поросозерское сельское поселение","86650443","сельское поселение"]

{"sheet":"REESTR_LOCATION","index":106,"n_rows":847,"n_cols":2,"rows_kept":847,"cut":false,"hidden":true,"merged":[]}
["OKTMO_LOCATION_NAME","LOCATION_NAME"]
["86604101001","г Беломорск"]
["86604101106","п Золотец"]
["86604101111","п при 16 шлюзе ББК"]
["86604101116","п при 17 шлюзе ББК"]
["86604101121","п при 18 шлюзе ББК"]
["86604101126","д Выгостров"]
["86604101131","д Матигора"]
["86604101136","д Сальнаволок"]
["86604101141","д Шижня"]
["86604101146","п Водников"]
["86604101151","п при 19 шлюзе ББК"]
["86604101156","рзд Горелый Мост"]
["86604409101","п Летнереченский"]
["86604409106","п Летний-2"]
["86604409111","д Никонова Сельга"]
["86604409116","д Красная Горка"]
["86604409121","ст Тунгуда"]
["86604409126","п Палокоргской ГЭС"]
["86604409131","п при 12 шлюзе ББК"]
["86604409136","п при 13 шлюзе ББК"]
["86604409141","д Олимпий"]
["86604430101","п Сосновец"]
["86604430106","п Пушной"]
["86604430111","п Новое Машезеро"]
["86604430116","с Лехта"]
["86604430121","с Шуерецкое"]
["86604430126","д Шуезеро"]
["86604430131","д Летнее Озеро"]
["86604430136","д Ноттоваракка"]
["86604430141","д Машезеро"]
["86604430146","д Тунгуда"]
["86604430151","д Ушково"]
["86604430156","д Кевятозеро"]
["86604430161","д Остров Большой Жужмуй"]
["86604430166","рзд Большая Уда"]
["86604430171","п при 14 шлюзе ББК"]
["86604430176","п при 15 шлюзе ББК"]
["86604433101","с Сумский Посад"]
["86604433106","п Хвойный"]
["86604433111","п Сумозеро"]
["86604433116","п Вирандозеро"]
["86604433121","п Маленга"]
["86604433126","с Колежма"]
["86604433131","с Вирма"]
["86604433136","с Сухое"]
["86604433138","с Нюхча"]
["86604433141","д Юково"]
["86604433146","д Пертозеро"]
["86604433151","д Воренжа"]
["86604433156","д Лапино"]
["86604433158","д Ендогуба"]
["86604433159","д Сумостров"]
["86604433161","ст Сумпосад"]
["86604433166","ст Тегозеро"]
["86604433171","ст Колежма"]
["86604433176","ст Вирма"]
["86604433181","ст Маленга"]
["86604433186","м Чёрная Ламбина"]
["86604433191","рзд Руйга"]
["86609151051","пгт Калевала"]
["86609151106","п Куусиниеми"]
["86609405101","п Боровой"]
["86609444101","п Луусалми"]
["86609444106","п Войница"]
["86609444111","д Тихтозеро"]
["86609455101","д Юшкозеро"]
["86609455106","п Новое Юшкозеро"]
["86609455111","п Кепа"]
["86610101001","г Сортавала"]
["86610101106","п Заречье"]
["86610101111","п Красная Горка"]
["86610101116","п Ламберг"]
["86610101121","п Лахденкюля"]
["86610101126","п Нукутталахти"]
["86610101131","п Оявойс"]
["86610101136","п Рантуэ"]
["86610101141","п Токкарлахти"]
["86610101146","п Хюмпеля"]
["86610101151","п Валаам"]
["86610160051","пгт Вяртсиля"]
["86610165051","пгт Хелюля"]
["86610165106","с Хелюля"]
["86610165111","п Раутакангас"]
["86610405101","п Хаапалампи"]
["86610405106","п Вуорио"]
["86610405111","п Куокканиэми"]
["86610405116","п Лавиярви"]
["86610405121","п Мейери"]
["86610405126","п Ниэмелянхови"]
["86610405131","п Рауталахти"]
["86610405136","п Реускула"]
["86610405141","п Тарулинна"]
["86610405146","п Уусикюля"]
["86610405151","п Заозерный"]
["86610405156","п Туокслахти"]
["86610405161","п Туоксъярви"]
["86610405166","п участка № 1 свх \"Сортавальский\""]
["86610405171","п Хотинлахти"]
["86610411101","п Кааламо"]
["86610411106","п Кекоселькя"]
["86610411111","п Киркколахти"]
["86610411116","п Контиолахти"]
["86610411121","п Маткаселькя"]
["86610411126","п Отраккала"]
["86610411131","п Рускеала"]
["86610411136","п Саханкоски"]
["86610411141","п Кирьявалахти"]
["86610411146","п Леппяселькя"]
["86610411151","п Рюттю"]
["86610411156","п Ханнуккаланмяки"]
["86610411161","п Куконваара"]
["86610411166","п Пуйккола"]
["86610411171","п Партала"]
["86610411176","ст Алалампи"]
["86610411181","ст Пирттипохья"]
["86610411186","м Ханки"]
["86610411191","м Яккима"]
["86610411196","х Суйкка"]
["86612101001","г Кемь"]
["86612101106","п Вочаж"]
["86612101111","п 6 км дороги Кемь-Калевала"]
["86612101116","п 14 км дороги Кемь-Калевала"]
["86612437101","п Кривой Порог"]
["86612437106","п Авнепорог"]
["86612437111","п Панозеро"]
["86612437116","п Шомба"]
["86612437121","д Панозеро"]
["86612444101","п Кузема"]
["86612444106","с Гридино"]
["86612444111","с Калгалакша"]
["86612444116","д Воньга"]
["86612444121","д Поньгома"]
["86612444126","ст Поньгома"]
["86612444131","ст Ламбино"]
["86612444136","ст Сиг"]
["86612460101","п Рабочеостровск"]
["86612460106","ст Мягрека"]
["86615101001","г Кондопога"]
["86615101106","п Берёзовка"]
["86615101111","д Сюрьга"]
["86615101116","рзд Нигозеро"]
["86615412101","п Гирвас"]
["86615412106","п Райгуба"]
["86615412111","п Эльмус"]
["86615412116","д Евхоя"]
["86615412121","д Койкары"]
["86615412126","д Красная Речка"]
["86615412131","д Линдозеро"]
["86615412136","д Святнаволок"]
["86615412141","д Уссуна"]
["86615412146","д Юркостров"]
["86615412151","д Юстозеро"]
["86615412156","д Тивдия"]
["86615412161","д Антипинская"]
["86615412166","д Белая Гора"]
["86615412171","д Лижмозеро"]
["86615415101","с Кончезеро"]
["86615415106","п Сопоха"]
["86615415111","п Кивач"]
["86615415116","д Западное Кончезеро"]
["86615415121","д Восточное Кончезеро"]
["86615415126","д Чупа"]
["86615415131","д Большое Вороново"]
["86615415136","д Викшица"]
["86615415141","д Галлезеро"]
["86615415146","д Гомсельга"]
["86615420101","п Кяппесельга"]
["86615420106","п Пролетарка"]
["86615420111","д Кяппесельга"]
["86615420116","д Листнаволок"]
["86615420121","д Уница"]
["86615420126","д Шайдома"]
["86615420131","ст Викшезеро"]
["86615425101","п Кедрозеро"]
["86615425106","п Новый Поселок"]
["86615425111","п Станция - Мянсельга"]
["86615425116","д Ватнаволок"]
["86615425121","д Илемсельга"]
["86615425126","д Лижма"]
["86615425131","д Лукин Остров"]
["86615425136","д Мянсельга"]
["86615425141","ст Лижма"]
["86615430101","д Улитина Новинка"]
["86615430106","д Голышева Новинка"]
["86615430111","д Еркоева Новинка"]
["86615430116","д Большое Гангозеро"]
["86615430121","д Малое Гангозеро"]
["86615430126","д Горка"]
["86615430131","д Кулмукса"]
["86615430136","д Лукин Наволок"]
["86615430141","д Подгорная"]
["86615430146","д Чеболакша"]
["86615435101","с Спасская Губа"]
["86615435103","п Марциальные Воды"]
["86615435106","п Нелгомозеро"]
["86615435111","д Верхняя Ламба"]
["86615435116","д Готнаволок"]
["86615435121","д Декнаволок"]
["86615435126","д Мунозеро"]
["86615435131","д Наволок"]
["86615435136","д Пялозеро"]
["86615435141","д Тереки"]
["86615435146","д Утуки"]
["86615435151","д Ватчела"]
["86615435156","д Вохтозеро"]
["86615455101","с Янишполе"]
["86615455106","д Кодогуба"]
["86615455111","д Кодостров"]
["86615455116","д Мережнаволок"]
["86615455121","д Суна"]
["86615455126","д Тулгуба"]
["86615455131","д Часовенская"]
["86615455136","д Чупа"]
["86615455141","ст Заделье"]
["86615455146","ст Лучевой"]
["86618101001","г Лахденпохья"]
["86618101106","ст Яккима"]
["86618411101","п Куркиёки"]
["86618411106","п Алхо"]
["86618411111","п Вятиккя"]
["86618411116","п Ихоярвенкюля"]
["86618411121","п Ласанен"]
["86618411126","п Отсанлахти"]
["86618411131","п Пелтола"]
["86618411136","п Соскуа"]
["86618411141","п Терваярви"]
["86618411146","п Терву"]
["86618411151","п Хухтерву"]
["86618422101","п Мийнала"]
["86618422106","п Ихала"]
["86618422111","п Коконниэми"]
["86618422116","п Кортела"]
["86618422121","п Лумиваара"]
["86618422126","п Метсямикли"]
["86618422131","п Микли"]
["86618422136","п Нива"]
["86618422141","п Оппола"]
["86618422146","п Пайкъярвенкюля"]
["86618422151","п Парконмяки"]
["86618422156","п Райвио"]
["86618422161","п Раухала"]
["86618422166","п Сикопохья"]
["86618422171","п Сорола"]
["86618422176","п Уусикюля"]
["86618422181","п Ханканмяки"]
["86618422186","п Харвиа"]
["86618433101","п Хийтола"]
["86618433106","п Асилан"]
["86618433111","п Ильме"]
["86618433116","п Куликово"]
["86618433121","п Куянсуо"]
["86618433126","п Тоунан"]
["86618433131","п Хауккаваара"]
["86618433136","п Ринтала"]
["86618433141","п Тиурула"]
["86618450101","п Элисенваара"]
["86618450106","п Аккахарью"]
["86618450111","п Вялимяки"]
["86618450116","п Кайвомяки"]
["86618450121","п Кетроваара"]
["86618450126","п Костамоярви"]
["86618450131","п Ламминкюля"]
["86618450136","п Сорьё"]
["86618450141","п Сювяоро"]
["86618450146","п Таустамяки"]
["86618450151","п Эстерло"]
["86621151051","пгт Лоухи"]
["86621162051","пгт Пяозерский"]
["86621170051","пгт Чупа"]
["86621170106","ст Чупа"]
["86621403101","п Амбарный"]
["86621403106","п Энгозеро"]
["86621403111","ст Боярская"]
["86621425101","п Кестеньга"]
["86621425106","п Сосновый"]
["86621425111","п Тунгозеро"]
["86621425116","п Тухкала"]
["86621425121","п Софпорог"]
["86621425126","п Новый Софпорог"]
["86621425131","д Коккосалма"]
["86621425136","д Зашеек"]
["86621425141","д Кушеванда"]
["86621430101","п Малиновая Варакка"]
["86621430106","п Хетоламбина"]
["86621430111","п Тэдино"]
["86621430116","п Карельский"]
["86621430121","п Приморский"]
["86621430126","д Чёрная Река"]
["86621430131","д Нижняя Пулонга"]
["86621430136","д Нильмогуба"]
["86621430141","д Нильмозеро"]
["86621430146","ст Полярный Круг"]
["86621430151","ст Кереть"]
["86621430156","ст Котозеро"]
["86621452101","п Плотина"]
["86621452106","п Чкаловский"]
["86624101001","г Медвежьегорск"]
["86624101106","п Вичка"]
["86624101111","ст Пергуба"]
["86624101116","п Питомник"]
["86624155051","пгт Пиндуши"]
["86624155106","п Ванзозеро"]
["86624155111","п Великая Губа"]
["86624155116","д Салмагуба"]
["86624155121","д Лумбуши"]
["86624155126","ст Лумбушозеро"]
["86624155131","ст Малыга"]
["86624155136","ст Масельгская"]
["86624155141","ст Вичка"]
["86624160051","пгт Повенец"]
["86624160106","п при 7 шлюзе ББК"]
["86624160111","п при 8 шлюзе ББК"]
["86624160116","п при 9 шлюзе ББК"]
["86624160121","п Морская Масельга"]
["86624160126","п Верхнее Волозеро"]
["86624160131","п Хижозеро"]
["86624160136","п Новая Габсельга"]
["86624160141","п Лобское"]
["86624160146","с Сосновка"]
["86624160151","д Габсельга"]
["86624160156","д Лобское"]
["86624160161","д Тихвин Бор"]
["86624160166","п при 1 шлюзе ББК"]
["86624160171","п при 2 шлюзе ББК"]
["86624160176","п при 3 шлюзе ББК"]
["86624160181","п при 4 шлюзе ББК"]
["86624160186","п при 5 шлюзе ББК"]
["86624405101","с Великая Губа"]
["86624405106","п Больничный"]
["86624405111","п Ламбасручей"]
["86624405116","д Вигово"]
["86624405121","д Космозеро"]
["86624405126","д Терехово"]
["86624405131","д Узкие"]
["86624405136","д Яндомозеро"]
["86624405141","д Великая Нива"]
["86624405146","д Кярзино"]
["86624405151","д Палтега"]
["86624405156","д Патрово"]
["86624405161","д Поля"]
["86624405166","д Пургино"]
["86624405171","д Спировка"]
["86624405176","д Тамбицы"]
["86624405181","д Типиницы"]
["86624405186","д Шильтя"]
["86624405191","д Сенная Губа"]
["86624405196","д Боярщина"]
["86624405201","д Васильево"]
["86624405206","д Воробьи"]
["86624405211","д Голиково"]
["86624405216","д Еглово"]
["86624405221","д Ерсенево"]
["86624405226","д Клементьевская"]
["86624405231","д Кургеницы"]
["86624405236","д Лонгасы"]
["86624405241","д Носоновщина"]
["86624405246","д Патаневщина"]
["86624405251","д Первые Гарницы"]
["86624405256","д Петры"]
["86624405261","д Плешки"]
["86624405266","д Речка"]
["86624405271","д Телятниково"]
["86624405276","д Щепино"]
["86624405281","д Ямка"]
["86624405287","д Кондобережская"]
["86624405292","д Сибово"]
["86624405297","д Усть-Яндома"]
["86624435101","с Паданы"]
["86624435106","п Ахвенламби"]
["86624435111","п Евгора"]
["86624435116","п Шалговаара"]
["86624435121","д Погост"]
["86624435126","д Сельги"]
["86624435131","д Терманы"]
["86624435136","д Юккогуба"]
["86624435141","д Венгигора"]
["86624435146","д Маслозеро"]
["86624435151","д Сяргозеро"]
["86624435156","д Шалговаара"]
["86624450101","д Толвуя"]
["86624450106","д Белохино"]
["86624450111","д Берег"]
["86624450116","д Большая Нива"]
["86624450121","д Бор"]
["86624450126","д Вицино"]
["86624450131","д Вырозеро"]
["86624450136","д Загубье"]
["86624450141","д Зажогинская"]
["86624450146","д Заречье"]
["86624450151","д Кривоноговская"]
["86624450156","д Кузаранда"]
["86624450161","д Лебещина"]
["86624450166","д Малая Нива"]
["86624450171","д Никитинская"]
["86624450176","д Падмозеро"]
["86624450181","д Савинская"]
["86624450186","д Свечниковская"]
["86624455101","д Чёбино"]
["86624455106","п Падун"]
["86624455111","п Кумса-2"]
["86624455116","п Большая Сельга"]
["86624455121","д Карельская Масельга"]
["86624455126","д Остречье"]
["86624455131","д Мяндусельга"]
["86624455136","д Карзикозеро"]
["86624455141","д Загубье"]
["86624455146","д Покровское"]
["86624455151","д Семчезеро"]
["86624460101","д Чёлмужи"]
["86624460106","п Возрицы"]
["86624460111","п Немино-3"]
["86624460116","п Огорелыши"]
["86624460121","п Сергиево"]
["86624460126","д Данилово"]
["86624470101","д Шуньга"]
["86624470106","п Больничный"]
["86624470111","п ММС"]
["86624470116","д Ажепнаволок"]
["86624470121","д Батова"]
["86624470126","д Бережная"]
["86624470131","д Бор-Пуданцев"]
["86624470136","д Верхняя Путка"]
["86624470141","д Горская"]
["86624470146","д Деригузово"]
["86624470151","д Екимово"]
["86624470156","д Ионина Гора"]
["86624470161","д Кажма"]
["86624470166","д Кефтеницы"]
["86624470171","д Коробейниково"]
["86624470176","д Коровниково"]
["86624470181","д Лахново"]
["86624470186","д Медведева"]
["86624470191","д Мустова"]
["86624470196","д Никонова Губа"]
["86624470201","д Онежены"]
["86624470206","д Онтова"]
["86624470211","д Перхина"]
["86624470216","д Побережье"]
["86624470221","д Подгорская"]
["86624470226","д Сигово"]
["86624470231","д Тимохово"]
["86624470236","д Федотово"]
["86624470241","д Фоминская"]
["86624470246","д Хашезеро"]
["86624470251","д Черкасы"]
["86627151051","пгт Муезерский"]
["86627410101","п Волома"]
["86627410106","ст Сонозеро"]
["86627427101","п Ледмозеро"]
["86627427106","п Тикша"]
["86627427111","д Кимасозеро"]
["86627430101","п Лендеры"]
["86627430106","п Кимоваара"]
["86627430111","п Мотко"]
["86627430116","п Лендеры-1"]
["86627430121","ст Лендеры"]
["86627430126","ст Мотко"]
["86627445101","п Пенинга"]
["86627445106","ст Пенинга"]
["86627450101","с Реболы"]
["86627450106","д Емельяновка"]
["86627450111","д Колвасозеро"]
["86627460101","с Ругозеро"]
["86627460106","п Ондозеро"]
["86627460111","п Северный"]
["86627465101","п Суккозеро"]
["86627465106","п Гимолы"]
["86627465111","п Тумба"]
["86627465116","ст Суун"]
["86630101001","г Олонец"]
["86630101106","д Верховье"]
["86630101111","д Иммалицы"]
["86630101116","д Капшойла"]
["86630101121","д Путилица"]
["86630101126","д Рыпушкалицы"]
["86630101131","д Судалица"]
["86630101136","д Татчелица"]
["86630101141","д Тахтасово"]
["86630410101","с Видлица"]
["86630410106","п Устье Видлицы"]
["86630410111","д Большие Горы"]
["86630410116","д Верхняя Видлица"]
["86630410121","д Гавриловка"]
["86630415101","п Ильинский"]
["86630415106","п совхоза \"Ильинский\""]
["86630415111","д Алексала"]
["86630415116","д Еройла"]
["86630415121","д Герпеля"]
["86630415126","д Ильинская Горка"]
["86630415131","д Седокса"]
["86630415136","д Большаково"]
["86630415141","д Тулокса"]
["86630415146","д Устье Тулоксы"]
["86630415151","с Нурмойла"]
["86630419101","д Нурмолицы"]
["86630419106","п Ковера"]
["86630419111","д Лемозеро"]
["86630419116","д Новинка"]
["86630419121","д Тенгусельга"]
["86630419126","д Кукшегоры"]
["86630419131","д Гушкала"]
["86630419136","д Сяндеба"]
["86630419141","д Сорочья Гора"]
["86630419146","д Сяппяваара"]
["86630419151","д Тулосозеро"]
["86630419156","д Нинисельга"]
["86630419161","д Тигвера"]
["86630420101","д Коткозеро"]
["86630420106","п Интерпоселок"]
["86630420111","п Верхнеолонецкий"]
["86630420116","п Чёрная Речка"]
["86630420121","д Гошкила"]
["86630420126","д Лумбозеро"]
["86630420131","д Берёзовая Гора"]
["86630420136","д Торосозеро"]
["86630420141","д Кескозеро"]
["86630420146","д Утозеро"]
["86630420151","д Вагвозеро"]
["86630430101","д Куйтежа"]
["86630430106","п Речная Сельга"]
["86630430111","д Мегрозеро"]
["86630430116","д Сельга"]
["86630440101","д Мегрега"]
["86630440106","д Габановский Маяк"]
["86630440111","д Обжа"]
["86630440116","д Сармяги"]
["86630440121","д Самбатукса"]
["86630440126","д Инема"]
["86630440131","д Юргелица"]
["86630440136","д Онькулица"]
["86630450101","с Михайловское"]
["86630450106","д Гижино"]
["86630450111","д Ташкеницы"]
["86630490101","д Тукса"]
["86633101001","г Питкяранта"]
["86633101106","д Ууксу"]
["86633101111","д Койриноя"]
["86633101116","п Юляристиоя"]
["86633405101","п Импилахти"]
["86633405106","д Леппясилта"]
["86633405111","д Сумериа"]
["86633405116","д Сюскюя"]
["86633405121","д Терванселькя"]
["86633405126","д Кирконкюля"]
["86633405131","д Вуорилампи"]
["86633405136","д Метсякюля"]
["86633405141","д Кителя"]
["86633409101","п Ляскеля"]
["86633409106","д Пауссу"]
["86633409111","д Керисюрья"]
["86633409116","д Янис"]
["86633409121","д Хийденсельга"]
["86633420101","п Салми"]
["86633420106","д Карку"]
["86633420111","д Ряймяля"]
["86633420116","д Погранкондуши"]
["86633420121","д Орусъярви"]
["86633420126","д Кавгозеро"]
["86633420131","д Ковайно"]
["86633420136","д Мансила"]
["86633420141","д острова Мантсинсаари"]
["86633420146","д Мийнала"]
["86633420151","д Кирккоёки"]
["86633420156","д острова Лункулансаари"]
["86633430101","п Харлу"]
["86633430106","д Алатту"]
["86633430111","д Рауталахти"]
["86633430116","д Улмалахти"]
["86633430121","ст Янисъярви"]
["86633430126","д Хямекоски"]
["86636410101","п Чална-1"]
["86636410106","д Порожек"]
["86636411101","п Новая Вилга"]
["86636411106","п Новое Лососинное"]
["86636411111","д Вилга"]
["86636411116","д Половина"]
["86636411121","д Лососинное"]
["86636411126","д Машезеро"]
["86636420101","п Деревянка"]
["86636420106","п Пяжиева Сельга"]
["86636422101","с Деревянное"]
["86636422106","д Педасельга"]
["86636422111","д Ужесельга"]
["86636422116","д Уя"]
["86636422121","ст Орзега"]
["86636433101","с Заозерье"]
["86636433106","д Ялгуба"]
["86636433111","д Суйсарь"]
["86636433116","д Берёзовые Мосты"]
["86636433121","д Суйсарь на острове"]
["86636436101","п Ладва-Ветка"]
["86636436106","с Таржеполь"]
["86636436111","ст Нырки"]
["86636438101","п Ладва"]
["86636438106","п Пухта"]
["86636440101","п Мелиоративный"]
["86636442101","п Пай"]
["86636442106","д Ревсельга"]
["86636443101","с Рыбрека"]
["86636443106","д Другая Река"]
["86636443111","д Каскесручей"]
["86636470101","п Шуя"]
["86636470106","п Карельская Деревня"]
["86636470111","д Косалма"]
["86636470116","д Намоево"]
["86636470121","д Царевичи"]
["86636470126","д Шуйская Чупа"]
["86636470131","д Верховье"]
["86636470136","д Маткачи"]
["86636470141","д Бесовец"]
["86636470146","ст Шуйская"]
["86636475101","с Шелтозеро"]
["86636475106","д Вехручей"]
["86636475111","д Ишанино"]
["86636475116","д Матвеева Сельга"]
["86636475121","д Горное Шелтозеро"]
["86636475126","д Залесье"]
["86636476101","п Кварцитный"]
["86636476106","с Шокша"]
["86636476116","д Яшезеро"]
["86639151051","пгт Пряжа"]
["86639151106","п Маньга"]
["86639151111","д Киндасово"]
["86639151116","д Маньга"]
["86639405101","с Ведлозеро"]
["86639405106","п Кинелахта"]
["86639405111","п Койвусельга"]
["86639405116","д Кинерма"]
["86639405121","д Куккойла"]
["86639405126","д Кутчезеро"]
["86639405131","д Паннила"]
["86639405136","д Репное Озеро"]
["86639405141","д Щеккила"]
["86639405146","д Щукнаволок"]
["86639405151","д Юргилица"]
["86639405156","д Ламбинаволок"]
["86639405161","д Кукойнваара"]
["86639405166","д Паннисельга"]
["86639405171","д Савиново"]
["86639405176","д Акимово"]
["86639405181","д Гутсельга"]
["86639405186","д Каскессельга"]
["86639405191","д Ламбисельга"]
["86639405196","д Маясельга"]
["86639405201","д Пунчойла"]
["86639405206","д Погойла"]
["86639405211","д Сыссойла"]
["86639405216","д Симанова Сельга"]
["86639405221","д Хлебозеро"]
["86639405226","д Чёрная Ламба"]
["86639405231","д Кохтусельга"]
["86639405236","д Лахта"]
["86639405241","д Мандера"]
["86639405246","д Палалахта"]
["86639405251","д Гилкожа"]
["86639405256","д Койвусельга"]
["86639405261","с Колатсельга"]
["86639425101","с Крошнозеро"]
["86639425106","д Гонганалица"]
["86639425111","д Ёршнаволок"]
["86639425116","д Каскеснаволок"]
["86639425121","д Коккойла"]
["86639425126","д Котчура"]
["86639435101","п Матросы"]
["86639450101","с Святозеро"]
["86639450106","п Верхние Важины"]
["86639450111","д Лижма"]
["86639450116","д Важинская Пристань"]
["86639458101","п Чална"]
["86639458106","п Виллагора"]
["86639458111","п Кутижма"]
["86639458116","д Нижние Виданы"]
["86639458121","д Виданы"]
["86639458126","д Падозеро"]
["86639458131","ст Кутижма"]
["86639458136","ст Падозеро"]
["86639458141","ст Виллагора"]
["86639460101","п Эссойла"]
["86639460106","п Кунгозерский"]
["86639460111","п Соддер"]
["86639460116","п Новые Пески"]
["86639460121","п Сяпся"]
["86639460126","п Кудама"]
["86639460131","с Эссойла"]
["86639460136","д Алекка"]
["86639460141","д Ангенлахта"]
["86639460146","д Иванисто"]
["86639460151","д Корза"]
["86639460156","д Курмойла"]
["86639460161","д Метчелица"]
["86639460166","д Мишинсельга"]
["86639460171","д Нижняя Салма"]
["86639460176","д Проккойла"]
["86639460181","д Рубчойла"]
["86639460186","д Салменица"]
["86639460191","д Сямозеро"]
["86639460196","д Сяргилахта"]
["86639460201","д Каменьнаволок"]
["86639460206","д Лахта"]
["86639460211","д Чуйнаволок"]
["86639460216","д Чуралахта"]
["86639460221","д Улялега"]
["86642101001","г Пудож"]
["86642101106","п Подпорожье"]
["86642101111","п Колово"]
["86642101116","д Ножево"]
["86642101121","д Харловская"]
["86642101126","д Колово"]
["86642101131","д Афанасьевская"]
["86642101136","д Филимоновская"]
["86642101141","д Гладкина"]
["86642101146","д Кошуково"]
["86642101151","п Аэропорт"]
["86642101156","д Мячева"]
["86642405101","д Авдеево"]
["86642405106","п Онежский"]
["86642405111","п Рагнукса"]
["86642405116","д Песчаное"]
["86642405121","д Алексеево"]
["86642405126","д Бураково"]
["86642405131","д Октябрьская"]
["86642416101","п Красноборский"]
["86642416106","п Чернореченский"]
["86642416111","д Гакугса"]
["86642416116","д Каршево"]
["86642416121","д Нигижма"]
["86642420101","п Кривцы"]
["86642420106","п Приречный"]
["86642420111","д Кривцы"]
["86642420116","д Остров"]
["86642420121","д Усть-Река"]
["86642420126","д Дубовская"]
["86642420131","д Ершова"]
["86642420136","д Заозерье"]
["86642420141","д Пелусозеро"]
["86642420146","д Пирзаково"]
["86642420151","д Погост"]
["86642420156","д Пялозеро"]
["86642420161","д Стешевская"]
["86642420166","д Татарская Гора"]
["86642420171","д Щаниковская"]
["86642425101","п Кубово"]
["86642425106","п Водла"]
["86642425111","п Кубовский сплавучасток"]
["86642425116","п Поршта"]
["86642425121","д Водла"]
["86642425126","д Кубовская"]
["86642430101","д Куганаволок"]
["86642430106","д Бостилово"]
["86642430111","д Вамская Плотина"]
["86642430116","д Канзанаволок"]
["86642430121","д Кевасалма"]
["86642430126","д Колгостров"]
["86642430131","д Коскосалма"]
["86642430136","д Пелгостров"]
["86642430141","д Чуяла"]
["86642442101","п Пяльма"]
["86642442106","п Пудожгорский"]
["86642442111","п Тамбицы"]
["86642442116","п Тамбичозеро"]
["86642442121","д Пяльма"]
["86642442126","д Римское"]
["86642442131","д Кодачгуба"]
["86642442136","д Остричи"]
["86642460101","п Шальский"]
["86642460106","п Кашино"]
["86642460111","п Бочилово"]
["86642460116","п Нефтебаза"]
["86642460121","п Шалуха"]
["86642460126","д Бочилово"]
["86642460131","д Рогозинская"]
["86642460136","д Семёново"]
["86642460141","д Теребовская"]
["86642460146","п Ново-Стеклянное"]
["86642460151","п Шала Пристань"]
["86645101001","г Сегежа"]
["86645160051","пгт Надвоицы"]
["86645160106","д Дуброво"]
["86645160111","д Надвоицы"]
["86645160116","п Верхний"]
["86645160121","п при 10 шлюзе ББК"]
["86645160126","п Пристань Надвоицы"]
["86645160131","д Каменный Бор"]
["86645411101","п Валдай"]
["86645411106","п Вожмогора"]
["86645411111","п Вожмозеро"]
["86645411116","д Полга"]
["86645420101","п Идель"]
["86645420106","п Майгуба"]
["86645420111","п при 11 шлюзе ББК"]
["86645420116","п Лососий"]
["86645420121","п Сумский"]
["86645420126","п Кочкома"]
["86645420131","д Майгуба"]
["86645420136","ст Шавань"]
["86645444101","п Попов Порог"]
["86645444106","п Кяргозеро"]
["86645444111","п Волдозеро"]
["86645444116","п Табойпорог"]
["86645444121","д Юркиннаволок"]
["86645444126","ст Быстряги"]
["86645444131","ст Суглица"]
["86645444136","ст Сумеричи"]
["86645444141","ст Уросозеро"]
["86645444146","ст Раменцы"]
["86645444151","ст Шпаловая"]
["86645444156","ст Ригозеро"]
["86645450101","п Чёрный Порог"]
["86645450106","п Вача"]
["86645450111","п Пертозеро"]
["86645450116","п Олений"]
["86650101001","г Суоярви"]
["86650410101","с Вешкелица"]
["86650410106","п Игнойла"]
["86650410111","д Хаутаваара"]
["86650410116","д Арькойла"]
["86650410121","д Хюрсюля"]
["86650435101","п Лоймола"]
["86650435106","п Суйстамо"]
["86650435111","п Пийтсиёки"]
["86650435116","п Леппясюрья"]
["86650435121","п Соанлахти"]
["86650435126","п Райконкоски"]
["86650435131","п Вегарус"]
["86650435136","п Толвоярви"]
["86650435141","д Кясняселькя"]
["86650435146","ст Леппясюрья"]
["86650435151","ст Суйстамо"]
["86650437101","п Найстенъярви"]
["86650437106","п Лахколампи"]
["86650437111","п Тойвола"]
["86650437116","п Суоёки"]
["86650437121","п Турханваара"]
["86650437126","п Леппяниэми"]
["86650443101","п Поросозеро"]
["86650443106","п Гумарино"]
["86650443111","п Костомукса"]
["86650443116","д Совдозеро"]
["86701000001","г Петрозаводск"]
["86706000001","г Костомукша"]
["86706000106","п Заречный"]
["86706000111","д Вокнаволок"]
["86706000116","д Ладвозеро"]
["86706000121","д Поньгагуба"]
["86706000126","д Суднозеро"]
["86706000131","д Толлорека"]

{"sheet":"REESTR_STREET","index":107,"n_rows":0,"n_cols":0,"rows_kept":0,"cut":false,"hidden":true,"merged":[]}

{"sheet":"REESTR_ORG","index":108,"n_rows":0,"n_cols":0,"rows_kept":0,"cut":false,"hidden":true,"merged":[]}

{"sheet":"modPass","index":109,"n_rows":0,"n_cols":0,"rows_kept":0,"cut":false,"hidden":true,"merged":[]}

{"sheet":"Бухгалтерский баланс. Раздел А","index":110,"n_rows":33,"n_cols":11,"rows_kept":33,"cut":false,"hidden":true,"merged":[[4,5,4,6],[32,5,32,6],[5,5,5,9],[9,6,9,7],[9,8,9,10],[20,6,20,7],[20,8,20,10]]}
[]
[]
[]
[]
[null,null,null,null,null,"Список листов"]
[null,null,null,null,null,"Бухгалтерский баланс. Раздел А"]
["[D0117] Типы активов","[D0079] Расшифровка показателей"]
[null,null,null,null,null,"№ п/п",{"$f":"god-2","v":-2},{"$f":"god-3","v":-3},{"$f":"god-4","v":-4},"На отчётную дату соответствующего отчётного периода предыдущего года","На отчётную дату соответствующего отчётного периода года, предшествующего предыдущему "]
[null,null,null,null,null,null,null,null,{"$f":"god-2","v":-2},{"$f":"god-3","v":-3},{"$f":"god-4","v":-4}]
[null,null,null,null,null,1,"I. Внеоборотные активы "]
["Нематериальные активы",null,null,null,null,{"$f":"\"1.1\"","v":"1.1"},"Нематериальные активы",1110]
["Результаты исследований и разработок",null,null,null,null,{"$f":"\"1.2\"","v":"1.2"},"Результаты исследований и разработок",1120]
["Нематериальные поисковые активы",null,null,null,null,{"$f":"\"1.3\"","v":"1.3"},"Нематериальные поисковые активы",1130]
["Материальные поисковые активы",null,null,null,null,{"$f":"\"1.4\"","v":"1.4"},"Материальные поисковые активы",1140]
["Основные средства ",null,null,null,null,{"$f":"\"1.5\"","v":"1.5"},"Основные средства ",1150]
["Доходные вложения в материальные ценности",null,null,null,null,{"$f":"\"1.6\"","v":"1.6"},"Доходные вложения в материальные ценности",1160]
["Финансовые вложения",null,null,null,null,{"$f":"\"1.7\"","v":"1.7"},"Финансовые вложения",1170]
["Отложенные налоговые активы",null,null,null,null,{"$f":"\"1.8\"","v":"1.8"},"Отложенные налоговые активы",1180]
["Прочие внеоборотные активы",null,null,null,null,{"$f":"\"1.9\"","v":"1.9"},"Прочие внеоборотные активы",1190]
["I. Внеоборотные активы","Не дифференцируется",null,null,null,{"$f":"\"1.10\"","v":"1.10"},"Итого по разделу I",1100,{"$f":"SUM(I11:I19)","v":0},{"$f":"SUM(J11:J19)","v":0},{"$f":"SUM(K11:K19)","v":0}]
[null,null,null,null,null,2,"II. Оборотные активы"]
["Запасы",null,null,null,null,{"$f":"\"2.1\"","v":"2.1"},"Запасы",1210]
["Налог на добавленную стоимость по приобретенным ценностям",null,null,null,null,{"$f":"\"2.2\"","v":"2.2"},"Налог на добавленную стоимость по приобретенным ценностям",1220]
["Дебиторская задолженность",null,null,null,null,{"$f":"\"2.3\"","v":"2.3"},"Дебиторская задолженность",1230]
["Финансовые вложения (за исключением денежных эквивалентов)",null,null,null,null,{"$f":"\"2.4\"","v":"2.4"},"Финансовые вложения (за исключением денежных эквивалентов)",1240]
["Денежные средства и денежные эквиваленты",null,null,null,null,{"$f":"\"2.5\"","v":"2.5"},"Денежные средства и денежные эквиваленты",1250]
["Прочие оборотные активы",null,null,null,null,{"$f":"\"2.6\"","v":"2.6"},"Прочие оборотные активы",1260]
["II. Оборотные активы","Не дифференцируется",null,null,null,{"$f":"\"2.7\"","v":"2.7"},"Итого по разделу II",1200,{"$f":"SUM(I22:I27)","v":0},{"$f":"SUM(J22:J27)","v":0},{"$f":"SUM(K22:K27)","v":0}]
[null,null,null,null,null,3,"Баланс",1600,{"$f":"I20+I28","v":0},{"$f":"J20+J28","v":0},{"$f":"K20+K28","v":0}]
[]
[]
[]
[null,null,null,null,null,"*Введите значения показателей в тыс. руб."]

{"sheet":"Бухгалтерский баланс. Раздел П","index":111,"n_rows":35,"n_cols":9,"rows_kept":35,"cut":false,"hidden":true,"merged":[[3,3,3,4],[34,3,34,5],[4,3,4,7],[6,3,7,3],[6,4,7,4],[6,5,7,5],[9,4,9,5],[9,6,9,8],[17,4,17,5],[17,6,17,8],[22,4,22,5],[23,4,23,5],[23,6,23,8]]}
[]
[]
[]
[null,null,null,"Список листов"]
[null,null,null,"Бухгалтерский баланс. Раздел П"]
["[D0118] Типы пасивов","[D0079] Расшифровка показателей"]
[null,null,null,"№ п/п","Наименование показателя*","Код","На отчётную дату отчётного года","На отчётную дату соответствующего отчётного периода предыдущего года","На отчётную дату соответствующего отчётного периода года, предшествующего предыдущему\n"]
[null,null,null,null,null,null,{"$f":"god-1","v":-1},{"$f":"god-2","v":-2},{"$f":"god-3","v":-3}]
[]
[null,null,null,1,"III. Капитал и резервы"]
["Уставный капитал (складочный капитал, уставный фонд, вклады товарищей)",null,null,{"$f":"\"1.1\"","v":"1.1"},"Уставный капитал (складочный капитал, уставный фонд, вклады товарищей)",1310]
["Собственные акции, выкупленные у акционеров",null,null,{"$f":"\"1.2\"","v":"1.2"},"Собственные акции, выкупленные у акционеров",1320]
["Переоценка внеоборотных активов",null,null,{"$f":"\"1.3\"","v":"1.3"},"Переоценка внеоборотных активов",1340]
["Добавочный капитал (без переоценки)",null,null,{"$f":"\"1.4\"","v":"1.4"},"Добавочный капитал (без переоценки)",1350]
["Резервный капитал",null,null,{"$f":"\"1.5\"","v":"1.5"},"Резервный капитал",1360]
["Нераспределенная прибыль (непокрытый убыток)",null,null,{"$f":"\"1.6\"","v":"1.6"},"Нераспределенная прибыль (непокрытый убыток)",1370]
["III. Капитал и резервы","Не дифференцируется",null,{"$f":"\"1.7\"","v":"1.7"},"Итого по разделу III",1300,{"$f":"SUM(G11:G16)","v":0},{"$f":"SUM(H11:H16)","v":0},{"$f":"SUM(I11:I16)","v":0}]
[null,null,null,2,"IV. Долгосрочные обязательства"]
["Заемные средства",null,null,{"$f":"\"2.1\"","v":"2.1"},"Заемные средства",1410]
["Отложенные налоговые обязательства",null,null,{"$f":"\"2.2\"","v":"2.2"},"Отложенные налоговые обязательства",1420]
["Оценочные обязательства",null,null,{"$f":"\"2.3\"","v":"2.3"},"Оценочные обязательства",1430]
["Прочие обязательства",null,null,{"$f":"\"2.4\"","v":"2.4"},"Прочие обязательства",1450]
["IV. Долгосрочные обязательства","Не дифференцируется",null,{"$f":"\"2.5\"","v":"2.5"},"Итого по разделу IV",1400,{"$f":"SUM(G19:G22)","v":0},{"$f":"SUM(H19:H22)","v":0},{"$f":"SUM(I19:I22)","v":0}]
[null,null,null,3,"V. Краткосрочные обязательства"]
["Заемные средства",null,null,{"$f":"\"3.1\"","v":"3.1"},"Заемные средства",1510]
["Кредиторская задолженность",null,null,{"$f":"\"3.2\"","v":"3.2"},"Кредиторская задолженность",1520]
["Доходы будущих периодов ",null,null,{"$f":"\"3.3\"","v":"3.3"},"Доходы будущих периодов ",1530]
["Оценочные обязательства",null,null,{"$f":"\"3.4\"","v":"3.4"},"Оценочные обязательства",1540]
["Прочие обязательства",null,null,{"$f":"\"3.5\"","v":"3.5"},"Прочие обязательства",1550]
["V. Краткосрочные обязательства","Не дифференцируется",null,{"$f":"\"3.6\"","v":"3.6"},"Итого по разделу V",1500,{"$f":"SUM(G25:G29)","v":0},{"$f":"SUM(H25:H29)","v":0},{"$f":"SUM(I25:I29)","v":0}]
[null,null,null,4,"Баланс",1700,{"$f":"G17+G23+G30","v":0},{"$f":"H17+H23+H30","v":0},{"$f":"I17+I23+I30","v":0}]
[]
[]
[]
[null,null,null,"*Введите значения показателей в тыс. руб."]

{"sheet":"Отчет о финансовых результатах","index":112,"n_rows":48,"n_cols":10,"rows_kept":48,"cut":false,"hidden":true,"merged":[[4,4,4,5],[47,4,47,5],[5,4,5,8],[7,4,8,4],[7,5,8,5],[7,6,8,6],[38,5,38,6]]}
[]
[]
[]
[]
[null,null,null,null,"Список листов"]
[null,null,null,null,"Отчет о финансовых результатах"]
["ПОКАЗАТЕЛИ","[D0079] Расшифровка показателей","[D0213] Вид продукции"]
[null,null,null,null,"№ п/п","Наименование*","Код","За отчётный период","За аналогичный период предыдущего года","На отчётную дату соответствующего отчётного периода года, предшествующего предыдущему "]
[null,null,null,null,null,null,null,{"$f":"god-2","v":-2},{"$f":"god-3","v":-3},{"$f":"god-4","v":-4}]
[]
["[M0003.51] Выручка (за минусом налога на добавленную стоимость, акцизов) (-){eas_cube.15.M0003.42968}",null,null,null,{"$f":"\"1.1\"","v":"1.1"},"Выручка (за минусом налога на добавленную стоимость, акцизов), всего, в том числе:",2110,{"$f":"SUM(H12:H16)","v":0},{"$f":"SUM(I12:I16)","v":0},{"$f":"SUM(J12:J16)","v":0}]
["[M0003.51] Выручка (за минусом налога на добавленную стоимость, акцизов) (-){eas_cube.15.M0003.42968}",null,"Электрическая энергия",null,{"$f":"\"1.1.1\"","v":"1.1.1"},"от продажи электроэнергии",21101]
["[M0003.51] Выручка (за минусом налога на добавленную стоимость, акцизов) (-){eas_cube.15.M0003.42968}",null,"Мощность",null,{"$f":"\"1.1.2\"","v":"1.1.2"},"от продажи мощности",21102]
["[M0003.51] Выручка (за минусом налога на добавленную стоимость, акцизов) (-){eas_cube.15.M0003.42968}",null,"Тепловая энергия",null,{"$f":"\"1.1.3\"","v":"1.1.3"},"от продажи теплоэнергии",21103]
["[M0003.51] Выручка (за минусом налога на добавленную стоимость, акцизов) (-){eas_cube.15.M0003.42968}",null,"Производство теплоносителя",null,{"$f":"\"1.1.4\"","v":"1.1.4"},"от продажи теплоносителя",21104]
["[M0003.51] Выручка (за минусом налога на добавленную стоимость, акцизов) (-){eas_cube.15.M0003.42968}",null,"Прочая продукция",null,{"$f":"\"1.1.5\"","v":"1.1.5"},"от продажи прочих товаров, продукции, работ, услуг",21105]
["[M0013.51] Себестоимость продаж (-){eas_cube.15.M0013.42978}",null,null,null,{"$f":"\"1.2\"","v":"1.2"},"Себестоимость продаж, всего, в том числе:",2120,{"$f":"SUM(H18:H22)","v":0},{"$f":"SUM(I18:I22)","v":0},{"$f":"SUM(J18:J22)","v":0}]
["[M0013.51] Себестоимость продаж (-){eas_cube.15.M0013.42978}",null,"Электрическая энергия",null,{"$f":"\"1.2.1\"","v":"1.2.1"},"себестоимость продажи электроэнергии",21201]
["[M0013.51] Себестоимость продаж (-){eas_cube.15.M0013.42978}",null,"Мощность",null,{"$f":"\"1.2.2\"","v":"1.2.2"},"себестоимость продажи мощности",21202]
["[M0013.51] Себестоимость продаж (-){eas_cube.15.M0013.42978}",null,"Тепловая энергия",null,{"$f":"\"1.2.3\"","v":"1.2.3"},"себестоимость продажи теплоэнергии",21203]
["[M0013.51] Себестоимость продаж (-){eas_cube.15.M0013.42978}",null,"Производство теплоносителя",null,{"$f":"\"1.2.4\"","v":"1.2.4"},"себестоимость продажи теплоносителя",21204]
["[M0013.51] Себестоимость продаж (-){eas_cube.15.M0013.42978}",null,"Прочая продукция",null,{"$f":"\"1.2.5\"","v":"1.2.5"},"себестоимость продажи прочих товаров, продукции, работ, услуг",21205]
["[M0014.51] Валовая прибыль (убыток) (-){eas_cube.15.M0014.42979}",null,null,null,{"$f":"\"1.3\"","v":"1.3"},"Валовая прибыль (убыток)",2100]
["[M0015.51] Коммерческие расходы (-){eas_cube.15.M0015.42980}",null,null,null,{"$f":"\"1.4\"","v":"1.4"},"Коммерческие расходы",2210]
["[M0016.51] Управленческие расходы (-){eas_cube.15.M0016.42981}",null,null,null,{"$f":"\"1.5\"","v":"1.5"},"Управленческие расходы",2220]
["[M0017.51] Прибыль (убыток) от продаж (-){eas_cube.15.M0017.42982}",null,null,null,{"$f":"\"1.6\"","v":"1.6"},"Прибыль (убыток) от продаж ",2200]
["[M0018.51] Доходы от участия в других организациях (-){eas_cube.15.M0018.42983}",null,null,null,{"$f":"\"1.7\"","v":"1.7"},"Доходы от участия в других организациях",2310]
["[M0019.51] Проценты к получению (-){eas_cube.15.M0019.42984}",null,null,null,{"$f":"\"1.8\"","v":"1.8"},"Проценты к получению",2320]
["[M0020.51] Проценты к уплате (-){eas_cube.15.M0020.42985}",null,null,null,{"$f":"\"1.9\"","v":"1.9"},"Проценты к уплате",2330]
["[M0004.51] Прочие доходы (-){eas_cube.15.M0004.42969}",null,null,null,{"$f":"\"1.10\"","v":"1.10"},"Прочие доходы",2340]
["[M0005.51] Прочие расходы (-){eas_cube.15.M0005.42970}",null,null,null,{"$f":"\"1.11\"","v":"1.11"},"Прочие расходы",2350]
["[M0006.51] Прибыль (убыток) до налогообложения (-){eas_cube.15.M0006.42971}",null,null,null,{"$f":"\"1.12\"","v":"1.12"},"Прибыль (убыток) до налогообложения ",2300]
["[M0007.51] Текущий налог на прибыль (-){eas_cube.15.M0007.42972}","Не дифференцируется",null,null,{"$f":"\"1.13\"","v":"1.13"},"Текущий налог на прибыль",2410]
["[M0008.51] Постоянные налоговые обязательства (активы) (-){eas_cube.15.M0008.42973}",null,null,null,{"$f":"\"1.13.1\"","v":"1.13.1"},"в т.ч. постоянные налоговые обязательства (активы)",2421]
["[M0009.51] Изменение отложенных налоговых обязательствов (-){eas_cube.15.M0009.42974}",null,null,null,{"$f":"\"1.14\"","v":"1.14"},"Изменение отложенных налоговых обязательств",2430]
["[M0010.51] Изменение отложенных налоговых активов (-){eas_cube.15.M0010.42975}",null,null,null,{"$f":"\"1.15\"","v":"1.15"},"Изменение отложенных налоговых активов",2450]
["[M0011.51] Прочее (-){eas_cube.15.M0011.42976}",null,null,null,{"$f":"\"1.16\"","v":"1.16"},"Прочее",2460]
["[M0012.51] Чистая прибыль (убыток) (-){eas_cube.15.M0012.42977}",null,null,null,{"$f":"\"1.17\"","v":"1.17"},"Чистая прибыль (убыток)",2400]
[null,null,null,null,2,"Справочно"]
["[M0021.51] Результат переоценки внеоборотных активов, не включаемый в чистую прибыль (убыток) (-){eas_cube.15.M0021.42986}",null,null,null,{"$f":"\"2.1\"","v":"2.1"},"Результат от переоценки внеоборотных активов, не включаемый в чистую прибыль (убыток) периода",2510]
["[M0022.51] Результат от прочих операций, не включаемый в чистую прибыль (убыток) периода (-){eas_cube.15.M0022.42987}",null,null,null,{"$f":"\"2.2\"","v":"2.2"},"Результат от прочих операций, не включаемый в чистую прибыль (убыток) периода",2520]
["[M0023.51] Совокупный финансовый результат периода (-){eas_cube.15.M0023.42988}",null,null,null,{"$f":"\"2.3\"","v":"2.3"},"Совокупный финансовый результат периода",2500,{"$f":"H38+H40+H41","v":0},{"$f":"I38+I40+I41","v":0}]
["[M1278.51] Базовая прибыль (убыток) на акцию, тыс.руб. (){eas_cube.15.M1278.43013}",null,null,null,{"$f":"\"2.4\"","v":"2.4"},"Базовая прибыль (убыток) на акцию",2900]
["[M1279.51] Разводненная прибыль (убыток) на акцию, тыс.руб. (){eas_cube.15.M1279.43012}",null,null,null,{"$f":"\"2.5\"","v":"2.5"},"Разводненная прибыль (убыток) на акцию",2910]
[]
[]
[]
[null,null,null,null,"*Введите значения показателей в тыс. руб."]

{"sheet":"Стоимость активов","index":113,"n_rows":22,"n_cols":15,"rows_kept":22,"cut":false,"hidden":true,"merged":[[6,5,6,6],[10,13,10,14],[7,5,7,10],[10,5,11,5],[10,6,11,6],[10,7,11,7],[10,8,10,10],[10,11,10,12]]}
[]
[]
[]
[]
[]
[]
[null,null,null,null,null,"Список листов"]
[null,null,null,null,null,"Оценка стоимости чистых активов"]
[]
[]
[null,null,null,null,null,"№ п/п","Показатель","Ед. изм.","Период",null,null,"Изменение, тыс. руб.",null,"Темп роста, %"]
[null,null,null,null,null,null,null,null,{"$f":"god-2","v":-2},{"$f":"god-3","v":-3},{"$f":"god-4","v":-4},{"$f":"I12&\" - \"&J12","v":"-2 - -3"},{"$f":"I12&\" - \"&K12","v":"-2 - -4"},{"$f":"I12&\" / \"&J12","v":"-2 / -3"},{"$f":"I12&\" / \"&J12","v":"-2 / -3"}]
[null,null,null,null,null,1,"Выручка","тыс. руб.",{"$f":"'Отчет о финансовых результатах'!H11","v":0},{"$f":"'Отчет о финансовых результатах'!I11","v":0},{"$f":"'Отчет о финансовых результатах'!J11","v":0},{"$f":"I13-J13","v":0},{"$f":"I13-K13","v":0},{"$f":"IFERROR(I13/J13,\"\")","v":""},{"$f":"IFERROR(I13/K13,\"\")","v":""}]
[null,null,null,null,null,{"$f":"F13+1","v":2},"Чистая прибыль (убыток)","тыс. руб.",{"$f":"'Отчет о финансовых результатах'!H38","v":0},{"$f":"'Отчет о финансовых результатах'!I38","v":0},{"$f":"'Отчет о финансовых результатах'!J38","v":0},{"$f":"I14-J14","v":0},{"$f":"I14-K14","v":0},{"$f":"IFERROR(I14/J14,\"\")","v":""},{"$f":"IFERROR(I14/K14,\"\")","v":""}]
[null,null,null,null,null,{"$f":"F14+1","v":3},"Уставный капитал","тыс. руб.",null,null,null,{"$f":"I15-J15","v":0},{"$f":"I15-K15","v":0},{"$f":"IFERROR(I15/J15,\"\")","v":""},{"$f":"IFERROR(I15/K15,\"\")","v":""}]
[null,null,null,null,null,{"$f":"F15+1","v":4},"Сумма чистых активов (на конец периода)","тыс. руб.",null,null,null,{"$f":"I16-J16","v":0},{"$f":"I16-K16","v":0},{"$f":"IFERROR(I16/J16,\"\")","v":""},{"$f":"IFERROR(I16/K16,\"\")","v":""}]
[]
[null,null,null,null,null,{"$f":"F16+1","v":5},"Отношение чистых активов к уставному капиталу","%",{"$f":"IF(I15=0,0,I16/I15)","v":0},{"$f":"IF(J15=0,0,J16/J15)","v":0},{"$f":"IF(K15=0,0,K16/K15)","v":0},{"$f":"I18-J18","v":0},{"$f":"I18-K18","v":0},{"$f":"IFERROR(I18/J18,\"\")","v":""},{"$f":"IFERROR(I18/K18,\"\")","v":""}]
[null,null,null,null,null,{"$f":"F18+1","v":6},"Оборачиваемость чистых активов","%",{"$f":"IF(I16=0,0,I13/I16)","v":0},{"$f":"IF(J16=0,0,J13/J16)","v":0},{"$f":"IF(K16=0,0,K13/K16)","v":0},{"$f":"I19-J19","v":0},{"$f":"I19-K19","v":0},{"$f":"IFERROR(I19/J19,\"\")","v":""},{"$f":"IFERROR(I19/K19,\"\")","v":""}]
[null,null,null,null,null,{"$f":"F19+1","v":7},"Продолжительность оборота чистых активов","дни",{"$f":"IFERROR(360/I19,0)","v":0},{"$f":"IFERROR(360/J19,0)","v":0},{"$f":"IFERROR(360/K19,0)","v":0},{"$f":"I20-J20","v":0},{"$f":"I20-K20","v":0},{"$f":"IFERROR(I20/J20,\"\")","v":""},{"$f":"IFERROR(I20/K20,\"\")","v":""}]
[null,null,null,null,null,{"$f":"F20+1","v":8},"Рентабельность чистых активов","%",{"$f":"IF(I16=0,0,I14/I16)","v":0},{"$f":"IF(J16=0,0,J14/J16)","v":0},{"$f":"IF(K16=0,0,K14/K16)","v":0},{"$f":"I21-J21","v":0},{"$f":"I21-K21","v":0},{"$f":"IFERROR(I21/J21,\"\")","v":""},{"$f":"IFERROR(I21/K21,\"\")","v":""}]
[null,null,null,null,null,{"$f":"F21+1","v":9},"Коэффициент накопления собственного капитала","%",{"$f":"IFERROR(IF(('Бухгалтерский баланс. Раздел П'!G15+'Бухгалтерский баланс. Раздел П'!G16)=0,0,('Бухгалтерский баланс. Раздел П'!G15+'Бухгалтерский баланс. Раздел П'!G16)/I16),0)","v":0},{"$f":"IFERROR(IF(('Бухгалтерский баланс. Раздел П'!H15+'Бухгалтерский баланс. Раздел П'!H16)=0,0,('Бухгалтерский баланс. Раздел П'!H15+'Бухгалтерский баланс. Раздел П'!H16)/J16),0)","v":0},{"$f":"IFERROR(IF(('Бухгалтерский баланс. Раздел П'!I15+'Бухгалтерский баланс. Раздел П'!I16)=0,0,('Бухгалтерский баланс. Раздел П'!I15+'Бухгалтерский баланс. Раздел П'!I16)/K16),0)","v":0},{"$f":"IFERROR(I22-J22,0)","v":0},{"$f":"IFERROR(I22-K22,0)","v":0},{"$f":"IFERROR(I22/J22,\"\")","v":""},{"$f":"IFERROR(I22/K22,\"\")","v":""}]

{"sheet":"Оценка ликвидности","index":114,"n_rows":27,"n_cols":13,"rows_kept":27,"cut":false,"hidden":true,"merged":[[13,12,14,12],[13,5,14,5],[6,5,6,6],[7,5,7,10],[13,6,14,6],[13,7,14,7],[13,11,14,11]]}
[]
[]
[]
[]
[]
[]
[null,null,null,null,null,"Список листов"]
[null,null,null,null,null,"Оценка ликвидности"]
[]
[]
[]
[]
[]
[null,null,null,null,null,"№ п/п","Наименование показателя","код","На отчётную дату отчётного года","На отчётную дату соответствующего отчётного периода предыдущего года","На отчётную дату соответствующего отчётного периода года, предшествующего предыдущему\n","Рекомендуемое значение",{"$f":"I15&\" / \"&J15","v":"-2 / -3"}]
[null,null,null,null,null,null,null,"Код",{"$f":"god-2","v":-2},{"$f":"god-3","v":-3},{"$f":"god-4","v":-4}]
[]
[]
[null,null,null,null,null,1,"Величина собственных оборотных средств","1300+1400-1100-1230",{"$f":"IFERROR('Бухгалтерский баланс. Раздел П'!G17+'Бухгалтерский баланс. Раздел П'!G23-'Бухгалтерский баланс. Раздел А'!I20-'Бухгалтерский баланс. Раздел А'!I24,0)","v":0},{"$f":"IFERROR('Бухгалтерский баланс. Раздел П'!H17+'Бухгалтерский баланс. Раздел П'!H23-'Бухгалтерский баланс. Раздел А'!J20-'Бухгалтерский баланс. Раздел А'!J24,0)","v":0},{"$f":"IFERROR('Бухгалтерский баланс. Раздел П'!I17+'Бухгалтерский баланс. Раздел П'!I23-'Бухгалтерский баланс. Раздел А'!K20-'Бухгалтерский баланс. Раздел А'!K24,0)","v":0},">0",{"$f":"IF(J18=0,0,I18/J18)","v":0}]
[null,null,null,null,null,2,"Маневренность собственных оборотных средств","1250/(1200-1230-1500)",{"$f":"IF(('Бухгалтерский баланс. Раздел А'!I28-'Бухгалтерский баланс. Раздел А'!I24-'Бухгалтерский баланс. Раздел П'!G30)=0,0,'Бухгалтерский баланс. Раздел А'!I26/('Бухгалтерский баланс. Раздел А'!I28-'Бухгалтерский баланс. Раздел А'!I24-'Бухгалтерский баланс. Раздел П'!G30))","v":0},{"$f":"IF(('Бухгалтерский баланс. Раздел А'!J28-'Бухгалтерский баланс. Раздел А'!J24-'Бухгалтерский баланс. Раздел П'!H30)=0,0,'Бухгалтерский баланс. Раздел А'!J26/('Бухгалтерский баланс. Раздел А'!J28-'Бухгалтерский баланс. Раздел А'!J24-'Бухгалтерский баланс. Раздел П'!H30))","v":0},{"$f":"IF(('Бухгалтерский баланс. Раздел А'!K28-'Бухгалтерский баланс. Раздел А'!K24-'Бухгалтерский баланс. Раздел П'!I30)=0,0,'Бухгалтерский баланс. Раздел А'!K26/('Бухгалтерский баланс. Раздел А'!K28-'Бухгалтерский баланс. Раздел А'!K24-'Бухгалтерский баланс. Раздел П'!I30))","v":0},"0-1",0]
[null,null,null,null,null,3,"Коэффициент текущей ликвидности","(1200-1230)/1500",{"$f":"IF('Бухгалтерский баланс. Раздел П'!G30=0,0,('Бухгалтерский баланс. Раздел А'!I28-'Бухгалтерский баланс. Раздел А'!I24)/'Бухгалтерский баланс. Раздел П'!G30)","v":0},{"$f":"IF('Бухгалтерский баланс. Раздел П'!H30=0,0,('Бухгалтерский баланс. Раздел А'!J28-'Бухгалтерский баланс. Раздел А'!J24)/'Бухгалтерский баланс. Раздел П'!H30)","v":0},{"$f":"IF('Бухгалтерский баланс. Раздел П'!I30=0,0,('Бухгалтерский баланс. Раздел А'!K28-'Бухгалтерский баланс. Раздел А'!K24)/'Бухгалтерский баланс. Раздел П'!I30)","v":0},">2",0]
[null,null,null,null,null,4,"Коэффициент быстрой ликвидности","(1200-1230-1210-1220)/1500",{"$f":"IF('Бухгалтерский баланс. Раздел П'!G30=0,0,('Бухгалтерский баланс. Раздел А'!I28-'Бухгалтерский баланс. Раздел А'!I24-'Бухгалтерский баланс. Раздел А'!I22-'Бухгалтерский баланс. Раздел А'!I23)/'Бухгалтерский баланс. Раздел П'!G30)","v":0},{"$f":"IF('Бухгалтерский баланс. Раздел П'!H30=0,0,('Бухгалтерский баланс. Раздел А'!J28-'Бухгалтерский баланс. Раздел А'!J24-'Бухгалтерский баланс. Раздел А'!J22-'Бухгалтерский баланс. Раздел А'!J23)/'Бухгалтерский баланс. Раздел П'!H30)","v":0},{"$f":"IF('Бухгалтерский баланс. Раздел П'!I30=0,0,('Бухгалтерский баланс. Раздел А'!K28-'Бухгалтерский баланс. Раздел А'!K24-'Бухгалтерский баланс. Раздел А'!K22-'Бухгалтерский баланс. Раздел А'!K23)/'Бухгалтерский баланс. Раздел П'!I30)","v":0},">1",0]
[null,null,null,null,null,5,"Коэффициент абсолютной ликвидности","1250/1500",{"$f":"IF('Бухгалтерский баланс. Раздел П'!G30=0,0,'Бухгалтерский баланс. Раздел А'!I26/'Бухгалтерский баланс. Раздел П'!G30)","v":0},{"$f":"IF('Бухгалтерский баланс. Раздел П'!H30=0,0,'Бухгалтерский баланс. Раздел А'!J26/'Бухгалтерский баланс. Раздел П'!H30)","v":0},{"$f":"IF('Бухгалтерский баланс. Раздел П'!I30=0,0,'Бухгалтерский баланс. Раздел А'!K26/'Бухгалтерский баланс. Раздел П'!I30)","v":0},"0,05-0,1",0]
[null,null,null,null,null,6,"Доля оборотных средств в активах","(1200-1230)/1600",{"$f":"IF('Бухгалтерский баланс. Раздел А'!I29=0,0,('Бухгалтерский баланс. Раздел А'!I28-'Бухгалтерский баланс. Раздел А'!I24)/'Бухгалтерский баланс. Раздел А'!I29)","v":0},{"$f":"IF('Бухгалтерский баланс. Раздел А'!J29=0,0,('Бухгалтерский баланс. Раздел А'!J28-'Бухгалтерский баланс. Раздел А'!J24)/'Бухгалтерский баланс. Раздел А'!J29)","v":0},{"$f":"IF('Бухгалтерский баланс. Раздел А'!K29=0,0,('Бухгалтерский баланс. Раздел А'!K28-'Бухгалтерский баланс. Раздел А'!K24)/'Бухгалтерский баланс. Раздел А'!K29)","v":0},null,0]
[null,null,null,null,null,7,"Доля собственных оборотных средств в общей сумме","(1200-1230-1500)/(1200-1230)",{"$f":"IFERROR(('Бухгалтерский баланс. Раздел А'!I28-'Бухгалтерский баланс. Раздел А'!I24-'Бухгалтерский баланс. Раздел П'!G30)/('Бухгалтерский баланс. Раздел А'!I28-'Бухгалтерский баланс. Раздел А'!I24),0)","v":0},{"$f":"IFERROR(('Бухгалтерский баланс. Раздел А'!J28-'Бухгалтерский баланс. Раздел А'!J24-'Бухгалтерский баланс. Раздел П'!H30)/('Бухгалтерский баланс. Раздел А'!J28-'Бухгалтерский баланс. Раздел А'!J24),0)","v":0},{"$f":"IFERROR(('Бухгалтерский баланс. Раздел А'!K28-'Бухгалтерский баланс. Раздел А'!K24-'Бухгалтерский баланс. Раздел П'!I30)/('Бухгалтерский баланс. Раздел А'!K28-'Бухгалтерский баланс. Раздел А'!K24),0)","v":0},">0,1",0]
[null,null,null,null,null,8,"Доля запасов в оборотных активах","(1210+1220)/1200",{"$f":"IF('Бухгалтерский баланс. Раздел А'!I28=0,0,('Бухгалтерский баланс. Раздел А'!I22+'Бухгалтерский баланс. Раздел А'!I23)/'Бухгалтерский баланс. Раздел А'!I28)","v":0},{"$f":"IF('Бухгалтерский баланс. Раздел А'!J28=0,0,('Бухгалтерский баланс. Раздел А'!J22+'Бухгалтерский баланс. Раздел А'!J23)/'Бухгалтерский баланс. Раздел А'!J28)","v":0},{"$f":"IF('Бухгалтерский баланс. Раздел А'!K28=0,0,('Бухгалтерский баланс. Раздел А'!K22+'Бухгалтерский баланс. Раздел А'!K23)/'Бухгалтерский баланс. Раздел А'!K28)","v":0},null,0]
[null,null,null,null,null,9,"Доля собственных оборотных средств в покрытии запасов","(1200-1230-1500)/(1210+1220)",{"$f":"IF(('Бухгалтерский баланс. Раздел А'!I22+'Бухгалтерский баланс. Раздел А'!I23)=0,0,('Бухгалтерский баланс. Раздел А'!I28-'Бухгалтерский баланс. Раздел А'!I24-'Бухгалтерский баланс. Раздел П'!G30)/('Бухгалтерский баланс. Раздел А'!I22+'Бухгалтерский баланс. Раздел А'!I23))","v":0},{"$f":"IF(('Бухгалтерский баланс. Раздел А'!J22+'Бухгалтерский баланс. Раздел А'!J23)=0,0,('Бухгалтерский баланс. Раздел А'!J28-'Бухгалтерский баланс. Раздел А'!J24-'Бухгалтерский баланс. Раздел П'!H30)/('Бухгалтерский баланс. Раздел А'!J22+'Бухгалтерский баланс. Раздел А'!J23))","v":0},{"$f":"IF(('Бухгалтерский баланс. Раздел А'!K22+'Бухгалтерский баланс. Раздел А'!K23)=0,0,('Бухгалтерский баланс. Раздел А'!K28-'Бухгалтерский баланс. Раздел А'!K24-'Бухгалтерский баланс. Раздел П'!I30)/('Бухгалтерский баланс. Раздел А'!K22+'Бухгалтерский баланс. Раздел А'!K23))","v":0},">0,5",0]
[null,null,null,null,null,10,"Коэффициент покрытия запасов","(1300+1400-1100-1230+1510+1520)/(1210+1220)",{"$f":"IF(('Бухгалтерский баланс. Раздел А'!I22+'Бухгалтерский баланс. Раздел А'!I23)=0,0,('Бухгалтерский баланс. Раздел П'!G17+'Бухгалтерский баланс. Раздел П'!G23-'Бухгалтерский баланс. Раздел А'!I20-'Бухгалтерский баланс. Раздел А'!I24+'Бухгалтерский баланс. Раздел П'!G25+'Бухгалтерский баланс. Раздел П'!G26)/('Бухгалтерский баланс. Раздел А'!I22+'Бухгалтерский баланс. Раздел А'!I23))","v":0},{"$f":"IF(('Бухгалтерский баланс. Раздел А'!J22+'Бухгалтерский баланс. Раздел А'!J23)=0,0,('Бухгалтерский баланс. Раздел П'!H17+'Бухгалтерский баланс. Раздел П'!H23-'Бухгалтерский баланс. Раздел А'!J20-'Бухгалтерский баланс. Раздел А'!J24+'Бухгалтерский баланс. Раздел П'!H25+'Бухгалтерский баланс. Раздел П'!H26)/('Бухгалтерский баланс. Раздел А'!J22+'Бухгалтерский баланс. Раздел А'!J23))","v":0},{"$f":"IF(('Бухгалтерский баланс. Раздел А'!K22+'Бухгалтерский баланс. Раздел А'!K23)=0,0,('Бухгалтерский баланс. Раздел П'!I17+'Бухгалтерский баланс. Раздел П'!I23-'Бухгалтерский баланс. Раздел А'!K20-'Бухгалтерский баланс. Раздел А'!K24+'Бухгалтерский баланс. Раздел П'!I25+'Бухгалтерский баланс. Раздел П'!I26)/('Бухгалтерский баланс. Раздел А'!K22+'Бухгалтерский баланс. Раздел А'!K23))","v":0},">1",0]

{"sheet":"Оценка фин. уст","index":115,"n_rows":14,"n_cols":15,"rows_kept":14,"cut":false,"hidden":true,"merged":[[4,14,5,14],[4,7,5,7],[1,7,1,8],[2,7,2,12],[4,8,5,8],[4,9,5,9],[4,13,5,13]]}
[]
[null,null,null,null,null,null,null,"Список листов"]
[null,null,null,null,null,null,null,"Оценка финансовой устойчивости"]
[]
[null,null,null,null,null,null,null,"№ п/п","Наименование показателя","код","На отчётную дату отчётного года","На отчётную дату соответствующего отчётного периода предыдущего года","На отчётную дату соответствующего отчётного периода года, предшествующего предыдущему\n","Рекомендуемое значение",{"$f":"K6&\" / \"&L6","v":"-2 / -3"}]
[null,null,null,null,null,null,null,null,null,"Код",{"$f":"god-2","v":-2},{"$f":"god-3","v":-3},{"$f":"god-4","v":-4}]
[null,null,null,null,null,null,null,1,"Коэффициент концентрации собственного капитала (финансовой автономии)","1300/1700",{"$f":"IF('Бухгалтерский баланс. Раздел П'!G31=0,0,'Бухгалтерский баланс. Раздел П'!G17/'Бухгалтерский баланс. Раздел П'!G31)","v":0},{"$f":"IF('Бухгалтерский баланс. Раздел П'!H31=0,0,'Бухгалтерский баланс. Раздел П'!H17/'Бухгалтерский баланс. Раздел П'!H31)","v":0},{"$f":"IF('Бухгалтерский баланс. Раздел П'!I31=0,0,'Бухгалтерский баланс. Раздел П'!I17/'Бухгалтерский баланс. Раздел П'!I31)","v":0},">0,5",{"$f":"IF(L7=0,0,K7/L7)","v":0}]
[null,null,null,null,null,null,null,2,"Коэффициент финансовой зависимости","1700/1300",{"$f":"IF('Бухгалтерский баланс. Раздел П'!G17=0,0,'Бухгалтерский баланс. Раздел П'!G31/'Бухгалтерский баланс. Раздел П'!G17)","v":0},{"$f":"IF('Бухгалтерский баланс. Раздел П'!H17=0,0,'Бухгалтерский баланс. Раздел П'!H31/'Бухгалтерский баланс. Раздел П'!H17)","v":0},{"$f":"IF('Бухгалтерский баланс. Раздел П'!I17=0,0,'Бухгалтерский баланс. Раздел П'!I31/'Бухгалтерский баланс. Раздел П'!I17)","v":0},"<2",0]
[null,null,null,null,null,null,null,3,"Коэффициент маневренности собственного капитала","(1200-1230-1500)/1300",{"$f":"IF('Бухгалтерский баланс. Раздел П'!G17=0,0,('Бухгалтерский баланс. Раздел А'!I28-'Бухгалтерский баланс. Раздел А'!I24-'Бухгалтерский баланс. Раздел П'!G30)/'Бухгалтерский баланс. Раздел П'!G17)","v":0},{"$f":"IF('Бухгалтерский баланс. Раздел П'!H17=0,0,('Бухгалтерский баланс. Раздел А'!J28-'Бухгалтерский баланс. Раздел А'!J24-'Бухгалтерский баланс. Раздел П'!H30)/'Бухгалтерский баланс. Раздел П'!H17)","v":0},{"$f":"IF('Бухгалтерский баланс. Раздел П'!I17=0,0,('Бухгалтерский баланс. Раздел А'!K28-'Бухгалтерский баланс. Раздел А'!K24-'Бухгалтерский баланс. Раздел П'!I30)/'Бухгалтерский баланс. Раздел П'!I17)","v":0},">0,5",0]
[null,null,null,null,null,null,null,4,"Коэффициент концентрации заемного  капитала","(1400+1500)/1700",{"$f":"IF('Бухгалтерский баланс. Раздел П'!G31=0,0,('Бухгалтерский баланс. Раздел П'!G23+'Бухгалтерский баланс. Раздел П'!G30)/'Бухгалтерский баланс. Раздел П'!G31)","v":0},{"$f":"IF('Бухгалтерский баланс. Раздел П'!H31=0,0,('Бухгалтерский баланс. Раздел П'!H23+'Бухгалтерский баланс. Раздел П'!H30)/'Бухгалтерский баланс. Раздел П'!H31)","v":0},{"$f":"IF('Бухгалтерский баланс. Раздел П'!I31=0,0,('Бухгалтерский баланс. Раздел П'!I23+'Бухгалтерский баланс. Раздел П'!I30)/'Бухгалтерский баланс. Раздел П'!I31)","v":0},"<0,5",0]
[null,null,null,null,null,null,null,5,"Коэффициент структуры долгосрочных вложений","1400/(1100+1230)",{"$f":"IF(('Бухгалтерский баланс. Раздел А'!I24+'Бухгалтерский баланс. Раздел А'!I20)=0,0,'Бухгалтерский баланс. Раздел П'!G23/('Бухгалтерский баланс. Раздел А'!I24+'Бухгалтерский баланс. Раздел А'!I20))","v":0},{"$f":"IF(('Бухгалтерский баланс. Раздел А'!J24+'Бухгалтерский баланс. Раздел А'!J20)=0,0,'Бухгалтерский баланс. Раздел П'!H23/('Бухгалтерский баланс. Раздел А'!J24+'Бухгалтерский баланс. Раздел А'!J20))","v":0},{"$f":"IF(('Бухгалтерский баланс. Раздел А'!K24+'Бухгалтерский баланс. Раздел А'!K20)=0,0,'Бухгалтерский баланс. Раздел П'!I23/('Бухгалтерский баланс. Раздел А'!K24+'Бухгалтерский баланс. Раздел А'!K20))","v":0},null,0]
[null,null,null,null,null,null,null,6,"Коэффициент долгосрочного привлечения заемных средств","1400/(1400+1300)",{"$f":"IF(('Бухгалтерский баланс. Раздел П'!G23+'Бухгалтерский баланс. Раздел П'!G17)=0,0,'Бухгалтерский баланс. Раздел П'!G23/('Бухгалтерский баланс. Раздел П'!G23+'Бухгалтерский баланс. Раздел П'!G17))","v":0},{"$f":"IF(('Бухгалтерский баланс. Раздел П'!H23+'Бухгалтерский баланс. Раздел П'!H17)=0,0,'Бухгалтерский баланс. Раздел П'!H23/('Бухгалтерский баланс. Раздел П'!H23+'Бухгалтерский баланс. Раздел П'!H17))","v":0},{"$f":"IF(('Бухгалтерский баланс. Раздел П'!I23+'Бухгалтерский баланс. Раздел П'!I17)=0,0,'Бухгалтерский баланс. Раздел П'!I23/('Бухгалтерский баланс. Раздел П'!I23+'Бухгалтерский баланс. Раздел П'!I17))","v":0},">0,6",0]
[null,null,null,null,null,null,null,7,"Коэффициент структуры заемного капитала","1400/(1400+1500)",{"$f":"IF(('Бухгалтерский баланс. Раздел П'!G23+'Бухгалтерский баланс. Раздел П'!G30)=0,0,'Бухгалтерский баланс. Раздел П'!G23/('Бухгалтерский баланс. Раздел П'!G23+'Бухгалтерский баланс. Раздел П'!G30))","v":0},{"$f":"IF(('Бухгалтерский баланс. Раздел П'!H23+'Бухгалтерский баланс. Раздел П'!H30)=0,0,'Бухгалтерский баланс. Раздел П'!H23/('Бухгалтерский баланс. Раздел П'!H23+'Бухгалтерский баланс. Раздел П'!H30))","v":0},{"$f":"IF(('Бухгалтерский баланс. Раздел П'!I23+'Бухгалтерский баланс. Раздел П'!I30)=0,0,'Бухгалтерский баланс. Раздел П'!I23/('Бухгалтерский баланс. Раздел П'!I23+'Бухгалтерский баланс. Раздел П'!I30))","v":0},null,0]
[null,null,null,null,null,null,null,8,"Коэффициент задолженности","(1400+1500)/1300",{"$f":"IF('Бухгалтерский баланс. Раздел П'!G17=0,0,('Бухгалтерский баланс. Раздел П'!G23+'Бухгалтерский баланс. Раздел П'!G30)/'Бухгалтерский баланс. Раздел П'!G17)","v":0},{"$f":"IF('Бухгалтерский баланс. Раздел П'!H17=0,0,('Бухгалтерский баланс. Раздел П'!H23+'Бухгалтерский баланс. Раздел П'!H30)/'Бухгалтерский баланс. Раздел П'!H17)","v":0},{"$f":"IF('Бухгалтерский баланс. Раздел П'!I17=0,0,('Бухгалтерский баланс. Раздел П'!I23+'Бухгалтерский баланс. Раздел П'!I30)/'Бухгалтерский баланс. Раздел П'!I17)","v":0},"<0,7",0]

{"sheet":"Оценка дел. активность","index":116,"n_rows":19,"n_cols":12,"rows_kept":19,"cut":false,"hidden":true,"merged":[[2,5,2,6],[5,5,6,5],[5,6,6,6],[5,7,6,7],[5,11,6,11],[3,5,3,10]]}
[]
[]
[null,null,null,null,null,"Список листов"]
[null,null,null,null,null,"Оценка деловой активности"]
[]
[null,null,null,null,null,"№ п/п","Наименование показателя","код","На отчётную дату отчётного года","На отчётную дату соответствующего отчётного периода предыдущего года","На отчётную дату соответствующего отчётного периода года, предшествующего предыдущему\n",{"$f":"J7&\" / \"&I7","v":"-3 / -2"}]
[null,null,null,null,null,null,null,"Код",{"$f":"god-2","v":-2},{"$f":"god-3","v":-3},{"$f":"god-4","v":-4}]
[null,null,null,null,null,1,"Выручка от продаж",2110,{"$f":"'Отчет о финансовых результатах'!H11","v":0},{"$f":"'Отчет о финансовых результатах'!I11","v":0},{"$f":"'Отчет о финансовых результатах'!J11","v":0},{"$f":"IF(J8=0,0,I8/J8)","v":0}]
[null,null,null,null,null,2,"Чистая прибыль (убыток)",2400,{"$f":"'Отчет о финансовых результатах'!H38","v":0},{"$f":"'Отчет о финансовых результатах'!I38","v":0},{"$f":"'Отчет о финансовых результатах'!J38","v":0},0]
[null,null,null,null,null,3,"Фондоотдача","2110(ф2)/((1150нп+1150кп)/2(ф1)",{"$f":"nerr('Отчет о финансовых результатах'!H11/(('Бухгалтерский баланс. Раздел А'!J15+'Бухгалтерский баланс. Раздел А'!I15)/'Бухгалтерский баланс. Раздел А'!I28))","v":0},{"$f":"nerr('Отчет о финансовых результатах'!I11/(('Бухгалтерский баланс. Раздел А'!K15+'Бухгалтерский баланс. Раздел А'!J15)/'Бухгалтерский баланс. Раздел А'!J28))","v":0},null,0]
[null,null,null,null,null,4,"Оборачиваемость средств в расчетах","2110(ф2)/((1230нп+1230кп)/2(ф1)",{"$f":"nerr('Отчет о финансовых результатах'!H11/(('Бухгалтерский баланс. Раздел А'!J24+'Бухгалтерский баланс. Раздел А'!I24)/'Бухгалтерский баланс. Раздел А'!I28))","v":0},{"$f":"nerr('Отчет о финансовых результатах'!I11/(('Бухгалтерский баланс. Раздел А'!K24+'Бухгалтерский баланс. Раздел А'!J24)/'Бухгалтерский баланс. Раздел А'!J28))","v":0},null,0]
[null,null,null,null,null,5,"Период оборачиваемости средств в расчетах","360/п.4",{"$f":"IF(I11=0,0,360/I11)","v":0},{"$f":"IF(J11=0,0,360/J11)","v":0},null,0]
[null,null,null,null,null,6,"Оборачиваемость запасов","2120(ф2)/((1210нп+1220нп+1210кп+1220кп)/2(ф1)",{"$f":"nerr('Отчет о финансовых результатах'!H17/(('Бухгалтерский баланс. Раздел А'!J22+'Бухгалтерский баланс. Раздел А'!J24+'Бухгалтерский баланс. Раздел А'!I22+'Бухгалтерский баланс. Раздел А'!I23)/'Бухгалтерский баланс. Раздел А'!I28))","v":0},{"$f":"nerr('Отчет о финансовых результатах'!I17/(('Бухгалтерский баланс. Раздел А'!K22+'Бухгалтерский баланс. Раздел А'!K24+'Бухгалтерский баланс. Раздел А'!J22+'Бухгалтерский баланс. Раздел А'!J23)/'Бухгалтерский баланс. Раздел А'!J28))","v":0},null,0]
[null,null,null,null,null,7,"Период оборачиваемости запасов","360/п.6",{"$f":"IF(I13=0,0,360/I13)","v":0},{"$f":"IF(J13=0,0,360/J13)","v":0},null,0]
[null,null,null,null,null,8,"Оборачиваемость кредиторской задолженности","((1520нп+1520кп)/2)(ф1)/(2120(ф2)/360)",{"$f":"nerr((('Бухгалтерский баланс. Раздел П'!G26+'Бухгалтерский баланс. Раздел П'!H26)/2)/('Отчет о финансовых результатах'!H17/360))","v":0},{"$f":"nerr((('Бухгалтерский баланс. Раздел П'!H26+'Бухгалтерский баланс. Раздел П'!I26)/2)/('Отчет о финансовых результатах'!I17/360))","v":0},null,0]
[null,null,null,null,null,9,"Продолжительность операционного цикла","п.5+п.7",{"$f":"I12+I14","v":0},{"$f":"J12+J14","v":0},null,0]
[null,null,null,null,null,10,"Продолжительность финансового цикла","п.9-п.8",{"$f":"I16-I15","v":0},{"$f":"J16-J15","v":0},null,0]
[null,null,null,null,null,11,"Оборачиваемость собственного капитала","2*2110(ф2)/(1300нп+1300кп)(ф1)",{"$f":"nerr(2*'Отчет о финансовых результатах'!H11/('Бухгалтерский баланс. Раздел П'!H17+'Бухгалтерский баланс. Раздел П'!G17))","v":0},{"$f":"IF(('Бухгалтерский баланс. Раздел П'!I17+'Бухгалтерский баланс. Раздел П'!H17)=0,0,2*'Отчет о финансовых результатах'!I11/('Бухгалтерский баланс. Раздел П'!I17+'Бухгалтерский баланс. Раздел П'!H17))","v":0},null,0]
[null,null,null,null,null,12,"Оборачиваемость активов","2*2110(ф2)/(1600нп+1600кп)(ф1)",{"$f":"IF(('Бухгалтерский баланс. Раздел А'!J29+'Бухгалтерский баланс. Раздел А'!I29)=0,0,2*'Отчет о финансовых результатах'!H11/('Бухгалтерский баланс. Раздел А'!J29+'Бухгалтерский баланс. Раздел А'!I29))","v":0},{"$f":"IF(('Бухгалтерский баланс. Раздел А'!K29+'Бухгалтерский баланс. Раздел А'!J29)=0,0,2*'Отчет о финансовых результатах'!I11/('Бухгалтерский баланс. Раздел А'!K29+'Бухгалтерский баланс. Раздел А'!J29))","v":0},null,0]

{"sheet":"Обоб. анализ","index":117,"n_rows":29,"n_cols":13,"rows_kept":29,"cut":false,"hidden":true,"merged":[[10,11,10,12],[11,7,11,8],[11,9,11,10],[11,11,11,12],[6,5,6,6],[7,5,7,10],[10,5,11,5],[10,6,11,6],[10,7,10,10]]}
[]
[]
[]
[]
[]
[]
[null,null,null,null,null,"Список листов"]
[null,null,null,null,null,"Обобщенный анализ"]
[]
[]
[null,null,null,null,null,"№ п/п","Наименование показателя","Значения / динамика",null,null,null,"Оценка предприятия"]
[null,null,null,null,null,null,null,"Вне установленных нормативных границах / отрицательная динамика",null,"В рамках рекомендуемых значений / положительная динамика",null,"Баллы"]
[]
[null,null,null,null,null,1,"Коэффициент текущей ликвидности","<2",1,"<2",2,{"$f":"'Оценка ликвидности'!M20","v":0},{"$f":"IF(L14<2,2,1)","v":2}]
[null,null,null,null,null,2,"Коэффициент быстрой ликвидности","<1",1,"<1",2,{"$f":"'Оценка ликвидности'!M21","v":0},{"$f":"IF(L15<1,2,1)","v":2}]
[null,null,null,null,null,3,"Коэффициент абсолютной ликвидности","<0,05",1,"<0,05",2,{"$f":"'Оценка ликвидности'!M22","v":0},{"$f":"IF(L16<1,2,1)","v":2}]
[null,null,null,null,null,4,"Доля собственных оборотных средств в покрытии запасов","<0,5",1,"<0,5",2,{"$f":"'Оценка ликвидности'!M24","v":0},{"$f":"IF(L17<0.5,2,1)","v":2}]
[null,null,null,null,null,5,"Коэффициент покрытия запасов","<1",1,"<1",2,{"$f":"'Оценка ликвидности'!M27","v":0},{"$f":"IF(L18<1,2,1)","v":2}]
[null,null,null,null,null,6,"Коэффициент концентрации собственного капитала (финансовой автономии)","<0,5",1,"<0,5",2,{"$f":"'Оценка фин. уст'!O7","v":0},{"$f":"IF(L19<0.5,2,1)","v":2}]
[null,null,null,null,null,7,"Коэффициент финансовой зависимости","<0 или >2",1,"<0 или >2",2,{"$f":"'Оценка фин. уст'!O8","v":0},{"$f":"IF(AND(L20>2,L20<0),2,1)","v":1}]
[null,null,null,null,null,8,"Коэффициент маневренности собственного капитала","<0,5",1,"<0,5",2,{"$f":"'Оценка фин. уст'!O9","v":0},{"$f":"IF(L21<0.5,2,1)","v":2}]
[null,null,null,null,null,9,"Коэффициент задолженности","<0 или >0,7",1,"<0 или >0,7",2,{"$f":"'Оценка фин. уст'!O14","v":0},{"$f":"IF(L22<0.5,2,1)","v":2}]
[null,null,null,null,null,10,"Оборачиваемость средств в расчетах","<0",1,">0",2,{"$f":"'Оценка дел. активность'!L11","v":0},{"$f":"IF(L23>1,2,1)","v":1}]
[null,null,null,null,null,11,"Период оборачиваемости запасов","<0",1,">0",2,{"$f":"'Оценка дел. активность'!L14","v":0},{"$f":"IF(L24>1,2,1)","v":1}]
[null,null,null,null,null,12,"Оборачиваемость кредиторской задолженности","<0",1,">0",2,{"$f":"'Оценка дел. активность'!L15","v":0},{"$f":"IF(L25>1,2,1)","v":1}]
[null,null,null,null,null,13,"Продолжительность операционного цикла","<0",1,">0",2,{"$f":"'Оценка дел. активность'!L16","v":0},{"$f":"IF(L26>1,2,1)","v":1}]
[null,null,null,null,null,14,"Оборачиваемость активов","<0",1,">0",2,{"$f":"'Оценка дел. активность'!L19","v":0},{"$f":"IF(L27>1,2,1)","v":1}]
[null,null,null,null,null,15,"Итого",null,{"$f":"SUM(I14:I27)","v":14},null,{"$f":"SUM(K14:K27)","v":28},null,{"$f":"SUM(M14:M27)","v":22}]
[null,null,null,null,null,null,null,null,"Неустойчивое",null,"Устойчивое",null,{"$f":"IF(M28<21,\"Неустойчивое\",\"Устойчивое\")","v":"Устойчивое"}]

{"sheet":"Комментарии","index":118,"n_rows":10,"n_cols":6,"rows_kept":10,"cut":false,"hidden":true,"merged":[[6,4,6,5]]}
[]
[]
[]
[]
[]
[]
[null,null,null,null,"Ниже вы можете оставить свои комментарии"]
[]
[null,null,null,null,"1"]
[null,null,null,null,null,"Добавить"]

{"sheet":"Проверка","index":119,"n_rows":11,"n_cols":8,"rows_kept":11,"cut":false,"hidden":true,"merged":[[8,4,8,7]]}
[]
[]
[]
[]
[]
[]
[]
[]
[null,null,null,null,"Результаты проверки"]
[]
[null,null,null,null,"Ссылка 1","Ссылка 2","Описание причины","Статус"]

{"sheet":"modfrmDocumentPicker","index":120,"n_rows":0,"n_cols":0,"rows_kept":0,"cut":false,"hidden":true,"merged":[]}

{"sheet":"modDocumentsAPI","index":121,"n_rows":0,"n_cols":0,"rows_kept":0,"cut":false,"hidden":true,"merged":[]}

{"sheet":"SELECTED_DOCS","index":122,"n_rows":1,"n_cols":7,"rows_kept":1,"cut":false,"hidden":true,"merged":[]}
["№","Описание документа","Реквизиты документа","URL-ссылка на документ","Примечание",null,"Просмотр недоступен"]

{"sheet":"DOCS_DEPENDENCY","index":123,"n_rows":1,"n_cols":3,"rows_kept":1,"cut":false,"hidden":true,"merged":[]}
["№","DEPENDENCY_FIELD","DEPENDENCY_SHEET_CODENAME"]

{"sheet":"modGetGeoBase","index":124,"n_rows":0,"n_cols":0,"rows_kept":0,"cut":false,"hidden":true,"merged":[]}

{"sheet":"modVLDProvGeneralProc","index":125,"n_rows":0,"n_cols":0,"rows_kept":0,"cut":false,"hidden":true,"merged":[]}

{"sheet":"modUpdTemplMain","index":126,"n_rows":0,"n_cols":0,"rows_kept":0,"cut":false,"hidden":true,"merged":[]}

{"sheet":"modfrmCheckUpdates","index":127,"n_rows":0,"n_cols":0,"rows_kept":0,"cut":false,"hidden":true,"merged":[]}

{"sheet":"modIHLCommandBar","index":128,"n_rows":0,"n_cols":0,"rows_kept":0,"cut":false,"hidden":true,"merged":[]}

{"sheet":"modGeneralProcedures","index":129,"n_rows":0,"n_cols":0,"rows_kept":0,"cut":false,"hidden":true,"merged":[]}

{"sheet":"modInfo","index":130,"n_rows":5,"n_cols":2,"rows_kept":5,"cut":false,"hidden":true,"merged":[]}
[]
[]
[null,"Нет доступных обновлений, версия отчёта актуальна"]
[]
[null,"Обновление завершено"]

{"sheet":"modHLIcons","index":131,"n_rows":0,"n_cols":0,"rows_kept":0,"cut":false,"hidden":true,"merged":[]}

{"sheet":"modfrmDateChoose","index":132,"n_rows":0,"n_cols":0,"rows_kept":0,"cut":false,"hidden":true,"merged":[]}

{"sheet":"modfrmActivity","index":133,"n_rows":0,"n_cols":0,"rows_kept":0,"cut":false,"hidden":true,"merged":[]}

{"sheet":"modTech","index":134,"n_rows":0,"n_cols":0,"rows_kept":0,"cut":false,"hidden":true,"merged":[]}

{"sheet":"modfrmURL","index":135,"n_rows":0,"n_cols":0,"rows_kept":0,"cut":false,"hidden":true,"merged":[]}